{"text_format":"1","workbook":"xlsx","n_sheets":3,"sheets":["Form","List of Items - 1","List of Items - 2"],"not_rendered":{"charts":0,"images":1,"macros":1,"external_links":0,"defined_names":25,"comments":0,"pivot_tables":0},"unopened":[],"bounds":{"document_bytes":16777216,"sheet_cells":100000,"rows_first":2000,"rows_last":500,"rows_between":2000,"halvings":0,"cell_chars":16384,"cell_head_chars":4096},"cells_cut":0,"cells_raw":0,"read":"whole","date_system":"1900"}

{"sheet":"Form","index":0,"n_rows":455,"n_cols":32,"rows_kept":455,"cut":false,"hidden":false,"merged":[[73,3,73,5],[73,6,73,7],[71,1,71,2],[71,3,71,5],[71,6,71,7],[72,1,72,2],[72,3,72,5],[72,6,72,7],[73,1,73,2],[67,1,67,2],[67,3,67,5],[67,6,67,7],[70,3,70,5],[70,6,70,7],[68,1,68,2],[68,3,68,5],[68,6,68,7],[69,1,69,2],[69,3,69,5],[69,6,69,7],[70,1,70,2],[63,1,63,2],[63,3,63,5],[63,6,63,7],[64,1,64,2],[64,3,64,5],[65,3,65,5],[65,6,65,7],[65,1,65,2],[66,1,66,2],[66,3,66,5],[66,6,66,7],[62,3,62,5],[62,6,62,7],[60,1,60,2],[60,3,60,5],[60,6,60,7],[61,1,61,2],[61,3,61,5],[61,6,61,7],[62,1,62,2],[59,3,59,5],[59,6,59,7],[57,1,57,2],[57,3,57,5],[57,6,57,7],[58,1,58,2],[58,3,58,5],[58,6,58,7],[59,1,59,2],[34,1,34,2],[34,3,34,5],[34,6,34,7],[35,1,35,2],[35,3,35,5],[35,6,35,7],[451,1,451,4],[452,1,452,4],[439,0,439,5],[440,0,440,5],[441,0,441,5],[442,0,442,5],[443,0,443,5],[444,0,444,5],[450,1,450,4],[56,3,56,5],[56,6,56,7],[54,1,54,2],[54,3,54,5],[54,6,54,7],[55,1,55,2],[55,3,55,5],[55,6,55,7],[56,1,56,2],[30,1,30,2],[30,3,30,5],[30,6,30,7],[31,1,31,2],[31,3,31,5],[32,1,32,2],[32,3,32,5],[32,6,32,7],[33,3,33,5],[33,6,33,7],[33,1,33,2],[26,1,26,2],[26,3,26,5],[27,1,27,2],[27,3,27,5],[27,6,27,7],[28,3,28,5],[28,6,28,7],[28,1,28,2],[29,1,29,2],[29,3,29,5],[29,6,29,7],[25,3,25,5],[25,6,25,7],[23,1,23,2],[23,3,23,5],[23,6,23,7],[24,1,24,2],[24,3,24,5],[24,6,24,7],[25,1,25,2],[96,1,96,2],[96,3,96,5],[437,1,437,2],[437,3,437,5],[437,6,437,7],[439,29,439,31],[450,23,450,31],[451,23,451,31],[452,6,452,13],[452,23,452,31],[440,29,440,31],[441,29,441,31],[442,29,442,31],[443,6,443,31],[446,0,446,26],[450,6,450,13],[451,6,451,13],[92,1,92,2],[92,3,92,5],[92,6,92,7],[93,1,93,2],[93,3,93,5],[94,1,94,2],[94,3,94,5],[94,6,94,7],[95,3,95,5],[95,6,95,7],[95,1,95,2],[88,1,88,2],[88,3,88,5],[88,6,88,7],[89,1,89,2],[89,3,89,5],[89,6,89,7],[90,3,90,5],[90,1,90,2],[91,1,91,2],[91,3,91,5],[91,6,91,7],[87,3,87,5],[87,6,87,7],[85,1,85,2],[85,3,85,5],[85,6,85,7],[86,1,86,2],[86,3,86,5],[86,6,86,7],[87,1,87,2],[78,1,78,2],[78,3,78,5],[78,6,78,7],[84,3,84,5],[84,6,84,7],[82,1,82,2],[82,3,82,5],[82,6,82,7],[83,1,83,2],[83,3,83,5],[83,6,83,7],[84,1,84,2],[81,3,81,5],[81,6,81,7],[79,1,79,2],[79,3,79,5],[79,6,79,7],[80,1,80,2],[80,3,80,5],[80,6,80,7],[81,1,81,2],[74,1,74,2],[74,3,74,5],[75,1,75,2],[75,3,75,5],[75,6,75,7],[76,3,76,5],[76,6,76,7],[76,1,76,2],[77,1,77,2],[77,3,77,5],[77,6,77,7],[53,3,53,5],[53,6,53,7],[51,1,51,2],[51,3,51,5],[51,6,51,7],[52,1,52,2],[52,3,52,5],[52,6,52,7],[53,1,53,2],[50,3,50,5],[50,6,50,7],[48,1,48,2],[48,3,48,5],[48,6,48,7],[49,1,49,2],[49,3,49,5],[49,6,49,7],[50,1,50,2],[47,3,47,5],[47,6,47,7],[45,1,45,2],[45,3,45,5],[45,6,45,7],[46,1,46,2],[46,3,46,5],[46,6,46,7],[47,1,47,2],[44,3,44,5],[44,6,44,7],[42,1,42,2],[42,3,42,5],[42,6,42,7],[43,1,43,2],[43,3,43,5],[43,6,43,7],[44,1,44,2],[41,3,41,5],[41,6,41,7],[39,1,39,2],[39,3,39,5],[39,6,39,7],[40,1,40,2],[40,3,40,5],[40,6,40,7],[41,1,41,2],[38,3,38,5],[38,6,38,7],[36,1,36,2],[36,3,36,5],[36,6,36,7],[37,1,37,2],[37,3,37,5],[37,6,37,7],[38,1,38,2],[14,8,15,8],[17,1,17,2],[17,3,17,5],[17,6,17,7],[18,1,18,2],[18,3,18,5],[18,6,18,7],[19,3,19,5],[22,3,22,5],[22,6,22,7],[19,1,19,2],[20,1,20,2],[20,3,20,5],[20,6,20,7],[21,1,21,2],[21,3,21,5],[22,1,22,2],[0,0,0,31],[1,0,1,31],[3,3,3,4],[3,7,3,12],[3,14,3,16],[3,18,4,31],[5,3,5,4],[14,9,14,28],[14,29,15,29],[14,30,15,30],[14,31,15,31],[5,7,5,12],[5,14,5,16],[5,18,12,31],[7,3,7,4],[7,7,7,12],[9,3,9,4],[9,7,9,12],[11,3,11,4],[11,7,11,12],[14,0,15,0],[14,1,15,2],[14,3,15,5],[14,6,15,7]]}
["APP-CSE 2025 FORM - Other Items"]
["ANNUAL PROCUREMENT PLAN - COMMOM-USE SUPPLIES AND EQUIPMENT (APP-CSE) 2025 FORM - Other Items"]
[]
[null,"AGENCY CODE/UACS:",null,200010300009,null,"CONTACT PERSON:",null,"AL-WALID S. SAPPAYANI",null,null,null,null,null,null,"INTRODUCTION:",null,null,null,"This form shall be utilized by government agencies for items that are not available in the PS-DBM catalogue but are regularly purchased from other sources. Information given in this form will serve as a survey to identify the items that may be considered as CSE by the PS-DBM."]
[]
[null,"AGENCY NAME:",null,"DSWD",null,"DESIGNATION:",null,"BAC Secretariat",null,null,null,null,null,null,"REMINDERS:",null,null,null,"1. The APP-CSE 2025 Form - Other Items must be accomplished using Excel ONLY. The APP-CSE Form - Other Items shall be deemed incorrect or invalid if the form used is in other than the prescribed format which can be downloaded  in the PS-DBM website (www.ps-philgeps.gov.ph).\n\n2. All information must be provided accurately.\n\n3. To fill-out, find the item in the  'List of Items - 1' tab of this file then type the desired product in the search bar (working only for Mirosoft Excel 2013 or higher). Copy the description, right click then PASTE AS VALUES in the dedicated  column of the form 'Item Description\". You may also use the 'List of Items - 2' then press CTRL + F to find the item. If it is necessary to input the details of the product, you may type it in the 'Specification' column provided beside the item description.The first one hundred (100) rows are dedicated only for this procedure, while the remaining rows is open for editing. You can insert additional rows after the first 100 if necessary. \n\n4. Upload the APP-CSE 2025 Form - Other Items through the Google Forms Link: https://shorturl.at/adeqO\n\n5. For further assistance or clarification, agencies may contact the Marketing and Sales Division of PS-DBM through its mobile numbers 0918-2954426 (Smart) or 0962-8255199 (Smart), or email appcse.helpdesk@ps-philgeps.gov.ph, or visit the PS-DBM website (www.ps-philgeps.gov.ph) for the guide on how to fill-out the APP-CSE\n\n6. The APP-CSE for FY 2025 must be submitted on or before July 31, 2024"]
[]
[null,"ORGANIZATION TYPE:",null,"DEPARTMENT",null,"EMAIL:",null,"bac.fo9@dswd.gov.ph"]
[]
[null,"REGION:",null,"IX",null,"CONTACT NUMBER:",null,"991-6030"]
[]
[null,"ADDRESS:",null,"GENERAL VICENTE ALVAREZ ST., ZAMBOANGA CITY"]
[]
[]
["No.","UNSPSC",null,"Item Description",null,null,"Specification\n(Input specific features or composition of the item such as dimensions, color, or  functions)",null,"Unit of Measure","Monthly Quantity Requirement",null,null,null,null,null,null,null,null,null,null,null,null,null,null,null,null,null,null,null,"Total Quantity\nfor the year","Price","Total Amount\nfor the year"]
[null,null,null,null,null,null,null,null,null,"Jan","Feb","Mar","Q1","Q1\nAMOUNT","April ","May ","June","Q2","Q2\nAMOUNT","July","Aug","Sept","Q3","Q3\nAMOUNT","Oct","Nov","Dec","Q4","Q4\nAMOUNT"]
["OTHER ITEMS NOT AVAILABLE AT PS-DBM BUT ARE REGULARLY PURCHASED FROM OTHER SOURCES (Note: Please indicate price of items)"]
[1,{"$f":"IFERROR(VLOOKUP(D18,'List of Items - 1'!H:I,2,0),\"-\")","v":"81161700"},null,{"$f":"'List of Items - 2'!B11823","v":"Telecommunication Services"},null,null,"TM/GLOBE",null,"Lot",null,1,null,{"$f":"J18+K18+L18","v":1},{"$f":"M18*$AE18","v":2005200},null,null,null,{"$f":"O18+P18+Q18","v":0},{"$f":"R18*$AE18","v":0},null,null,null,{"$f":"T18+U18+V18","v":0},{"$f":"W18*$AE18","v":0},null,null,null,{"$f":"Y18+Z18+AA18","v":0},{"$f":"AB18*$AE18","v":0},{"$f":"M18+R18+W18+AB18","v":1},2005200,{"$f":"AD18*AE18","v":2005200}]
[2,{"$f":"IFERROR(VLOOKUP(D19,'List of Items - 1'!H:I,2,0),\"-\")","v":"80161502"},null,{"$f":"'List of Items - 2'!B7699","v":"Meeting planning services"},null,null,null,null,"pax",null,null,null,0,0,null,null,30,30,21000,null,null,null,0,0,null,null,null,0,0,30,700,21000]
[3,{"$f":"IFERROR(VLOOKUP(D20,'List of Items - 1'!H:I,2,0),\"-\")","v":"80161502"},null,{"$f":"D19","v":"Meeting planning services"},null,null,null,null,"PAX",null,null,null,0,0,null,null,null,0,0,null,null,null,0,0,null,30,null,30,21000,30,700,21000]
[4,{"$f":"IFERROR(VLOOKUP(D21,'List of Items - 1'!H:I,2,0),\"-\")","v":"86132102"},null,{"$f":"'List of Items - 2'!B12279","v":"Training planning and development consultancy service"},null,null,null,null,"PAX",null,null,null,0,0,null,null,null,0,0,null,null,null,0,0,null,null,98,98,235200,98,2400,235200]
[5,{"$f":"IFERROR(VLOOKUP(D22,'List of Items - 1'!H:I,2,0),\"-\")","v":"80141902"},null,{"$f":"D66","v":"Meetings events"},null,null,null,null,"PAX",null,null,null,0,0,55,null,null,55,38500,null,null,null,0,0,null,null,null,0,0,55,700,38500]
[6,{"$f":"IFERROR(VLOOKUP(D23,'List of Items - 1'!H:I,2,0),\"-\")","v":"85121810"},null,{"$f":"'List of Items - 2'!B3688","v":"Drug or alcohol screening"},null,null,null,null,"PAX",null,null,null,0,0,16,null,null,16,11200,null,null,null,0,0,null,null,null,0,0,16,700,11200]
[7,{"$f":"IFERROR(VLOOKUP(D24,'List of Items - 1'!H:I,2,0),\"-\")","v":"81161700"},null,{"$f":"D18","v":"Telecommunication Services"},null,null,"TNT",null,"Lot",null,1,null,1,338400,null,null,null,0,0,null,null,null,0,0,null,null,null,0,0,1,338400,338400]
[8,{"$f":"IFERROR(VLOOKUP(D25,'List of Items - 1'!H:I,2,0),\"-\")","v":"86132101"},null,{"$f":"'List of Items - 2'!B12278","v":"Training facilitation service"},null,null,null,null,"Lot",null,null,null,0,0,null,null,null,0,0,34,null,null,34,51000,null,null,null,0,0,34,1500,51000]
[9,{"$f":"IFERROR(VLOOKUP(D26,'List of Items - 1'!H:I,2,0),\"-\")","v":"86101418"},null,{"$f":"'List of Items - 2'!B12287","v":"Training, Technical: Crew Resource Management, Emergency Procedures, Dangerous Goods"},null,null,null,null,"Lot",null,null,null,0,0,null,37,null,37,59200,null,null,null,0,0,null,null,null,0,0,37,1600,59200]
[10,{"$f":"IFERROR(VLOOKUP(D27,'List of Items - 1'!H:I,2,0),\"-\")","v":"14121810"},null,{"$f":"'List of Items - 2'!B1748","v":"Carbon papers"},null,null,null,null,"box",null,null,12,12,13200,null,null,null,0,0,null,null,null,0,0,null,null,null,0,0,12,1100,13200]
[11,{"$f":"IFERROR(VLOOKUP(D28,'List of Items - 1'!H:I,2,0),\"-\")","v":"72101516"},null,{"$f":"'List of Items - 2'!B4650","v":"Fire extinguisher inspection maintenance and repair service"},null,null,null,null,"Lot",null,null,35,35,70000,null,null,null,0,0,null,null,null,0,0,null,null,null,0,0,35,2000,70000]
[12,{"$f":"IFERROR(VLOOKUP(D29,'List of Items - 1'!H:I,2,0),\"-\")","v":"76121500"},null,{"$f":"'List of Items - 2'!B10301","v":"Refuse collection and disposal"},null,null,null,null,"pax",null,null,null,0,0,null,null,null,0,0,10,null,null,10,5500,null,null,null,0,0,10,550,5500]
[13,{"$f":"IFERROR(VLOOKUP(D30,'List of Items - 1'!H:I,2,0),\"-\")","v":"44120000"},null,{"$f":"'List of Items - 2'!B8621","v":"Office supplies"},null,null,null,null,"Lot",null,null,1,1,15228.13,null,null,null,0,0,null,null,null,0,0,null,null,null,0,0,1,15228.13,15228.13]
[14,{"$f":"IFERROR(VLOOKUP(D31,'List of Items - 1'!H:I,2,0),\"-\")","v":"45101614"},null,{"$f":"'List of Items - 2'!B6153","v":"Industrial sign and label portable printer accessories"},null,null,null,null,"Unit",null,1,null,1,50000,null,null,null,0,0,null,null,null,0,0,null,null,null,0,0,1,50000,50000]
[15,{"$f":"IFERROR(VLOOKUP(D32,'List of Items - 1'!H:I,2,0),\"-\")","v":"90110000"},null,{"$f":"'List of Items - 2'!B5795","v":"Hotels and lodging and meeting facilities"},null,null,null,null,"days",16,null,null,16,86400,null,null,null,0,0,null,null,null,0,0,null,null,null,0,0,16,5400,86400]
[16,{"$f":"IFERROR(VLOOKUP(D33,'List of Items - 1'!H:I,2,0),\"-\")","v":"24101706"},null,{"$f":"'List of Items - 2'!B12395","v":"Trolleys or accessories"},null,null,null,null,"unit",null,2,null,2,7000,null,null,null,0,0,null,null,null,0,0,null,null,null,0,0,2,3500,7000]
[17,{"$f":"IFERROR(VLOOKUP(D34,'List of Items - 1'!H:I,2,0),\"-\")","v":"72153606"},null,{"$f":"'List of Items - 2'!B8613","v":"Office furniture installation service"},null,null,null,null,"unit",null,2,null,2,120000,null,null,null,0,0,null,null,null,0,0,null,null,null,0,0,2,60000,120000]
[18,{"$f":"IFERROR(VLOOKUP(D35,'List of Items - 1'!H:I,2,0),\"-\")","v":"44120000"},null,{"$f":"D30","v":"Office supplies"},null,null,null,null,"lot",null,1,null,1,32500,null,null,null,0,0,null,null,null,0,0,null,null,null,0,0,1,32500,32500]
[19,{"$f":"IFERROR(VLOOKUP(D36,'List of Items - 1'!H:I,2,0),\"-\")","v":"72151800"},null,{"$f":"'List of Items - 2'!B7189","v":"Machine installation and maintenance and repair services"},null,null,null,null,"Lot",null,null,1,1,230000,null,null,null,0,0,null,null,null,0,0,null,null,null,0,0,1,230000,230000]
[20,{"$f":"IFERROR(VLOOKUP(D37,'List of Items - 1'!H:I,2,0),\"-\")","v":"56101530"},null,{"$f":"'List of Items - 2'!B11376","v":"Storage cabinets"},null,null,null,null,"unit",null,null,1,1,4000,null,null,null,0,0,null,null,null,0,0,null,null,null,0,0,1,4000,4000]
[21,{"$f":"IFERROR(VLOOKUP(D38,'List of Items - 1'!H:I,2,0),\"-\")","v":"90110000"},null,{"$f":"D32","v":"Hotels and lodging and meeting facilities"},null,null,null,null,"pax",null,null,null,0,0,null,null,null,0,0,null,null,null,0,0,null,150,null,150,345000,150,2300,345000]
[22,{"$f":"IFERROR(VLOOKUP(D39,'List of Items - 1'!H:I,2,0),\"-\")","v":"80161502"},null,{"$f":"D19","v":"Meeting planning services"},null,null,null,null,"pax",null,null,null,0,0,75,null,null,75,52500,null,null,null,0,0,null,null,null,0,0,75,700,52500]
[23,{"$f":"IFERROR(VLOOKUP(D40,'List of Items - 1'!H:I,2,0),\"-\")","v":"80161502"},null,{"$f":"D39","v":"Meeting planning services"},null,null,null,null,"pax",null,null,null,0,0,null,null,null,0,0,null,null,75,75,52500,null,null,null,0,0,75,700,52500]
[24,{"$f":"IFERROR(VLOOKUP(D41,'List of Items - 1'!H:I,2,0),\"-\")","v":"44120000"},null,{"$f":"D35","v":"Office supplies"},null,null,null,null,"Lot",null,null,null,0,0,null,null,1,1,68000,null,null,null,0,0,null,null,null,0,0,1,68000,68000]
[25,{"$f":"IFERROR(VLOOKUP(D42,'List of Items - 1'!H:I,2,0),\"-\")","v":"80161502"},null,{"$f":"D39","v":"Meeting planning services"},null,null,null,null,"PAX",null,null,null,0,0,null,37,null,37,18500,null,null,null,0,0,null,null,null,0,0,37,500,18500]
[26,{"$f":"IFERROR(VLOOKUP(D43,'List of Items - 1'!H:I,2,0),\"-\")","v":"90110000"},null,{"$f":"D38","v":"Hotels and lodging and meeting facilities"},null,null,null,null,"pax",null,null,null,0,0,null,null,null,0,0,null,null,null,0,0,null,null,40,40,186000,40,4650,186000]
[27,{"$f":"IFERROR(VLOOKUP(D44,'List of Items - 1'!H:I,2,0),\"-\")","v":"80141902"},null,{"$f":"D22","v":"Meetings events"},null,null,null,null,"pax",null,null,null,0,0,null,null,30,30,4500,null,null,null,0,0,null,null,null,0,0,30,150,4500]
[28,{"$f":"IFERROR(VLOOKUP(D45,'List of Items - 1'!H:I,2,0),\"-\")","v":"80141902"},null,{"$f":"D44","v":"Meetings events"},null,null,null,null,"pax",null,30,null,30,4500,null,null,null,0,0,null,null,null,0,0,null,null,null,0,0,30,150,4500]
[29,{"$f":"IFERROR(VLOOKUP(D46,'List of Items - 1'!H:I,2,0),\"-\")","v":"80141902"},null,{"$f":"D44","v":"Meetings events"},null,null,null,null,"pax",null,null,30,30,4500,null,null,null,0,0,null,null,null,0,0,null,null,null,0,0,30,150,4500]
[30,{"$f":"IFERROR(VLOOKUP(D47,'List of Items - 1'!H:I,2,0),\"-\")","v":"80141902"},null,{"$f":"D44","v":"Meetings events"},null,null,null,null,"pax",null,null,null,0,0,null,null,null,0,0,null,null,null,0,0,30,null,null,30,4500,30,150,4500]
[31,{"$f":"IFERROR(VLOOKUP(D48,'List of Items - 1'!H:I,2,0),\"-\")","v":"90110000"},null,{"$f":"D43","v":"Hotels and lodging and meeting facilities"},null,null,null,null,"pax",null,null,null,0,0,null,null,null,0,0,37,null,null,37,18500,null,null,null,0,0,37,500,18500]
[32,{"$f":"IFERROR(VLOOKUP(D49,'List of Items - 1'!H:I,2,0),\"-\")","v":"90110000"},null,{"$f":"D48","v":"Hotels and lodging and meeting facilities"},null,null,null,null,"pax",null,null,null,0,0,null,null,null,0,0,null,null,null,0,0,37,null,null,37,18500,37,500,18500]
[33,{"$f":"IFERROR(VLOOKUP(D50,'List of Items - 1'!H:I,2,0),\"-\")","v":"44120000"},null,{"$f":"D41","v":"Office supplies"},null,null,null,null,"Lot",null,null,null,0,0,null,1,null,1,53435,null,null,null,0,0,null,null,null,0,0,1,53435,53435]
[34,{"$f":"IFERROR(VLOOKUP(D51,'List of Items - 1'!H:I,2,0),\"-\")","v":"72101500"},null,{"$f":"'List of Items - 2'!B1518","v":"Building maintenance and repair services"},null,null,null,null,"Lot",null,null,null,0,0,1,null,null,1,100000,null,null,null,0,0,null,null,null,0,0,1,100000,100000]
[35,{"$f":"IFERROR(VLOOKUP(D52,'List of Items - 1'!H:I,2,0),\"-\")","v":"25172504"},null,{"$f":"'List of Items - 2'!B919","v":"Automobile or light truck tires"},null,null,null,null,"Lot",null,null,null,0,0,null,1,null,1,500000,null,null,null,0,0,null,null,null,0,0,1,500000,500000]
[36,{"$f":"IFERROR(VLOOKUP(D53,'List of Items - 1'!H:I,2,0),\"-\")","v":"50192700"},null,{"$f":"'List of Items - 2'!B8890","v":"Packaged combination meals"},null,null,null,null,"PAX",null,null,null,0,0,30,null,null,30,15000,null,null,null,0,0,null,null,null,0,0,30,500,15000]
[37,{"$f":"IFERROR(VLOOKUP(D54,'List of Items - 1'!H:I,2,0),\"-\")","v":"90110000"},null,{"$f":"D49","v":"Hotels and lodging and meeting facilities"},null,null,null,null,"PAX",null,null,null,0,0,null,null,30,30,15000,null,null,null,0,0,null,null,null,0,0,30,500,15000]
[38,{"$f":"IFERROR(VLOOKUP(D55,'List of Items - 1'!H:I,2,0),\"-\")","v":"90110000"},null,{"$f":"D49","v":"Hotels and lodging and meeting facilities"},null,null,null,null,"PAX",null,null,null,0,0,null,null,null,0,0,null,null,null,0,0,null,30,null,30,15000,30,500,15000]
[39,{"$f":"IFERROR(VLOOKUP(D56,'List of Items - 1'!H:I,2,0),\"-\")","v":"76110000"},null,{"$f":"'List of Items - 2'!B2180","v":"Cleaning and janitorial services"},null,null,null,null,"LOT",null,null,1,1,30000,null,null,null,0,0,null,null,null,0,0,null,null,null,0,0,1,30000,30000]
[40,{"$f":"IFERROR(VLOOKUP(D57,'List of Items - 1'!H:I,2,0),\"-\")","v":"44120000"},null,{"$f":"D50","v":"Office supplies"},null,null,null,null,"Lot",null,null,null,0,0,1,null,null,1,28800,null,null,null,0,0,null,null,null,0,0,1,28800,28800]
[41,{"$f":"IFERROR(VLOOKUP(D58,'List of Items - 1'!H:I,2,0),\"-\")","v":"80141902"},null,{"$f":"D47","v":"Meetings events"},null,null,null,null,"Lot",null,null,1,1,40000,null,null,null,0,0,null,null,null,0,0,null,null,null,0,0,1,40000,40000]
[42,{"$f":"IFERROR(VLOOKUP(D59,'List of Items - 1'!H:I,2,0),\"-\")","v":"90110000"},null,{"$f":"D55","v":"Hotels and lodging and meeting facilities"},null,null,null,null,"PAX",null,null,null,0,0,1010,null,null,1010,2222000,null,null,null,0,0,null,null,null,0,0,1010,2200,2222000]
[43,{"$f":"IFERROR(VLOOKUP(D60,'List of Items - 1'!H:I,2,0),\"-\")","v":"44120000"},null,{"$f":"D57","v":"Office supplies"},null,null,null,null,"Lot",null,null,null,0,0,1,null,null,1,274500,null,null,null,0,0,null,null,null,0,0,1,274500,274500]
[44,{"$f":"IFERROR(VLOOKUP(D61,'List of Items - 1'!H:I,2,0),\"-\")","v":"90101802"},null,{"$f":"'List of Items - 2'!B3142","v":"Delivered meals services"},null,null,null,null,"Lot",null,null,null,0,0,null,null,null,0,0,1,null,null,1,138000,null,null,null,0,0,1,138000,138000]
[45,{"$f":"IFERROR(VLOOKUP(D62,'List of Items - 1'!H:I,2,0),\"-\")","v":"90110000"},null,{"$f":"D59","v":"Hotels and lodging and meeting facilities"},null,null,null,null,"pax",null,null,null,0,0,null,null,456,456,228000,null,null,null,0,0,null,null,null,0,0,456,500,228000]
[46,{"$f":"IFERROR(VLOOKUP(D63,'List of Items - 1'!H:I,2,0),\"-\")","v":"80141902"},null,{"$f":"D66","v":"Meetings events"},null,null,null,null,"Lot",null,null,null,0,0,null,null,null,0,0,1,null,null,1,110000,null,null,null,0,0,1,110000,110000]
[47,{"$f":"IFERROR(VLOOKUP(D64,'List of Items - 1'!H:I,2,0),\"-\")","v":"90110000"},null,{"$f":"D62","v":"Hotels and lodging and meeting facilities"},null,null,null,null,"pax",null,null,null,0,0,null,null,null,0,0,null,50,null,50,125000,null,null,null,0,0,50,2500,125000]
[48,{"$f":"IFERROR(VLOOKUP(D65,'List of Items - 1'!H:I,2,0),\"-\")","v":"90110000"},null,{"$f":"D64","v":"Hotels and lodging and meeting facilities"},null,null,null,null,"pax",null,null,null,0,0,null,null,null,0,0,20,null,null,20,50000,null,null,null,0,0,20,2500,50000]
[49,{"$f":"IFERROR(VLOOKUP(D66,'List of Items - 1'!H:I,2,0),\"-\")","v":"80141902"},null,{"$f":"D72","v":"Meetings events"},null,null,null,null,"pax",null,null,null,0,0,null,null,null,0,0,50,null,null,50,35000,null,null,null,0,0,50,700,35000]
[50,{"$f":"IFERROR(VLOOKUP(D67,'List of Items - 1'!H:I,2,0),\"-\")","v":"44120000"},null,{"$f":"D60","v":"Office supplies"},null,null,null,null,"Lot",null,null,null,0,0,null,1,null,1,147350,null,null,null,0,0,null,null,null,0,0,1,147350,147350]
[51,{"$f":"IFERROR(VLOOKUP(D68,'List of Items - 1'!H:I,2,0),\"-\")","v":"90110000"},null,{"$f":"D65","v":"Hotels and lodging and meeting facilities"},null,null,null,null,"pax",null,null,null,0,0,null,100,null,100,70000,null,null,null,0,0,null,null,null,0,0,100,700,70000]
[52,{"$f":"IFERROR(VLOOKUP(D69,'List of Items - 1'!H:I,2,0),\"-\")","v":"44120000"},null,{"$f":"D67","v":"Office supplies"},null,null,null,null,"Lot",null,null,null,0,0,null,1,null,1,109159,null,null,null,0,0,null,null,null,0,0,1,109159,109159]
[53,{"$f":"IFERROR(VLOOKUP(D70,'List of Items - 1'!H:I,2,0),\"-\")","v":"44120000"},null,{"$f":"D67","v":"Office supplies"},null,null,null,null,"Lot",null,null,null,0,0,1,null,null,1,132400,null,null,null,0,0,null,null,null,0,0,1,132400,132400]
[54,{"$f":"IFERROR(VLOOKUP(D71,'List of Items - 1'!H:I,2,0),\"-\")","v":"90110000"},null,"Hotels and lodging and meeting facilities",null,null,null,null,"pax",null,null,null,0,0,null,null,null,0,0,null,null,null,0,0,null,null,174,174,522000,174,3000,522000]
[55,{"$f":"IFERROR(VLOOKUP(D72,'List of Items - 1'!H:I,2,0),\"-\")","v":"80141902"},null,{"$f":"D78","v":"Meetings events"},null,null,null,null,"pax",null,null,null,0,0,null,null,null,0,0,null,null,null,0,0,null,null,60,60,42000,60,700,42000]
[56,{"$f":"IFERROR(VLOOKUP(D73,'List of Items - 1'!H:I,2,0),\"-\")","v":"90110000"},null,{"$f":"D68","v":"Hotels and lodging and meeting facilities"},null,null,null,null,"Lot",null,1,null,1,30000,null,null,null,0,0,null,null,null,0,0,null,null,null,0,0,1,30000,30000]
[57,{"$f":"IFERROR(VLOOKUP(D74,'List of Items - 1'!H:I,2,0),\"-\")","v":"90110000"},null,{"$f":"D73","v":"Hotels and lodging and meeting facilities"},null,null,null,null,"pax",null,null,null,0,0,null,null,null,0,0,null,null,null,0,0,null,50,null,50,160000,50,3200,160000]
[58,{"$f":"IFERROR(VLOOKUP(D75,'List of Items - 1'!H:I,2,0),\"-\")","v":"90110000"},null,"Hotels and lodging and meeting facilities",null,null,null,null,"pax",null,null,null,0,0,null,null,null,0,0,null,null,null,0,0,40,null,null,40,190000,40,4750,190000]
[59,{"$f":"IFERROR(VLOOKUP(D76,'List of Items - 1'!H:I,2,0),\"-\")","v":"90110000"},null,"Hotels and lodging and meeting facilities",null,null,null,null,"pax",null,null,null,0,0,null,50,null,50,50000,null,null,null,0,0,null,null,null,0,0,50,1000,50000]
[60,{"$f":"IFERROR(VLOOKUP(D77,'List of Items - 1'!H:I,2,0),\"-\")","v":"90110000"},null,"Hotels and lodging and meeting facilities",null,null,null,null,"pax",null,null,null,0,0,null,null,null,0,0,null,null,null,0,0,null,null,50,50,450000,50,9000,450000]
[62,{"$f":"IFERROR(VLOOKUP(D78,'List of Items - 1'!H:I,2,0),\"-\")","v":"80141902"},null,{"$f":"D80","v":"Meetings events"},null,null,null,null,"pax",null,null,null,0,0,null,null,null,0,0,null,null,null,0,0,null,null,60,60,42000,60,700,42000]
[63,{"$f":"IFERROR(VLOOKUP(D79,'List of Items - 1'!H:I,2,0),\"-\")","v":"44120000"},null,{"$f":"D70","v":"Office supplies"},null,null,null,null,"Lot",null,null,null,0,0,null,null,1,1,170870,null,null,null,0,0,null,null,null,0,0,1,170870,170870]
[64,{"$f":"IFERROR(VLOOKUP(D80,'List of Items - 1'!H:I,2,0),\"-\")","v":"80141902"},null,{"$f":"D82","v":"Meetings events"},null,null,null,null,"Lot",null,null,null,0,0,null,null,null,0,0,null,null,null,0,0,null,1,null,1,18000,1,18000,18000]
[65,{"$f":"IFERROR(VLOOKUP(D81,'List of Items - 1'!H:I,2,0),\"-\")","v":"90110000"},null,{"$f":"D76","v":"Hotels and lodging and meeting facilities"},null,null,null,null,"pax",null,null,null,0,0,null,null,null,0,0,null,null,null,0,0,null,null,40,40,112000,40,2800,112000]
[66,{"$f":"IFERROR(VLOOKUP(D82,'List of Items - 1'!H:I,2,0),\"-\")","v":"80141902"},null,{"$f":"D83","v":"Meetings events"},null,null,null,null,"Lot",null,null,null,0,0,null,null,1,1,219800,null,null,null,0,0,null,null,null,0,0,1,219800,219800]
[67,{"$f":"IFERROR(VLOOKUP(D83,'List of Items - 1'!H:I,2,0),\"-\")","v":"80141902"},null,{"$f":"D89","v":"Meetings events"},null,null,null,null,"pax",null,null,null,0,0,null,null,40,40,40000,null,null,null,0,0,null,null,null,0,0,40,1000,40000]
[68,{"$f":"IFERROR(VLOOKUP(D84,'List of Items - 1'!H:I,2,0),\"-\")","v":"82121505"},null,{"$f":"'List of Items - 2'!B9940","v":"Promotional or advertising printing"},null,null,null,null,"Lot",null,null,null,0,0,null,null,null,0,0,null,null,null,0,0,null,1,null,1,342000,1,342000,342000]
[69,{"$f":"IFERROR(VLOOKUP(D85,'List of Items - 1'!H:I,2,0),\"-\")","v":"78141900"},null,{"$f":"'List of Items - 2'!B12329","v":"Transport container rental services"},null,null,null,null,"days",null,null,null,0,0,null,null,null,0,0,null,null,null,0,0,14,null,null,14,140000,14,10000,140000]
[70,{"$f":"IFERROR(VLOOKUP(D86,'List of Items - 1'!H:I,2,0),\"-\")","v":"90110000"},null,{"$f":"D81","v":"Hotels and lodging and meeting facilities"},null,null,null,null,"Lot",null,null,null,0,0,null,null,null,0,0,null,null,null,0,0,1,null,null,1,3948000,1,3948000,3948000]
[71,{"$f":"IFERROR(VLOOKUP(D87,'List of Items - 1'!H:I,2,0),\"-\")","v":"90110000"},null,{"$f":"D88","v":"Hotels and lodging and meeting facilities"},null,null,null,null,"Lot",null,null,null,0,0,1,null,null,1,230000,null,null,null,0,0,null,null,null,0,0,1,230000,230000]
[72,{"$f":"IFERROR(VLOOKUP(D88,'List of Items - 1'!H:I,2,0),\"-\")","v":"90110000"},null,{"$f":"D86","v":"Hotels and lodging and meeting facilities"},null,null,null,null,"Lot",null,null,null,0,0,null,null,null,0,0,1,null,null,1,650000,null,null,null,0,0,1,650000,650000]
[73,{"$f":"IFERROR(VLOOKUP(D89,'List of Items - 1'!H:I,2,0),\"-\")","v":"80141902"},null,{"$f":"D94","v":"Meetings events"},null,null,null,null,"Lot",null,null,null,0,0,1,null,null,1,32000,null,null,null,0,0,null,null,null,0,0,1,32000,32000]
[74,{"$f":"IFERROR(VLOOKUP(D90,'List of Items - 1'!H:I,2,0),\"-\")","v":"76110000"},null,{"$f":"'List of Items - 2'!B2180","v":"Cleaning and janitorial services"},null,null,null,null,"Lot",null,null,null,0,0,null,null,1,1,450000,null,null,null,0,0,null,null,null,0,0,1,450000,450000]
[75,{"$f":"IFERROR(VLOOKUP(D91,'List of Items - 1'!H:I,2,0),\"-\")","v":"90110000"},null,{"$f":"D88","v":"Hotels and lodging and meeting facilities"},null,null,null,null,"Lot",null,null,null,0,0,null,null,null,0,0,1,null,null,1,1288000,null,null,null,0,0,1,1288000,1288000]
[76,{"$f":"IFERROR(VLOOKUP(D92,'List of Items - 1'!H:I,2,0),\"-\")","v":"44120000"},null,{"$f":"D79","v":"Office supplies"},null,null,null,null,"Lot",null,null,1,1,1294300,null,null,null,0,0,null,null,null,0,0,null,null,null,0,0,1,1294300,1294300]
[77,{"$f":"IFERROR(VLOOKUP(D93,'List of Items - 1'!H:I,2,0),\"-\")","v":"90110000"},null,{"$f":"D91","v":"Hotels and lodging and meeting facilities"},null,null,null,null,"Lot",null,null,null,0,0,1,null,null,1,1608000,null,null,null,0,0,null,null,null,0,0,1,1608000,1608000]
[78,{"$f":"B89","v":"80141902"},null,{"$f":"D104","v":"Meetings events"},null,null,null,null,"Lot",null,null,null,0,0,1,null,null,1,294000,null,null,null,0,0,null,null,null,0,0,1,294000,294000]
[79,"80131500",null,{"$f":"D97","v":"Hotels and lodging and meeting facilities"},null,null,null,null,"Lot",null,null,null,0,0,1,null,null,1,272157.89,null,null,null,0,0,null,null,null,0,0,1,272157.89,272157.89]
[80,"82121505",null,{"$f":"'List of Items - 2'!B9940","v":"Promotional or advertising printing"},null,null,null,null,"Lot",null,null,1,1,210000,null,null,null,0,0,null,null,null,0,0,null,null,null,0,0,1,210000,210000]
[81,{"$f":"IFERROR(VLOOKUP(D97,'List of Items - 1'!H:I,2,0),\"-\")","v":"90110000"},null,{"$f":"D101","v":"Hotels and lodging and meeting facilities"},null,null,null,null,"Lot",null,null,null,0,0,null,null,null,0,0,null,null,null,0,0,1,null,null,1,546000,1,546000,546000]
[82,{"$f":"IFERROR(VLOOKUP(D98,'List of Items - 1'!H:I,2,0),\"-\")","v":"82121505"},null,{"$f":"D96","v":"Promotional or advertising printing"},null,null,null,null,"Lot",null,null,null,0,0,null,null,null,0,0,null,null,null,0,0,1,null,null,1,17500,1,17500,17500]
[83,{"$f":"IFERROR(VLOOKUP(D99,'List of Items - 1'!H:I,2,0),\"-\")","v":"82121505"},null,{"$f":"D98","v":"Promotional or advertising printing"},null,null,null,null,"Lot",null,null,null,0,0,null,null,null,0,0,null,null,null,0,0,1,null,null,1,150000,1,150000,150000]
[84,{"$f":"IFERROR(VLOOKUP(D100,'List of Items - 1'!H:I,2,0),\"-\")","v":"82121505"},null,"Promotional or advertising printing",null,null,null,null,"Lot",null,null,1,1,77000,null,null,null,0,0,null,null,null,0,0,null,null,null,0,0,1,77000,77000]
[85,{"$f":"IFERROR(VLOOKUP(D101,'List of Items - 1'!H:I,2,0),\"-\")","v":"90110000"},null,{"$f":"D106","v":"Hotels and lodging and meeting facilities"},null,null,null,null,"Lot",null,null,null,0,0,null,null,null,0,0,null,null,null,0,0,null,1,null,1,1024000,1,1024000,1024000]
[86,{"$f":"IFERROR(VLOOKUP(D102,'List of Items - 1'!H:I,2,0),\"-\")","v":"82100000"},null,{"$f":"'List of Items - 2'!B146","v":"Advertising"},null,null,null,null,"Lot",1,null,null,1,75000,null,null,null,0,0,null,null,null,0,0,null,null,null,0,0,1,75000,75000]
[87,{"$f":"IFERROR(VLOOKUP(D103,'List of Items - 1'!H:I,2,0),\"-\")","v":"44120000"},null,{"$f":"D92","v":"Office supplies"},null,null,null,null,"Lot",null,null,null,0,0,1,null,null,1,12800,null,null,null,0,0,null,null,null,0,0,1,12800,12800]
[88,{"$f":"IFERROR(VLOOKUP(D104,'List of Items - 1'!H:I,2,0),\"-\")","v":"80141902"},null,{"$f":"D109","v":"Meetings events"},null,null,null,null,"Lot",null,null,null,0,0,null,null,1,1,100500,null,null,null,0,0,null,null,null,0,0,1,100500,100500]
[89,{"$f":"IFERROR(VLOOKUP(D105,'List of Items - 1'!H:I,2,0),\"-\")","v":"82100000"},null,{"$f":"D102","v":"Advertising"},null,null,null,null,"Lot",null,null,null,0,0,1,null,null,1,40800,null,null,null,0,0,null,null,null,0,0,1,40800,40800]
[90,{"$f":"IFERROR(VLOOKUP(D106,'List of Items - 1'!H:I,2,0),\"-\")","v":"90110000"},null,{"$f":"D107","v":"Hotels and lodging and meeting facilities"},null,null,null,null,"Lot",null,null,null,0,0,null,null,null,0,0,null,null,null,0,0,1,null,null,1,1374000,1,1374000,1374000]
[91,{"$f":"IFERROR(VLOOKUP(D107,'List of Items - 1'!H:I,2,0),\"-\")","v":"90110000"},null,{"$f":"D110","v":"Hotels and lodging and meeting facilities"},null,null,null,null,"Lot",null,null,null,0,0,null,1,null,1,99000,null,null,null,0,0,null,null,null,0,0,1,99000,99000]
[92,{"$f":"IFERROR(VLOOKUP(D108,'List of Items - 1'!H:I,2,0),\"-\")","v":"90101802"},null,{"$f":"'List of Items - 2'!B3142","v":"Delivered meals services"},null,null,null,null,"Lot",null,null,null,0,0,null,null,1,1,99000,null,null,null,0,0,null,null,null,0,0,1,99000,99000]
[93,{"$f":"IFERROR(VLOOKUP(D109,'List of Items - 1'!H:I,2,0),\"-\")","v":"80141902"},null,{"$f":"D112","v":"Meetings events"},null,null,null,null,"Lot",null,null,null,0,0,null,null,null,0,0,null,null,null,0,0,1,null,null,1,328200,1,328200,328200]
[94,{"$f":"IFERROR(VLOOKUP(D110,'List of Items - 1'!H:I,2,0),\"-\")","v":"90110000"},null,"Hotels and lodging and meeting facilities",null,null,null,null,"Lot",null,null,null,0,0,null,null,null,0,0,null,null,null,0,0,null,null,null,1,393000,1,393000,393000]
[95,{"$f":"IFERROR(VLOOKUP(D111,'List of Items - 1'!H:I,2,0),\"-\")","v":"82121505"},null,{"$f":"D96","v":"Promotional or advertising printing"},null,null,null,null,"Lot",null,null,null,0,0,null,null,1,1,886500,null,null,null,0,0,null,null,null,0,0,1,886500,886500]
[96,{"$f":"IFERROR(VLOOKUP(D112,'List of Items - 1'!H:I,2,0),\"-\")","v":"80141902"},null,{"$f":"D115","v":"Meetings events"},null,null,null,null,"Lot",null,null,null,0,0,null,null,null,0,0,null,null,null,0,0,null,1,null,{"$f":"Y112+Z112+AA112","v":1},660800,1,660800,660800]
[97,{"$f":"IFERROR(VLOOKUP(D113,'List of Items - 1'!H:I,2,0),\"-\")","v":"90110000"},null,{"$f":"D114","v":"Hotels and lodging and meeting facilities"},null,null,null,null,"Lot",null,null,null,0,0,null,null,null,0,0,1,null,null,1,300000,null,null,null,0,0,1,300000,300000]
[98,{"$f":"IFERROR(VLOOKUP(D114,'List of Items - 1'!H:I,2,0),\"-\")","v":"90110000"},null,{"$f":"D146","v":"Hotels and lodging and meeting facilities"},null,null,null,null,"Lot",null,null,null,0,0,null,null,null,0,0,null,null,null,0,0,1,null,null,1,653100,1,653100,653100]
[99,{"$f":"IFERROR(VLOOKUP(D115,'List of Items - 1'!H:I,2,0),\"-\")","v":"80141902"},null,{"$f":"'List of Items - 2'!B7700","v":"Meetings events"},null,null,null,null,"Lot",null,null,null,0,0,null,null,null,0,0,1,null,null,1,803100,null,null,null,0,0,1,803100,803100]
[100,{"$f":"IFERROR(VLOOKUP(D116,'List of Items - 1'!H:I,2,0),\"-\")","v":"E"},null,{"$f":"'List of Items - 2'!B7686","v":"Medical, Laboratory & Test Equipment & Supplies & Pharmaceuticals"},null,null,null,null,"Lot",null,null,null,0,0,null,null,null,0,0,null,null,null,0,0,null,1,null,1,74700,1,74700,74700]
[101,{"$f":"IFERROR(VLOOKUP(D117,'List of Items - 1'!H:I,2,0),\"-\")","v":"51000000"},null,{"$f":"'List of Items - 2'!B3692","v":"Drugs and Pharmaceutical Products"},null,null,null,null,"Lot",null,null,null,0,0,null,null,null,0,0,null,null,null,0,0,null,1,null,1,293835,1,293835,293835]
[102,{"$f":"IFERROR(VLOOKUP(D118,'List of Items - 1'!H:I,2,0),\"-\")","v":"41116118"},null,{"$f":"'List of Items - 2'!B4944","v":"Food test kits or supplies"},null,null,null,null,"Lot",null,null,null,0,0,null,null,1,1,255640,null,null,null,0,0,null,null,null,0,0,1,255640,255640]
[103,{"$f":"IFERROR(VLOOKUP(D119,'List of Items - 1'!H:I,2,0),\"-\")","v":"41116118"},null,{"$f":"Form!D118","v":"Food test kits or supplies"},null,null,null,null,"Lot",null,null,null,0,0,null,null,null,0,0,null,null,null,0,0,null,null,1,1,448800,1,448800,448800]
[104,{"$f":"IFERROR(VLOOKUP(D120,'List of Items - 1'!H:I,2,0),\"-\")","v":"41116118"},null,{"$f":"D119","v":"Food test kits or supplies"},null,null,null,null,"Lot",null,null,null,0,0,null,1,null,1,128900,null,null,null,0,0,null,null,null,0,0,1,128900,128900]
[105,{"$f":"IFERROR(VLOOKUP(D121,'List of Items - 1'!H:I,2,0),\"-\")","v":"42192210"},null,{"$f":"'List of Items - 2'!B13053","v":"Wheelchairs"},null,null,null,null,"UNIT",null,null,null,0,0,null,2,null,2,60000,null,null,null,0,0,null,null,null,0,0,2,30000,60000]
[106,{"$f":"IFERROR(VLOOKUP(D122,'List of Items - 1'!H:I,2,0),\"-\")","v":"42211501"},null,{"$f":"'List of Items - 2'!B1693","v":"Canes"},null,null,null,null,"UNIT",null,null,null,0,0,null,5,null,5,4000,null,null,null,0,0,null,null,null,0,0,5,800,4000]
[107,{"$f":"IFERROR(VLOOKUP(D123,'List of Items - 1'!H:I,2,0),\"-\")","v":"52131600"},null,{"$f":"'List of Items - 2'!B1292","v":"Blinds and shades"},null,null,null,null,"UNIT",null,null,null,0,0,null,5,null,5,1000,null,null,null,0,0,null,null,null,0,0,5,200,1000]
[108,{"$f":"IFERROR(VLOOKUP(D124,'List of Items - 1'!H:I,2,0),\"-\")","v":"42211502"},null,{"$f":"'List of Items - 2'!B2935","v":"Crutches "},null,null,null,null,"UNIT",null,null,null,0,0,null,6,null,5,4000,null,null,null,0,0,null,null,null,0,0,5,800,4000]
[109,{"$f":"IFERROR(VLOOKUP(D125,'List of Items - 1'!H:I,2,0),\"-\")","v":"53141600"},null,{"$f":"'List of Items - 2'!B7996","v":"Miscellaneous sewing supplies"},null,null,null,null,"Lot",null,null,null,0,0,null,null,1,1,915150,null,null,null,0,0,null,null,null,0,0,1,915150,915150]
[110,{"$f":"IFERROR(VLOOKUP(D126,'List of Items - 1'!H:I,2,0),\"-\")","v":"43211600"},null,{"$f":"'List of Items - 2'!B2584","v":"Computer accessories"},null,null,null,null,"Lot",null,null,null,0,0,null,null,1,{"$f":"O126+P126+Q126","v":1},100000,null,null,null,0,0,null,null,null,0,0,1,100000,100000]
[111,{"$f":"IFERROR(VLOOKUP(D127,'List of Items - 1'!H:I,2,0),\"-\")","v":"86101500"},null,{"$f":"'List of Items - 2'!B202","v":"Agriculture and forestry and other natural resources training services"},null,null,null,null,"Lot",null,null,null,0,0,null,null,1,1,118600,null,null,null,0,0,null,null,null,0,0,1,118600,118600]
[112,{"$f":"IFERROR(VLOOKUP(D128,'List of Items - 1'!H:I,2,0),\"-\")","v":"85122101"},null,{"$f":"'List of Items - 2'!B9385","v":"Physical therapy services"},null,null,null,null,"Lot",null,null,null,0,0,null,null,1,1,96000,null,null,null,0,0,null,null,null,0,0,1,96000,96000]
[113,{"$f":"IFERROR(VLOOKUP(D129,'List of Items - 1'!H:I,2,0),\"-\")","v":"86100000"},null,{"$f":"'List of Items - 2'!B12830","v":"Vocational training"},null,null,null,null,"Lot",null,null,null,0,0,null,null,1,1,390000,null,null,null,0,0,null,null,null,0,0,1,390000,390000]
[114,{"$f":"IFERROR(VLOOKUP(D130,'List of Items - 1'!H:I,2,0),\"-\")","v":"23181700"},null,{"$f":"'List of Items - 2'!B4900","v":"Food cooking and smoking machinery"},null,null,null,null,"Lot",null,null,null,0,0,null,null,1,1,100000,null,null,null,0,0,null,null,null,0,0,1,100000,100000]
[115,{"$f":"IFERROR(VLOOKUP(D131,'List of Items - 1'!H:I,2,0),\"-\")","v":"86132201"},null,{"$f":"'List of Items - 2'!B12286","v":"Training workshop service"},null,null,null,null,"Lot",null,null,null,0,0,null,null,1,1,127800,null,null,null,0,0,null,null,null,0,0,1,127800,127800]
[116,{"$f":"IFERROR(VLOOKUP(D132,'List of Items - 1'!H:I,2,0),\"-\")","v":"86100000"},null,{"$f":"'List of Items - 2'!B12830","v":"Vocational training"},null,null,null,null,"PCS",null,null,null,0,0,null,null,200,200,120000,null,null,null,0,0,null,null,null,0,0,200,600,120000]
[117,{"$f":"IFERROR(VLOOKUP(D133,'List of Items - 1'!H:I,2,0),\"-\")","v":"57030107"},null,{"$f":"'List of Items - 2'!B9805","v":"Primary healthcare kit"},null,null,null,null,"SET",null,null,null,0,0,null,null,100,100,70000,null,null,null,0,0,null,null,null,0,0,100,700,70000]
[118,{"$f":"IFERROR(VLOOKUP(D134,'List of Items - 1'!H:I,2,0),\"-\")","v":"60131700"},null,{"$f":"'List of Items - 2'!B369","v":"Alternative sounds musical instruments"},null,null,null,null,"Lot",null,null,null,0,0,null,null,null,0,0,1,null,null,1,448350,null,null,null,0,0,1,448350,448350]
[119,{"$f":"IFERROR(VLOOKUP(D135,'List of Items - 1'!H:I,2,0),\"-\")","v":"27112800"},null,{"$f":"'List of Items - 2'!B12170","v":"Tool attachments and accessories"},null,null,null,null,"Lot",1,null,null,1,424800,null,null,null,0,0,null,null,null,0,0,null,null,null,0,0,1,424800,424800]
[120,{"$f":"IFERROR(VLOOKUP(D136,'List of Items - 1'!H:I,2,0),\"-\")","v":"27112800"},null,{"$f":"D135","v":"Tool attachments and accessories"},null,null,null,null,"Lot",1,null,null,1,105150,null,null,null,0,0,null,null,null,0,0,null,null,null,0,0,1,105150,105150]
[121,{"$f":"IFERROR(VLOOKUP(D137,'List of Items - 1'!H:I,2,0),\"-\")","v":"23121614"},null,{"$f":"'List of Items - 2'!B10848","v":"Sewing machines"},null,null,null,null,"UNIT",10,null,null,10,170000,null,null,null,0,0,null,null,null,0,0,null,null,null,0,0,10,17000,170000]
[122,{"$f":"IFERROR(VLOOKUP(D138,'List of Items - 1'!H:I,2,0),\"-\")","v":"43211600"},null,{"$f":"'List of Items - 2'!B2584","v":"Computer accessories"},null,null,null,null,"UNIT",20,null,null,20,600000,null,null,null,0,0,null,null,null,0,0,null,null,null,0,0,20,30000,600000]
[123,{"$f":"IFERROR(VLOOKUP(D139,'List of Items - 1'!H:I,2,0),\"-\")","v":"27113400"},null,{"$f":"'List of Items - 2'!B1791","v":"Carpentry Tools"},null,null,null,null,"Lot",1,null,null,1,150000,null,null,null,0,0,null,null,null,0,0,null,null,null,0,0,1,150000,150000]
[124,{"$f":"IFERROR(VLOOKUP(D140,'List of Items - 1'!H:I,2,0),\"-\")","v":"53131665"},null,{"$f":"'List of Items - 2'!B4491","v":"Female hygiene and personal care set"},null,null,null,null,"Lot",1,null,null,1,186800,null,null,null,0,0,null,null,null,0,0,null,null,null,0,0,1,186800,186800]
[125,{"$f":"IFERROR(VLOOKUP(D141,'List of Items - 1'!H:I,2,0),\"-\")","v":"21102600"},null,{"$f":"'List of Items - 2'!B194","v":"Agricultural protection materials"},null,null,null,null,"Lot",1,null,null,1,104000,null,null,null,0,0,null,null,null,0,0,null,null,null,0,0,1,104000,104000]
[126,{"$f":"IFERROR(VLOOKUP(D142,'List of Items - 1'!H:I,2,0),\"-\")","v":"21101900"},null,{"$f":"'List of Items - 2'!B9685","v":"Poultry and livestock equipment"},null,null,null,null,"Lot",1,null,null,1,82044,null,null,null,0,0,null,null,null,0,0,null,null,null,0,0,1,82044,82044]
[127,{"$f":"IFERROR(VLOOKUP(D143,'List of Items - 1'!H:I,2,0),\"-\")","v":"23181700"},null,{"$f":"'List of Items - 2'!B4900","v":"Food cooking and smoking machinery"},null,null,null,null,"Lot",1,null,null,1,204750,null,null,null,0,0,null,null,null,0,0,null,null,null,0,0,1,204750,204750]
[128,{"$f":"IFERROR(VLOOKUP(D144,'List of Items - 1'!H:I,2,0),\"-\")","v":"31211900"},null,{"$f":"'List of Items - 2'!B8926","v":"Paint applicators and painting accessories"},null,null,null,null,"Lot",1,null,null,1,22575,null,null,null,0,0,null,null,null,0,0,null,null,null,0,0,1,22575,22575]
[129,{"$f":"IFERROR(VLOOKUP(D145,'List of Items - 1'!H:I,2,0),\"-\")","v":"42212000"},null,{"$f":"'List of Items - 2'!B5801","v":"Housekeeping and homemaking aids for the physically challenged"},null,null,null,null,"Lot",1,null,null,1,214350,null,null,null,0,0,null,null,null,0,0,null,null,null,0,0,1,214350,214350]
[130,{"$f":"IFERROR(VLOOKUP(D146,'List of Items - 1'!H:I,2,0),\"-\")","v":"90110000"},null,{"$f":"D151","v":"Hotels and lodging and meeting facilities"},null,null,null,null,"Lot",null,null,null,0,0,null,null,null,0,0,null,null,1,1,2405000,null,null,null,0,0,1,2405000,2405000]
[131,{"$f":"IFERROR(VLOOKUP(D147,'List of Items - 1'!H:I,2,0),\"-\")","v":"53141600"},null,{"$f":"'List of Items - 2'!B7996","v":"Miscellaneous sewing supplies"},null,null,null,null,"Lot",1,null,null,1,114400,null,null,null,0,0,null,null,null,0,0,null,null,null,0,0,1,114400,114400]
[132,{"$f":"IFERROR(VLOOKUP(D148,'List of Items - 1'!H:I,2,0),\"-\")","v":"25191502"},null,{"$f":"'List of Items - 2'!B5408","v":"Ground support test or maintenance systems"},null,null,null,null,"Lot",null,null,null,0,0,null,null,1,1,82100,null,null,null,0,0,null,null,null,0,0,1,82100,82100]
[133,{"$f":"IFERROR(VLOOKUP(D149,'List of Items - 1'!H:I,2,0),\"-\")","v":"72000000"},null,{"$f":"'List of Items - 2'!B1500","v":"Building and Facility Construction and Maintenance Services "},null,null,null,null,"Lot",null,null,null,0,0,null,null,1,1,266150,null,null,null,0,0,null,null,null,0,0,1,266150,266150]
[134,{"$f":"IFERROR(VLOOKUP(D150,'List of Items - 1'!H:I,2,0),\"-\")","v":"47130000"},null,{"$f":"'List of Items - 2'!B2181","v":"Cleaning and janitorial supplies"},null,null,null,null,"Lot",null,null,null,0,0,null,null,1,1,225500,null,null,null,0,0,null,null,null,0,0,1,225500,225500]
[135,{"$f":"IFERROR(VLOOKUP(D151,'List of Items - 1'!H:I,2,0),\"-\")","v":"90110000"},null,{"$f":"D166","v":"Hotels and lodging and meeting facilities"},null,null,null,null,"pax",null,null,null,0,0,null,null,null,0,0,null,90,null,90,53100,null,null,null,0,0,90,590,53100]
[136,{"$f":"IFERROR(VLOOKUP(D152,'List of Items - 1'!H:I,2,0),\"-\")","v":"78181500"},null,{"$f":"'List of Items - 2'!B12672","v":"Vehicle maintenance and repair services"},null,null,null,null,"Lot",null,null,null,0,0,null,null,null,0,0,null,null,null,0,0,null,1,null,1,1019300,1,1019300,1019300]
[137,{"$f":"IFERROR(VLOOKUP(D153,'List of Items - 1'!H:I,2,0),\"-\")","v":"47101531"},null,{"$f":"'List of Items - 2'!B10815","v":"Septic tanks"},null,null,null,null,"TRIP",null,null,null,0,0,null,null,null,0,0,null,5,null,5,25000,null,null,null,0,0,5,5000,25000]
[138,{"$f":"IFERROR(VLOOKUP(D154,'List of Items - 1'!H:I,2,0),\"-\")","v":"72101511"},null,{"$f":"'List of Items - 2'!B224","v":"Air conditioning installation or maintenance or repair service"},null,null,null,null,"Lot",null,null,null,0,0,null,null,null,0,0,1,null,null,1,61400,null,null,null,0,0,1,61400,61400]
[139,{"$f":"IFERROR(VLOOKUP(D155,'List of Items - 1'!H:I,2,0),\"-\")","v":"72154014"},null,{"$f":"'List of Items - 2'!B4559","v":"Fiberglass installation and maintenance service"},null,null,null,null,"Lot",null,null,null,0,0,null,null,null,0,0,null,1,null,1,885000,null,null,null,0,0,1,885000,885000]
[140,{"$f":"IFERROR(VLOOKUP(D156,'List of Items - 1'!H:I,2,0),\"-\")","v":"72000000"},null,{"$f":"'List of Items - 2'!B1500","v":"Building and Facility Construction and Maintenance Services "},null,null,null,null,"Lot",null,null,null,0,0,null,null,null,0,0,1,null,null,1,650000,null,null,null,0,0,1,650000,650000]
[141,{"$f":"IFERROR(VLOOKUP(D157,'List of Items - 1'!H:I,2,0),\"-\")","v":"72151702"},null,{"$f":"'List of Items - 2'!B2246","v":"Closed circuit television system installation service"},null,null,null,null,"Lot",null,null,null,0,0,null,null,null,0,0,null,null,1,1,700000,null,null,null,0,0,1,700000,700000]
[142,{"$f":"IFERROR(VLOOKUP(D158,'List of Items - 1'!H:I,2,0),\"-\")","v":"43211600"},null,{"$f":"'List of Items - 2'!B2584","v":"Computer accessories"},null,null,null,null,"Lot",null,null,null,0,0,null,null,1,1,852750,null,null,null,0,0,null,null,null,0,0,1,852750,852750]
[143,{"$f":"IFERROR(VLOOKUP(D159,'List of Items - 1'!H:I,2,0),\"-\")","v":"72000000"},null,{"$f":"'List of Items - 2'!B1500","v":"Building and Facility Construction and Maintenance Services "},null,null,null,null,"Lot",null,null,null,0,0,null,null,null,0,0,null,null,null,0,0,1,null,null,1,600000,1,600000,600000]
[144,{"$f":"IFERROR(VLOOKUP(D160,'List of Items - 1'!H:I,2,0),\"-\")","v":"44120000"},null,{"$f":"'List of Items - 2'!B8621","v":"Office supplies"},null,null,null,null,"Lot",null,null,null,0,0,null,null,1,1,50000,null,null,null,0,0,null,null,null,0,0,1,50000,50000]
[145,{"$f":"IFERROR(VLOOKUP(D161,'List of Items - 1'!H:I,2,0),\"-\")","v":"45111814"},null,{"$f":"'List of Items - 2'!B3404","v":"Digital video effects DVE equipment"},null,null,null,null,"Lot",null,null,null,0,0,null,null,null,0,0,null,null,1,1,100000,null,null,null,0,0,1,100000,100000]
[146,{"$f":"IFERROR(VLOOKUP(D162,'List of Items - 1'!H:I,2,0),\"-\")","v":"78111808"},null,{"$f":"'List of Items - 2'!B12681","v":"Vehicle rental"},null,null,null,null,"VAN",null,null,null,0,0,null,null,null,0,0,3,null,null,3,90000,null,null,null,0,0,3,30000,90000]
[147,{"$f":"IFERROR(VLOOKUP(D163,'List of Items - 1'!H:I,2,0),\"-\")","v":"52150000"},null,{"$f":"'List of Items - 2'!B3562","v":"Domestic kitchenware and kitchen supplies"},null,null,null,null,"Lot",null,null,null,0,0,null,null,1,1,259600,null,null,null,0,0,null,null,null,0,0,1,259600,259600]
[148,{"$f":"IFERROR(VLOOKUP(D164,'List of Items - 1'!H:I,2,0),\"-\")","v":"44120000"},null,{"$f":"D160","v":"Office supplies"},null,null,null,null,"Lot",null,null,null,0,0,null,null,1,1,330500,null,null,null,0,0,null,null,null,0,0,1,330500,330500]
[149,{"$f":"IFERROR(VLOOKUP(D165,'List of Items - 1'!H:I,2,0),\"-\")","v":"72000000"},null,{"$f":"D156","v":"Building and Facility Construction and Maintenance Services "},null,null,null,null,"Lot",null,null,null,0,0,null,null,null,0,0,null,null,null,0,0,null,1,null,1,250000,1,250000,250000]
[150,{"$f":"IFERROR(VLOOKUP(D166,'List of Items - 1'!H:I,2,0),\"-\")","v":"90110000"},null,{"$f":"D177","v":"Hotels and lodging and meeting facilities"},null,null,null,null,"pax",null,null,null,0,0,null,null,null,0,0,null,null,null,0,0,null,240,null,240,600000,240,2500,600000]
[151,{"$f":"IFERROR(VLOOKUP(D167,'List of Items - 1'!H:I,2,0),\"-\")","v":"44000000"},null,{"$f":"'List of Items - 2'!B8610","v":"Office Equipment and Accessories and Supplies"},null,null,null,null,"Lot",null,null,null,0,0,null,null,1,1,675500,null,null,null,0,0,null,null,null,0,0,1,675500,675500]
[152,{"$f":"IFERROR(VLOOKUP(D168,'List of Items - 1'!H:I,2,0),\"-\")","v":"82101500"},null,{"$f":"'List of Items - 2'!B9809","v":"Print advertising"},null,null,null,null,"Lot",null,null,null,0,0,null,null,1,1,607500,null,null,null,0,0,null,null,null,0,0,1,607500,607500]
[153,{"$f":"IFERROR(VLOOKUP(D169,'List of Items - 1'!H:I,2,0),\"-\")","v":"95141804"},null,{"$f":"'List of Items - 2'!B4023","v":"Emergency Shelter Kit"},null,null,null,null,"Lot",null,null,null,0,0,null,null,1,1,300000,null,null,null,0,0,null,null,null,0,0,1,300000,300000]
[154,{"$f":"IFERROR(VLOOKUP(D170,'List of Items - 1'!H:I,2,0),\"-\")","v":"50110000"},null,{"$f":"'List of Items - 2'!B7407","v":"Meat and poultry products"},null,null,null,null,"Lot",null,null,null,0,0,null,null,null,0,0,null,null,null,0,0,null,null,1,1,1195200,1,1195200,1195200]
[155,{"$f":"IFERROR(VLOOKUP(D171,'List of Items - 1'!H:I,2,0),\"-\")","v":"50110000"},null,{"$f":"'List of Items - 2'!B7407","v":"Meat and poultry products"},null,null,null,null,"Lot",null,null,null,0,0,null,null,null,0,0,null,null,null,0,0,null,null,1,1,517490,1,517490,517490]
[156,{"$f":"IFERROR(VLOOKUP(D172,'List of Items - 1'!H:I,2,0),\"-\")","v":"50191506"},null,{"$f":"'List of Items - 2'!B5073","v":"Frozen prepared soups or stews"},null,null,null,null,"Lot",null,null,null,0,0,null,null,null,0,0,null,null,null,0,0,null,null,1,1,583500,1,583500,583500]
[157,{"$f":"IFERROR(VLOOKUP(D173,'List of Items - 1'!H:I,2,0),\"-\")","v":"50121539"},null,{"$f":"'List of Items - 2'!B5052","v":"Fresh fish"},null,null,null,null,"Lot",null,null,null,0,0,null,null,null,0,0,null,null,null,0,0,null,null,1,1,953800,1,953800,953800]
[158,{"$f":"IFERROR(VLOOKUP(D174,'List of Items - 1'!H:I,2,0),\"-\")","v":"50300000"},null,{"$f":"'List of Items - 2'!B5055","v":"Fresh fruits"},null,null,null,null,"Lot",null,null,null,0,0,null,null,null,0,0,null,null,null,0,0,null,null,1,1,492900,1,492900,492900]
[159,{"$f":"IFERROR(VLOOKUP(D175,'List of Items - 1'!H:I,2,0),\"-\")","v":"50400000"},null,{"$f":"'List of Items - 2'!B5060","v":"Fresh vegetables"},null,null,null,null,"Lot",null,null,null,0,0,null,null,null,0,0,null,null,null,0,0,null,null,1,1,648800,1,648800,648800]
[160,{"$f":"IFERROR(VLOOKUP(D176,'List of Items - 1'!H:I,2,0),\"-\")","v":"50170000"},null,{"$f":"'List of Items - 2'!B10736","v":"Seasonings and preservatives"},null,null,null,null,"Lot",null,null,null,0,0,null,null,null,0,0,null,null,null,0,0,null,null,1,1,1900950,1,1900950,1900950]
[161,{"$f":"IFERROR(VLOOKUP(D177,'List of Items - 1'!H:I,2,0),\"-\")","v":"90110000"},null,{"$f":"D181","v":"Hotels and lodging and meeting facilities"},null,null,null,null,"Lot",null,null,null,0,0,null,null,null,0,0,null,null,null,0,0,1,null,null,1,180000,1,180000,180000]
[162,{"$f":"IFERROR(VLOOKUP(D178,'List of Items - 1'!H:I,2,0),\"-\")","v":"80141902"},null,{"$f":"D180","v":"Meetings events"},null,null,null,null,"Lot",null,null,null,0,0,null,null,null,0,0,null,1,null,1,358700,null,null,null,0,0,1,358700,358700]
[163,{"$f":"IFERROR(VLOOKUP(D179,'List of Items - 1'!H:I,2,0),\"-\")","v":"90110000"},null,{"$f":"D177","v":"Hotels and lodging and meeting facilities"},null,null,null,null,"Lot",null,null,null,0,0,null,null,null,0,0,null,null,null,0,0,null,1,null,1,156000,1,156000,156000]
[164,{"$f":"IFERROR(VLOOKUP(D180,'List of Items - 1'!H:I,2,0),\"-\")","v":"80141902"},null,{"$f":"D188","v":"Meetings events"},null,null,null,null,"pax",null,null,null,0,0,null,null,null,0,0,null,null,null,0,0,null,80,null,80,72000,80,900,72000]
[165,{"$f":"IFERROR(VLOOKUP(D181,'List of Items - 1'!H:I,2,0),\"-\")","v":"90110000"},null,"Hotels and lodging and meeting facilities",null,null,null,null,"pax",null,null,null,0,0,null,null,null,0,0,null,null,null,0,0,null,null,33,33,92400,33,2800,92400]
[166,{"$f":"IFERROR(VLOOKUP(D182,'List of Items - 1'!H:I,2,0),\"-\")","v":"86132201"},null,{"$f":"'List of Items - 2'!B12286","v":"Training workshop service"},null,null,null,null,"Lot",null,null,null,0,0,null,null,null,0,0,null,null,1,1,245000,null,null,null,0,0,1,245000,245000]
[167,{"$f":"IFERROR(VLOOKUP(D183,'List of Items - 1'!H:I,2,0),\"-\")","v":"53130000"},null,{"$f":"'List of Items - 2'!B9230","v":"Personal care products"},null,null,null,null,"Lot",null,null,null,0,0,null,null,null,0,0,null,1,null,1,2166413,null,null,null,0,0,1,2166413,2166413]
[168,{"$f":"IFERROR(VLOOKUP(D184,'List of Items - 1'!H:I,2,0),\"-\")","v":"47130000"},null,{"$f":"'List of Items - 2'!B2181","v":"Cleaning and janitorial supplies"},null,null,null,null,"Lot",null,null,null,0,0,null,null,null,0,0,null,1,null,1,403150,null,null,null,0,0,1,403150,403150]
[169,{"$f":"IFERROR(VLOOKUP(D185,'List of Items - 1'!H:I,2,0),\"-\")","v":"52150000"},null,{"$f":"'List of Items - 2'!B3562","v":"Domestic kitchenware and kitchen supplies"},null,null,null,null,"Lot",null,null,null,0,0,null,null,null,0,0,null,null,1,1,389319,null,null,null,0,0,1,389319,389319]
[170,{"$f":"IFERROR(VLOOKUP(D186,'List of Items - 1'!H:I,2,0),\"-\")","v":"44120000"},null,{"$f":"'List of Items - 2'!B8621","v":"Office supplies"},null,null,null,null,"Lot",null,null,null,0,0,null,null,null,0,0,null,null,1,1,357900,null,null,null,0,0,1,357900,357900]
[171,{"$f":"IFERROR(VLOOKUP(D187,'List of Items - 1'!H:I,2,0),\"-\")","v":"44000000"},null,{"$f":"'List of Items - 2'!B8610","v":"Office Equipment and Accessories and Supplies"},null,null,null,null,"Lot",null,null,null,0,0,null,null,null,0,0,null,null,null,0,0,1,null,null,1,1099450,1,1099450,1099450]
[172,{"$f":"IFERROR(VLOOKUP(D188,'List of Items - 1'!H:I,2,0),\"-\")","v":"80141902"},null,{"$f":"D190","v":"Meetings events"},null,null,null,null,"Lot",null,null,null,0,0,null,null,null,0,0,null,null,1,1,352000,null,null,null,0,0,1,352000,352000]
[173,{"$f":"IFERROR(VLOOKUP(D189,'List of Items - 1'!H:I,2,0),\"-\")","v":"90110000"},null,{"$f":"D224","v":"Hotels and lodging and meeting facilities"},null,null,null,null,"Lot",null,null,null,0,0,null,null,null,0,0,null,null,0,0,0,null,1,null,1,478500,1,478500,478500]
[174,{"$f":"IFERROR(VLOOKUP(D190,'List of Items - 1'!H:I,2,0),\"-\")","v":"80141902"},null,{"$f":"D216","v":"Meetings events"},null,null,null,null,"Lot",null,null,null,0,0,null,null,null,0,0,1,null,null,1,33200,null,null,null,0,0,1,33200,33200]
[175,{"$f":"IFERROR(VLOOKUP(D191,'List of Items - 1'!H:I,2,0),\"-\")","v":"78181500"},null,{"$f":"'List of Items - 2'!B12672","v":"Vehicle maintenance and repair services"},null,null,null,null,"Lot",null,null,null,0,0,null,1,null,1,150000,null,null,null,0,0,null,null,null,0,0,1,150000,150000]
[176,{"$f":"IFERROR(VLOOKUP(D192,'List of Items - 1'!H:I,2,0),\"-\")","v":"44000000"},null,{"$f":"D187","v":"Office Equipment and Accessories and Supplies"},null,null,null,null,"Lot",null,null,null,0,0,null,null,null,0,0,null,null,null,0,0,1,null,null,1,1137800,1,1137800,1137800]
[177,{"$f":"IFERROR(VLOOKUP(D193,'List of Items - 1'!H:I,2,0),\"-\")","v":"39121700"},null,{"$f":"'List of Items - 2'!B3875","v":"Electrical hardware and supplies"},null,null,null,null,"Lot",null,null,null,0,0,null,null,null,0,0,null,null,null,0,0,1,null,null,1,60337,1,60337,60337]
[178,{"$f":"IFERROR(VLOOKUP(D194,'List of Items - 1'!H:I,2,0),\"-\")","v":"72101500"},null,{"$f":"'List of Items - 2'!B1518","v":"Building maintenance and repair services"},null,null,null,null,"Lot",null,null,null,0,0,null,null,null,0,0,null,null,null,0,0,1,null,null,1,1900000,1,1900000,1900000]
[179,{"$f":"IFERROR(VLOOKUP(D195,'List of Items - 1'!H:I,2,0),\"-\")","v":"72101511"},null,{"$f":"'List of Items - 2'!B224","v":"Air conditioning installation or maintenance or repair service"},null,null,null,null,"Lot",null,null,null,0,0,null,null,null,0,0,1,null,null,1,58800,null,null,null,0,0,1,58800,58800]
[180,{"$f":"IFERROR(VLOOKUP(D196,'List of Items - 1'!H:I,2,0),\"-\")","v":"47101531"},null,{"$f":"'List of Items - 2'!B10815","v":"Septic tanks"},null,null,null,null,"Lot",null,null,null,0,0,null,null,null,0,0,1,null,null,1,60000,null,null,null,0,0,1,60000,60000]
[181,{"$f":"IFERROR(VLOOKUP(D197,'List of Items - 1'!H:I,2,0),\"-\")","v":"10191520"},null,{"$f":"'List of Items - 2'!B8489","v":"Non-chemical biological pest control solution"},null,null,null,null,"Lot",null,null,null,0,0,null,null,null,0,0,1,null,null,1,240000,null,null,null,0,0,1,240000,240000]
[182,{"$f":"IFERROR(VLOOKUP(D198,'List of Items - 1'!H:I,2,0),\"-\")","v":"23121614"},null,{"$f":"'List of Items - 2'!B10848","v":"Sewing machines"},null,null,null,null,"UNIT",null,null,null,0,0,null,null,null,0,0,null,null,null,0,0,null,null,2,2,80000,2,40000,80000]
[183,{"$f":"IFERROR(VLOOKUP(D199,'List of Items - 1'!H:I,2,0),\"-\")","v":"51000000"},null,{"$f":"'List of Items - 2'!B3692","v":"Drugs and Pharmaceutical Products"},null,null,null,null,"Lot",null,null,null,0,0,null,null,null,0,0,null,1,null,1,320775,null,null,null,0,0,1,320775,320775]
[184,{"$f":"IFERROR(VLOOKUP(D200,'List of Items - 1'!H:I,2,0),\"-\")","v":"41120000"},null,{"$f":"'List of Items - 2'!B6754","v":"Laboratory supplies and fixtures"},null,null,null,null,"Lot",null,null,null,0,0,null,null,null,0,0,null,1,null,1,203162,null,null,null,0,0,1,203162,203162]
[185,{"$f":"IFERROR(VLOOKUP(D201,'List of Items - 1'!H:I,2,0),\"-\")","v":"25175100"},null,{"$f":"'List of Items - 2'!B12345","v":"Transportation repair parts kits"},null,null,null,null,"Lot",null,null,null,0,0,null,null,null,0,0,null,1,null,1,283270,null,null,null,0,0,1,283270,283270]
[186,{"$f":"IFERROR(VLOOKUP(D202,'List of Items - 1'!H:I,2,0),\"-\")","v":"57040105"},null,{"$f":"'List of Items - 2'!B10694","v":"School kit for students"},null,null,null,null,"Lot",null,null,null,0,0,null,null,null,0,0,null,null,1,1,199060,null,null,null,0,0,1,199060,199060]
[187,{"$f":"IFERROR(VLOOKUP(D203,'List of Items - 1'!H:I,2,0),\"-\")","v":"49220000"},null,{"$f":"'List of Items - 2'!B11223","v":"Sports equipment and accessories"},null,null,null,null,"Lot",null,null,null,0,0,null,null,null,0,0,null,1,null,1,102649,null,null,null,0,0,1,102649,102649]
[188,{"$f":"IFERROR(VLOOKUP(D204,'List of Items - 1'!H:I,2,0),\"-\")","v":"43211600"},null,{"$f":"'List of Items - 2'!B2584","v":"Computer accessories"},null,null,null,null,"UNIT",null,null,null,0,0,null,null,null,0,0,null,3,null,3,4500,null,null,null,0,0,3,1500,4500]
[189,{"$f":"IFERROR(VLOOKUP(D205,'List of Items - 1'!H:I,2,0),\"-\")","v":"50121500"},null,{"$f":"'List of Items - 2'!B4700","v":"Fish"},null,null,null,null,"Lot",1,null,null,1,2191900,null,null,null,0,0,null,null,null,0,0,null,null,null,0,0,1,2191900,2191900]
[190,{"$f":"IFERROR(VLOOKUP(D206,'List of Items - 1'!H:I,2,0),\"-\")","v":"50400000"},null,{"$f":"'List of Items - 2'!B5060","v":"Fresh vegetables"},null,null,null,null,"Lot",1,null,null,1,1143050,null,null,null,0,0,null,null,null,0,0,null,null,null,0,0,1,1143050,1143050]
[191,{"$f":"IFERROR(VLOOKUP(D207,'List of Items - 1'!H:I,2,0),\"-\")","v":"50300000"},null,{"$f":"'List of Items - 2'!B5055","v":"Fresh fruits"},null,null,null,null,"Lot",1,null,null,1,833550,null,null,null,0,0,null,null,null,0,0,null,null,null,0,0,1,833550,833550]
[192,{"$f":"IFERROR(VLOOKUP(D208,'List of Items - 1'!H:I,2,0),\"-\")","v":"50111513"},null,{"$f":"'List of Items - 2'!B1145","v":"Beef, minimally processed without additions"},null,null,null,null,"Lot",1,null,null,1,2305750,null,null,null,0,0,null,null,null,0,0,null,null,null,0,0,1,2305750,2305750]
[193,{"$f":"IFERROR(VLOOKUP(D209,'List of Items - 1'!H:I,2,0),\"-\")","v":"73131600"},null,{"$f":"'List of Items - 2'!B7406","v":"Meat and poultry and seafood processing"},null,null,null,null,"Lot",1,null,null,1,578500,null,null,null,0,0,null,null,null,0,0,null,null,null,0,0,1,578500,578500]
[194,{"$f":"IFERROR(VLOOKUP(D210,'List of Items - 1'!H:I,2,0),\"-\")","v":"50460000"},null,{"$f":"'List of Items - 2'!B1711","v":"Canned or jarred vegetables"},null,null,null,null,"Lot",1,null,null,1,3372300,null,null,null,0,0,null,null,null,0,0,null,null,null,0,0,1,3372300,3372300]
[195,{"$f":"IFERROR(VLOOKUP(D211,'List of Items - 1'!H:I,2,0),\"-\")","v":"51000000"},null,{"$f":"D199","v":"Drugs and Pharmaceutical Products"},null,null,null,null,"Lot",1,null,null,1,1462834,null,null,null,0,0,null,null,null,0,0,null,null,null,0,0,1,1462834,1462834]
[196,{"$f":"IFERROR(VLOOKUP(D212,'List of Items - 1'!H:I,2,0),\"-\")","v":"42132200"},null,{"$f":"'List of Items - 2'!B7507","v":"Medical gloves and accessories"},null,null,null,null,"Lot",1,null,null,1,1278500,null,null,null,0,0,null,null,null,0,0,null,null,null,0,0,1,1278500,1278500]
[197,{"$f":"IFERROR(VLOOKUP(D213,'List of Items - 1'!H:I,2,0),\"-\")","v":"53131647"},null,{"$f":"'List of Items - 2'!B6169","v":"Infant hygiene and personal care set"},null,null,null,null,"Lot",1,null,null,1,25000,null,null,null,0,0,null,null,null,0,0,null,null,null,0,0,1,25000,25000]
[198,{"$f":"IFERROR(VLOOKUP(D214,'List of Items - 1'!H:I,2,0),\"-\")","v":"53102500"},null,{"$f":"'List of Items - 2'!B2250","v":"Clothing accessories"},null,null,null,null,"Lot",1,null,null,1,504100,null,null,null,0,0,null,null,null,0,0,null,null,null,0,0,1,504100,504100]
[199,{"$f":"IFERROR(VLOOKUP(D215,'List of Items - 1'!H:I,2,0),\"-\")","v":"57030302"},null,{"$f":"'List of Items - 2'!B143","v":"Adult hygiene and personal care set"},null,null,null,null,"Lot",1,null,null,1,291340,null,null,null,0,0,null,null,null,0,0,null,null,null,0,0,1,291340,291340]
[200,{"$f":"IFERROR(VLOOKUP(D216,'List of Items - 1'!H:I,2,0),\"-\")","v":"80141902"},null,{"$f":"D217","v":"Meetings events"},null,null,null,null,"Lot",null,null,null,0,0,null,null,null,0,0,null,null,null,0,0,null,null,1,1,588000,1,588000,588000]
[201,{"$f":"IFERROR(VLOOKUP(D217,'List of Items - 1'!H:I,2,0),\"-\")","v":"80141902"},null,"Meetings events",null,null,null,null,"Lot",null,null,null,0,0,1,null,null,1,168000,null,null,null,0,0,null,null,null,0,0,1,168000,168000]
[202,{"$f":"IFERROR(VLOOKUP(D218,'List of Items - 1'!H:I,2,0),\"-\")","v":"80141902"},null,"Meetings events",null,null,null,null,"Lot",null,null,null,0,0,null,null,null,0,0,1,null,null,1,328000,null,null,null,0,0,1,328000,328000]
[203,{"$f":"IFERROR(VLOOKUP(D219,'List of Items - 1'!H:I,2,0),\"-\")","v":"80141902"},null,{"$f":"D221","v":"Meetings events"},null,null,null,null,"Lot",null,null,null,0,0,null,null,null,0,0,null,null,1,1,165000,null,null,null,0,0,1,165000,165000]
[204,{"$f":"IFERROR(VLOOKUP(D220,'List of Items - 1'!H:I,2,0),\"-\")","v":"82101500"},null,{"$f":"'List of Items - 2'!B9809","v":"Print advertising"},null,null,null,null,"Lot",null,null,null,0,0,null,null,null,0,0,null,null,1,1,97000,null,null,null,0,0,1,97000,97000]
[205,{"$f":"IFERROR(VLOOKUP(D221,'List of Items - 1'!H:I,2,0),\"-\")","v":"80141902"},null,{"$f":"D223","v":"Meetings events"},null,null,null,null,"Lot",null,null,null,0,0,null,null,null,0,0,null,null,null,0,0,1,null,null,1,742000,1,742000,742000]
[206,{"$f":"IFERROR(VLOOKUP(D222,'List of Items - 1'!H:I,2,0),\"-\")","v":"82101500"},null,{"$f":"D220","v":"Print advertising"},null,null,null,null,"Lot",null,null,null,0,0,1,null,null,1,37100,null,null,null,0,0,null,null,null,0,0,1,37100,37100]
[207,{"$f":"IFERROR(VLOOKUP(D223,'List of Items - 1'!H:I,2,0),\"-\")","v":"80141902"},null,{"$f":"D241","v":"Meetings events"},null,null,null,null,"Lot",null,null,null,0,0,null,null,null,0,0,null,null,null,0,0,null,null,1,1,557250,1,557250,557250]
[208,{"$f":"IFERROR(VLOOKUP(D224,'List of Items - 1'!H:I,2,0),\"-\")","v":"90110000"},null,{"$f":"D268","v":"Hotels and lodging and meeting facilities"},null,null,null,null,"Lot",null,null,null,0,0,null,null,null,0,0,1,null,null,1,112000,null,null,null,0,0,1,112000,112000]
[209,{"$f":"IFERROR(VLOOKUP(D225,'List of Items - 1'!H:I,2,0),\"-\")","v":"82101500"},null,{"$f":"D222","v":"Print advertising"},null,null,null,null,"Lot",null,null,null,0,0,null,null,null,0,0,1,null,null,1,188000,null,null,null,0,0,1,188000,188000]
[210,{"$f":"IFERROR(VLOOKUP(D226,'List of Items - 1'!H:I,2,0),\"-\")","v":"47130000"},null,{"$f":"'List of Items - 2'!B2181","v":"Cleaning and janitorial supplies"},null,null,null,null,"Lot",null,null,null,0,0,null,1,null,1,863500,null,null,null,0,0,null,null,null,0,0,1,863500,863500]
[211,{"$f":"IFERROR(VLOOKUP(D227,'List of Items - 1'!H:I,2,0),\"-\")","v":"76110000"},null,{"$f":"'List of Items - 2'!B2180","v":"Cleaning and janitorial services"},null,null,null,null,"Lot",null,null,null,0,0,null,null,null,0,0,null,1,null,1,150000,null,null,null,0,0,1,150000,150000]
[212,{"$f":"IFERROR(VLOOKUP(D228,'List of Items - 1'!H:I,2,0),\"-\")","v":"47121900"},null,{"$f":"'List of Items - 2'!B2186","v":"Cleaning equipment accessories"},null,null,null,null,"Lot",null,null,null,0,0,null,null,null,0,0,null,1,null,1,96000,null,null,null,0,0,1,96000,96000]
[213,{"$f":"IFERROR(VLOOKUP(D229,'List of Items - 1'!H:I,2,0),\"-\")","v":"47101531"},null,{"$f":"'List of Items - 2'!B10815","v":"Septic tanks"},null,null,null,null,"Lot",null,null,null,0,0,null,null,null,0,0,null,1,null,1,110000,null,null,null,0,0,1,110000,110000]
[214,{"$f":"IFERROR(VLOOKUP(D230,'List of Items - 1'!H:I,2,0),\"-\")","v":"72101516"},null,{"$f":"'List of Items - 2'!B4650","v":"Fire extinguisher inspection maintenance and repair service"},null,null,null,null,"UNIT",null,null,null,0,0,null,null,25,25,50000,null,null,null,0,0,null,null,null,0,0,25,2000,50000]
[215,{"$f":"IFERROR(VLOOKUP(D231,'List of Items - 1'!H:I,2,0),\"-\")","v":"42192210"},null,{"$f":"'List of Items - 2'!B13053","v":"Wheelchairs"},null,null,null,null,"UNIT",null,null,null,0,0,null,null,40,40,480000,null,null,null,0,0,null,null,null,0,0,40,12000,480000]
[216,{"$f":"IFERROR(VLOOKUP(D232,'List of Items - 1'!H:I,2,0),\"-\")","v":"52150000"},null,{"$f":"'List of Items - 2'!B3562","v":"Domestic kitchenware and kitchen supplies"},null,null,null,null,"Lot",null,null,null,0,0,null,null,null,0,0,null,1,null,1,693996,null,null,null,0,0,1,693996,693996]
[217,{"$f":"IFERROR(VLOOKUP(D233,'List of Items - 1'!H:I,2,0),\"-\")","v":"44000000"},null,{"$f":"'List of Items - 2'!B8610","v":"Office Equipment and Accessories and Supplies"},null,null,null,null,"Lot",null,null,null,0,0,null,null,null,0,0,null,1,null,1,49999,null,null,null,0,0,1,49999,49999]
[218,{"$f":"IFERROR(VLOOKUP(D234,'List of Items - 1'!H:I,2,0),\"-\")","v":"82100000"},null,{"$f":"'List of Items - 2'!B146","v":"Advertising"},null,null,null,null,"Lot",null,null,null,0,0,null,null,null,0,0,1,null,null,1,180000,null,null,null,0,0,1,180000,180000]
[219,{"$f":"IFERROR(VLOOKUP(D235,'List of Items - 1'!H:I,2,0),\"-\")","v":"53102500"},null,{"$f":"'List of Items - 2'!B2250","v":"Clothing accessories"},null,null,null,null,"Lot",null,null,null,0,0,null,null,null,0,0,null,null,null,0,0,1,null,null,1,150000,1,150000,150000]
[220,{"$f":"IFERROR(VLOOKUP(D236,'List of Items - 1'!H:I,2,0),\"-\")","v":"44120000"},null,{"$f":"'List of Items - 2'!B8621","v":"Office supplies"},null,null,null,null,"Lot",null,null,null,0,0,null,1,null,1,2117963,null,null,null,0,0,null,null,null,0,0,1,2117963,2117963]
[221,{"$f":"IFERROR(VLOOKUP(D237,'List of Items - 1'!H:I,2,0),\"-\")","v":"15101505"},null,{"$f":"'List of Items - 2'!B3351","v":"Diesel fuel"},null,null,null,null,"Lot",null,null,null,0,0,null,null,null,0,0,null,null,null,0,0,null,null,1,1,216000,1,216000,216000]
[222,{"$f":"IFERROR(VLOOKUP(D238,'List of Items - 1'!H:I,2,0),\"-\")","v":"72000000"},null,{"$f":"'List of Items - 2'!B1500","v":"Building and Facility Construction and Maintenance Services "},null,null,null,null,"Lot",null,null,null,0,0,null,null,null,0,0,null,null,null,0,0,1,null,null,1,1500000,1,1500000,1500000]
[223,{"$f":"IFERROR(VLOOKUP(D239,'List of Items - 1'!H:I,2,0),\"-\")","v":"51000000"},null,{"$f":"D211","v":"Drugs and Pharmaceutical Products"},null,null,null,null,"Lot",1,null,null,1,659699,null,null,null,0,0,null,null,null,0,0,null,null,null,0,0,1,659699,659699]
[224,{"$f":"IFERROR(VLOOKUP(D240,'List of Items - 1'!H:I,2,0),\"-\")","v":"72000000"},null,{"$f":"D238","v":"Building and Facility Construction and Maintenance Services "},null,null,null,null,"Lot",null,null,null,0,0,null,null,null,0,0,null,null,null,0,0,1,null,null,1,500000,1,500000,500000]
[225,{"$f":"IFERROR(VLOOKUP(D241,'List of Items - 1'!H:I,2,0),\"-\")","v":"80141902"},null,{"$f":"D262","v":"Meetings events"},null,null,null,null,"Lot",null,null,null,0,0,null,null,null,0,0,null,null,null,0,0,1,null,null,1,85000,1,85000,85000]
[226,{"$f":"IFERROR(VLOOKUP(D242,'List of Items - 1'!H:I,2,0),\"-\")","v":"82101500"},null,{"$f":"D225","v":"Print advertising"},null,null,null,null,"Lot",null,null,null,0,0,null,null,null,0,0,null,null,null,0,0,1,null,null,1,21250,1,21250,21250]
[227,{"$f":"IFERROR(VLOOKUP(D243,'List of Items - 1'!H:I,2,0),\"-\")","v":"50111500"},null,{"$f":"'List of Items - 2'!B7977","v":"Minimally processed meat and poultry products"},null,null,null,null,"Lot",1,null,null,1,1080230,null,null,null,0,0,null,null,null,0,0,null,null,null,0,0,1,1080230,1080230]
[228,{"$f":"IFERROR(VLOOKUP(D244,'List of Items - 1'!H:I,2,0),\"-\")","v":"50121542"},null,{"$f":"'List of Items - 2'!B3652","v":"Dried Fish (WFP food convention)"},null,null,null,null,"Lot",1,null,null,1,336900,null,null,null,0,0,null,null,null,0,0,null,null,null,0,0,1,336900,336900]
[229,{"$f":"IFERROR(VLOOKUP(D245,'List of Items - 1'!H:I,2,0),\"-\")","v":"50121500"},null,{"$f":"'List of Items - 2'!B4700","v":"Fish"},null,null,null,null,"Lot",1,null,null,1,1326750,null,null,null,0,0,null,null,null,0,0,null,null,null,0,0,1,1326750,1326750]
[230,{"$f":"IFERROR(VLOOKUP(D246,'List of Items - 1'!H:I,2,0),\"-\")","v":"50191506"},null,{"$f":"'List of Items - 2'!B5073","v":"Frozen prepared soups or stews"},null,null,null,null,"Lot",1,null,null,1,1941240,null,null,null,0,0,null,null,null,0,0,null,null,null,0,0,1,1941240,1941240]
[231,{"$f":"IFERROR(VLOOKUP(D247,'List of Items - 1'!H:I,2,0),\"-\")","v":"50300000"},null,{"$f":"'List of Items - 2'!B5055","v":"Fresh fruits"},null,null,null,null,"Lot",1,null,null,1,807145,null,null,null,0,0,null,null,null,0,0,null,null,null,0,0,1,807145,807145]
[232,{"$f":"IFERROR(VLOOKUP(D248,'List of Items - 1'!H:I,2,0),\"-\")","v":"50400000"},null,{"$f":"'List of Items - 2'!B5060","v":"Fresh vegetables"},null,null,null,null,"Lot",1,null,null,1,1026250,null,null,null,0,0,null,null,null,0,0,null,null,null,0,0,1,1026250,1026250]
[233,{"$f":"IFERROR(VLOOKUP(D249,'List of Items - 1'!H:I,2,0),\"-\")","v":"50171500"},null,{"$f":"'List of Items - 2'!B5654","v":"Herbs and spices and extracts"},null,null,null,null,"Lot",1,null,null,1,2122855,null,null,null,0,0,null,null,null,0,0,null,null,null,0,0,1,2122855,2122855]
[234,{"$f":"IFERROR(VLOOKUP(D250,'List of Items - 1'!H:I,2,0),\"-\")","v":"50221300"},null,{"$f":"'List of Items - 2'!B4813","v":"Flour and milled products"},null,null,null,null,"Lot",1,null,null,1,126850,null,null,null,0,0,null,null,null,0,0,null,null,null,0,0,1,126850,126850]
[235,{"$f":"IFERROR(VLOOKUP(D251,'List of Items - 1'!H:I,2,0),\"-\")","v":"50370000"},null,{"$f":"'List of Items - 2'!B1707","v":"Canned or jarred organic fruit"},null,null,null,null,"Lot",1,null,null,1,1027650,null,null,null,0,0,null,null,null,0,0,null,null,null,0,0,1,1027650,1027650]
[236,{"$f":"IFERROR(VLOOKUP(D252,'List of Items - 1'!H:I,2,0),\"-\")","v":"50192900"},null,{"$f":"'List of Items - 2'!B9450","v":"Plain pasta and noodles"},null,null,null,null,"Lot",1,null,null,1,135750,null,null,null,0,0,null,null,null,0,0,null,null,null,0,0,1,135750,135750]
[237,{"$f":"IFERROR(VLOOKUP(D253,'List of Items - 1'!H:I,2,0),\"-\")","v":"50161509"},null,{"$f":"'List of Items - 2'!B8304","v":"Natural sugars or sweetening products"},null,null,null,null,"Lot",1,null,null,1,55500,null,null,null,0,0,null,null,null,0,0,null,null,null,0,0,1,55500,55500]
[238,{"$f":"IFERROR(VLOOKUP(D254,'List of Items - 1'!H:I,2,0),\"-\")","v":"50121541"},null,{"$f":"'List of Items - 2'!B1695","v":"Canned Fish (WFP food convention)"},null,null,null,null,"Lot",1,null,null,1,208650,null,null,null,0,0,null,null,null,0,0,null,null,null,0,0,1,208650,208650]
[239,{"$f":"IFERROR(VLOOKUP(D255,'List of Items - 1'!H:I,2,0),\"-\")","v":"50221108"},null,{"$f":"'List of Items - 2'!B10443","v":"Rice grain"},null,null,null,null,"sack",250,null,null,250,412500,null,null,null,0,0,null,null,null,0,0,null,null,null,0,0,250,1650,412500]
[240,{"$f":"IFERROR(VLOOKUP(D256,'List of Items - 1'!H:I,2,0),\"-\")","v":"47130000"},null,{"$f":"'List of Items - 2'!B2181","v":"Cleaning and janitorial supplies"},null,null,null,null,"Lot",1,null,null,1,1089022,null,null,null,0,0,null,null,null,0,0,null,null,null,0,0,1,1089022,1089022]
[241,{"$f":"IFERROR(VLOOKUP(D257,'List of Items - 1'!H:I,2,0),\"-\")","v":"53102500"},null,{"$f":"'List of Items - 2'!B2250","v":"Clothing accessories"},null,null,null,null,"Lot",1,null,null,1,494801,null,null,null,0,0,null,null,null,0,0,null,null,null,0,0,1,494801,494801]
[242,{"$f":"IFERROR(VLOOKUP(D258,'List of Items - 1'!H:I,2,0),\"-\")","v":"53131651"},null,{"$f":"'List of Items - 2'!B9241","v":"Personal hygiene kit"},null,null,null,null,"Lot",1,null,null,1,777320,null,null,null,0,0,null,null,null,0,0,null,null,null,0,0,1,777320,777320]
[243,{"$f":"IFERROR(VLOOKUP(D259,'List of Items - 1'!H:I,2,0),\"-\")","v":"53111800"},null,{"$f":"'List of Items - 2'!B10650","v":"Sandals"},null,null,null,null,"Lot",1,null,null,1,96000,null,null,null,0,0,null,null,null,0,0,null,null,null,0,0,1,96000,96000]
[244,{"$f":"IFERROR(VLOOKUP(D260,'List of Items - 1'!H:I,2,0),\"-\")","v":"53131665"},null,{"$f":"'List of Items - 2'!B4490","v":"Female hygiene and personal care set"},null,null,null,null,"Lot",1,null,null,1,83000,null,null,null,0,0,null,null,null,0,0,null,null,null,0,0,1,83000,83000]
[245,{"$f":"IFERROR(VLOOKUP(D261,'List of Items - 1'!H:I,2,0),\"-\")","v":"51000000"},null,{"$f":"D239","v":"Drugs and Pharmaceutical Products"},null,null,null,null,"Lot",1,null,null,1,256838.69,null,null,null,0,0,null,null,null,0,0,null,null,null,0,0,1,256838.69,256838.69]
[246,{"$f":"IFERROR(VLOOKUP(D262,'List of Items - 1'!H:I,2,0),\"-\")","v":"80141902"},null,{"$f":"D264","v":"Meetings events"},null,null,null,null,"Lot",null,null,null,0,0,1,null,null,1,147000,null,null,null,0,0,null,null,null,0,0,1,147000,147000]
[247,{"$f":"IFERROR(VLOOKUP(D263,'List of Items - 1'!H:I,2,0),\"-\")","v":"82121505"},null,{"$f":"'List of Items - 2'!B9940","v":"Promotional or advertising printing"},null,null,null,null,"pax",null,null,null,0,0,70,null,null,70,35000,null,null,null,0,0,null,null,null,0,0,70,500,35000]
[248,{"$f":"IFERROR(VLOOKUP(D264,'List of Items - 1'!H:I,2,0),\"-\")","v":"80141902"},null,{"$f":"D266","v":"Meetings events"},null,null,null,null,"Lot",null,null,null,0,0,null,null,null,0,0,null,1,null,1,208000,null,null,null,0,0,1,208000,208000]
[249,{"$f":"IFERROR(VLOOKUP(D265,'List of Items - 1'!H:I,2,0),\"-\")","v":"82121505"},null,{"$f":"D263","v":"Promotional or advertising printing"},null,null,null,null,"Lot",null,null,null,0,0,null,null,null,0,0,null,1,null,1,74000,null,null,null,0,0,1,74000,74000]
[250,{"$f":"IFERROR(VLOOKUP(D266,'List of Items - 1'!H:I,2,0),\"-\")","v":"80141902"},null,{"$f":"D280","v":"Meetings events"},null,null,null,null,"Lot",null,null,null,0,0,null,null,null,0,0,null,null,null,0,0,null,1,null,1,196000,1,196000,196000]
[251,{"$f":"IFERROR(VLOOKUP(D267,'List of Items - 1'!H:I,2,0),\"-\")","v":"82121505"},null,{"$f":"D265","v":"Promotional or advertising printing"},null,null,null,null,"pax",null,null,null,0,0,null,null,null,0,0,null,null,null,0,0,null,1,null,1,49000,1,49000,49000]
[252,{"$f":"IFERROR(VLOOKUP(D268,'List of Items - 1'!H:I,2,0),\"-\")","v":"90110000"},null,{"$f":"D279","v":"Hotels and lodging and meeting facilities"},null,null,null,null,"Lot",null,null,null,0,0,null,null,1,1,185300,null,null,null,0,0,null,null,null,0,0,1,185300,185300]
[253,{"$f":"IFERROR(VLOOKUP(D269,'List of Items - 1'!H:I,2,0),\"-\")","v":"90110000"},null,{"$f":"D268","v":"Hotels and lodging and meeting facilities"},null,null,null,null,"Lot",null,null,null,0,0,null,null,null,0,0,null,null,null,0,0,null,1,null,1,528300,1,528300,528300]
[254,{"$f":"IFERROR(VLOOKUP(D270,'List of Items - 1'!H:I,2,0),\"-\")","v":"82121505"},null,{"$f":"D265","v":"Promotional or advertising printing"},null,null,null,null,"Lot",null,null,null,0,0,null,null,null,0,0,1,null,null,1,276800,null,null,null,0,0,1,276800,276800]
[255,{"$f":"IFERROR(VLOOKUP(D271,'List of Items - 1'!H:I,2,0),\"-\")","v":"72100000"},null,{"$f":"'List of Items - 2'!B1501","v":"Building and facility maintenance and repair services"},null,null,null,null,"Lot",null,null,null,0,0,null,null,1,1,150000,null,null,null,0,0,null,null,null,0,0,1,150000,150000]
[256,{"$f":"IFERROR(VLOOKUP(D272,'List of Items - 1'!H:I,2,0),\"-\")","v":"44120000"},null,{"$f":"'List of Items - 2'!B8621","v":"Office supplies"},null,null,null,null,"Lot",null,null,null,0,0,null,1,null,1,137700,null,null,null,0,0,null,null,null,0,0,1,137700,137700]
[257,{"$f":"IFERROR(VLOOKUP(D273,'List of Items - 1'!H:I,2,0),\"-\")","v":"15101506"},null,{"$f":"'List of Items - 2'!B5188","v":"Gasoline or Petrol"},null,null,null,null,"Lot",null,null,null,{"$f":"J273+K273+L273","v":0},{"$f":"M273*$AE273","v":0},null,null,null,0,{"$f":"R273*$AE273","v":0},null,null,null,{"$f":"T273+U273+V273","v":0},{"$f":"W273*$AE273","v":0},null,1,null,1,{"$f":"AB273*$AE273","v":495000},{"$f":"M273+R273+W273+AB273","v":1},495000,{"$f":"AD273*AE273","v":495000}]
[258,{"$f":"IFERROR(VLOOKUP(D274,'List of Items - 1'!H:I,2,0),\"-\")","v":"44000000"},null,{"$f":"'List of Items - 2'!B8610","v":"Office Equipment and Accessories and Supplies"},null,null,null,null,"Lot",null,null,null,0,0,null,null,1,1,162000,null,null,null,0,0,null,null,null,0,0,1,162000,162000]
[259,{"$f":"IFERROR(VLOOKUP(D275,'List of Items - 1'!H:I,2,0),\"-\")","v":"72100000"},null,{"$f":"'List of Items - 2'!B1501","v":"Building and facility maintenance and repair services"},null,null,null,null,"Lot",null,null,null,0,0,null,null,null,0,0,null,1,null,1,60000,null,null,null,0,0,1,60000,60000]
[260,{"$f":"IFERROR(VLOOKUP(D276,'List of Items - 1'!H:I,2,0),\"-\")","v":"72102100"},null,{"$f":"'List of Items - 2'!B9263","v":"Pest control"},null,null,null,null,"Lot",null,null,null,0,0,null,null,null,0,0,null,1,null,1,140500,null,null,null,0,0,1,140500,140500]
[261,{"$f":"IFERROR(VLOOKUP(D277,'List of Items - 1'!H:I,2,0),\"-\")","v":"47101531"},null,{"$f":"'List of Items - 2'!B10815","v":"Septic tanks"},null,null,null,null,"Lot",null,null,null,0,0,null,null,null,0,0,null,1,null,1,110000,null,null,null,0,0,1,110000,110000]
[262,{"$f":"IFERROR(VLOOKUP(D278,'List of Items - 1'!H:I,2,0),\"-\")","v":"44120000"},null,{"$f":"'List of Items - 2'!B8621","v":"Office supplies"},null,null,null,null,"Lot",null,null,null,0,0,null,null,1,1,1037000,null,null,null,0,0,null,null,null,0,0,1,1037000,1037000]
[263,{"$f":"IFERROR(VLOOKUP(D279,'List of Items - 1'!H:I,2,0),\"-\")","v":"90110000"},null,{"$f":"D309","v":"Hotels and lodging and meeting facilities"},null,null,null,null,"Lot",null,null,null,0,0,null,null,null,0,0,null,null,null,0,0,null,1,null,1,337000,1,337000,337000]
[264,{"$f":"IFERROR(VLOOKUP(D280,'List of Items - 1'!H:I,2,0),\"-\")","v":"80141902"},null,{"$f":"D295","v":"Meetings events"},null,null,null,null,"Lot",null,null,null,0,0,null,null,null,0,0,null,null,null,0,0,null,1,null,1,45500,1,45500,45500]
[265,{"$f":"IFERROR(VLOOKUP(D281,'List of Items - 1'!H:I,2,0),\"-\")","v":"72100000"},null,{"$f":"D275","v":"Building and facility maintenance and repair services"},null,null,null,null,"Lot",null,null,null,0,0,null,null,null,0,0,null,null,null,0,0,null,1,null,1,800000,1,800000,800000]
[266,{"$f":"IFERROR(VLOOKUP(D282,'List of Items - 1'!H:I,2,0),\"-\")","v":"95141708"},null,{"$f":"'List of Items - 2'!B8615","v":"Office kitchen"},null,null,null,null,"Lot",null,null,null,0,0,null,null,1,1,372000,null,null,null,0,0,null,null,null,0,0,1,372000,372000]
[267,{"$f":"IFERROR(VLOOKUP(D283,'List of Items - 1'!H:I,2,0),\"-\")","v":"78111808"},null,{"$f":"'List of Items - 2'!B12681","v":"Vehicle rental"},null,null,null,null,"Lot",null,null,null,0,0,null,null,3,3,90000,null,null,null,0,0,null,null,null,0,0,3,30000,90000]
[268,{"$f":"IFERROR(VLOOKUP(D284,'List of Items - 1'!H:I,2,0),\"-\")","v":"43211600"},null,{"$f":"'List of Items - 2'!B2584","v":"Computer accessories"},null,null,null,null,"Lot",null,null,null,0,0,null,1,null,1,264650,null,null,null,0,0,null,null,null,0,0,1,264650,264650]
[269,{"$f":"IFERROR(VLOOKUP(D285,'List of Items - 1'!H:I,2,0),\"-\")","v":"72101511"},null,{"$f":"'List of Items - 2'!B224","v":"Air conditioning installation or maintenance or repair service"},null,null,null,null,"unit",null,null,null,0,0,null,null,2,2,100000,null,null,null,0,0,null,null,null,0,0,2,50000,100000]
[270,{"$f":"IFERROR(VLOOKUP(D286,'List of Items - 1'!H:I,2,0),\"-\")","v":"56101500"},null,{"$f":"'List of Items - 2'!B5117","v":"Furniture"},null,null,null,null,"unit",null,null,null,0,0,null,null,2,2,50000,null,null,null,0,0,null,null,null,0,0,2,25000,50000]
[271,{"$f":"IFERROR(VLOOKUP(D287,'List of Items - 1'!H:I,2,0),\"-\")","v":"86101810"},null,{"$f":"'List of Items - 2'!B9260","v":"Personnel skills training"},null,null,null,null,"Lot",null,null,null,0,0,null,null,null,0,0,null,1,null,1,615563,null,null,null,0,0,1,615563,615563]
[272,{"$f":"IFERROR(VLOOKUP(D288,'List of Items - 1'!H:I,2,0),\"-\")","v":"72000000"},null,{"$f":"'List of Items - 2'!B1500","v":"Building and Facility Construction and Maintenance Services "},null,null,null,null,"Lot",null,null,null,0,0,null,null,null,0,0,null,1,null,1,6350000,null,null,null,0,0,1,6350000,6350000]
[273,{"$f":"IFERROR(VLOOKUP(D289,'List of Items - 1'!H:I,2,0),\"-\")","v":"52151504"},null,{"$f":"'List of Items - 2'!B3554","v":"Domestic disposable cups or glasses or lids"},null,null,null,null,"Lot",null,null,null,0,0,null,1,null,1,241500,null,null,null,0,0,null,null,null,0,0,1,241500,241500]
[274,{"$f":"IFERROR(VLOOKUP(D290,'List of Items - 1'!H:I,2,0),\"-\")","v":"52152300"},null,{"$f":"'List of Items - 2'!B3560","v":"Domestic kitchen supplies"},null,null,null,null,"Lot",null,null,null,0,0,null,1,null,1,138500,null,null,null,0,0,null,null,null,0,0,1,138500,138500]
[275,{"$f":"IFERROR(VLOOKUP(D291,'List of Items - 1'!H:I,2,0),\"-\")","v":"46191601"},null,{"$f":"'List of Items - 2'!B4652","v":"Fire extinguishers"},null,null,null,null,"unit",null,null,null,0,0,null,null,30,30,75000,null,null,null,0,0,null,null,null,0,0,30,2500,75000]
[276,{"$f":"IFERROR(VLOOKUP(D292,'List of Items - 1'!H:I,2,0),\"-\")","v":"42192420"},null,{"$f":"'List of Items - 2'!B4698","v":"First aid kit cases or bags"},null,null,null,null,"Lot",null,null,null,0,0,null,null,1,1,16000,null,null,null,0,0,null,null,null,0,0,1,16000,16000]
[277,{"$f":"IFERROR(VLOOKUP(D293,'List of Items - 1'!H:I,2,0),\"-\")","v":"95141802"},null,{"$f":"'List of Items - 2'!B4025","v":"Emergency tent or hall"},null,null,null,null,"Lot",null,null,null,0,0,null,null,1,1,151000,null,null,null,0,0,null,null,null,0,0,1,151000,151000]
[278,{"$f":"IFERROR(VLOOKUP(D294,'List of Items - 1'!H:I,2,0),\"-\")","v":"72101500"},null,{"$f":"'List of Items - 2'!B1518","v":"Building maintenance and repair services"},null,null,null,null,"Lot",null,null,null,0,0,null,null,1,1,80000,null,null,null,0,0,null,null,null,0,0,1,80000,80000]
[279,{"$f":"IFERROR(VLOOKUP(D295,'List of Items - 1'!H:I,2,0),\"-\")","v":"80141902"},null,{"$f":"D305","v":"Meetings events"},null,null,null,null,"Lot",null,null,null,0,0,null,null,1,1,210000,null,null,null,0,0,null,null,null,0,0,1,210000,210000]
[280,{"$f":"IFERROR(VLOOKUP(D296,'List of Items - 1'!H:I,2,0),\"-\")","v":"42171900"},null,{"$f":"'List of Items - 2'!B7478","v":"Medical equipment bags and cases and carriers and related products"},null,null,null,null,"Lot",null,null,null,0,0,null,null,1,1,17500,null,null,null,0,0,null,null,null,0,0,1,17500,17500]
[281,{"$f":"IFERROR(VLOOKUP(D297,'List of Items - 1'!H:I,2,0),\"-\")","v":"72101500"},null,{"$f":"Form!D294","v":"Building maintenance and repair services"},null,null,null,null,"Lot",null,null,null,0,0,null,null,null,0,0,null,null,1,1,200000,null,null,null,0,0,1,200000,200000]
[282,{"$f":"IFERROR(VLOOKUP(D298,'List of Items - 1'!H:I,2,0),\"-\")","v":"72100000"},null,{"$f":"D281","v":"Building and facility maintenance and repair services"},null,null,null,null,"Lot",null,null,null,0,0,null,null,null,0,0,null,1,null,1,510000,null,null,null,0,0,1,510000,510000]
[283,{"$f":"IFERROR(VLOOKUP(D299,'List of Items - 1'!H:I,2,0),\"-\")","v":"47121602"},null,{"$f":"'List of Items - 2'!B12592","v":"Vacuum cleaners"},null,null,null,null,"UNIT",null,null,null,0,0,null,5,null,5,75000,null,null,null,0,0,null,null,null,0,0,5,15000,75000]
[284,{"$f":"IFERROR(VLOOKUP(D300,'List of Items - 1'!H:I,2,0),\"-\")","v":"25175101"},null,{"$f":"'List of Items - 2'!B8160","v":"Motor vehicle repair part kit"},null,null,null,null,"Lot",null,null,null,0,0,null,1,null,1,282250,null,null,null,0,0,null,null,null,0,0,1,282250,282250]
[285,{"$f":"IFERROR(VLOOKUP(D301,'List of Items - 1'!H:I,2,0),\"-\")","v":"45110000"},null,{"$f":"'List of Items - 2'!B854","v":"Audio and visual presentation and composing equipment"},null,null,null,null,"Lot",null,null,null,0,0,null,null,null,0,0,1,null,null,1,100000,null,null,null,0,0,1,100000,100000]
[286,{"$f":"IFERROR(VLOOKUP(D302,'List of Items - 1'!H:I,2,0),\"-\")","v":"49241700"},null,{"$f":"'List of Items - 2'!B11661","v":"Swimming pool and spa equipment and supplies"},null,null,null,null,"PCS",null,null,null,0,0,null,null,null,0,0,2,null,null,2,30000,null,null,null,0,0,2,15000,30000]
[287,{"$f":"IFERROR(VLOOKUP(D303,'List of Items - 1'!H:I,2,0),\"-\")","v":"60105302"},null,{"$f":"'List of Items - 2'!B1097","v":"Basic job skills instructional materials"},null,null,null,null,"Lot",null,null,null,0,0,null,1,null,1,569750,null,null,null,0,0,null,null,null,0,0,1,569750,569750]
[288,{"$f":"IFERROR(VLOOKUP(D304,'List of Items - 1'!H:I,2,0),\"-\")","v":"60105302"},null,{"$f":"D303","v":"Basic job skills instructional materials"},null,null,null,null,"Lot",null,null,null,0,0,null,null,null,0,0,null,null,null,0,0,1,null,null,1,489500,1,489500,489500]
[289,{"$f":"IFERROR(VLOOKUP(D305,'List of Items - 1'!H:I,2,0),\"-\")","v":"80141902"},null,{"$f":"D306","v":"Meetings events"},null,null,null,null,"Lot",null,null,null,0,0,null,null,null,0,0,null,null,null,0,0,null,1,null,1,1092000,1,1092000,1092000]
[290,{"$f":"IFERROR(VLOOKUP(D306,'List of Items - 1'!H:I,2,0),\"-\")","v":"80141902"},null,{"$f":"D308","v":"Meetings events"},null,null,null,null,"Lot",null,null,null,0,0,null,null,null,0,0,null,null,1,1,587500,null,null,null,0,0,1,587500,587500]
[291,{"$f":"IFERROR(VLOOKUP(D307,'List of Items - 1'!H:I,2,0),\"-\")","v":"60105302"},null,{"$f":"D304","v":"Basic job skills instructional materials"},null,null,null,null,"Lot",null,null,null,0,0,null,null,null,0,0,1,null,null,1,285500,null,null,null,0,0,1,285500,285500]
[292,{"$f":"IFERROR(VLOOKUP(D308,'List of Items - 1'!H:I,2,0),\"-\")","v":"80141902"},null,{"$f":"D313","v":"Meetings events"},null,null,null,null,"Lot",null,null,null,0,0,null,1,null,1,92500,null,null,null,0,0,null,null,null,0,0,1,92500,92500]
[293,{"$f":"IFERROR(VLOOKUP(D309,'List of Items - 1'!H:I,2,0),\"-\")","v":"90110000"},null,{"$f":"D364","v":"Hotels and lodging and meeting facilities"},null,null,null,null,"Lot",null,null,null,0,0,null,null,null,0,0,null,null,null,0,0,null,1,null,1,1389000,1,1389000,1389000]
[294,{"$f":"IFERROR(VLOOKUP(D310,'List of Items - 1'!H:I,2,0),\"-\")","v":"82121505"},null,{"$f":"D263","v":"Promotional or advertising printing"},null,null,null,null,"PCS",null,null,null,0,0,null,148,null,148,74000,null,null,null,0,0,null,null,null,0,0,148,500,74000]
[295,{"$f":"IFERROR(VLOOKUP(D311,'List of Items - 1'!H:I,2,0),\"-\")","v":"82121505"},null,{"$f":"D310","v":"Promotional or advertising printing"},null,null,null,null,"Lot",null,null,null,0,0,null,null,1,1,171400,null,null,null,0,0,null,null,null,0,0,1,171400,171400]
[296,{"$f":"IFERROR(VLOOKUP(D312,'List of Items - 1'!H:I,2,0),\"-\")","v":"82121505"},null,"Promotional or advertising printing",null,null,null,null,"Lot",null,null,null,0,0,null,null,null,0,0,null,null,null,0,0,1,null,null,1,265952,1,265952,265952]
[297,{"$f":"IFERROR(VLOOKUP(D313,'List of Items - 1'!H:I,2,0),\"-\")","v":"80141902"},null,{"$f":"D314","v":"Meetings events"},null,null,null,null,"Lot",null,null,null,0,0,null,null,1,1,562500,null,null,null,0,0,null,null,null,0,0,1,562500,562500]
[298,{"$f":"IFERROR(VLOOKUP(D314,'List of Items - 1'!H:I,2,0),\"-\")","v":"80141902"},null,"Meetings events",null,null,null,null,"Lot",null,null,null,0,0,null,null,null,0,0,null,null,1,1,451000,null,null,null,0,0,1,451000,451000]
[299,{"$f":"IFERROR(VLOOKUP(D315,'List of Items - 1'!H:I,2,0),\"-\")","v":"80141902"},null,{"$f":"'List of Items - 2'!B7700","v":"Meetings events"},null,null,null,null,"Lot",null,null,null,0,0,null,null,null,0,0,null,null,null,0,0,null,1,null,1,364000,1,364000,364000]
[300,{"$f":"IFERROR(VLOOKUP(D316,'List of Items - 1'!H:I,2,0),\"-\")","v":"50110000"},null,{"$f":"'List of Items - 2'!B7407","v":"Meat and poultry products"},null,null,null,null,"Lot",1,null,null,1,2487700,null,null,null,0,0,null,null,null,0,0,null,null,null,0,0,1,2487700,2487700]
[301,{"$f":"IFERROR(VLOOKUP(D317,'List of Items - 1'!H:I,2,0),\"-\")","v":"50121500"},null,{"$f":"'List of Items - 2'!B4700","v":"Fish"},null,null,null,null,"Lot",1,null,null,1,1751850,null,null,null,0,0,null,null,null,0,0,null,null,null,0,0,1,1751850,1751850]
[302,{"$f":"IFERROR(VLOOKUP(D318,'List of Items - 1'!H:I,2,0),\"-\")","v":"50400000"},null,{"$f":"'List of Items - 2'!B5060","v":"Fresh vegetables"},null,null,null,null,"Lot",1,null,null,1,1125970,null,null,null,0,0,null,null,null,0,0,null,null,null,0,0,1,1125970,1125970]
[303,{"$f":"IFERROR(VLOOKUP(D319,'List of Items - 1'!H:I,2,0),\"-\")","v":"50300000"},null,{"$f":"'List of Items - 2'!B5055","v":"Fresh fruits"},null,null,null,null,"Lot",1,null,null,1,695760,null,null,null,0,0,null,null,null,0,0,null,null,null,0,0,1,695760,695760]
[304,{"$f":"IFERROR(VLOOKUP(D320,'List of Items - 1'!H:I,2,0),\"-\")","v":"50191506"},null,{"$f":"'List of Items - 2'!B5073","v":"Frozen prepared soups or stews"},null,null,null,null,"Lot",1,null,null,1,1927400,null,null,null,0,0,null,null,null,0,0,null,null,null,0,0,1,1927400,1927400]
[305,{"$f":"IFERROR(VLOOKUP(D321,'List of Items - 1'!H:I,2,0),\"-\")","v":"50170000"},null,{"$f":"'List of Items - 2'!B10736","v":"Seasonings and preservatives"},null,null,null,null,"Lot",1,null,null,1,2895380,null,null,null,0,0,null,null,null,0,0,null,null,null,0,0,1,2895380,2895380]
[306,{"$f":"IFERROR(VLOOKUP(D322,'List of Items - 1'!H:I,2,0),\"-\")","v":"41102401"},null,{"$f":"'List of Items - 2'!B5165","v":"Gas burners"},null,null,null,null,"Lot",1,null,null,1,496750,null,null,null,0,0,null,null,null,0,0,null,null,null,0,0,1,496750,496750]
[307,{"$f":"IFERROR(VLOOKUP(D323,'List of Items - 1'!H:I,2,0),\"-\")","v":"47130000"},null,{"$f":"'List of Items - 2'!B2181","v":"Cleaning and janitorial supplies"},null,null,null,null,"Lot",null,null,null,0,0,null,null,1,1,788090,null,null,null,0,0,null,null,null,0,0,1,788090,788090]
[308,{"$f":"IFERROR(VLOOKUP(D324,'List of Items - 1'!H:I,2,0),\"-\")","v":"53131651"},null,{"$f":"'List of Items - 2'!B9241","v":"Personal hygiene kit"},null,null,null,null,"Lot",null,null,null,0,0,null,null,1,1,443880,null,null,null,0,0,null,null,null,0,0,1,443880,443880]
[309,{"$f":"IFERROR(VLOOKUP(D325,'List of Items - 1'!H:I,2,0),\"-\")","v":"82121505"},null,{"$f":"D312","v":"Promotional or advertising printing"},null,null,null,null,"Lot",null,null,null,0,0,null,null,null,0,0,null,null,null,0,0,null,1,null,1,60000,1,60000,60000]
[310,{"$f":"IFERROR(VLOOKUP(D326,'List of Items - 1'!H:I,2,0),\"-\")","v":"51000000"},null,{"$f":"'List of Items - 2'!B3692","v":"Drugs and Pharmaceutical Products"},null,null,null,null,"Lot",null,null,null,0,0,null,null,null,0,0,null,null,null,0,0,null,1,null,1,191480,1,191480,191480]
[311,{"$f":"IFERROR(VLOOKUP(D327,'List of Items - 1'!H:I,2,0),\"-\")","v":"15101505"},null,{"$f":"'List of Items - 2'!B3351","v":"Diesel fuel"},null,null,null,null,"liter",null,null,null,0,0,null,null,null,0,0,null,null,null,0,0,null,5530,null,5530,442400,5530,80,442400]
[312,{"$f":"IFERROR(VLOOKUP(D328,'List of Items - 1'!H:I,2,0),\"-\")","v":"42192415"},null,{"$f":"'List of Items - 2'!B2254","v":"Clothing cases"},null,null,null,null,"Lot",null,null,null,0,0,null,null,1,1,426120,null,null,null,0,0,null,null,null,0,0,1,426120,426120]
[313,{"$f":"IFERROR(VLOOKUP(D329,'List of Items - 1'!H:I,2,0),\"-\")","v":"44120000"},null,{"$f":"'List of Items - 2'!B8621","v":"Office supplies"},null,null,null,null,"Lot",null,null,null,0,0,null,null,1,1,161385,null,null,null,0,0,null,null,null,0,0,1,161385,161385]
[314,{"$f":"IFERROR(VLOOKUP(D330,'List of Items - 1'!H:I,2,0),\"-\")","v":"52150000"},null,{"$f":"'List of Items - 2'!B3562","v":"Domestic kitchenware and kitchen supplies"},null,null,null,null,"Lot",null,null,null,0,0,null,null,1,1,117778,null,null,null,0,0,null,null,null,0,0,1,117778,117778]
[315,{"$f":"IFERROR(VLOOKUP(D331,'List of Items - 1'!H:I,2,0),\"-\")","v":"52000000"},null,{"$f":"'List of Items - 2'!B3545","v":"Domestic Appliances and Supplies and Consumer Electronic Products"},null,null,null,null,"Lot",null,null,null,0,0,null,null,1,1,578032,null,null,null,0,0,null,null,null,0,0,1,578032,578032]
[316,{"$f":"IFERROR(VLOOKUP(D332,'List of Items - 1'!H:I,2,0),\"-\")","v":"72100000"},null,{"$f":"'List of Items - 2'!B1501","v":"Building and facility maintenance and repair services"},null,null,null,null,"Lot",null,null,null,0,0,null,null,null,0,0,null,null,null,0,0,null,1,null,1,30500,1,30500,30500]
[317,{"$f":"IFERROR(VLOOKUP(D333,'List of Items - 1'!H:I,2,0),\"-\")","v":"72102100"},null,{"$f":"'List of Items - 2'!B9263","v":"Pest control"},null,null,null,null,"Lot",null,null,null,0,0,null,null,null,0,0,null,null,null,0,0,null,1,null,1,25000,1,25000,25000]
[318,{"$f":"IFERROR(VLOOKUP(D334,'List of Items - 1'!H:I,2,0),\"-\")","v":"82121505"},null,{"$f":"D325","v":"Promotional or advertising printing"},null,null,null,null,"Lot",null,null,null,0,0,null,null,1,1,143000,null,null,null,0,0,null,null,null,0,0,1,143000,143000]
[319,{"$f":"IFERROR(VLOOKUP(D335,'List of Items - 1'!H:I,2,0),\"-\")","v":"57030105"},null,{"$f":"'List of Items - 2'!B4009","v":"Emergency health kit"},null,null,null,null,"pax",null,null,null,0,0,null,null,80,80,204000,null,null,null,0,0,null,null,null,0,0,80,2550,204000]
[320,{"$f":"IFERROR(VLOOKUP(D336,'List of Items - 1'!H:I,2,0),\"-\")","v":"78181500"},null,{"$f":"'List of Items - 2'!B12672","v":"Vehicle maintenance and repair services"},null,null,null,null,"Lot",null,null,null,0,0,null,null,1,1,200000,null,null,null,0,0,null,null,null,0,0,1,200000,200000]
[321,{"$f":"IFERROR(VLOOKUP(D337,'List of Items - 1'!H:I,2,0),\"-\")","v":"44000000"},null,{"$f":"'List of Items - 2'!B8610","v":"Office Equipment and Accessories and Supplies"},null,null,null,null,"Lot",null,null,null,0,0,null,null,1,1,1961500,null,null,null,0,0,null,null,null,0,0,1,1961500,1961500]
[322,{"$f":"IFERROR(VLOOKUP(D338,'List of Items - 1'!H:I,2,0),\"-\")","v":"49220000"},null,{"$f":"'List of Items - 2'!B11223","v":"Sports equipment and accessories"},null,null,null,null,"Lot",null,null,null,0,0,null,null,1,1,257770,null,null,null,0,0,null,null,null,0,0,1,257770,257770]
[323,{"$f":"IFERROR(VLOOKUP(D339,'List of Items - 1'!H:I,2,0),\"-\")","v":"95122300"},null,{"$f":"'List of Items - 2'!B11220","v":"Sports and health buildings and structures"},null,null,null,null,"Lot",null,null,null,0,0,null,null,null,0,0,null,null,1,1,2330000,null,null,null,0,0,1,2330000,2330000]
[324,{"$f":"IFERROR(VLOOKUP(D340,'List of Items - 1'!H:I,2,0),\"-\")","v":"78181500"},null,{"$f":"'List of Items - 2'!B12672","v":"Vehicle maintenance and repair services"},null,null,null,null,"Lot",null,null,null,0,0,null,null,1,1,221280,null,null,null,0,0,null,null,null,0,0,1,221280,221280]
[325,{"$f":"IFERROR(VLOOKUP(D341,'List of Items - 1'!H:I,2,0),\"-\")","v":"31211900"},null,{"$f":"'List of Items - 2'!B8926","v":"Paint applicators and painting accessories"},null,null,null,null,"Lot",null,null,null,0,0,null,null,1,1,454590,null,null,null,0,0,null,null,null,0,0,1,454590,454590]
[326,{"$f":"IFERROR(VLOOKUP(D342,'List of Items - 1'!H:I,2,0),\"-\")","v":"72100000"},null,{"$f":"D332","v":"Building and facility maintenance and repair services"},null,null,null,null,"Lot",null,null,null,0,0,null,null,null,0,0,null,null,null,0,0,null,1,null,1,1230000,1,1230000,1230000]
[327,{"$f":"IFERROR(VLOOKUP(D343,'List of Items - 1'!H:I,2,0),\"-\")","v":"44000000"},null,{"$f":"D337","v":"Office Equipment and Accessories and Supplies"},null,null,null,null,"Lot",null,null,null,0,0,null,null,1,1,1255160,null,null,null,0,0,null,null,null,0,0,1,1255160,1255160]
[328,{"$f":"IFERROR(VLOOKUP(D344,'List of Items - 1'!H:I,2,0),\"-\")","v":"49000000"},null,{"$f":"'List of Items - 2'!B11221","v":"Sports and Recreational Equipment and Supplies and Accessories"},null,null,null,null,"Lot",null,null,null,0,0,null,null,null,0,0,null,null,1,1,1225000,null,null,null,0,0,1,1225000,1225000]
[329,{"$f":"IFERROR(VLOOKUP(D345,'List of Items - 1'!H:I,2,0),\"-\")","v":"82121505"},null,{"$f":"D334","v":"Promotional or advertising printing"},null,null,null,null,"Lot",null,null,null,0,0,null,null,null,0,0,null,null,null,0,0,null,1,null,1,444000,1,444000,444000]
[330,{"$f":"IFERROR(VLOOKUP(D346,'List of Items - 1'!H:I,2,0),\"-\")","v":"60131500"},null,{"$f":"'List of Items - 2'!B8257","v":"Musical instrument parts and accessories"},null,null,null,null,"Lot",null,null,null,0,0,null,null,1,1,1009648,null,null,null,0,0,null,null,null,0,0,1,1009648,1009648]
[331,{"$f":"IFERROR(VLOOKUP(D347,'List of Items - 1'!H:I,2,0),\"-\")","v":"44000000"},null,{"$f":"D343","v":"Office Equipment and Accessories and Supplies"},null,null,null,null,"Lot",null,null,null,0,0,null,null,1,1,227300,null,null,null,0,0,null,null,null,0,0,1,227300,227300]
[332,{"$f":"IFERROR(VLOOKUP(D348,'List of Items - 1'!H:I,2,0),\"-\")","v":"50110000"},null,{"$f":"'List of Items - 2'!B7407","v":"Meat and poultry products"},null,null,null,null,"Lot",1,null,null,1,1410450,null,null,null,0,0,null,null,null,0,0,null,null,null,0,0,1,1410450,1410450]
[333,{"$f":"IFERROR(VLOOKUP(D349,'List of Items - 1'!H:I,2,0),\"-\")","v":"50121500"},null,{"$f":"'List of Items - 2'!B4700","v":"Fish"},null,null,null,null,"Lot",1,null,null,1,1077500,null,null,null,0,0,null,null,null,0,0,null,null,null,0,0,1,1077500,1077500]
[334,{"$f":"IFERROR(VLOOKUP(D350,'List of Items - 1'!H:I,2,0),\"-\")","v":"50121542"},null,{"$f":"'List of Items - 2'!B3652","v":"Dried Fish (WFP food convention)"},null,null,null,null,"Lot",1,null,null,1,296650,null,null,null,0,0,null,null,null,0,0,null,null,null,0,0,1,296650,296650]
[335,{"$f":"IFERROR(VLOOKUP(D351,'List of Items - 1'!H:I,2,0),\"-\")","v":"50300000"},null,{"$f":"'List of Items - 2'!B5055","v":"Fresh fruits"},null,null,null,null,"Lot",1,null,null,1,351280,null,null,null,0,0,null,null,null,0,0,null,null,null,0,0,1,351280,351280]
[336,{"$f":"IFERROR(VLOOKUP(D352,'List of Items - 1'!H:I,2,0),\"-\")","v":"50400000"},null,{"$f":"'List of Items - 2'!B5060","v":"Fresh vegetables"},null,null,null,null,"Lot",1,null,null,1,536930,null,null,null,0,0,null,null,null,0,0,null,null,null,0,0,1,536930,536930]
[337,{"$f":"IFERROR(VLOOKUP(D353,'List of Items - 1'!H:I,2,0),\"-\")","v":"50170000"},null,{"$f":"'List of Items - 2'!B10736","v":"Seasonings and preservatives"},null,null,null,null,"Lot",1,null,null,1,319810,null,null,null,0,0,null,null,null,0,0,null,null,null,0,0,1,319810,319810]
[338,{"$f":"IFERROR(VLOOKUP(D354,'List of Items - 1'!H:I,2,0),\"-\")","v":"24121800"},null,{"$f":"'List of Items - 2'!B8893","v":"Packaging cans"},null,null,null,null,"Lot",1,null,null,1,1009320,null,null,null,0,0,null,null,null,0,0,null,null,null,0,0,1,1009320,1009320]
[339,{"$f":"IFERROR(VLOOKUP(D355,'List of Items - 1'!H:I,2,0),\"-\")","v":"50192900"},null,{"$f":"'List of Items - 2'!B9450","v":"Plain pasta and noodles"},null,null,null,null,"Lot",1,null,null,1,96110,null,null,null,0,0,null,null,null,0,0,null,null,null,0,0,1,96110,96110]
[340,{"$f":"IFERROR(VLOOKUP(D356,'List of Items - 1'!H:I,2,0),\"-\")","v":"50170000"},null,{"$f":"'List of Items - 2'!B10736","v":"Seasonings and preservatives"},null,null,null,null,"Lot",1,null,null,1,946242,null,null,null,0,0,null,null,null,0,0,null,null,null,0,0,1,946242,946242]
[341,{"$f":"IFERROR(VLOOKUP(D357,'List of Items - 1'!H:I,2,0),\"-\")","v":"53131647"},null,{"$f":"'List of Items - 2'!B6169","v":"Infant hygiene and personal care set"},null,null,null,null,"Lot",1,null,null,1,466825,null,null,null,0,0,null,null,null,0,0,null,null,null,0,0,1,466825,466825]
[342,{"$f":"IFERROR(VLOOKUP(D358,'List of Items - 1'!H:I,2,0),\"-\")","v":"53131651"},null,{"$f":"'List of Items - 2'!B9241","v":"Personal hygiene kit"},null,null,null,null,"Lot",1,null,null,1,395250,null,null,null,0,0,null,null,null,0,0,null,null,null,0,0,1,395250,395250]
[343,{"$f":"IFERROR(VLOOKUP(D359,'List of Items - 1'!H:I,2,0),\"-\")","v":"76110000"},null,{"$f":"'List of Items - 2'!B2180","v":"Cleaning and janitorial services"},null,null,null,null,"Lot",1,null,null,1,558200,null,null,null,0,0,null,null,null,0,0,null,null,null,0,0,1,558200,558200]
[344,{"$f":"IFERROR(VLOOKUP(D360,'List of Items - 1'!H:I,2,0),\"-\")","v":"51000000"},null,{"$f":"'List of Items - 2'!B3692","v":"Drugs and Pharmaceutical Products"},null,null,null,null,"Lot",1,null,null,1,248426,null,null,null,0,0,null,null,null,0,0,null,null,null,0,0,1,248426,248426]
[345,{"$f":"IFERROR(VLOOKUP(D361,'List of Items - 1'!H:I,2,0),\"-\")","v":"41102401"},null,{"$f":"'List of Items - 2'!B5165","v":"Gas burners"},null,null,null,null,"Lot",null,null,null,0,0,null,null,null,0,0,null,null,null,0,0,null,null,1,1,144000,1,144000,144000]
[346,{"$f":"IFERROR(VLOOKUP(D362,'List of Items - 1'!H:I,2,0),\"-\")","v":"15101506"},null,{"$f":"'List of Items - 2'!B5188","v":"Gasoline or Petrol"},null,null,null,null,"Lot",null,null,null,0,0,null,null,null,0,0,null,null,null,0,0,null,null,1,1,140000,1,140000,140000]
[347,{"$f":"IFERROR(VLOOKUP(D363,'List of Items - 1'!H:I,2,0),\"-\")","v":"47101531"},null,{"$f":"'List of Items - 2'!B10815","v":"Septic tanks"},null,null,null,null,"Lot",null,null,null,0,0,null,null,null,0,0,null,null,null,0,0,null,null,1,1,180000,1,180000,180000]
[348,{"$f":"IFERROR(VLOOKUP(D364,'List of Items - 1'!H:I,2,0),\"-\")","v":"90110000"},null,{"$f":"D387","v":"Hotels and lodging and meeting facilities"},null,null,null,null,"pax",null,null,55,55,143000,null,null,null,0,0,null,null,null,0,0,null,null,null,0,0,55,2600,143000]
[349,{"$f":"IFERROR(VLOOKUP(D365,'List of Items - 1'!H:I,2,0),\"-\")","v":"80141902"},null,{"$f":"D367","v":"Meetings events"},null,null,null,null,"Lot",null,null,null,0,0,null,null,null,0,0,null,null,null,0,0,null,null,1,1,296000,1,296000,296000]
[350,{"$f":"IFERROR(VLOOKUP(D366,'List of Items - 1'!H:I,2,0),\"-\")","v":"82100000"},null,{"$f":"'List of Items - 2'!B146","v":"Advertising"},null,null,null,null,"Lot",null,null,null,0,0,null,null,null,0,0,null,null,null,0,0,null,null,1,1,20000,1,20000,20000]
[351,{"$f":"IFERROR(VLOOKUP(D367,'List of Items - 1'!H:I,2,0),\"-\")","v":"80141902"},null,{"$f":"D369","v":"Meetings events"},null,null,null,null,"Lot",null,null,null,0,0,null,1,null,1,227500,null,null,null,0,0,null,null,null,{"$f":"Y367+Z367+AA367","v":0},0,1,227500,227500]
[352,{"$f":"IFERROR(VLOOKUP(D368,'List of Items - 1'!H:I,2,0),\"-\")","v":"82100000"},null,{"$f":"D366","v":"Advertising"},null,null,null,null,"Lot",null,null,null,0,0,null,1,null,1,65000,null,null,null,0,0,null,null,null,0,0,1,65000,65000]
[353,{"$f":"IFERROR(VLOOKUP(D369,'List of Items - 1'!H:I,2,0),\"-\")","v":"80141902"},null,{"$f":"D371","v":"Meetings events"},null,null,null,null,"Lot",null,null,null,0,0,null,null,null,0,0,null,null,null,0,0,null,1,null,1,203500,1,203500,203500]
[354,{"$f":"IFERROR(VLOOKUP(D370,'List of Items - 1'!H:I,2,0),\"-\")","v":"82100000"},null,{"$f":"D368","v":"Advertising"},null,null,null,null,"Lot",null,null,null,0,0,null,null,null,0,0,null,null,null,0,0,null,1,null,1,50000,1,50000,50000]
[355,{"$f":"IFERROR(VLOOKUP(D371,'List of Items - 1'!H:I,2,0),\"-\")","v":"80141902"},null,{"$f":"'List of Items - 2'!B7700","v":"Meetings events"},null,null,null,null,"Lot",null,null,null,0,0,null,null,null,0,0,null,null,null,0,0,null,null,1,1,667500,1,667500,667500]
[356,{"$f":"IFERROR(VLOOKUP(D372,'List of Items - 1'!H:I,2,0),\"-\")","v":"82100000"},null,{"$f":"D368","v":"Advertising"},null,null,null,null,"Lot",null,null,null,0,0,null,null,null,0,0,null,null,null,0,0,null,null,1,1,100000,1,100000,100000]
[3573,{"$f":"IFERROR(VLOOKUP(D373,'List of Items - 1'!H:I,2,0),\"-\")","v":"82100000"},null,{"$f":"Form!D372","v":"Advertising"},null,null,null,null,"Lot",null,null,null,0,0,null,null,null,0,0,null,1,null,1,217200,null,null,null,0,0,1,217200,217200]
[358,{"$f":"IFERROR(VLOOKUP(D374,'List of Items - 1'!H:I,2,0),\"-\")","v":"50131704"},null,{"$f":"'List of Items - 2'!B9691","v":"Powdered milk"},null,null,null,null,"Lot",null,null,null,0,0,1,null,null,1,956800,null,null,null,0,0,null,null,null,0,0,1,956800,956800]
[359,{"$f":"IFERROR(VLOOKUP(D375,'List of Items - 1'!H:I,2,0),\"-\")","v":"85122102"},null,{"$f":"'List of Items - 2'!B8596","v":"Occupational therapy services"},null,null,null,null,"Lot",null,null,null,0,0,null,null,null,0,0,null,null,null,0,0,null,null,12,12,336000,12,28000,336000]
[360,{"$f":"IFERROR(VLOOKUP(D376,'List of Items - 1'!H:I,2,0),\"-\")","v":"53102500"},null,{"$f":"'List of Items - 2'!B2250","v":"Clothing accessories"},null,null,null,null,"Lot",null,null,null,0,0,null,null,null,0,0,null,null,1,1,304550,null,null,null,0,0,1,304550,304550]
[361,{"$f":"IFERROR(VLOOKUP(D377,'List of Items - 1'!H:I,2,0),\"-\")","v":"57040105"},null,{"$f":"'List of Items - 2'!B10694","v":"School kit for students"},null,null,null,null,"Lot",null,null,null,0,0,null,null,null,0,0,1,null,null,1,223900,null,null,null,0,0,1,223900,223900]
[362,{"$f":"IFERROR(VLOOKUP(D378,'List of Items - 1'!H:I,2,0),\"-\")","v":"78181500"},null,{"$f":"D340","v":"Vehicle maintenance and repair services"},null,null,null,null,"Lot",null,null,null,0,0,null,null,null,0,0,1,null,null,1,90000,null,null,null,0,0,1,90000,90000]
[363,{"$f":"IFERROR(VLOOKUP(D379,'List of Items - 1'!H:I,2,0),\"-\")","v":"82121505"},null,{"$f":"D345","v":"Promotional or advertising printing"},null,null,null,null,"Lot",null,null,null,0,0,1,null,null,1,224400,null,null,null,0,0,null,null,null,0,0,1,224400,224400]
[364,{"$f":"IFERROR(VLOOKUP(D380,'List of Items - 1'!H:I,2,0),\"-\")","v":"53131647"},null,{"$f":"D357","v":"Infant hygiene and personal care set"},null,null,null,null,"Lot",null,null,null,0,0,null,1,null,1,88200,null,null,null,0,0,null,null,null,0,0,1,88200,88200]
[365,{"$f":"IFERROR(VLOOKUP(D381,'List of Items - 1'!H:I,2,0),\"-\")","v":"50131704"},null,{"$f":"D374","v":"Powdered milk"},null,null,null,null,"Lot",null,null,null,0,0,null,null,null,{"$f":"O381+P381+Q381","v":0},0,null,1,null,1,956800,null,null,null,0,0,1,956800,956800]
[366,{"$f":"IFERROR(VLOOKUP(D382,'List of Items - 1'!H:I,2,0),\"-\")","v":"72153606"},null,{"$f":"'List of Items - 2'!B8613","v":"Office furniture installation service"},null,null,null,null,"UNIT",null,null,null,0,0,null,4,null,4,200000,null,null,null,0,0,null,null,null,0,0,4,50000,200000]
[367,{"$f":"IFERROR(VLOOKUP(D383,'List of Items - 1'!H:I,2,0),\"-\")","v":"41121516"},null,{"$f":"'List of Items - 2'!B1412","v":"Bottle top dispensers"},null,null,null,null,"UNIT",null,null,null,0,0,null,8,null,8,96000,null,null,null,0,0,null,null,null,0,0,8,12000,96000]
[368,{"$f":"IFERROR(VLOOKUP(D384,'List of Items - 1'!H:I,2,0),\"-\")","v":"72102100"},null,{"$f":"D333","v":"Pest control"},null,null,null,null,"Lot",null,null,null,0,0,null,null,null,0,0,1,null,null,1,140500,null,null,null,0,0,1,140500,140500]
[369,{"$f":"IFERROR(VLOOKUP(D385,'List of Items - 1'!H:I,2,0),\"-\")","v":"44000000"},null,{"$f":"Form!D274","v":"Office Equipment and Accessories and Supplies"},null,null,null,null,"UNIT",null,null,null,0,0,null,1,null,1,50000,null,null,null,0,0,null,null,null,0,0,1,50000,50000]
[370,{"$f":"IFERROR(VLOOKUP(D386,'List of Items - 1'!H:I,2,0),\"-\")","v":"44120000"},null,{"$f":"D329","v":"Office supplies"},null,null,null,null,"Lot",null,null,null,0,0,null,null,1,1,250950,null,null,null,0,0,null,null,null,0,0,1,250950,250950]
[371,{"$f":"IFERROR(VLOOKUP(D387,'List of Items - 1'!H:I,2,0),\"-\")","v":"90110000"},null,{"$f":"D420","v":"Hotels and lodging and meeting facilities"},null,null,null,null,"pax",null,null,70,70,210000,null,null,null,0,0,null,null,null,0,0,null,null,null,0,0,70,3000,210000]
[372,{"$f":"IFERROR(VLOOKUP(D388,'List of Items - 1'!H:I,2,0),\"-\")","v":"53100000"},null,{"$f":"'List of Items - 2'!B2249","v":"Clothing"},null,null,null,null,"roll",null,null,null,0,0,null,6,null,6,60000,null,null,null,0,0,null,null,null,0,0,6,10000,60000]
[373,{"$f":"IFERROR(VLOOKUP(D389,'List of Items - 1'!H:I,2,0),\"-\")","v":"42000000"},null,{"$f":"'List of Items - 2'!B7474","v":"Medical Equipment and Accessories and Supplies"},null,null,null,null,"Lot",null,null,null,0,0,null,1,null,1,45500,null,null,null,0,0,null,null,null,0,0,1,45500,45500]
[374,{"$f":"IFERROR(VLOOKUP(D390,'List of Items - 1'!H:I,2,0),\"-\")","v":"47130000"},null,{"$f":"'List of Items - 2'!B2181","v":"Cleaning and janitorial supplies"},null,null,null,null,"Lot",null,null,null,0,0,null,null,null,0,0,null,null,null,0,0,null,null,1,1,45500,1,45500,45500]
[375,{"$f":"IFERROR(VLOOKUP(D391,'List of Items - 1'!H:I,2,0),\"-\")","v":"44120000"},null,{"$f":"D386","v":"Office supplies"},null,null,null,null,"Lot",null,null,null,0,0,null,null,null,0,0,1,null,null,1,363625,null,null,null,0,0,1,363625,363625]
[376,{"$f":"IFERROR(VLOOKUP(D392,'List of Items - 1'!H:I,2,0),\"-\")","v":"52141500"},null,{"$f":"'List of Items - 2'!B3559","v":"Domestic kitchen appliances"},null,null,null,null,"Lot",null,null,null,0,0,null,null,null,0,0,null,null,1,1,513500,null,null,null,0,0,1,513500,513500]
[377,{"$f":"IFERROR(VLOOKUP(D393,'List of Items - 1'!H:I,2,0),\"-\")","v":"82111904"},null,{"$f":"'List of Items - 2'!B8409","v":"Newspaper or advertising material delivery services"},null,null,null,null,"PCS",null,null,null,0,0,null,null,null,0,0,null,null,276,276,4140,null,null,null,0,0,276,15,4140]
[378,{"$f":"IFERROR(VLOOKUP(D394,'List of Items - 1'!H:I,2,0),\"-\")","v":"52141500"},null,{"$f":"D392","v":"Domestic kitchen appliances"},null,null,null,null,"Lot",null,null,null,0,0,null,1,null,1,26625,null,null,null,0,0,null,null,null,0,0,1,26625,26625]
[379,{"$f":"IFERROR(VLOOKUP(D395,'List of Items - 1'!H:I,2,0),\"-\")","v":"56101500"},null,{"$f":"'List of Items - 2'!B5117","v":"Furniture"},null,null,null,null,"Lot",null,null,null,0,0,null,1,null,1,1276000,null,null,null,0,0,null,null,null,0,0,1,1276000,1276000]
[380,{"$f":"IFERROR(VLOOKUP(D396,'List of Items - 1'!H:I,2,0),\"-\")","v":"72153100"},null,{"$f":"'List of Items - 2'!B833","v":"Athletic and recreational facility construction services"},null,null,null,null,"Lot",null,null,null,0,0,null,1,null,1,1840000,null,null,null,0,0,null,null,null,0,0,1,1840000,1840000]
[381,{"$f":"IFERROR(VLOOKUP(D397,'List of Items - 1'!H:I,2,0),\"-\")","v":"43211600"},null,{"$f":"'List of Items - 2'!B2584","v":"Computer accessories"},null,null,null,null,"Lot",null,null,null,0,0,null,null,1,1,129000,null,null,null,0,0,null,null,null,0,0,1,129000,129000]
[382,{"$f":"IFERROR(VLOOKUP(D398,'List of Items - 1'!H:I,2,0),\"-\")","v":"44120000"},null,{"$f":"D391","v":"Office supplies"},null,null,null,null,"PCS",null,null,null,0,0,null,50,null,50,125000,null,null,null,0,0,null,null,null,0,0,50,2500,125000]
[383,{"$f":"IFERROR(VLOOKUP(D399,'List of Items - 1'!H:I,2,0),\"-\")","v":"46191601"},null,{"$f":"'List of Items - 2'!B4652","v":"Fire extinguishers"},null,null,null,null,"UNIT",null,null,null,0,0,null,null,30,30,75000,null,null,null,0,0,null,null,null,0,0,30,2500,75000]
[384,{"$f":"IFERROR(VLOOKUP(D400,'List of Items - 1'!H:I,2,0),\"-\")","v":"51000000"},null,{"$f":"'List of Items - 2'!B3692","v":"Drugs and Pharmaceutical Products"},null,null,null,null,"Lot",null,null,null,0,0,null,null,null,0,0,null,null,1,1,293926,null,null,null,0,0,1,293926,293926]
[385,{"$f":"IFERROR(VLOOKUP(D401,'List of Items - 1'!H:I,2,0),\"-\")","v":"26121600"},null,{"$f":"'List of Items - 2'!B3862","v":"Electrical cable and accessories"},null,null,null,null,"Lot",null,null,null,0,0,null,null,null,0,0,null,null,1,1,71000,null,null,null,0,0,1,71000,71000]
[386,{"$f":"IFERROR(VLOOKUP(D402,'List of Items - 1'!H:I,2,0),\"-\")","v":"50131704"},null,{"$f":"D381","v":"Powdered milk"},null,null,null,null,"Lot",null,null,null,0,0,null,null,null,0,0,null,null,1,1,1168300,null,null,null,0,0,1,1168300,1168300]
[387,{"$f":"IFERROR(VLOOKUP(D403,'List of Items - 1'!H:I,2,0),\"-\")","v":"48101800"},null,{"$f":"'List of Items - 2'!B2780","v":"Cookware and kitchen tools"},null,null,null,null,"Lot",null,null,null,0,0,null,1,null,1,178650,null,null,null,0,0,null,null,null,0,0,1,178650,178650]
[388,{"$f":"IFERROR(VLOOKUP(D404,'List of Items - 1'!H:I,2,0),\"-\")","v":"78181500"},null,{"$f":"'List of Items - 2'!B12672","v":"Vehicle maintenance and repair services"},null,null,null,null,"Lot",null,null,null,0,0,null,1,null,1,14000,null,null,null,0,0,null,null,null,0,0,1,14000,14000]
[389,{"$f":"IFERROR(VLOOKUP(D405,'List of Items - 1'!H:I,2,0),\"-\")","v":"57040000"},null,{"$f":"'List of Items - 2'!B3826","v":"Educational or recreational items"},null,null,null,null,"Lot",null,null,null,0,0,null,1,null,1,56400,null,null,null,0,0,null,null,null,0,0,1,56400,56400]
[390,{"$f":"IFERROR(VLOOKUP(D406,'List of Items - 1'!H:I,2,0),\"-\")","v":"50221108"},null,{"$f":"'List of Items - 2'!B10443","v":"Rice grain"},null,null,null,null,"sack",null,null,null,0,0,null,1000,null,1000,1500000,null,null,null,0,0,null,null,null,0,0,1000,1500,1500000]
[391,{"$f":"IFERROR(VLOOKUP(D407,'List of Items - 1'!H:I,2,0),\"-\")","v":"50110000"},null,{"$f":"D348","v":"Meat and poultry products"},null,null,null,null,"Lot",1,null,null,1,1565000,null,null,null,0,0,null,null,null,0,0,null,null,null,0,0,1,1565000,1565000]
[392,{"$f":"IFERROR(VLOOKUP(D408,'List of Items - 1'!H:I,2,0),\"-\")","v":"50121500"},null,"Fish",null,null,null,null,"Lot",1,null,null,1,1625000,null,null,null,0,0,null,null,null,0,0,null,null,null,0,0,1,1625000,1625000]
[393,{"$f":"IFERROR(VLOOKUP(D409,'List of Items - 1'!H:I,2,0),\"-\")","v":"50300000"},null,{"$f":"D351","v":"Fresh fruits"},null,null,null,null,"Lot",1,null,null,1,532000,null,null,null,0,0,null,null,null,0,0,null,null,null,0,0,1,532000,532000]
[394,{"$f":"IFERROR(VLOOKUP(D410,'List of Items - 1'!H:I,2,0),\"-\")","v":"50400000"},null,"Fresh vegetables",null,null,null,null,"Lot",1,null,null,1,1073200,null,null,null,0,0,null,null,null,0,0,null,null,null,0,0,1,1073200,1073200]
[395,{"$f":"IFERROR(VLOOKUP(D411,'List of Items - 1'!H:I,2,0),\"-\")","v":"50131704"},null,{"$f":"'List of Items - 2'!B9691","v":"Powdered milk"},null,null,null,null,"Lot",1,null,null,1,237750,null,null,null,0,0,null,null,null,0,0,null,null,null,0,0,1,237750,237750]
[396,{"$f":"IFERROR(VLOOKUP(D412,'List of Items - 1'!H:I,2,0),\"-\")","v":"50170000"},null,{"$f":"D353","v":"Seasonings and preservatives"},null,null,null,null,"Lot",1,null,null,1,3361700,null,null,null,0,0,null,null,null,0,0,null,null,null,0,0,1,3361700,3361700]
[397,{"$f":"IFERROR(VLOOKUP(D413,'List of Items - 1'!H:I,2,0),\"-\")","v":"53131651"},null,{"$f":"'List of Items - 2'!B9241","v":"Personal hygiene kit"},null,null,null,null,"Lot",1,null,null,1,3015000,null,null,null,0,0,null,null,null,0,0,null,null,null,0,0,1,3015000,3015000]
[398,{"$f":"IFERROR(VLOOKUP(D414,'List of Items - 1'!H:I,2,0),\"-\")","v":"93131602"},null,{"$f":"'List of Items - 2'!B4008","v":"Emergency food supply services"},null,null,null,null,"Lot",1,null,null,1,1780000,null,null,null,0,0,null,null,null,0,0,null,null,null,0,0,1,1780000,1780000]
[399,{"$f":"IFERROR(VLOOKUP(D415,'List of Items - 1'!H:I,2,0),\"-\")","v":"53102500"},null,{"$f":"'List of Items - 2'!B2250","v":"Clothing accessories"},null,null,null,null,"Lot",1,null,null,1,2805000,null,null,null,0,0,null,null,null,0,0,null,null,null,0,0,1,2805000,2805000]
[400,{"$f":"IFERROR(VLOOKUP(D416,'List of Items - 1'!H:I,2,0),\"-\")","v":"53111800"},null,{"$f":"'List of Items - 2'!B10650","v":"Sandals"},null,null,null,null,"Lot",1,null,null,1,586400,null,null,null,0,0,null,null,null,0,0,null,null,null,0,0,1,586400,586400]
[401,{"$f":"IFERROR(VLOOKUP(D417,'List of Items - 1'!H:I,2,0),\"-\")","v":"51000000"},null,{"$f":"D400","v":"Drugs and Pharmaceutical Products"},null,null,null,null,"Lot",1,null,null,1,376250,null,null,null,0,0,null,null,null,0,0,null,null,null,0,0,1,376250,376250]
[402,{"$f":"IFERROR(VLOOKUP(D418,'List of Items - 1'!H:I,2,0),\"-\")","v":"80141902"},null,{"$f":"D419","v":"Meetings events"},null,null,null,null,"Lot",null,null,null,0,0,null,1,null,1,440000,null,null,null,0,0,null,null,null,0,0,1,440000,440000]
[403,{"$f":"IFERROR(VLOOKUP(D419,'List of Items - 1'!H:I,2,0),\"-\")","v":"80141902"},null,{"$f":"D421","v":"Meetings events"},null,null,null,null,"Lot",null,null,null,0,0,null,null,null,0,0,null,null,null,0,0,null,null,1,1,784000,1,784000,784000]
[404,{"$f":"IFERROR(VLOOKUP(D420,'List of Items - 1'!H:I,2,0),\"-\")","v":"90110000"},null,{"$f":"D424","v":"Hotels and lodging and meeting facilities"},null,null,null,null,"pax",null,null,null,0,0,null,null,null,0,0,null,null,null,0,0,null,null,40,40,120000,40,3000,120000]
[405,{"$f":"IFERROR(VLOOKUP(D421,'List of Items - 1'!H:I,2,0),\"-\")","v":"80141902"},null,{"$f":"D422","v":"Meetings events"},null,null,null,null,"Lot",null,null,null,0,0,null,1,null,1,110000,null,null,null,0,0,null,null,null,0,0,1,110000,110000]
[406,{"$f":"IFERROR(VLOOKUP(D422,'List of Items - 1'!H:I,2,0),\"-\")","v":"80141902"},null,"Meetings events",null,null,null,null,"Lot",null,null,null,0,0,null,null,null,0,0,null,null,null,0,0,null,1,null,1,50000,1,50000,50000]
[407,{"$f":"IFERROR(VLOOKUP(D423,'List of Items - 1'!H:I,2,0),\"-\")","v":"80141902"},null,{"$f":"'List of Items - 2'!B7700","v":"Meetings events"},null,null,null,null,"Lot",null,null,null,0,0,null,null,null,0,0,null,null,null,0,0,null,null,1,1,955000,1,955000,955000]
[408,{"$f":"IFERROR(VLOOKUP(D424,'List of Items - 1'!H:I,2,0),\"-\")","v":"90110000"},null,{"$f":"'List of Items - 1'!C5797:E5797","v":"Hotels and lodging and meeting facilities"},0,0,null,null,"Lot",null,null,null,0,0,null,null,null,0,0,1,null,null,1,280000,null,null,null,0,0,1,280000,280000]
[409,{"$f":"IFERROR(VLOOKUP(D425,'List of Items - 1'!H:I,2,0),\"-\")","v":"52141500"},null,{"$f":"'List of Items - 2'!B3559","v":"Domestic kitchen appliances"},null,null,null,null,"Lot",null,null,null,0,0,null,null,1,1,130000,null,null,null,0,0,null,null,null,0,0,1,130000,130000]
[410,{"$f":"IFERROR(VLOOKUP(D426,'List of Items - 1'!H:I,2,0),\"-\")","v":"72102102"},null,{"$f":"'List of Items - 2'!B11968","v":"Termite control services"},null,null,null,null,"Lot",null,null,null,0,0,null,null,null,0,0,null,null,null,0,0,null,null,1,1,500000,1,500000,500000]
[411,{"$f":"IFERROR(VLOOKUP(D427,'List of Items - 1'!H:I,2,0),\"-\")","v":"50121500"},null,{"$f":"D408","v":"Fish"},null,null,null,null,"Lot",null,null,null,0,0,null,null,null,0,0,1,null,null,1,220000,null,null,null,0,0,1,220000,220000]
[412,{"$f":"IFERROR(VLOOKUP(D428,'List of Items - 1'!H:I,2,0),\"-\")","v":"14111812"},null,{"$f":"'List of Items - 2'!B6435","v":"Inventory forms or inventory books"},null,null,null,null,"PAD",null,null,null,0,0,null,null,100,100,150000,null,null,null,0,0,null,null,null,0,0,100,1500,150000]
[413,{"$f":"IFERROR(VLOOKUP(D429,'List of Items - 1'!H:I,2,0),\"-\")","v":"82121505"},null,{"$f":"'List of Items - 2'!B9940","v":"Promotional or advertising printing"},null,null,null,null,"Lot",null,null,null,0,0,null,null,1,1,175000,null,null,null,0,0,null,null,null,0,0,1,175000,175000]
[414,{"$f":"IFERROR(VLOOKUP(D430,'List of Items - 1'!H:I,2,0),\"-\")","v":"15101506"},null,{"$f":"'List of Items - 2'!B5188","v":"Gasoline or Petrol"},null,null,null,null,"liter",null,null,null,0,0,null,null,null,0,0,null,null,null,0,0,null,null,5000,5000,425000,5000,85,425000]
[415,{"$f":"IFERROR(VLOOKUP(D431,'List of Items - 1'!H:I,2,0),\"-\")","v":"78181500"},null,{"$f":"D404","v":"Vehicle maintenance and repair services"},null,null,null,null,"Lot",null,null,null,0,0,null,null,null,0,0,null,null,null,0,0,null,null,1,1,368000,1,368000,368000]
[416,{"$f":"IFERROR(VLOOKUP(D432,'List of Items - 1'!H:I,2,0),\"-\")","v":"56000000"},null,{"$f":"'List of Items - 2'!B5118","v":"Furniture and Furnishings"},null,null,null,null,"Lot",null,null,null,0,0,null,null,null,0,0,1,null,null,1,500000,null,null,null,0,0,1,500000,500000]
[417,{"$f":"IFERROR(VLOOKUP(D433,'List of Items - 1'!H:I,2,0),\"-\")","v":"72101517"},null,{"$f":"'List of Items - 2'!B9628","v":"Portable generator maintenance and or repair service"},null,null,null,null,"Lot",null,null,null,0,0,null,null,null,0,0,null,null,null,0,0,null,null,2,2,100000,2,50000,100000]
[418,{"$f":"IFERROR(VLOOKUP(D434,'List of Items - 1'!H:I,2,0),\"-\")","v":"47101531"},null,{"$f":"D363","v":"Septic tanks"},null,null,null,null,"Lot",null,null,null,0,0,null,null,1,1,50000,null,null,null,0,0,null,null,null,0,0,1,50000,50000]
[419,{"$f":"IFERROR(VLOOKUP(D435,'List of Items - 1'!H:I,2,0),\"-\")","v":"72100000"},null,{"$f":"D342","v":"Building and facility maintenance and repair services"},null,null,null,null,"Lot",null,null,null,0,0,null,null,null,0,0,null,1,null,1,3050000,null,null,null,0,0,1,3050000,3050000]
[420,{"$f":"IFERROR(VLOOKUP(D436,'List of Items - 1'!H:I,2,0),\"-\")","v":"-"}]
[421,{"$f":"IFERROR(VLOOKUP(D437,'List of Items - 1'!H:I,2,0),\"-\")","v":"-"}]
[422]
[]
["        ",null,null,null,null,null,null,null,null,null,null,null,null,null,null,null,null,null,null,null,null,null,null,null,null,null,null,null,null,{"$f":"SUM(AF17:AF438)","v":196866648.70999998}]
["B. ADDITIONAL PROVISION FOR INFLATION (10% of TOTAL)",null,null,null,null,null,null,null,null,null,null,null,null,null,null,null,null,null,null,null,null,null,null,null,null,null,null,null,null,{"$f":"AD440*0.1","v":19686664.870999999}]
["C.  ADDITIONAL PROVISION FOR TRANSPORT AND FREIGHT COST (If Applicable)",null,null,null,null,null,null,null,null,null,null,null,null,null,null,null,null,null,null,null,null,null,null,null,null,null,null,null,null,0]
["D. GRAND TOTAL (A + B+ C)",null,null,null,null,null,null,null,null,null,null,null,null,null,null,null,null,null,null,null,null,null,null,null,null,null,null,null,null,{"$f":"SUM(AD440:AF442)","v":216553313.58099997}]
["E. APPROVED BUDGET BY THE AGENCY HEAD\nIn Figures and Words:",null,null,null,null,null,"Php. 216,553,313.58 (TWO HUNDRED SIXTEEN MILLION FIVE HUNDRED FIFTY-THREE THOUSAND THREE HUNDRED THIRTEEN AND FIFTY-EIGTH CENTAVOS)"]
[]
[]
["We hereby warrant that the total amount reflected in this Annual Procurement Plan to procure the listed common-use supplies, materials, and equipment has been included in or is within our approved budget for the year. "]
[]
[null,"Prepared by:",null,null,null,null,"Certified Funds Available / Certified Appropriate Funds Available:",null,null,null,null,null,null,null,null,null,null,null,null,null,null,null,null,"Approved by:"]
[]
[]
[null,"AL-WALID S. SAPPAYANI/ ROLANDO V. CUEVA",null,null,null,null,"RODNA GRACE E. SUGABO/ XANTHI ROMIELLA J. VALLECER",null,null,null,null,null,null,null,null,null,null,null,null,null,null,null,null,"RIDUAN P. HADJIMUDDIN, CESO III"]
[null,"Property/Supply Officer",null,null,null,null,"Accountant / Budget Officer",null,null,null,null,null,null,null,null,null,null,null,null,null,null,null,null,"Head of Office/Agency"]
[]
[null,"Date Prepared: SEPTEMBER 10, 2024"]

{"sheet":"List of Items - 1","index":1,"n_rows":13233,"n_cols":16,"rows_kept":4500,"cut":true,"hidden":false,"merged":[[11998,2,11998,4],[11999,2,11999,4],[12000,2,12000,4],[12001,2,12001,4],[12002,2,12002,4],[12003,2,12003,4],[12004,2,12004,4],[12005,2,12005,4],[12006,2,12006,4],[12007,2,12007,4],[12008,2,12008,4],[11965,2,11965,4],[11966,2,11966,4],[11967,2,11967,4],[11968,2,11968,4],[11969,2,11969,4],[11970,2,11970,4],[11971,2,11971,4],[11972,2,11972,4],[11973,2,11973,4],[11974,2,11974,4],[11975,2,11975,4],[11976,2,11976,4],[11977,2,11977,4],[11978,2,11978,4],[11979,2,11979,4],[11980,2,11980,4],[11981,2,11981,4],[11982,2,11982,4],[11983,2,11983,4],[11984,2,11984,4],[11985,2,11985,4],[11986,2,11986,4],[11987,2,11987,4],[11988,2,11988,4],[11989,2,11989,4],[11990,2,11990,4],[11991,2,11991,4],[11992,2,11992,4],[11993,2,11993,4],[11994,2,11994,4],[11995,2,11995,4],[11996,2,11996,4],[11997,2,11997,4],[11932,2,11932,4],[11933,2,11933,4],[11934,2,11934,4],[11935,2,11935,4],[11936,2,11936,4],[11937,2,11937,4],[11938,2,11938,4],[11939,2,11939,4],[11940,2,11940,4],[11941,2,11941,4],[11942,2,11942,4],[11943,2,11943,4],[11944,2,11944,4],[11945,2,11945,4],[11946,2,11946,4],[11947,2,11947,4],[11948,2,11948,4],[11949,2,11949,4],[11950,2,11950,4],[11951,2,11951,4],[11952,2,11952,4],[11953,2,11953,4],[11954,2,11954,4],[11955,2,11955,4],[11956,2,11956,4],[11957,2,11957,4],[11958,2,11958,4],[11959,2,11959,4],[11960,2,11960,4],[11961,2,11961,4],[11962,2,11962,4],[11963,2,11963,4],[11964,2,11964,4],[11899,2,11899,4],[11900,2,11900,4],[11901,2,11901,4],[11902,2,11902,4],[11903,2,11903,4],[11904,2,11904,4],[11905,2,11905,4],[11906,2,11906,4],[11907,2,11907,4],[11908,2,11908,4],[11909,2,11909,4],[11910,2,11910,4],[11911,2,11911,4],[11912,2,11912,4],[11913,2,11913,4],[11914,2,11914,4],[11915,2,11915,4],[11916,2,11916,4],[11917,2,11917,4],[11918,2,11918,4],[11919,2,11919,4],[11920,2,11920,4],[11921,2,11921,4],[11922,2,11922,4],[11923,2,11923,4],[11924,2,11924,4],[11925,2,11925,4],[11926,2,11926,4],[11927,2,11927,4],[11928,2,11928,4],[11929,2,11929,4],[11930,2,11930,4],[11931,2,11931,4],[11866,2,11866,4],[11867,2,11867,4],[11868,2,11868,4],[11869,2,11869,4],[11870,2,11870,4],[11871,2,11871,4],[11872,2,11872,4],[11873,2,11873,4],[11874,2,11874,4],[11875,2,11875,4],[11876,2,11876,4],[11877,2,11877,4],[11878,2,11878,4],[11879,2,11879,4],[11880,2,11880,4],[11881,2,11881,4],[11882,2,11882,4],[11883,2,11883,4],[11884,2,11884,4],[11885,2,11885,4],[11886,2,11886,4],[11887,2,11887,4],[11888,2,11888,4],[11889,2,11889,4],[11890,2,11890,4],[11891,2,11891,4],[11892,2,11892,4],[11893,2,11893,4],[11894,2,11894,4],[11895,2,11895,4],[11896,2,11896,4],[11897,2,11897,4],[11898,2,11898,4],[11833,2,11833,4],[11834,2,11834,4],[11835,2,11835,4],[11836,2,11836,4],[11837,2,11837,4],[11838,2,11838,4],[11839,2,11839,4],[11840,2,11840,4],[11841,2,11841,4],[11842,2,11842,4],[11843,2,11843,4],[11844,2,11844,4],[11845,2,11845,4],[11846,2,11846,4],[11847,2,11847,4],[11848,2,11848,4],[11849,2,11849,4],[11850,2,11850,4],[11851,2,11851,4],[11852,2,11852,4],[11853,2,11853,4],[11854,2,11854,4],[11855,2,11855,4],[11856,2,11856,4],[11857,2,11857,4],[11858,2,11858,4],[11859,2,11859,4],[11860,2,11860,4],[11861,2,11861,4],[11862,2,11862,4],[11863,2,11863,4],[11864,2,11864,4],[11865,2,11865,4],[11800,2,11800,4],[11801,2,11801,4],[11802,2,11802,4],[11803,2,11803,4],[11804,2,11804,4],[11805,2,11805,4],[11806,2,11806,4],[11807,2,11807,4],[11808,2,11808,4],[11809,2,11809,4],[11810,2,11810,4],[11811,2,11811,4],[11812,2,11812,4],[11813,2,11813,4],[11814,2,11814,4],[11815,2,11815,4],[11816,2,11816,4],[11817,2,11817,4],[11818,2,11818,4],[11819,2,11819,4],[11820,2,11820,4],[11821,2,11821,4],[11822,2,11822,4],[11823,2,11823,4],[11824,2,11824,4],[11825,2,11825,4],[11826,2,11826,4],[11827,2,11827,4],[11828,2,11828,4],[11829,2,11829,4],[11830,2,11830,4],[11831,2,11831,4],[11832,2,11832,4],[11767,2,11767,4],[11768,2,11768,4],[11769,2,11769,4],[11770,2,11770,4],[11771,2,11771,4],[11772,2,11772,4],[11773,2,11773,4],[11774,2,11774,4],[11775,2,11775,4],[11776,2,11776,4],[11777,2,11777,4],[11778,2,11778,4],[11779,2,11779,4],[11780,2,11780,4],[11781,2,11781,4],[11782,2,11782,4],[11783,2,11783,4],[11784,2,11784,4],[11785,2,11785,4],[11786,2,11786,4],[11787,2,11787,4],[11788,2,11788,4],[11789,2,11789,4],[11790,2,11790,4],[11791,2,11791,4],[11792,2,11792,4],[11793,2,11793,4],[11794,2,11794,4],[11795,2,11795,4],[11796,2,11796,4],[11797,2,11797,4],[11798,2,11798,4],[11799,2,11799,4],[11734,2,11734,4],[11735,2,11735,4],[11736,2,11736,4],[11737,2,11737,4],[11738,2,11738,4],[11739,2,11739,4],[11740,2,11740,4],[11741,2,11741,4],[11742,2,11742,4],[11743,2,11743,4],[11744,2,11744,4],[11745,2,11745,4],[11746,2,11746,4],[11747,2,11747,4],[11748,2,11748,4],[11749,2,11749,4],[11750,2,11750,4],[11751,2,11751,4],[11752,2,11752,4],[11753,2,11753,4],[11754,2,11754,4],[11755,2,11755,4],[11756,2,11756,4],[11757,2,11757,4],[11758,2,11758,4],[11759,2,11759,4],[11760,2,11760,4],[11761,2,11761,4],[11762,2,11762,4],[11763,2,11763,4],[11764,2,11764,4],[11765,2,11765,4],[11766,2,11766,4],[11701,2,11701,4],[11702,2,11702,4],[11703,2,11703,4],[11704,2,11704,4],[11705,2,11705,4],[11706,2,11706,4],[11707,2,11707,4],[11708,2,11708,4],[11709,2,11709,4],[11710,2,11710,4],[11711,2,11711,4],[11712,2,11712,4],[11713,2,11713,4],[11714,2,11714,4],[11715,2,11715,4],[11716,2,11716,4],[11717,2,11717,4],[11718,2,11718,4],[11719,2,11719,4],[11720,2,11720,4],[11721,2,11721,4],[11722,2,11722,4],[11723,2,11723,4],[11724,2,11724,4],[11725,2,11725,4],[11726,2,11726,4],[11727,2,11727,4],[11728,2,11728,4],[11729,2,11729,4],[11730,2,11730,4],[11731,2,11731,4],[11732,2,11732,4],[11733,2,11733,4],[11668,2,11668,4],[11669,2,11669,4],[11670,2,11670,4],[11671,2,11671,4],[11672,2,11672,4],[11673,2,11673,4],[11674,2,11674,4],[11675,2,11675,4],[11676,2,11676,4],[11677,2,11677,4],[11678,2,11678,4],[11679,2,11679,4],[11680,2,11680,4],[11681,2,11681,4],[11682,2,11682,4],[11683,2,11683,4],[11684,2,11684,4],[11685,2,11685,4],[11686,2,11686,4],[11687,2,11687,4],[11688,2,11688,4],[11689,2,11689,4],[11690,2,11690,4],[11691,2,11691,4],[11692,2,11692,4],[11693,2,11693,4],[11694,2,11694,4],[11695,2,11695,4],[11696,2,11696,4],[11697,2,11697,4],[11698,2,11698,4],[11699,2,11699,4],[11700,2,11700,4],[11635,2,11635,4],[11636,2,11636,4],[11637,2,11637,4],[11638,2,11638,4],[11639,2,11639,4],[11640,2,11640,4],[11641,2,11641,4],[11642,2,11642,4],[11643,2,11643,4],[11644,2,11644,4],[11645,2,11645,4],[11646,2,11646,4],[11647,2,11647,4],[11648,2,11648,4],[11649,2,11649,4],[11650,2,11650,4],[11651,2,11651,4],[11652,2,11652,4],[11653,2,11653,4],[11654,2,11654,4],[11655,2,11655,4],[11656,2,11656,4],[11657,2,11657,4],[11658,2,11658,4],[11659,2,11659,4],[11660,2,11660,4],[11661,2,11661,4],[11662,2,11662,4],[11663,2,11663,4],[11664,2,11664,4],[11665,2,11665,4],[11666,2,11666,4],[11667,2,11667,4],[11602,2,11602,4],[11603,2,11603,4],[11604,2,11604,4],[11605,2,11605,4],[11606,2,11606,4],[11607,2,11607,4],[11608,2,11608,4],[11609,2,11609,4],[11610,2,11610,4],[11611,2,11611,4],[11612,2,11612,4],[11613,2,11613,4],[11614,2,11614,4],[11615,2,11615,4],[11616,2,11616,4],[11617,2,11617,4],[11618,2,11618,4],[11619,2,11619,4],[11620,2,11620,4],[11621,2,11621,4],[11622,2,11622,4],[11623,2,11623,4],[11624,2,11624,4],[11625,2,11625,4],[11626,2,11626,4],[11627,2,11627,4],[11628,2,11628,4],[11629,2,11629,4],[11630,2,11630,4],[11631,2,11631,4],[11632,2,11632,4],[11633,2,11633,4],[11634,2,11634,4],[11569,2,11569,4],[11570,2,11570,4],[11571,2,11571,4],[11572,2,11572,4],[11573,2,11573,4],[11574,2,11574,4],[11575,2,11575,4],[11576,2,11576,4],[11577,2,11577,4],[11578,2,11578,4],[11579,2,11579,4],[11580,2,11580,4],[11581,2,11581,4],[11582,2,11582,4],[11583,2,11583,4],[11584,2,11584,4],[11585,2,11585,4],[11586,2,11586,4],[11587,2,11587,4],[11588,2,11588,4],[11589,2,11589,4],[11590,2,11590,4],[11591,2,11591,4],[11592,2,11592,4],[11593,2,11593,4],[11594,2,11594,4],[11595,2,11595,4],[11596,2,11596,4],[11597,2,11597,4],[11598,2,11598,4],[11599,2,11599,4],[11600,2,11600,4],[11601,2,11601,4],[11536,2,11536,4],[11537,2,11537,4],[11538,2,11538,4],[11539,2,11539,4],[11540,2,11540,4],[11541,2,11541,4],[11542,2,11542,4],[11543,2,11543,4],[11544,2,11544,4],[11545,2,11545,4],[11546,2,11546,4],[11547,2,11547,4],[11548,2,11548,4],[11549,2,11549,4],[11550,2,11550,4],[11551,2,11551,4],[11552,2,11552,4],[11553,2,11553,4],[11554,2,11554,4],[11555,2,11555,4],[11556,2,11556,4],[11557,2,11557,4],[11558,2,11558,4],[11559,2,11559,4],[11560,2,11560,4],[11561,2,11561,4],[11562,2,11562,4],[11563,2,11563,4],[11564,2,11564,4],[11565,2,11565,4],[11566,2,11566,4],[11567,2,11567,4],[11568,2,11568,4],[11503,2,11503,4],[11504,2,11504,4],[11505,2,11505,4],[11506,2,11506,4],[11507,2,11507,4],[11508,2,11508,4],[11509,2,11509,4],[11510,2,11510,4],[11511,2,11511,4],[11512,2,11512,4],[11513,2,11513,4],[11514,2,11514,4],[11515,2,11515,4],[11516,2,11516,4],[11517,2,11517,4],[11518,2,11518,4],[11519,2,11519,4],[11520,2,11520,4],[11521,2,11521,4],[11522,2,11522,4],[11523,2,11523,4],[11524,2,11524,4],[11525,2,11525,4],[11526,2,11526,4],[11527,2,11527,4],[11528,2,11528,4],[11529,2,11529,4],[11530,2,11530,4],[11531,2,11531,4],[11532,2,11532,4],[11533,2,11533,4],[11534,2,11534,4],[11535,2,11535,4],[11470,2,11470,4],[11471,2,11471,4],[11472,2,11472,4],[11473,2,11473,4],[11474,2,11474,4],[11475,2,11475,4],[11476,2,11476,4],[11477,2,11477,4],[11478,2,11478,4],[11479,2,11479,4],[11480,2,11480,4],[11481,2,11481,4],[11482,2,11482,4],[11483,2,11483,4],[11484,2,11484,4],[11485,2,11485,4],[11486,2,11486,4],[11487,2,11487,4],[11488,2,11488,4],[11489,2,11489,4],[11490,2,11490,4],[11491,2,11491,4],[11492,2,11492,4],[11493,2,11493,4],[11494,2,11494,4],[11495,2,11495,4],[11496,2,11496,4],[11497,2,11497,4],[11498,2,11498,4],[11499,2,11499,4],[11500,2,11500,4],[11501,2,11501,4],[11502,2,11502,4],[11437,2,11437,4],[11438,2,11438,4],[11439,2,11439,4],[11440,2,11440,4],[11441,2,11441,4],[11442,2,11442,4],[11443,2,11443,4],[11444,2,11444,4],[11445,2,11445,4],[11446,2,11446,4],[11447,2,11447,4],[11448,2,11448,4],[11449,2,11449,4],[11450,2,11450,4],[11451,2,11451,4],[11452,2,11452,4],[11453,2,11453,4],[11454,2,11454,4],[11455,2,11455,4],[11456,2,11456,4],[11457,2,11457,4],[11458,2,11458,4],[11459,2,11459,4],[11460,2,11460,4],[11461,2,11461,4],[11462,2,11462,4],[11463,2,11463,4],[11464,2,11464,4],[11465,2,11465,4],[11466,2,11466,4],[11467,2,11467,4],[11468,2,11468,4],[11469,2,11469,4],[11404,2,11404,4],[11405,2,11405,4],[11406,2,11406,4],[11407,2,11407,4],[11408,2,11408,4],[11409,2,11409,4],[11410,2,11410,4],[11411,2,11411,4],[11412,2,11412,4],[11413,2,11413,4],[11414,2,11414,4],[11415,2,11415,4],[11416,2,11416,4],[11417,2,11417,4],[11418,2,11418,4],[11419,2,11419,4],[11420,2,11420,4],[11421,2,11421,4],[11422,2,11422,4],[11423,2,11423,4],[11424,2,11424,4],[11425,2,11425,4],[11426,2,11426,4],[11427,2,11427,4],[11428,2,11428,4],[11429,2,11429,4],[11430,2,11430,4],[11431,2,11431,4],[11432,2,11432,4],[11433,2,11433,4],[11434,2,11434,4],[11435,2,11435,4],[11436,2,11436,4],[11371,2,11371,4],[11372,2,11372,4],[11373,2,11373,4],[11374,2,11374,4],[11375,2,11375,4],[11376,2,11376,4],[11377,2,11377,4],[11378,2,11378,4],[11379,2,11379,4],[11380,2,11380,4],[11381,2,11381,4],[11382,2,11382,4],[11383,2,11383,4],[11384,2,11384,4],[11385,2,11385,4],[11386,2,11386,4],[11387,2,11387,4],[11388,2,11388,4],[11389,2,11389,4],[11390,2,11390,4],[11391,2,11391,4],[11392,2,11392,4],[11393,2,11393,4],[11394,2,11394,4],[11395,2,11395,4],[11396,2,11396,4],[11397,2,11397,4],[11398,2,11398,4],[11399,2,11399,4],[11400,2,11400,4],[11401,2,11401,4],[11402,2,11402,4],[11403,2,11403,4],[11338,2,11338,4],[11339,2,11339,4],[11340,2,11340,4],[11341,2,11341,4],[11342,2,11342,4],[11343,2,11343,4],[11344,2,11344,4],[11345,2,11345,4],[11346,2,11346,4],[11347,2,11347,4],[11348,2,11348,4],[11349,2,11349,4],[11350,2,11350,4],[11351,2,11351,4],[11352,2,11352,4],[11353,2,11353,4],[11354,2,11354,4],[11355,2,11355,4],[11356,2,11356,4],[11357,2,11357,4],[11358,2,11358,4],[11359,2,11359,4],[11360,2,11360,4],[11361,2,11361,4],[11362,2,11362,4],[11363,2,11363,4],[11364,2,11364,4],[11365,2,11365,4],[11366,2,11366,4],[11367,2,11367,4],[11368,2,11368,4],[11369,2,11369,4],[11370,2,11370,4],[11305,2,11305,4],[11306,2,11306,4],[11307,2,11307,4],[11308,2,11308,4],[11309,2,11309,4],[11310,2,11310,4],[11311,2,11311,4],[11312,2,11312,4],[11313,2,11313,4],[11314,2,11314,4],[11315,2,11315,4],[11316,2,11316,4],[11317,2,11317,4],[11318,2,11318,4],[11319,2,11319,4],[11320,2,11320,4],[11321,2,11321,4],[11322,2,11322,4],[11323,2,11323,4],[11324,2,11324,4],[11325,2,11325,4],[11326,2,11326,4],[11327,2,11327,4],[11328,2,11328,4],[11329,2,11329,4],[11330,2,11330,4],[11331,2,11331,4],[11332,2,11332,4],[11333,2,11333,4],[11334,2,11334,4],[11335,2,11335,4],[11336,2,11336,4],[11337,2,11337,4],[11272,2,11272,4],[11273,2,11273,4],[11274,2,11274,4],[11275,2,11275,4],[11276,2,11276,4],[11277,2,11277,4],[11278,2,11278,4],[11279,2,11279,4],[11280,2,11280,4],[11281,2,11281,4],[11282,2,11282,4],[11283,2,11283,4],[11284,2,11284,4],[11285,2,11285,4],[11286,2,11286,4],[11287,2,11287,4],[11288,2,11288,4],[11289,2,11289,4],[11290,2,11290,4],[11291,2,11291,4],[11292,2,11292,4],[11293,2,11293,4],[11294,2,11294,4],[11295,2,11295,4],[11296,2,11296,4],[11297,2,11297,4],[11298,2,11298,4],[11299,2,11299,4],[11300,2,11300,4],[11301,2,11301,4],[11302,2,11302,4],[11303,2,11303,4],[11304,2,11304,4],[11239,2,11239,4],[11240,2,11240,4],[11241,2,11241,4],[11242,2,11242,4],[11243,2,11243,4],[11244,2,11244,4],[11245,2,11245,4],[11246,2,11246,4],[11247,2,11247,4],[11248,2,11248,4],[11249,2,11249,4],[11250,2,11250,4],[11251,2,11251,4],[11252,2,11252,4],[11253,2,11253,4],[11254,2,11254,4],[11255,2,11255,4],[11256,2,11256,4],[11257,2,11257,4],[11258,2,11258,4],[11259,2,11259,4],[11260,2,11260,4],[11261,2,11261,4],[11262,2,11262,4],[11263,2,11263,4],[11264,2,11264,4],[11265,2,11265,4],[11266,2,11266,4],[11267,2,11267,4],[11268,2,11268,4],[11269,2,11269,4],[11270,2,11270,4],[11271,2,11271,4],[11206,2,11206,4],[11207,2,11207,4],[11208,2,11208,4],[11209,2,11209,4],[11210,2,11210,4],[11211,2,11211,4],[11212,2,11212,4],[11213,2,11213,4],[11214,2,11214,4],[11215,2,11215,4],[11216,2,11216,4],[11217,2,11217,4],[11218,2,11218,4],[11219,2,11219,4],[11220,2,11220,4],[11221,2,11221,4],[11222,2,11222,4],[11223,2,11223,4],[11224,2,11224,4],[11225,2,11225,4],[11226,2,11226,4],[11227,2,11227,4],[11228,2,11228,4],[11229,2,11229,4],[11230,2,11230,4],[11231,2,11231,4],[11232,2,11232,4],[11233,2,11233,4],[11234,2,11234,4],[11235,2,11235,4],[11236,2,11236,4],[11237,2,11237,4],[11238,2,11238,4],[11173,2,11173,4],[11174,2,11174,4],[11175,2,11175,4],[11176,2,11176,4],[11177,2,11177,4],[11178,2,11178,4],[11179,2,11179,4],[11180,2,11180,4],[11181,2,11181,4],[11182,2,11182,4],[11183,2,11183,4],[11184,2,11184,4],[11185,2,11185,4],[11186,2,11186,4],[11187,2,11187,4],[11188,2,11188,4],[11189,2,11189,4],[11190,2,11190,4],[11191,2,11191,4],[11192,2,11192,4],[11193,2,11193,4],[11194,2,11194,4],[11195,2,11195,4],[11196,2,11196,4],[11197,2,11197,4],[11198,2,11198,4],[11199,2,11199,4],[11200,2,11200,4],[11201,2,11201,4],[11202,2,11202,4],[11203,2,11203,4],[11204,2,11204,4],[11205,2,11205,4],[11140,2,11140,4],[11141,2,11141,4],[11142,2,11142,4],[11143,2,11143,4],[11144,2,11144,4],[11145,2,11145,4],[11146,2,11146,4],[11147,2,11147,4],[11148,2,11148,4],[11149,2,11149,4],[11150,2,11150,4],[11151,2,11151,4],[11152,2,11152,4],[11153,2,11153,4],[11154,2,11154,4],[11155,2,11155,4],[11156,2,11156,4],[11157,2,11157,4],[11158,2,11158,4],[11159,2,11159,4],[11160,2,11160,4],[11161,2,11161,4],[11162,2,11162,4],[11163,2,11163,4],[11164,2,11164,4],[11165,2,11165,4],[11166,2,11166,4],[11167,2,11167,4],[11168,2,11168,4],[11169,2,11169,4],[11170,2,11170,4],[11171,2,11171,4],[11172,2,11172,4],[11107,2,11107,4],[11108,2,11108,4],[11109,2,11109,4],[11110,2,11110,4],[11111,2,11111,4],[11112,2,11112,4],[11113,2,11113,4],[11114,2,11114,4],[11115,2,11115,4],[11116,2,11116,4],[11117,2,11117,4],[11118,2,11118,4],[11119,2,11119,4],[11120,2,11120,4],[11121,2,11121,4],[11122,2,11122,4],[11123,2,11123,4],[11124,2,11124,4],[11125,2,11125,4],[11126,2,11126,4],[11127,2,11127,4],[11128,2,11128,4],[11129,2,11129,4],[11130,2,11130,4],[11131,2,11131,4],[11132,2,11132,4],[11133,2,11133,4],[11134,2,11134,4],[11135,2,11135,4],[11136,2,11136,4],[11137,2,11137,4],[11138,2,11138,4],[11139,2,11139,4],[11074,2,11074,4],[11075,2,11075,4],[11076,2,11076,4],[11077,2,11077,4],[11078,2,11078,4],[11079,2,11079,4],[11080,2,11080,4],[11081,2,11081,4],[11082,2,11082,4],[11083,2,11083,4],[11084,2,11084,4],[11085,2,11085,4],[11086,2,11086,4],[11087,2,11087,4],[11088,2,11088,4],[11089,2,11089,4],[11090,2,11090,4],[11091,2,11091,4],[11092,2,11092,4],[11093,2,11093,4],[11094,2,11094,4],[11095,2,11095,4],[11096,2,11096,4],[11097,2,11097,4],[11098,2,11098,4],[11099,2,11099,4],[11100,2,11100,4],[11101,2,11101,4],[11102,2,11102,4],[11103,2,11103,4],[11104,2,11104,4],[11105,2,11105,4],[11106,2,11106,4],[11041,2,11041,4],[11042,2,11042,4],[11043,2,11043,4],[11044,2,11044,4],[11045,2,11045,4],[11046,2,11046,4],[11047,2,11047,4],[11048,2,11048,4],[11049,2,11049,4],[11050,2,11050,4],[11051,2,11051,4],[11052,2,11052,4],[11053,2,11053,4],[11054,2,11054,4],[11055,2,11055,4],[11056,2,11056,4],[11057,2,11057,4],[11058,2,11058,4],[11059,2,11059,4],[11060,2,11060,4],[11061,2,11061,4],[11062,2,11062,4],[11063,2,11063,4],[11064,2,11064,4],[11065,2,11065,4],[11066,2,11066,4],[11067,2,11067,4],[11068,2,11068,4],[11069,2,11069,4],[11070,2,11070,4],[11071,2,11071,4],[11072,2,11072,4],[11073,2,11073,4],[11008,2,11008,4],[11009,2,11009,4],[11010,2,11010,4],[11011,2,11011,4],[11012,2,11012,4],[11013,2,11013,4],[11014,2,11014,4],[11015,2,11015,4],[11016,2,11016,4],[11017,2,11017,4],[11018,2,11018,4],[11019,2,11019,4],[11020,2,11020,4],[11021,2,11021,4],[11022,2,11022,4],[11023,2,11023,4],[11024,2,11024,4],[11025,2,11025,4],[11026,2,11026,4],[11027,2,11027,4],[11028,2,11028,4],[11029,2,11029,4],[11030,2,11030,4],[11031,2,11031,4],[11032,2,11032,4],[11033,2,11033,4],[11034,2,11034,4],[11035,2,11035,4],[11036,2,11036,4],[11037,2,11037,4],[11038,2,11038,4],[11039,2,11039,4]],"bounds":{"rows_first":2000,"rows_last":500,"rows_between":2000,"halvings":0},"merged_total":13229,"flags":["merged_cut"]}
[]
["You can also search the item through this link:",null,null,"https://www.ungm.org/Public/UNSPSC"]
[]
[null,"SEARCH",null,null,null,null,"SOURCE DATA","","SOURCE DATA"]
[]
[null,"UNSPSC","Description",null,null,null,"UNSPSC","Description","UNSPSC","Helper 1","Helper 2","Helper 3","UNSPSC","ORGANIZATION TYPE","REGION","PS-DBM DEPOT"]
[null,{"$f":"IFERROR(INDEX($G$7:$H$13233,$L7,COLUMNS($B$6:B6)),\"\")","v":"43223103"},"2,5G GPRS mobile core network equipment and components",null,null,null,"43223103","2,5G GPRS mobile core network equipment and components","43223103",1,{"$f":"IF(ISNUMBER(SEARCH($H$4,H7)),J7,\"\")","v":1},{"$f":"IFERROR(SMALL($K$7:$K$13233,J7),\"\")","v":1},"43223103","Attached Agency","Region I - Ilocos Region","PS Main (RR Road Cristobal St. Paco Manila)"]
[null,{"$f":"IFERROR(INDEX($G$7:$H$13233,$L8,COLUMNS($B$6:B7)),\"\")","v":"43223104"},"2,5G GPRS wireless access network equipment and components",null,null,null,"43223104","2,5G GPRS wireless access network equipment and components","43223104",2,2,2,"43223104","Barangay","Region II - Cagayan Valley","PS Regional Depot - Baguio (No. 8 General F. Segundo Street, Barangay Burnham-Legarda, Baguio City, 2600)"]
[null,{"$f":"IFERROR(INDEX($G$7:$H$13233,$L9,COLUMNS($B$6:B8)),\"\")","v":"43223101"},"2G GSM mobile core network equipment and components",null,null,null,"43223101","2G GSM mobile core network equipment and components","43223101",3,3,3,"43223101","Bureau","Region III - Central Luzon","PS Regional Depot - La Union (Government Center, Sevilla, City of San Fernando, La Union)"]
[null,{"$f":"IFERROR(INDEX($G$7:$H$13233,$L10,COLUMNS($B$6:B9)),\"\")","v":"43223102"},"2G GSM wireless access network equipment and components",null,null,null,"43223102","2G GSM wireless access network equipment and components","43223102",4,4,4,"43223102","City Government","Region IV-A - CALABARZON","PS Regional Depot - Tuguegarao (Regional Government, Center Carig, Tuguegarao City)"]
[null,{"$f":"IFERROR(INDEX($G$7:$H$13233,$L11,COLUMNS($B$6:B10)),\"\")","v":"43223105"},"3G UMTS mobile core network equipment and components",null,null,null,"43223105","3G UMTS mobile core network equipment and components","43223105",5,5,5,"43223105","Department","Region IV-B - MIMAROPA","PS Regional Depot - Pampanga (Regional Government Center Maimpis, San Fernando City Pampanga)"]
[null,{"$f":"IFERROR(INDEX($G$7:$H$13233,$L12,COLUMNS($B$6:B11)),\"\")","v":"43223106"},"3G UMTS wireless access network equipment and components",null,null,null,"43223106","3G UMTS wireless access network equipment and components","43223106",6,6,6,"43223106","Government Owned and/or Controlled Corporations (GOCC)","Region V - Bicol Region","PS Regional Depot - Legazpi (Lakandula Drive, Gogon, Legazpi City)"]
[null,{"$f":"IFERROR(INDEX($G$7:$H$13233,$L13,COLUMNS($B$6:B12)),\"\")","v":"51342501"},"Abacavir",null,null,null,"51342501","Abacavir","51342501",7,7,7,"51342501","High School","Region VI - Western Visayas","PS Regional Depot - Cebu (Sudlon Lahug , Cebu City)"]
[null,{"$f":"IFERROR(INDEX($G$7:$H$13233,$L14,COLUMNS($B$6:B13)),\"\")","v":"51342506"},"Abacavir sulfate",null,null,null,"51342506","Abacavir sulfate","51342506",8,8,8,"51342506","Hospital","Region VII - Central Visayas","PS Regional Depot - Tacloban (Brgy. 77, Villa Ruiz Marasbaras, Tacloban City)"]
[null,{"$f":"IFERROR(INDEX($G$7:$H$13233,$L15,COLUMNS($B$6:B14)),\"\")","v":"51343801"},"Abacavir/lamivudine",null,null,null,"51343801","Abacavir/lamivudine","51343801",9,9,9,"51343801","Integrated School (High School/Elementary)","Region VIII - Eastern Visayas","PS Regional Depot - CDO (Zone I, National Highway Bulua, Cagayan De Oro City)"]
[null,{"$f":"IFERROR(INDEX($G$7:$H$13233,$L16,COLUMNS($B$6:B15)),\"\")","v":"10191510"},"Abamectin",null,null,null,"10191510","Abamectin","10191510",10,10,10,"10191510","Municipal Government","Region IX - Zamboanga Peninsula","PS Regional Depot - Davao (Km. 3, Mac Arthur Highway Matina, Davao City)"]
[null,{"$f":"IFERROR(INDEX($G$7:$H$13233,$L17,COLUMNS($B$6:B16)),\"\")","v":"46111504"},"Abandoned Explosive Ordnance AXO",null,null,null,"46111504","Abandoned Explosive Ordnance AXO","46111504",11,11,11,"46111504","Provincial Government","Region X - Northern Mindanao","PS Regional Depot - Koronadal (DBM Compound, Brgy. Morales, Koronadal City)"]
[null,{"$f":"IFERROR(INDEX($G$7:$H$13233,$L18,COLUMNS($B$6:B17)),\"\")","v":"76121506"},"Abandoned vehicle recovery and disposal service",null,null,null,"76121506","Abandoned vehicle recovery and disposal service","76121506",12,12,12,"76121506","State Universities or Colleges (SUC)","Region XI - Davao Region","PS Regional Depot - Butuan (J. Rosales Avenue, Butuan City)"]
[null,{"$f":"IFERROR(INDEX($G$7:$H$13233,$L19,COLUMNS($B$6:B18)),\"\")","v":"51261702"},"Abanoquil",null,null,null,"51261702","Abanoquil","51261702",13,13,13,"51261702","Constitutional","Region XII - SOCCSKSARGEN","PS LGU Depot - Bontoc (Multi-purpose Building Back of LBP Building Bontoc, Mt. Province)"]
[null,{"$f":"IFERROR(INDEX($G$7:$H$13233,$L20,COLUMNS($B$6:B19)),\"\")","v":"51203801"},"Abatacept",null,null,null,"51203801","Abatacept","51203801",14,14,14,"51203801",null,"Region XIII - Caraga","PS LGU Depot - Puerto Princesa (City Coliseum, Barangay San Pedro Puerto Princesa City)"]
[null,{"$f":"IFERROR(INDEX($G$7:$H$13233,$L21,COLUMNS($B$6:B20)),\"\")","v":"51131701"},"Abciximab",null,null,null,"51131701","Abciximab","51131701",15,15,15,"51131701",null,"NCR - National Capital Region","PS LGU Depot - Bacolod (Cottage Road, Barangay 9, Bacolod City, Negros Occidental)"]
[null,{"$f":"IFERROR(INDEX($G$7:$H$13233,$L22,COLUMNS($B$6:B21)),\"\")","v":"42312502"},"Abdominal binders",null,null,null,"42312502","Abdominal binders","42312502",16,16,16,"42312502",null,"CAR - Cordillera Administrative Region","PS LGU Depot - Biliran (General Services Office, Calumpang Naval , Biliran)"]
[null,{"$f":"IFERROR(INDEX($G$7:$H$13233,$L23,COLUMNS($B$6:B22)),\"\")","v":"42143108"},"Abdominal decompression chambers",null,null,null,"42143108","Abdominal decompression chambers","42143108",17,17,17,"42143108",null,"BARMM - Bangsamoro Autonomous Region in Muslim Mindanao","PS LGU Depot - Borongan (Capitol Building, Barangay Alang-Alang, Borongan City)"]
[null,{"$f":"IFERROR(INDEX($G$7:$H$13233,$L24,COLUMNS($B$6:B23)),\"\")","v":"51112029"},"Abemaciclib",null,null,null,"51112029","Abemaciclib","51112029",18,18,18,"51112029",null,null,"PS LGU Depot - Calbayog (New Public Market, Barangay Bagacay, Calbayog City)"]
[null,{"$f":"IFERROR(INDEX($G$7:$H$13233,$L25,COLUMNS($B$6:B24)),\"\")","v":"51111830"},"Abiraterone",null,null,null,"51111830","Abiraterone","51111830",19,19,19,"51111830",null,null,"PS LGU Depot - Catarman (New Provincial Capitol Compound, Barangay Dalakit, Catarman, Northern Samar)"]
[null,{"$f":"IFERROR(INDEX($G$7:$H$13233,$L26,COLUMNS($B$6:B25)),\"\")","v":"78131702"},"Above ground storage or tankage service",null,null,null,"78131702","Above ground storage or tankage service","78131702",20,20,20,"78131702",null,null,"PS LGU Depot - Maasin (Provincial Engineering Office, Capitol Compound, Maasin City)"]
[null,{"$f":"IFERROR(INDEX($G$7:$H$13233,$L27,COLUMNS($B$6:B26)),\"\")","v":"72103103"},"Aboveground conveyor service",null,null,null,"72103103","Aboveground conveyor service","72103103",21,21,21,"72103103",null,null,"PS LGU Depot - Zamboanga City (Legionaire St. Zone 4, Zamboanga City)"]
[null,{"$f":"IFERROR(INDEX($G$7:$H$13233,$L28,COLUMNS($B$6:B27)),\"\")","v":"41114601"},"Abrasion testers",null,null,null,"41114601","Abrasion testers","41114601",22,22,22,"41114601",null,null,"PS LGU Depot - Zamboanga Sibugay (Provincial Government of Ipil Brgy. Sanito, Zamboanga Sibugay)"]
[null,{"$f":"IFERROR(INDEX($G$7:$H$13233,$L29,COLUMNS($B$6:B28)),\"\")","v":"23131501"},"Abrasive compounds",null,null,null,"23131501","Abrasive compounds","23131501",23,23,23,"23131501",null,null,"PS LGU Depot - Bukidnon (New Valencia City, Integrated Bus Terminal Complex, Hagkol, Valencia City)"]
[null,{"$f":"IFERROR(INDEX($G$7:$H$13233,$L30,COLUMNS($B$6:B29)),\"\")","v":"31191506"},"Abrasive discs",null,null,null,"31191506","Abrasive discs","31191506",24,24,24,"31191506",null,null,"PS LGU Depot - Camiguin (Provincial Capitol, Mambajao , Camiguin)"]
[null,{"$f":"IFERROR(INDEX($G$7:$H$13233,$L31,COLUMNS($B$6:B30)),\"\")","v":"31191600"},"Abrasive wheels",null,null,null,"31191600","Abrasive wheels","31191600",25,25,25,"31191600",null,null,"PS LGU Depot - Misamis Occidental (Provincial Capitol, Oroquieta City)"]
[null,{"$f":"IFERROR(INDEX($G$7:$H$13233,$L32,COLUMNS($B$6:B31)),\"\")","v":"31191500"},"Abrasives and abrasive media",null,null,null,"31191500","Abrasives and abrasive media","31191500",26,26,26,"31191500",null,null,"PS LGU Depot - Misamis Oriental (Provincial Booking Center, Capitol Compound, Luna St., Cagayan De Oro City)"]
[null,{"$f":"IFERROR(INDEX($G$7:$H$13233,$L33,COLUMNS($B$6:B32)),\"\")","v":"47131901"},"Absorbent mats",null,null,null,"47131901","Absorbent mats","47131901",27,27,27,"47131901",null,null,"PS LGU Depot - Surigao Del Norte (Capitol Compound, Surigao City)"]
[null,{"$f":"IFERROR(INDEX($G$7:$H$13233,$L34,COLUMNS($B$6:B33)),\"\")","v":"47131900"},"Absorbents",null,null,null,"47131900","Absorbents","47131900",28,28,28,"47131900",null,null,"Mindanao Hub (PHILPOST Compound, Piaping Itum, Macabalan, Cagayan De Oro City)"]
[null,{"$f":"IFERROR(INDEX($G$7:$H$13233,$L35,COLUMNS($B$6:B34)),\"\")","v":"42272502"},"Absorber units for gas anesthesia apparatus or machines",null,null,null,"42272502","Absorber units for gas anesthesia apparatus or machines","42272502",29,29,29,"42272502"]
[null,{"$f":"IFERROR(INDEX($G$7:$H$13233,$L36,COLUMNS($B$6:B35)),\"\")","v":"42312301"},"Absorbers for wound cleansing",null,null,null,"42312301","Absorbers for wound cleansing","42312301",30,30,30,"42312301"]
[null,{"$f":"IFERROR(INDEX($G$7:$H$13233,$L37,COLUMNS($B$6:B36)),\"\")","v":"40101713"},"Absorption chiller",null,null,null,"40101713","Absorption chiller","40101713",31,31,31,"40101713"]
[null,{"$f":"IFERROR(INDEX($G$7:$H$13233,$L38,COLUMNS($B$6:B37)),\"\")","v":"40101714"},"Absorption chiller heater",null,null,null,"40101714","Absorption chiller heater","40101714",32,32,32,"40101714"]
[null,{"$f":"IFERROR(INDEX($G$7:$H$13233,$L39,COLUMNS($B$6:B38)),\"\")","v":"82111503"},"Academic or scientific article writing",null,null,null,"82111503","Academic or scientific article writing","82111503",33,33,33,"82111503"]
[null,{"$f":"IFERROR(INDEX($G$7:$H$13233,$L40,COLUMNS($B$6:B39)),\"\")","v":"51112088"},"Acalabrutinib",null,null,null,"51112088","Acalabrutinib","51112088",34,34,34,"51112088"]
[null,{"$f":"IFERROR(INDEX($G$7:$H$13233,$L41,COLUMNS($B$6:B40)),\"\")","v":"51183801"},"Acarbose",null,null,null,"51183801","Acarbose","51183801",35,35,35,"51183801"]
[null,{"$f":"IFERROR(INDEX($G$7:$H$13233,$L42,COLUMNS($B$6:B41)),\"\")","v":"41116400"},"Acceleration and vibration measuring instruments",null,null,null,"41116400","Acceleration and vibration measuring instruments","41116400",36,36,36,"41116400"]
[null,{"$f":"IFERROR(INDEX($G$7:$H$13233,$L43,COLUMNS($B$6:B42)),\"\")","v":"41113639"},"Accelerometers",null,null,null,"41113639","Accelerometers","41113639",37,37,37,"41113639"]
[null,{"$f":"IFERROR(INDEX($G$7:$H$13233,$L44,COLUMNS($B$6:B43)),\"\")","v":"72151701"},"Access control system installation service",null,null,null,"72151701","Access control system installation service","72151701",38,38,38,"72151701"]
[null,{"$f":"IFERROR(INDEX($G$7:$H$13233,$L45,COLUMNS($B$6:B44)),\"\")","v":"72152501"},"Access flooring system installation service",null,null,null,"72152501","Access flooring system installation service","72152501",39,39,39,"72152501"]
[null,{"$f":"IFERROR(INDEX($G$7:$H$13233,$L46,COLUMNS($B$6:B45)),\"\")","v":"81161500"},"Access management services",null,null,null,"81161500","Access management services","81161500",40,40,40,"81161500"]
[null,{"$f":"IFERROR(INDEX($G$7:$H$13233,$L47,COLUMNS($B$6:B46)),\"\")","v":"95111503"},"Access roads",null,null,null,"95111503","Access roads","95111503",41,41,41,"95111503"]
[null,{"$f":"IFERROR(INDEX($G$7:$H$13233,$L48,COLUMNS($B$6:B47)),\"\")","v":"43222625"},"Access servers",null,null,null,"43222625","Access servers","43222625",42,42,42,"43222625"]
[null,{"$f":"IFERROR(INDEX($G$7:$H$13233,$L49,COLUMNS($B$6:B48)),\"\")","v":"43232901"},"Access software",null,null,null,"43232901","Access software","43232901",43,43,43,"43232901"]
[null,{"$f":"IFERROR(INDEX($G$7:$H$13233,$L50,COLUMNS($B$6:B49)),\"\")","v":"60131506"},"Accessories for stringed instruments",null,null,null,"60131506","Accessories for stringed instruments","60131506",44,44,44,"60131506"]
[null,{"$f":"IFERROR(INDEX($G$7:$H$13233,$L51,COLUMNS($B$6:B50)),\"\")","v":"57060203"},"Accessories for tent",null,null,null,"57060203","Accessories for tent","57060203",45,45,45,"57060203"]
[null,{"$f":"IFERROR(INDEX($G$7:$H$13233,$L52,COLUMNS($B$6:B51)),\"\")","v":"44102609"},"Accessory or supply kits for typewriters",null,null,null,"44102609","Accessory or supply kits for typewriters","44102609",46,46,46,"44102609"]
[null,{"$f":"IFERROR(INDEX($G$7:$H$13233,$L53,COLUMNS($B$6:B52)),\"\")","v":"84131603"},"Accidental injury insurance",null,null,null,"84131603","Accidental injury insurance","84131603",47,47,47,"84131603"]
[null,{"$f":"IFERROR(INDEX($G$7:$H$13233,$L54,COLUMNS($B$6:B53)),\"\")","v":"95122100"},"Accommodation buildings and structures",null,null,null,"95122100","Accommodation buildings and structures","95122100",48,48,48,"95122100"]
[null,{"$f":"IFERROR(INDEX($G$7:$H$13233,$L55,COLUMNS($B$6:B54)),\"\")","v":"56100000"},"Accommodation furniture",null,null,null,"56100000","Accommodation furniture","56100000",49,49,49,"56100000"]
[null,{"$f":"IFERROR(INDEX($G$7:$H$13233,$L56,COLUMNS($B$6:B55)),\"\")","v":"44122033"},"Accordion file folder",null,null,null,"44122033","Accordion file folder","44122033",50,50,50,"44122033"]
[null,{"$f":"IFERROR(INDEX($G$7:$H$13233,$L57,COLUMNS($B$6:B56)),\"\")","v":"84110000"},"Accounting and bookkeeping services",null,null,null,"84110000","Accounting and bookkeeping services","84110000",51,51,51,"84110000"]
[null,{"$f":"IFERROR(INDEX($G$7:$H$13233,$L58,COLUMNS($B$6:B57)),\"\")","v":"14111808"},"Accounting forms or accounting books",null,null,null,"14111808","Accounting forms or accounting books","14111808",52,52,52,"14111808"]
[null,{"$f":"IFERROR(INDEX($G$7:$H$13233,$L59,COLUMNS($B$6:B58)),\"\")","v":"44101803"},"Accounting machines",null,null,null,"44101803","Accounting machines","44101803",53,53,53,"44101803"]
[null,{"$f":"IFERROR(INDEX($G$7:$H$13233,$L60,COLUMNS($B$6:B59)),\"\")","v":"84111500"},"Accounting services",null,null,null,"84111500","Accounting services","84111500",54,54,54,"84111500"]
[null,{"$f":"IFERROR(INDEX($G$7:$H$13233,$L61,COLUMNS($B$6:B60)),\"\")","v":"43231601"},"Accounting software",null,null,null,"43231601","Accounting software","43231601",55,55,55,"43231601"]
[null,{"$f":"IFERROR(INDEX($G$7:$H$13233,$L62,COLUMNS($B$6:B61)),\"\")","v":"81112213"},"Accounting software maintenance",null,null,null,"81112213","Accounting software maintenance","81112213",56,56,56,"81112213"]
[null,{"$f":"IFERROR(INDEX($G$7:$H$13233,$L63,COLUMNS($B$6:B62)),\"\")","v":"51383401"},"Acemetacin",null,null,null,"51383401","Acemetacin","51383401",57,57,57,"51383401"]
[null,{"$f":"IFERROR(INDEX($G$7:$H$13233,$L64,COLUMNS($B$6:B63)),\"\")","v":"51381701"},"Acetaminophen or paracetamol",null,null,null,"51381701","Acetaminophen or paracetamol","51381701",58,58,58,"51381701"]
[null,{"$f":"IFERROR(INDEX($G$7:$H$13233,$L65,COLUMNS($B$6:B64)),\"\")","v":"51162357"},"Acetaminophen/Caffeine/Chlorpheniramine/Phenylephrine",null,null,null,"51162357","Acetaminophen/Caffeine/Chlorpheniramine/Phenylephrine","51162357",59,59,59,"51162357"]
[null,{"$f":"IFERROR(INDEX($G$7:$H$13233,$L66,COLUMNS($B$6:B65)),\"\")","v":"51132225"},"Acetaminophen/tramadol",null,null,null,"51132225","Acetaminophen/tramadol","51132225",60,60,60,"51132225"]
[null,{"$f":"IFERROR(INDEX($G$7:$H$13233,$L67,COLUMNS($B$6:B66)),\"\")","v":"13111203"},"Acetate films",null,null,null,"13111203","Acetate films","13111203",61,61,61,"13111203"]
[null,{"$f":"IFERROR(INDEX($G$7:$H$13233,$L68,COLUMNS($B$6:B67)),\"\")","v":"51141501"},"Acetazolamide",null,null,null,"51141501","Acetazolamide","51141501",62,62,62,"51141501"]
[null,{"$f":"IFERROR(INDEX($G$7:$H$13233,$L69,COLUMNS($B$6:B68)),\"\")","v":"51172332"},"Acetohydroxamic acid",null,null,null,"51172332","Acetohydroxamic acid","51172332",63,63,63,"51172332"]
[null,{"$f":"IFERROR(INDEX($G$7:$H$13233,$L70,COLUMNS($B$6:B69)),\"\")","v":"51473016"},"Acetone or alcohol based antiseptics",null,null,null,"51473016","Acetone or alcohol based antiseptics","51473016",64,64,64,"51473016"]
[null,{"$f":"IFERROR(INDEX($G$7:$H$13233,$L71,COLUMNS($B$6:B70)),\"\")","v":"51162701"},"Acetylcysteine",null,null,null,"51162701","Acetylcysteine","51162701",65,65,65,"51162701"]
[null,{"$f":"IFERROR(INDEX($G$7:$H$13233,$L72,COLUMNS($B$6:B71)),\"\")","v":"15111506"},"Acetylene",null,null,null,"15111506","Acetylene","15111506",66,66,66,"15111506"]
[null,{"$f":"IFERROR(INDEX($G$7:$H$13233,$L73,COLUMNS($B$6:B72)),\"\")","v":"51143103"},"Acetylsalicylic acid or Aspirin",null,null,null,"51143103","Acetylsalicylic acid or Aspirin","51143103",67,67,67,"51143103"]
[null,{"$f":"IFERROR(INDEX($G$7:$H$13233,$L74,COLUMNS($B$6:B73)),\"\")","v":"51131665"},"Acetylsalicylic acid/Clopidogrel bisulfate",null,null,null,"51131665","Acetylsalicylic acid/Clopidogrel bisulfate","51131665",68,68,68,"51131665"]
[null,{"$f":"IFERROR(INDEX($G$7:$H$13233,$L75,COLUMNS($B$6:B74)),\"\")","v":"51434964"},"Acetylsalicylic acid/ramipril/simvastatin",null,null,null,"51434964","Acetylsalicylic acid/ramipril/simvastatin","51434964",69,69,69,"51434964"]
[null,{"$f":"IFERROR(INDEX($G$7:$H$13233,$L76,COLUMNS($B$6:B75)),\"\")","v":"51342309"},"Aciclovir or acyclovir",null,null,null,"51342309","Aciclovir or acyclovir","51342309",70,70,70,"51342309"]
[null,{"$f":"IFERROR(INDEX($G$7:$H$13233,$L77,COLUMNS($B$6:B76)),\"\")","v":"51342311"},"Aciclovir sodium",null,null,null,"51342311","Aciclovir sodium","51342311",71,71,71,"51342311"]
[null,{"$f":"IFERROR(INDEX($G$7:$H$13233,$L78,COLUMNS($B$6:B77)),\"\")","v":"14121604"},"Acid free tissue papers",null,null,null,"14121604","Acid free tissue papers","14121604",72,72,72,"14121604"]
[null,{"$f":"IFERROR(INDEX($G$7:$H$13233,$L79,COLUMNS($B$6:B78)),\"\")","v":"41113301"},"Acid or base analyzers",null,null,null,"41113301","Acid or base analyzers","41113301",73,73,73,"41113301"]
[null,{"$f":"IFERROR(INDEX($G$7:$H$13233,$L80,COLUMNS($B$6:B79)),\"\")","v":"76121902"},"Acid waste collection or disposal",null,null,null,"76121902","Acid waste collection or disposal","76121902",74,74,74,"76121902"]
[null,{"$f":"IFERROR(INDEX($G$7:$H$13233,$L81,COLUMNS($B$6:B80)),\"\")","v":"45111725"},"Acoustic box",null,null,null,"45111725","Acoustic box","45111725",75,75,75,"45111725"]
[null,{"$f":"IFERROR(INDEX($G$7:$H$13233,$L82,COLUMNS($B$6:B81)),\"\")","v":"81101529"},"Acoustic engineering",null,null,null,"81101529","Acoustic engineering","81101529",76,76,76,"81101529"]
[null,{"$f":"IFERROR(INDEX($G$7:$H$13233,$L83,COLUMNS($B$6:B82)),\"\")","v":"41111726"},"Acoustic microscopes",null,null,null,"41111726","Acoustic microscopes","41111726",77,77,77,"41111726"]
[null,{"$f":"IFERROR(INDEX($G$7:$H$13233,$L84,COLUMNS($B$6:B83)),\"\")","v":"41111939"},"Acoustic sensors",null,null,null,"41111939","Acoustic sensors","41111939",78,78,78,"41111939"]
[null,{"$f":"IFERROR(INDEX($G$7:$H$13233,$L85,COLUMNS($B$6:B84)),\"\")","v":"72152101"},"Acoustical and ceiling work service",null,null,null,"72152101","Acoustical and ceiling work service","72152101",79,79,79,"72152101"]
[null,{"$f":"IFERROR(INDEX($G$7:$H$13233,$L86,COLUMNS($B$6:B85)),\"\")","v":"72152100"},"Acoustical and insulation services",null,null,null,"72152100","Acoustical and insulation services","72152100",80,80,80,"72152100"]
[null,{"$f":"IFERROR(INDEX($G$7:$H$13233,$L87,COLUMNS($B$6:B86)),\"\")","v":"76111601"},"Acoustical tile or ceiling cleaning services",null,null,null,"76111601","Acoustical tile or ceiling cleaning services","76111601",81,81,81,"76111601"]
[null,{"$f":"IFERROR(INDEX($G$7:$H$13233,$L88,COLUMNS($B$6:B87)),\"\")","v":"81141803"},"Acoustics or noise control",null,null,null,"81141803","Acoustics or noise control","81141803",82,82,82,"81141803"]
[null,{"$f":"IFERROR(INDEX($G$7:$H$13233,$L89,COLUMNS($B$6:B88)),\"\")","v":"13111204"},"Acrylic films",null,null,null,"13111204","Acrylic films","13111204",83,83,83,"13111204"]
[null,{"$f":"IFERROR(INDEX($G$7:$H$13233,$L90,COLUMNS($B$6:B89)),\"\")","v":"82151701"},"Acting services",null,null,null,"82151701","Acting services","82151701",84,84,84,"82151701"]
[null,{"$f":"IFERROR(INDEX($G$7:$H$13233,$L91,COLUMNS($B$6:B90)),\"\")","v":"41114425"},"Actinometer calibrator",null,null,null,"41114425","Actinometer calibrator","41114425",85,85,85,"41114425"]
[null,{"$f":"IFERROR(INDEX($G$7:$H$13233,$L92,COLUMNS($B$6:B91)),\"\")","v":"51282000"},"Actinomycines and bacitracins and chloramphenicols and cyclic peptide antibacterials and glycylcyclines",null,null,null,"51282000","Actinomycines and bacitracins and chloramphenicols and cyclic peptide antibacterials and glycylcyclines","51282000",86,86,86,"51282000"]
[null,{"$f":"IFERROR(INDEX($G$7:$H$13233,$L93,COLUMNS($B$6:B92)),\"\")","v":"43232001"},"Action games",null,null,null,"43232001","Action games","43232001",87,87,87,"43232001"]
[null,{"$f":"IFERROR(INDEX($G$7:$H$13233,$L94,COLUMNS($B$6:B93)),\"\")","v":"47101501"},"Activated carbon equipment",null,null,null,"47101501","Activated carbon equipment","47101501",88,88,88,"47101501"]
[null,{"$f":"IFERROR(INDEX($G$7:$H$13233,$L95,COLUMNS($B$6:B94)),\"\")","v":"51172311"},"Activated carbon or activated charcoal for medical use",null,null,null,"51172311","Activated carbon or activated charcoal for medical use","51172311",89,89,89,"51172311"]
[null,{"$f":"IFERROR(INDEX($G$7:$H$13233,$L96,COLUMNS($B$6:B95)),\"\")","v":"77101804"},"Activity specific environmental auditing services",null,null,null,"77101804","Activity specific environmental auditing services","77101804",90,90,90,"77101804"]
[null,{"$f":"IFERROR(INDEX($G$7:$H$13233,$L97,COLUMNS($B$6:B96)),\"\")","v":"56121501"},"Activity tables",null,null,null,"56121501","Activity tables","56121501",91,91,91,"56121501"]
[null,{"$f":"IFERROR(INDEX($G$7:$H$13233,$L98,COLUMNS($B$6:B97)),\"\")","v":"80101512"},"Actuarial consulting services",null,null,null,"80101512","Actuarial consulting services","80101512",92,92,92,"80101512"]
[null,{"$f":"IFERROR(INDEX($G$7:$H$13233,$L99,COLUMNS($B$6:B98)),\"\")","v":"42144200"},"Acupuncture equipment",null,null,null,"42144200","Acupuncture equipment","42144200",93,93,93,"42144200"]
[null,{"$f":"IFERROR(INDEX($G$7:$H$13233,$L100,COLUMNS($B$6:B99)),\"\")","v":"42143127"},"Acute care fetal or maternal monitoring unit accessories",null,null,null,"42143127","Acute care fetal or maternal monitoring unit accessories","42143127",94,94,94,"42143127"]
[null,{"$f":"IFERROR(INDEX($G$7:$H$13233,$L101,COLUMNS($B$6:B100)),\"\")","v":"42143120"},"Acute care fetal or maternal monitoring units",null,null,null,"42143120","Acute care fetal or maternal monitoring units","42143120",95,95,95,"42143120"]
[null,{"$f":"IFERROR(INDEX($G$7:$H$13233,$L102,COLUMNS($B$6:B101)),\"\")","v":"42181900"},"Acute care monitoring units and related products",null,null,null,"42181900","Acute care monitoring units and related products","42181900",96,96,96,"42181900"]
[null,{"$f":"IFERROR(INDEX($G$7:$H$13233,$L103,COLUMNS($B$6:B102)),\"\")","v":"57030102"},"Acute watery diarrhea kits for children and infants",null,null,null,"57030102","Acute watery diarrhea kits for children and infants","57030102",97,97,97,"57030102"]
[null,{"$f":"IFERROR(INDEX($G$7:$H$13233,$L104,COLUMNS($B$6:B103)),\"\")","v":"51202401"},"Adalimumab",null,null,null,"51202401","Adalimumab","51202401",98,98,98,"51202401"]
[null,{"$f":"IFERROR(INDEX($G$7:$H$13233,$L105,COLUMNS($B$6:B104)),\"\")","v":"42211701"},"Adaptive communication switches for the physically challenged",null,null,null,"42211701","Adaptive communication switches for the physically challenged","42211701",99,99,99,"42211701"]
[null,{"$f":"IFERROR(INDEX($G$7:$H$13233,$L106,COLUMNS($B$6:B105)),\"\")","v":"41106401"},"Adaptors or linkers",null,null,null,"41106401","Adaptors or linkers","41106401",100,100,100,"41106401"]
[null,{"$f":"IFERROR(INDEX($G$7:$H$13233,$L107,COLUMNS($B$6:B106)),\"\")","v":"44101802"},"Adding machines",null,null,null,"44101802","Adding machines","44101802",101,101,101,"44101802"]
[null,{"$f":"IFERROR(INDEX($G$7:$H$13233,$L108,COLUMNS($B$6:B107)),\"\")","v":"12160000"},"Additives",null,null,null,"12160000","Additives","12160000",102,102,102,"12160000"]
[null,{"$f":"IFERROR(INDEX($G$7:$H$13233,$L109,COLUMNS($B$6:B108)),\"\")","v":"44112001"},"Address books or refills",null,null,null,"44112001","Address books or refills","44112001",103,103,103,"44112001"]
[null,{"$f":"IFERROR(INDEX($G$7:$H$13233,$L110,COLUMNS($B$6:B109)),\"\")","v":"44102105"},"Addressing machines",null,null,null,"44102105","Addressing machines","44102105",104,104,104,"44102105"]
[null,{"$f":"IFERROR(INDEX($G$7:$H$13233,$L111,COLUMNS($B$6:B110)),\"\")","v":"55121605"},"Addressing or mailing labels",null,null,null,"55121605","Addressing or mailing labels","55121605",105,105,105,"55121605"]
[null,{"$f":"IFERROR(INDEX($G$7:$H$13233,$L112,COLUMNS($B$6:B111)),\"\")","v":"80141803"},"Addressing service",null,null,null,"80141803","Addressing service","80141803",106,106,106,"80141803"]
[null,{"$f":"IFERROR(INDEX($G$7:$H$13233,$L113,COLUMNS($B$6:B112)),\"\")","v":"51124101"},"Adenosine",null,null,null,"51124101","Adenosine","51124101",107,107,107,"51124101"]
[null,{"$f":"IFERROR(INDEX($G$7:$H$13233,$L114,COLUMNS($B$6:B113)),\"\")","v":"41113046"},"Adhesion tester",null,null,null,"41113046","Adhesion tester","41113046",108,108,108,"41113046"]
[null,{"$f":"IFERROR(INDEX($G$7:$H$13233,$L115,COLUMNS($B$6:B114)),\"\")","v":"44122115"},"Adhesive corners",null,null,null,"44122115","Adhesive corners","44122115",109,109,109,"44122115"]
[null,{"$f":"IFERROR(INDEX($G$7:$H$13233,$L116,COLUMNS($B$6:B115)),\"\")","v":"42311546"},"Adhesive dry bandages",null,null,null,"42311546","Adhesive dry bandages","42311546",110,110,110,"42311546"]
[null,{"$f":"IFERROR(INDEX($G$7:$H$13233,$L117,COLUMNS($B$6:B116)),\"\")","v":"44102412"},"Adhesive label cartridges",null,null,null,"44102412","Adhesive label cartridges","44102412",111,111,111,"44102412"]
[null,{"$f":"IFERROR(INDEX($G$7:$H$13233,$L118,COLUMNS($B$6:B117)),\"\")","v":"44122110"},"Adhesive mounts",null,null,null,"44122110","Adhesive mounts","44122110",112,112,112,"44122110"]
[null,{"$f":"IFERROR(INDEX($G$7:$H$13233,$L119,COLUMNS($B$6:B118)),\"\")","v":"44121626"},"Adhesive remover",null,null,null,"44121626","Adhesive remover","44121626",113,113,113,"44121626"]
[null,{"$f":"IFERROR(INDEX($G$7:$H$13233,$L120,COLUMNS($B$6:B119)),\"\")","v":"44121634"},"Adhesive rollers",null,null,null,"44121634","Adhesive rollers","44121634",114,114,114,"44121634"]
[null,{"$f":"IFERROR(INDEX($G$7:$H$13233,$L121,COLUMNS($B$6:B120)),\"\")","v":"44121635"},"Adhesive tape spindles",null,null,null,"44121635","Adhesive tape spindles","44121635",115,115,115,"44121635"]
[null,{"$f":"IFERROR(INDEX($G$7:$H$13233,$L122,COLUMNS($B$6:B121)),\"\")","v":"31201600"},"Adhesives",null,null,null,"31201600","Adhesives","31201600",116,116,116,"31201600"]
[null,{"$f":"IFERROR(INDEX($G$7:$H$13233,$L123,COLUMNS($B$6:B122)),\"\")","v":"31200000"},"Adhesives and sealants",null,null,null,"31200000","Adhesives and sealants","31200000",117,117,117,"31200000"]
[null,{"$f":"IFERROR(INDEX($G$7:$H$13233,$L124,COLUMNS($B$6:B123)),\"\")","v":"51283402"},"Adicillin or penicillin n",null,null,null,"51283402","Adicillin or penicillin n","51283402",118,118,118,"51283402"]
[null,{"$f":"IFERROR(INDEX($G$7:$H$13233,$L125,COLUMNS($B$6:B124)),\"\")","v":"43232804"},"Administration software",null,null,null,"43232804","Administration software","43232804",119,119,119,"43232804"]
[null,{"$f":"IFERROR(INDEX($G$7:$H$13233,$L126,COLUMNS($B$6:B125)),\"\")","v":"93151511"},"Administrative acts ratification or implementation services",null,null,null,"93151511","Administrative acts ratification or implementation services","93151511",120,120,120,"93151511"]
[null,{"$f":"IFERROR(INDEX($G$7:$H$13233,$L127,COLUMNS($B$6:B126)),\"\")","v":"93151505"},"Administrative agencies services",null,null,null,"93151505","Administrative agencies services","93151505",121,121,121,"93151505"]
[null,{"$f":"IFERROR(INDEX($G$7:$H$13233,$L128,COLUMNS($B$6:B127)),\"\")","v":"93151506"},"Administrative economic council services",null,null,null,"93151506","Administrative economic council services","93151506",122,122,122,"93151506"]
[null,{"$f":"IFERROR(INDEX($G$7:$H$13233,$L129,COLUMNS($B$6:B128)),\"\")","v":"93151510"},"Administrative fees or tax collection services",null,null,null,"93151510","Administrative fees or tax collection services","93151510",123,123,123,"93151510"]
[null,{"$f":"IFERROR(INDEX($G$7:$H$13233,$L130,COLUMNS($B$6:B129)),\"\")","v":"93151507"},"Administrative procedures or services",null,null,null,"93151507","Administrative procedures or services","93151507",124,124,124,"93151507"]
[null,{"$f":"IFERROR(INDEX($G$7:$H$13233,$L131,COLUMNS($B$6:B130)),\"\")","v":"93151504"},"Administrative reform services",null,null,null,"93151504","Administrative reform services","93151504",125,125,125,"93151504"]
[null,{"$f":"IFERROR(INDEX($G$7:$H$13233,$L132,COLUMNS($B$6:B131)),\"\")","v":"30131517"},"Adobe block",null,null,null,"30131517","Adobe block","30131517",126,126,126,"30131517"]
[null,{"$f":"IFERROR(INDEX($G$7:$H$13233,$L133,COLUMNS($B$6:B132)),\"\")","v":"57040101"},"Adolescent kit",null,null,null,"57040101","Adolescent kit","57040101",127,127,127,"57040101"]
[null,{"$f":"IFERROR(INDEX($G$7:$H$13233,$L134,COLUMNS($B$6:B133)),\"\")","v":"80121802"},"Adoption law services",null,null,null,"80121802","Adoption law services","80121802",128,128,128,"80121802"]
[null,{"$f":"IFERROR(INDEX($G$7:$H$13233,$L135,COLUMNS($B$6:B134)),\"\")","v":"51391743"},"Adrenalin or adrenaline or epinephrine",null,null,null,"51391743","Adrenalin or adrenaline or epinephrine","51391743",129,129,129,"51391743"]
[null,{"$f":"IFERROR(INDEX($G$7:$H$13233,$L136,COLUMNS($B$6:B135)),\"\")","v":"51261700"},"Adrenergic blocking agent amino alcohols and aminoquinolines and benzopyrans and bradykinin/analogs and derivatives",null,null,null,"51261700","Adrenergic blocking agent amino alcohols and aminoquinolines and benzopyrans and bradykinin/analogs and derivatives","51261700",130,130,130,"51261700"]
[null,{"$f":"IFERROR(INDEX($G$7:$H$13233,$L137,COLUMNS($B$6:B136)),\"\")","v":"51262000"},"Adrenergic blocking agent butyrophenones and carbazoles and dibenzazepines and dimethylamines",null,null,null,"51262000","Adrenergic blocking agent butyrophenones and carbazoles and dibenzazepines and dimethylamines","51262000",131,131,131,"51262000"]
[null,{"$f":"IFERROR(INDEX($G$7:$H$13233,$L138,COLUMNS($B$6:B137)),\"\")","v":"51262400"},"Adrenergic blocking agent ethanolamines",null,null,null,"51262400","Adrenergic blocking agent ethanolamines","51262400",132,132,132,"51262400"]
[null,{"$f":"IFERROR(INDEX($G$7:$H$13233,$L139,COLUMNS($B$6:B138)),\"\")","v":"51262900"},"Adrenergic blocking agent phenoxypropanolamines",null,null,null,"51262900","Adrenergic blocking agent phenoxypropanolamines","51262900",133,133,133,"51262900"]
[null,{"$f":"IFERROR(INDEX($G$7:$H$13233,$L140,COLUMNS($B$6:B139)),\"\")","v":"51263000"},"Adrenergic blocking agent piperazines",null,null,null,"51263000","Adrenergic blocking agent piperazines","51263000",134,134,134,"51263000"]
[null,{"$f":"IFERROR(INDEX($G$7:$H$13233,$L141,COLUMNS($B$6:B140)),\"\")","v":"51263100"},"Adrenergic blocking agent propanolamines",null,null,null,"51263100","Adrenergic blocking agent propanolamines","51263100",135,135,135,"51263100"]
[null,{"$f":"IFERROR(INDEX($G$7:$H$13233,$L142,COLUMNS($B$6:B141)),\"\")","v":"51263400"},"Adrenergic blocking agent pyrimidine nucleosides and quaternary ammonium compounds and secologanin tryptamine alkaloids and spiro compounds and sulfonamides",null,null,null,"51263400","Adrenergic blocking agent pyrimidine nucleosides and quaternary ammonium compounds and secologanin tryptamine alkaloids and spiro compounds and sulfonamides","51263400",136,136,136,"51263400"]
[null,{"$f":"IFERROR(INDEX($G$7:$H$13233,$L143,COLUMNS($B$6:B142)),\"\")","v":"51260000"},"Adrenergic blocking agents",null,null,null,"51260000","Adrenergic blocking agents","51260000",137,137,137,"51260000"]
[null,{"$f":"IFERROR(INDEX($G$7:$H$13233,$L144,COLUMNS($B$6:B143)),\"\")","v":"86111600"},"Adult education",null,null,null,"86111600","Adult education","86111600",138,138,138,"86111600"]
[null,{"$f":"IFERROR(INDEX($G$7:$H$13233,$L145,COLUMNS($B$6:B144)),\"\")","v":"57030302"},"Adult hygiene and personal care set",null,null,null,"57030302","Adult hygiene and personal care set","57030302",139,139,139,"57030302"]
[null,{"$f":"IFERROR(INDEX($G$7:$H$13233,$L146,COLUMNS($B$6:B145)),\"\")","v":"42231801"},"Adult supplemental formulas or bars or puddings for general use",null,null,null,"42231801","Adult supplemental formulas or bars or puddings for general use","42231801",140,140,140,"42231801"]
[null,{"$f":"IFERROR(INDEX($G$7:$H$13233,$L147,COLUMNS($B$6:B146)),\"\")","v":"43232002"},"Adventure games",null,null,null,"43232002","Adventure games","43232002",141,141,141,"43232002"]
[null,{"$f":"IFERROR(INDEX($G$7:$H$13233,$L148,COLUMNS($B$6:B147)),\"\")","v":"82100000"},"Advertising",null,null,null,"82100000","Advertising","82100000",142,142,142,"82100000"]
[null,{"$f":"IFERROR(INDEX($G$7:$H$13233,$L149,COLUMNS($B$6:B148)),\"\")","v":"82101800"},"Advertising agency services",null,null,null,"82101800","Advertising agency services","82101800",143,143,143,"82101800"]
[null,{"$f":"IFERROR(INDEX($G$7:$H$13233,$L150,COLUMNS($B$6:B149)),\"\")","v":"55121901"},"Advertising pillars",null,null,null,"55121901","Advertising pillars","55121901",144,144,144,"55121901"]
[null,{"$f":"IFERROR(INDEX($G$7:$H$13233,$L151,COLUMNS($B$6:B150)),\"\")","v":"82101700"},"Aerial advertising",null,null,null,"82101700","Aerial advertising","82101700",145,145,145,"82101700"]
[null,{"$f":"IFERROR(INDEX($G$7:$H$13233,$L152,COLUMNS($B$6:B151)),\"\")","v":"43222824"},"Aerial cable rollers",null,null,null,"43222824","Aerial cable rollers","43222824",146,146,146,"43222824"]
[null,{"$f":"IFERROR(INDEX($G$7:$H$13233,$L153,COLUMNS($B$6:B152)),\"\")","v":"45121510"},"Aerial cameras",null,null,null,"45121510","Aerial cameras","45121510",147,147,147,"45121510"]
[null,{"$f":"IFERROR(INDEX($G$7:$H$13233,$L154,COLUMNS($B$6:B153)),\"\")","v":"22101800"},"Aerial lifts",null,null,null,"22101800","Aerial lifts","22101800",148,148,148,"22101800"]
[null,{"$f":"IFERROR(INDEX($G$7:$H$13233,$L155,COLUMNS($B$6:B154)),\"\")","v":"82131601"},"Aerial photography services",null,null,null,"82131601","Aerial photography services","82131601",149,149,149,"82131601"]
[null,{"$f":"IFERROR(INDEX($G$7:$H$13233,$L156,COLUMNS($B$6:B155)),\"\")","v":"25101911"},"Aerial working platform truck",null,null,null,"25101911","Aerial working platform truck","25101911",150,150,150,"25101911"]
[null,{"$f":"IFERROR(INDEX($G$7:$H$13233,$L157,COLUMNS($B$6:B156)),\"\")","v":"81151904"},"Aero magnetic geophysics",null,null,null,"81151904","Aero magnetic geophysics","81151904",151,151,151,"81151904"]
[null,{"$f":"IFERROR(INDEX($G$7:$H$13233,$L158,COLUMNS($B$6:B157)),\"\")","v":"49201500"},"Aerobic training equipment",null,null,null,"49201500","Aerobic training equipment","49201500",152,152,152,"49201500"]
[null,{"$f":"IFERROR(INDEX($G$7:$H$13233,$L159,COLUMNS($B$6:B158)),\"\")","v":"81171900"},"Aerobiological science services",null,null,null,"81171900","Aerobiological science services","81171900",153,153,153,"81171900"]
[null,{"$f":"IFERROR(INDEX($G$7:$H$13233,$L160,COLUMNS($B$6:B159)),\"\")","v":"39111630"},"Aerodrome Beacon ",null,null,null,"39111630","Aerodrome Beacon ","39111630",154,154,154,"39111630"]
[null,{"$f":"IFERROR(INDEX($G$7:$H$13233,$L161,COLUMNS($B$6:B160)),\"\")","v":"78141805"},"Aerodrome or airport or aviation facility operations service",null,null,null,"78141805","Aerodrome or airport or aviation facility operations service","78141805",155,155,155,"78141805"]
[null,{"$f":"IFERROR(INDEX($G$7:$H$13233,$L162,COLUMNS($B$6:B161)),\"\")","v":"25202800"},"Aeronautical Data Communications Equipment",null,null,null,"25202800","Aeronautical Data Communications Equipment","25202800",156,156,156,"25202800"]
[null,{"$f":"IFERROR(INDEX($G$7:$H$13233,$L163,COLUMNS($B$6:B162)),\"\")","v":"81102300"},"Aeronautical engineering",null,null,null,"81102300","Aeronautical engineering","81102300",157,157,157,"81102300"]
[null,{"$f":"IFERROR(INDEX($G$7:$H$13233,$L164,COLUMNS($B$6:B163)),\"\")","v":"81161714"},"Aeronautical Fixed Telecommunication Network/Aeronautical Telecommunications Network Services (AFTN and ATN)",null,null,null,"81161714","Aeronautical Fixed Telecommunication Network/Aeronautical Telecommunications Network Services (AFTN and ATN)","81161714",158,158,158,"81161714"]
[null,{"$f":"IFERROR(INDEX($G$7:$H$13233,$L165,COLUMNS($B$6:B164)),\"\")","v":"25202802"},"Aeronautical Fixed Telecommunications Network (AFTN)",null,null,null,"25202802","Aeronautical Fixed Telecommunications Network (AFTN)","25202802",159,159,159,"25202802"]
[null,{"$f":"IFERROR(INDEX($G$7:$H$13233,$L166,COLUMNS($B$6:B165)),\"\")","v":"25202907"},"Aeronautical Information Management System (AIM)",null,null,null,"25202907","Aeronautical Information Management System (AIM)","25202907",160,160,160,"25202907"]
[null,{"$f":"IFERROR(INDEX($G$7:$H$13233,$L167,COLUMNS($B$6:B166)),\"\")","v":"81161713"},"Aeronautical Information Services",null,null,null,"81161713","Aeronautical Information Services","81161713",161,161,161,"81161713"]
[null,{"$f":"IFERROR(INDEX($G$7:$H$13233,$L168,COLUMNS($B$6:B167)),\"\")","v":"25202906"},"Aeronautical Information System (AIS) ",null,null,null,"25202906","Aeronautical Information System (AIS) ","25202906",162,162,162,"25202906"]
[null,{"$f":"IFERROR(INDEX($G$7:$H$13233,$L169,COLUMNS($B$6:B168)),\"\")","v":"25191518"},"Aeronautical sensor test equipment",null,null,null,"25191518","Aeronautical sensor test equipment","25191518",163,163,163,"25191518"]
[null,{"$f":"IFERROR(INDEX($G$7:$H$13233,$L170,COLUMNS($B$6:B169)),\"\")","v":"41121602"},"Aerosol barrier pipette tips",null,null,null,"41121602","Aerosol barrier pipette tips","41121602",164,164,164,"41121602"]
[null,{"$f":"IFERROR(INDEX($G$7:$H$13233,$L171,COLUMNS($B$6:B170)),\"\")","v":"25200000"},"Aerospace systems and components and equipment",null,null,null,"25200000","Aerospace systems and components and equipment","25200000",165,165,165,"25200000"]
[null,{"$f":"IFERROR(INDEX($G$7:$H$13233,$L172,COLUMNS($B$6:B171)),\"\")","v":"51112012"},"Afatinib",null,null,null,"51112012","Afatinib","51112012",166,166,166,"51112012"]
[null,{"$f":"IFERROR(INDEX($G$7:$H$13233,$L173,COLUMNS($B$6:B172)),\"\")","v":"70151507"},"Afforestation services",null,null,null,"70151507","Afforestation services","70151507",167,167,167,"70151507"]
[null,{"$f":"IFERROR(INDEX($G$7:$H$13233,$L174,COLUMNS($B$6:B173)),\"\")","v":"51241144"},"Aflibercept",null,null,null,"51241144","Aflibercept","51241144",168,168,168,"51241144"]
[null,{"$f":"IFERROR(INDEX($G$7:$H$13233,$L175,COLUMNS($B$6:B174)),\"\")","v":"80141613"},"After sales programs",null,null,null,"80141613","After sales programs","80141613",169,169,169,"80141613"]
[null,{"$f":"IFERROR(INDEX($G$7:$H$13233,$L176,COLUMNS($B$6:B175)),\"\")","v":"51172485"},"Agalsidase alfa",null,null,null,"51172485","Agalsidase alfa","51172485",170,170,170,"51172485"]
[null,{"$f":"IFERROR(INDEX($G$7:$H$13233,$L177,COLUMNS($B$6:B176)),\"\")","v":"51171984"},"Agalsidase beta",null,null,null,"51171984","Agalsidase beta","51171984",171,171,171,"51171984"]
[null,{"$f":"IFERROR(INDEX($G$7:$H$13233,$L178,COLUMNS($B$6:B177)),\"\")","v":"41105317"},"Agarose gel making reagents",null,null,null,"41105317","Agarose gel making reagents","41105317",172,172,172,"41105317"]
[null,{"$f":"IFERROR(INDEX($G$7:$H$13233,$L179,COLUMNS($B$6:B178)),\"\")","v":"41104503"},"Ageing ovens",null,null,null,"41104503","Ageing ovens","41104503",173,173,173,"41104503"]
[null,{"$f":"IFERROR(INDEX($G$7:$H$13233,$L180,COLUMNS($B$6:B179)),\"\")","v":"51190000"},"Agents affecting water and electrolytes",null,null,null,"51190000","Agents affecting water and electrolytes","51190000",174,174,174,"51190000"]
[null,{"$f":"IFERROR(INDEX($G$7:$H$13233,$L181,COLUMNS($B$6:B180)),\"\")","v":"41113820"},"Aggregate specific gravity tester",null,null,null,"41113820","Aggregate specific gravity tester","41113820",175,175,175,"41113820"]
[null,{"$f":"IFERROR(INDEX($G$7:$H$13233,$L182,COLUMNS($B$6:B181)),\"\")","v":"41113830"},"Aggregate unit weight measuring instrument",null,null,null,"41113830","Aggregate unit weight measuring instrument","41113830",176,176,176,"41113830"]
[null,{"$f":"IFERROR(INDEX($G$7:$H$13233,$L183,COLUMNS($B$6:B182)),\"\")","v":"30111800"},"Aggregates",null,null,null,"30111800","Aggregates","30111800",177,177,177,"30111800"]
[null,{"$f":"IFERROR(INDEX($G$7:$H$13233,$L184,COLUMNS($B$6:B183)),\"\")","v":"93141908"},"Agrarian reform or land settlement services",null,null,null,"93141908","Agrarian reform or land settlement services","93141908",178,178,178,"93141908"]
[null,{"$f":"IFERROR(INDEX($G$7:$H$13233,$L185,COLUMNS($B$6:B184)),\"\")","v":"95122500"},"Agricultural and farming and fishing buildings and structures",null,null,null,"95122500","Agricultural and farming and fishing buildings and structures","95122500",179,179,179,"95122500"]
[null,{"$f":"IFERROR(INDEX($G$7:$H$13233,$L186,COLUMNS($B$6:B185)),\"\")","v":"21100000"},"Agricultural and forestry and landscape machinery and equipment",null,null,null,"21100000","Agricultural and forestry and landscape machinery and equipment","21100000",180,180,180,"21100000"]
[null,{"$f":"IFERROR(INDEX($G$7:$H$13233,$L187,COLUMNS($B$6:B186)),\"\")","v":"72121200"},"Agricultural building construction services",null,null,null,"72121200","Agricultural building construction services","72121200",181,181,181,"72121200"]
[null,{"$f":"IFERROR(INDEX($G$7:$H$13233,$L188,COLUMNS($B$6:B187)),\"\")","v":"25132101"},"Agricultural drone",null,null,null,"25132101","Agricultural drone","25132101",182,182,182,"25132101"]
[null,{"$f":"IFERROR(INDEX($G$7:$H$13233,$L189,COLUMNS($B$6:B188)),\"\")","v":"95101900"},"Agricultural land",null,null,null,"95101900","Agricultural land","95101900",183,183,183,"95101900"]
[null,{"$f":"IFERROR(INDEX($G$7:$H$13233,$L190,COLUMNS($B$6:B189)),\"\")","v":"70190000"},"Agricultural machinery and equipment assembly and installation services",null,null,null,"70190000","Agricultural machinery and equipment assembly and installation services","70190000",184,184,184,"70190000"]
[null,{"$f":"IFERROR(INDEX($G$7:$H$13233,$L191,COLUMNS($B$6:B190)),\"\")","v":"21102000"},"Agricultural machinery for cleaning and sorting and grading",null,null,null,"21102000","Agricultural machinery for cleaning and sorting and grading","21102000",185,185,185,"21102000"]
[null,{"$f":"IFERROR(INDEX($G$7:$H$13233,$L192,COLUMNS($B$6:B191)),\"\")","v":"21101700"},"Agricultural machinery for harvesting",null,null,null,"21101700","Agricultural machinery for harvesting","21101700",186,186,186,"21101700"]
[null,{"$f":"IFERROR(INDEX($G$7:$H$13233,$L193,COLUMNS($B$6:B192)),\"\")","v":"21101600"},"Agricultural machinery for planting and seeding",null,null,null,"21101600","Agricultural machinery for planting and seeding","21101600",187,187,187,"21101600"]
[null,{"$f":"IFERROR(INDEX($G$7:$H$13233,$L194,COLUMNS($B$6:B193)),\"\")","v":"21101500"},"Agricultural machinery for soil preparation",null,null,null,"21101500","Agricultural machinery for soil preparation","21101500",188,188,188,"21101500"]
[null,{"$f":"IFERROR(INDEX($G$7:$H$13233,$L195,COLUMNS($B$6:B194)),\"\")","v":"21102100"},"Agricultural processing machinery and equipment",null,null,null,"21102100","Agricultural processing machinery and equipment","21102100",189,189,189,"21102100"]
[null,{"$f":"IFERROR(INDEX($G$7:$H$13233,$L196,COLUMNS($B$6:B195)),\"\")","v":"21102600"},"Agricultural protection materials",null,null,null,"21102600","Agricultural protection materials","21102600",190,190,190,"21102600"]
[null,{"$f":"IFERROR(INDEX($G$7:$H$13233,$L197,COLUMNS($B$6:B196)),\"\")","v":"93141905"},"Agricultural research services",null,null,null,"93141905","Agricultural research services","93141905",191,191,191,"93141905"]
[null,{"$f":"IFERROR(INDEX($G$7:$H$13233,$L198,COLUMNS($B$6:B197)),\"\")","v":"21101507"},"Agricultural rollers",null,null,null,"21101507","Agricultural rollers","21101507",192,192,192,"21101507"]
[null,{"$f":"IFERROR(INDEX($G$7:$H$13233,$L199,COLUMNS($B$6:B198)),\"\")","v":"81171801"},"Agricultural science consultation service",null,null,null,"81171801","Agricultural science consultation service","81171801",193,193,193,"81171801"]
[null,{"$f":"IFERROR(INDEX($G$7:$H$13233,$L200,COLUMNS($B$6:B199)),\"\")","v":"81171800"},"Agricultural science services",null,null,null,"81171800","Agricultural science services","81171800",194,194,194,"81171800"]
[null,{"$f":"IFERROR(INDEX($G$7:$H$13233,$L201,COLUMNS($B$6:B200)),\"\")","v":"21102305"},"Agricultural sun shade material",null,null,null,"21102305","Agricultural sun shade material","21102305",195,195,195,"21102305"]
[null,{"$f":"IFERROR(INDEX($G$7:$H$13233,$L202,COLUMNS($B$6:B201)),\"\")","v":"25101901"},"Agricultural tractors",null,null,null,"25101901","Agricultural tractors","25101901",196,196,196,"25101901"]
[null,{"$f":"IFERROR(INDEX($G$7:$H$13233,$L203,COLUMNS($B$6:B202)),\"\")","v":"25181612"},"Agricultural trailer",null,null,null,"25181612","Agricultural trailer","25181612",197,197,197,"25181612"]
[null,{"$f":"IFERROR(INDEX($G$7:$H$13233,$L204,COLUMNS($B$6:B203)),\"\")","v":"86101500"},"Agriculture and forestry and other natural resources training services",null,null,null,"86101500","Agriculture and forestry and other natural resources training services","86101500",198,198,198,"86101500"]
[null,{"$f":"IFERROR(INDEX($G$7:$H$13233,$L205,COLUMNS($B$6:B204)),\"\")","v":"60106201"},"Agriculture teaching aids or materials",null,null,null,"60106201","Agriculture teaching aids or materials","60106201",199,199,199,"60106201"]
[null,{"$f":"IFERROR(INDEX($G$7:$H$13233,$L206,COLUMNS($B$6:B205)),\"\")","v":"86101504"},"Agriculture vocational training services",null,null,null,"86101504","Agriculture vocational training services","86101504",200,200,200,"86101504"]
[null,{"$f":"IFERROR(INDEX($G$7:$H$13233,$L207,COLUMNS($B$6:B206)),\"\")","v":"27112000"},"Agriculture, forestry and garden handtools",null,null,null,"27112000","Agriculture, forestry and garden handtools","27112000",201,201,201,"27112000"]
[null,{"$f":"IFERROR(INDEX($G$7:$H$13233,$L208,COLUMNS($B$6:B207)),\"\")","v":"70131704"},"Agro ecological zones assessment or planning",null,null,null,"70131704","Agro ecological zones assessment or planning","70131704",202,202,202,"70131704"]
[null,{"$f":"IFERROR(INDEX($G$7:$H$13233,$L209,COLUMNS($B$6:B208)),\"\")","v":"86101501"},"Agro industry vocational training",null,null,null,"86101501","Agro industry vocational training","86101501",203,203,203,"86101501"]
[null,{"$f":"IFERROR(INDEX($G$7:$H$13233,$L210,COLUMNS($B$6:B209)),\"\")","v":"70151902"},"Agroforestry resources",null,null,null,"70151902","Agroforestry resources","70151902",204,204,204,"70151902"]
[null,{"$f":"IFERROR(INDEX($G$7:$H$13233,$L211,COLUMNS($B$6:B210)),\"\")","v":"84101600"},"Aid financing",null,null,null,"84101600","Aid financing","84101600",205,205,205,"84101600"]
[null,{"$f":"IFERROR(INDEX($G$7:$H$13233,$L212,COLUMNS($B$6:B211)),\"\")","v":"42301500"},"Aids for medical training",null,null,null,"42301500","Aids for medical training","42301500",206,206,206,"42301500"]
[null,{"$f":"IFERROR(INDEX($G$7:$H$13233,$L213,COLUMNS($B$6:B212)),\"\")","v":"85111501"},"Aids prevention or control services",null,null,null,"85111501","Aids prevention or control services","85111501",207,207,207,"85111501"]
[null,{"$f":"IFERROR(INDEX($G$7:$H$13233,$L214,COLUMNS($B$6:B213)),\"\")","v":"25181610"},"Air cargo trailer",null,null,null,"25181610","Air cargo trailer","25181610",208,208,208,"25181610"]
[null,{"$f":"IFERROR(INDEX($G$7:$H$13233,$L215,COLUMNS($B$6:B214)),\"\")","v":"78101500"},"Air cargo transport",null,null,null,"78101500","Air cargo transport","78101500",209,209,209,"78101500"]
[null,{"$f":"IFERROR(INDEX($G$7:$H$13233,$L216,COLUMNS($B$6:B215)),\"\")","v":"40101600"},"Air circulation and parts and accessories",null,null,null,"40101600","Air circulation and parts and accessories","40101600",210,210,210,"40101600"]
[null,{"$f":"IFERROR(INDEX($G$7:$H$13233,$L217,COLUMNS($B$6:B216)),\"\")","v":"40101602"},"Air circulators",null,null,null,"40101602","Air circulators","40101602",211,211,211,"40101602"]
[null,{"$f":"IFERROR(INDEX($G$7:$H$13233,$L218,COLUMNS($B$6:B217)),\"\")","v":"41114526"},"Air cleaner tester",null,null,null,"41114526","Air cleaner tester","41114526",212,212,212,"41114526"]
[null,{"$f":"IFERROR(INDEX($G$7:$H$13233,$L219,COLUMNS($B$6:B218)),\"\")","v":"40161602"},"Air cleaners",null,null,null,"40161602","Air cleaners","40161602",213,213,213,"40161602"]
[null,{"$f":"IFERROR(INDEX($G$7:$H$13233,$L220,COLUMNS($B$6:B219)),\"\")","v":"44102904"},"Air compressed spray",null,null,null,"44102904","Air compressed spray","44102904",214,214,214,"44102904"]
[null,{"$f":"IFERROR(INDEX($G$7:$H$13233,$L221,COLUMNS($B$6:B220)),\"\")","v":"72154101"},"Air compressor rental and maintenance service",null,null,null,"72154101","Air compressor rental and maintenance service","72154101",215,215,215,"72154101"]
[null,{"$f":"IFERROR(INDEX($G$7:$H$13233,$L222,COLUMNS($B$6:B221)),\"\")","v":"41114521"},"Air compressor tester",null,null,null,"41114521","Air compressor tester","41114521",216,216,216,"41114521"]
[null,{"$f":"IFERROR(INDEX($G$7:$H$13233,$L223,COLUMNS($B$6:B222)),\"\")","v":"40151601"},"Air compressors",null,null,null,"40151601","Air compressors","40151601",217,217,217,"40151601"]
[null,{"$f":"IFERROR(INDEX($G$7:$H$13233,$L224,COLUMNS($B$6:B223)),\"\")","v":"40101717"},"Air conditioner power saver",null,null,null,"40101717","Air conditioner power saver","40101717",218,218,218,"40101717"]
[null,{"$f":"IFERROR(INDEX($G$7:$H$13233,$L225,COLUMNS($B$6:B224)),\"\")","v":"40101701"},"Air conditioners",null,null,null,"40101701","Air conditioners","40101701",219,219,219,"40101701"]
[null,{"$f":"IFERROR(INDEX($G$7:$H$13233,$L226,COLUMNS($B$6:B225)),\"\")","v":"72101511"},"Air conditioning installation or maintenance or repair service",null,null,null,"72101511","Air conditioning installation or maintenance or repair service","72101511",220,220,220,"72101511"]
[null,{"$f":"IFERROR(INDEX($G$7:$H$13233,$L227,COLUMNS($B$6:B226)),\"\")","v":"23201202"},"Air dryers",null,null,null,"23201202","Air dryers","23201202",221,221,221,"23201202"]
[null,{"$f":"IFERROR(INDEX($G$7:$H$13233,$L228,COLUMNS($B$6:B227)),\"\")","v":"76111602"},"Air duct cleaning",null,null,null,"76111602","Air duct cleaning","76111602",222,222,222,"76111602"]
[null,{"$f":"IFERROR(INDEX($G$7:$H$13233,$L229,COLUMNS($B$6:B228)),\"\")","v":"40161505"},"Air filters",null,null,null,"40161505","Air filters","40161505",223,223,223,"40161505"]
[null,{"$f":"IFERROR(INDEX($G$7:$H$13233,$L230,COLUMNS($B$6:B229)),\"\")","v":"72154061"},"Air filtration service",null,null,null,"72154061","Air filtration service","72154061",224,224,224,"72154061"]
[null,{"$f":"IFERROR(INDEX($G$7:$H$13233,$L231,COLUMNS($B$6:B230)),\"\")","v":"40101709"},"Air handling unit",null,null,null,"40101709","Air handling unit","40101709",225,225,225,"40101709"]
[null,{"$f":"IFERROR(INDEX($G$7:$H$13233,$L232,COLUMNS($B$6:B231)),\"\")","v":"41111633"},"Air micrometer",null,null,null,"41111633","Air micrometer","41111633",226,226,226,"41111633"]
[null,{"$f":"IFERROR(INDEX($G$7:$H$13233,$L233,COLUMNS($B$6:B232)),\"\")","v":"24111802"},"Air or gas tanks or cylinders",null,null,null,"24111802","Air or gas tanks or cylinders","24111802",227,227,227,"24111802"]
[null,{"$f":"IFERROR(INDEX($G$7:$H$13233,$L234,COLUMNS($B$6:B233)),\"\")","v":"77121500"},"Air pollution",null,null,null,"77121500","Air pollution","77121500",228,228,228,"77121500"]
[null,{"$f":"IFERROR(INDEX($G$7:$H$13233,$L235,COLUMNS($B$6:B234)),\"\")","v":"77121504"},"Air pollution monitoring or measurement services",null,null,null,"77121504","Air pollution monitoring or measurement services","77121504",229,229,229,"77121504"]
[null,{"$f":"IFERROR(INDEX($G$7:$H$13233,$L236,COLUMNS($B$6:B235)),\"\")","v":"77121503"},"Air pollution protection services",null,null,null,"77121503","Air pollution protection services","77121503",230,230,230,"77121503"]
[null,{"$f":"IFERROR(INDEX($G$7:$H$13233,$L237,COLUMNS($B$6:B236)),\"\")","v":"77121501"},"Air quality management",null,null,null,"77121501","Air quality management","77121501",231,231,231,"77121501"]
[null,{"$f":"IFERROR(INDEX($G$7:$H$13233,$L238,COLUMNS($B$6:B237)),\"\")","v":"81171901"},"Air quality science service",null,null,null,"81171901","Air quality science service","81171901",232,232,232,"81171901"]
[null,{"$f":"IFERROR(INDEX($G$7:$H$13233,$L239,COLUMNS($B$6:B238)),\"\")","v":"46101505"},"Air rifles or air handguns",null,null,null,"46101505","Air rifles or air handguns","46101505",233,233,233,"46101505"]
[null,{"$f":"IFERROR(INDEX($G$7:$H$13233,$L240,COLUMNS($B$6:B239)),\"\")","v":"41104008"},"Air samplers or collectors",null,null,null,"41104008","Air samplers or collectors","41104008",234,234,234,"41104008"]
[null,{"$f":"IFERROR(INDEX($G$7:$H$13233,$L241,COLUMNS($B$6:B240)),\"\")","v":"41104009"},"Air sampling pumps",null,null,null,"41104009","Air sampling pumps","41104009",235,235,235,"41104009"]
[null,{"$f":"IFERROR(INDEX($G$7:$H$13233,$L242,COLUMNS($B$6:B241)),\"\")","v":"40161608"},"Air sterilizer",null,null,null,"40161608","Air sterilizer","40161608",236,236,236,"40161608"]
[null,{"$f":"IFERROR(INDEX($G$7:$H$13233,$L243,COLUMNS($B$6:B242)),\"\")","v":"46161706"},"Air tent",null,null,null,"46161706","Air tent","46161706",237,237,237,"46161706"]
[null,{"$f":"IFERROR(INDEX($G$7:$H$13233,$L244,COLUMNS($B$6:B243)),\"\")","v":"30171522"},"Air tight door",null,null,null,"30171522","Air tight door","30171522",238,238,238,"30171522"]
[null,{"$f":"IFERROR(INDEX($G$7:$H$13233,$L245,COLUMNS($B$6:B244)),\"\")","v":"78101901"},"Air to ocean transportation",null,null,null,"78101901","Air to ocean transportation","78101901",239,239,239,"78101901"]
[null,{"$f":"IFERROR(INDEX($G$7:$H$13233,$L246,COLUMNS($B$6:B245)),\"\")","v":"78101904"},"Air to truck transport",null,null,null,"78101904","Air to truck transport","78101904",240,240,240,"78101904"]
[null,{"$f":"IFERROR(INDEX($G$7:$H$13233,$L247,COLUMNS($B$6:B246)),\"\")","v":"25191547"},"Air Traffic Control (ATC) Simulators ",null,null,null,"25191547","Air Traffic Control (ATC) Simulators ","25191547",241,241,241,"25191547"]
[null,{"$f":"IFERROR(INDEX($G$7:$H$13233,$L248,COLUMNS($B$6:B247)),\"\")","v":"78141807"},"Air traffic control service",null,null,null,"78141807","Air traffic control service","78141807",242,242,242,"78141807"]
[null,{"$f":"IFERROR(INDEX($G$7:$H$13233,$L249,COLUMNS($B$6:B248)),\"\")","v":"25202900"},"Air Traffic Management Equipment",null,null,null,"25202900","Air Traffic Management Equipment","25202900",243,243,243,"25202900"]
[null,{"$f":"IFERROR(INDEX($G$7:$H$13233,$L250,COLUMNS($B$6:B249)),\"\")","v":"25202903"},"Air Traffic Services (ATS) Consoles And Console Equipment ",null,null,null,"25202903","Air Traffic Services (ATS) Consoles And Console Equipment ","25202903",244,244,244,"25202903"]
[null,{"$f":"IFERROR(INDEX($G$7:$H$13233,$L251,COLUMNS($B$6:B250)),\"\")","v":"78204003"},"Air Transport Demand Forecast Services",null,null,null,"78204003","Air Transport Demand Forecast Services","78204003",245,245,245,"78204003"]
[null,{"$f":"IFERROR(INDEX($G$7:$H$13233,$L252,COLUMNS($B$6:B251)),\"\")","v":"78101504"},"Air transport of letters and parcels",null,null,null,"78101504","Air transport of letters and parcels","78101504",246,246,246,"78101504"]
[null,{"$f":"IFERROR(INDEX($G$7:$H$13233,$L253,COLUMNS($B$6:B252)),\"\")","v":"78101505"},"Air transport of livestock or live animals",null,null,null,"78101505","Air transport of livestock or live animals","78101505",247,247,247,"78101505"]
[null,{"$f":"IFERROR(INDEX($G$7:$H$13233,$L254,COLUMNS($B$6:B253)),\"\")","v":"25191500"},"Air transportation support systems and equipment",null,null,null,"25191500","Air transportation support systems and equipment","25191500",248,248,248,"25191500"]
[null,{"$f":"IFERROR(INDEX($G$7:$H$13233,$L255,COLUMNS($B$6:B254)),\"\")","v":"41112509"},"Air velocity and temperature monitors",null,null,null,"41112509","Air velocity and temperature monitors","41112509",249,249,249,"41112509"]
[null,{"$f":"IFERROR(INDEX($G$7:$H$13233,$L256,COLUMNS($B$6:B255)),\"\")","v":"25130000"},"Aircraft",null,null,null,"25130000","Aircraft","25130000",250,250,250,"25130000"]
[null,{"$f":"IFERROR(INDEX($G$7:$H$13233,$L257,COLUMNS($B$6:B256)),\"\")","v":"25191517"},"Aircraft air conditioning and heating truck",null,null,null,"25191517","Aircraft air conditioning and heating truck","25191517",251,251,251,"25191517"]
[null,{"$f":"IFERROR(INDEX($G$7:$H$13233,$L258,COLUMNS($B$6:B257)),\"\")","v":"25191516"},"Aircraft air start unit",null,null,null,"25191516","Aircraft air start unit","25191516",252,252,252,"25191516"]
[null,{"$f":"IFERROR(INDEX($G$7:$H$13233,$L259,COLUMNS($B$6:B258)),\"\")","v":"25191528"},"Aircraft And Airborne Equipment For Fire Fighting & Rescue",null,null,null,"25191528","Aircraft And Airborne Equipment For Fire Fighting & Rescue","25191528",253,253,253,"25191528"]
[null,{"$f":"IFERROR(INDEX($G$7:$H$13233,$L260,COLUMNS($B$6:B259)),\"\")","v":"43221719"},"Aircraft antennas",null,null,null,"43221719","Aircraft antennas","43221719",254,254,254,"43221719"]
[null,{"$f":"IFERROR(INDEX($G$7:$H$13233,$L261,COLUMNS($B$6:B260)),\"\")","v":"25191535"},"Aircraft Cabin Cleaning Unit ",null,null,null,"25191535","Aircraft Cabin Cleaning Unit ","25191535",255,255,255,"25191535"]
[null,{"$f":"IFERROR(INDEX($G$7:$H$13233,$L262,COLUMNS($B$6:B261)),\"\")","v":"25191505"},"Aircraft cargo handling equipment",null,null,null,"25191505","Aircraft cargo handling equipment","25191505",256,{"$f":"IF(ISNUMBER(SEARCH($H$4,H262)),J262,\"\")","v":256},{"$f":"IFERROR(SMALL($K$7:$K$13233,J262),\"\")","v":256},"25191505"]
[null,{"$f":"IFERROR(INDEX($G$7:$H$13233,$L263,COLUMNS($B$6:B262)),\"\")","v":"25201701"},"Aircraft communication systems",null,null,null,"25201701","Aircraft communication systems","25201701",257,257,257,"25201701"]
[null,{"$f":"IFERROR(INDEX($G$7:$H$13233,$L264,COLUMNS($B$6:B263)),\"\")","v":"25191507"},"Aircraft deicing equipment",null,null,null,"25191507","Aircraft deicing equipment","25191507",258,258,258,"25191507"]
[null,{"$f":"IFERROR(INDEX($G$7:$H$13233,$L265,COLUMNS($B$6:B264)),\"\")","v":"25201900"},"Aircraft emergency systems",null,null,null,"25201900","Aircraft emergency systems","25201900",259,259,259,"25201900"]
[null,{"$f":"IFERROR(INDEX($G$7:$H$13233,$L266,COLUMNS($B$6:B265)),\"\")","v":"25191522"},"Aircraft engine maintenance set",null,null,null,"25191522","Aircraft engine maintenance set","25191522",260,260,260,"25191522"]
[null,{"$f":"IFERROR(INDEX($G$7:$H$13233,$L267,COLUMNS($B$6:B266)),\"\")","v":"25201901"},"Aircraft fire control or extinguishing systems",null,null,null,"25201901","Aircraft fire control or extinguishing systems","25201901",261,261,261,"25201901"]
[null,{"$f":"IFERROR(INDEX($G$7:$H$13233,$L268,COLUMNS($B$6:B267)),\"\")","v":"78181818"},"Aircraft fixed wing communication system repair",null,null,null,"78181818","Aircraft fixed wing communication system repair","78181818",262,262,262,"78181818"]
[null,{"$f":"IFERROR(INDEX($G$7:$H$13233,$L269,COLUMNS($B$6:B268)),\"\")","v":"25191504"},"Aircraft flight simulators or trainers",null,null,null,"25191504","Aircraft flight simulators or trainers","25191504",263,263,263,"25191504"]
[null,{"$f":"IFERROR(INDEX($G$7:$H$13233,$L270,COLUMNS($B$6:B269)),\"\")","v":"25202301"},"Aircraft lapbelts",null,null,null,"25202301","Aircraft lapbelts","25202301",264,264,264,"25202301"]
[null,{"$f":"IFERROR(INDEX($G$7:$H$13233,$L271,COLUMNS($B$6:B270)),\"\")","v":"25201800"},"Aircraft master control systems",null,null,null,"25201800","Aircraft master control systems","25201800",265,265,265,"25201800"]
[null,{"$f":"IFERROR(INDEX($G$7:$H$13233,$L272,COLUMNS($B$6:B271)),\"\")","v":"72151304"},"Aircraft painting service",null,null,null,"72151304","Aircraft painting service","72151304",266,266,266,"72151304"]
[null,{"$f":"IFERROR(INDEX($G$7:$H$13233,$L273,COLUMNS($B$6:B272)),\"\")","v":"25191526"},"Aircraft Parts And Accessories",null,null,null,"25191526","Aircraft Parts And Accessories","25191526",267,267,267,"25191526"]
[null,{"$f":"IFERROR(INDEX($G$7:$H$13233,$L274,COLUMNS($B$6:B273)),\"\")","v":"25202300"},"Aircraft passenger restraints",null,null,null,"25202300","Aircraft passenger restraints","25202300",268,268,268,"25202300"]
[null,{"$f":"IFERROR(INDEX($G$7:$H$13233,$L275,COLUMNS($B$6:B274)),\"\")","v":"25191509"},"Aircraft pushback or tow tractors",null,null,null,"25191509","Aircraft pushback or tow tractors","25191509",269,269,269,"25191509"]
[null,{"$f":"IFERROR(INDEX($G$7:$H$13233,$L276,COLUMNS($B$6:B275)),\"\")","v":"25191506"},"Aircraft refueling equipment",null,null,null,"25191506","Aircraft refueling equipment","25191506",270,270,270,"25191506"]
[null,{"$f":"IFERROR(INDEX($G$7:$H$13233,$L277,COLUMNS($B$6:B276)),\"\")","v":"25191525"},"Aircraft refueling truck",null,null,null,"25191525","Aircraft refueling truck","25191525",271,271,271,"25191525"]
[null,{"$f":"IFERROR(INDEX($G$7:$H$13233,$L278,COLUMNS($B$6:B277)),\"\")","v":"25101719"},"Aircraft Rescue And Firefighting Unit, 150 Gallons (600 litres)",null,null,null,"25101719","Aircraft Rescue And Firefighting Unit, 150 Gallons (600 litres)","25101719",272,272,272,"25101719"]
[null,{"$f":"IFERROR(INDEX($G$7:$H$13233,$L279,COLUMNS($B$6:B278)),\"\")","v":"25101718"},"Aircraft Rescue And Firefighting, 1500 Gallons (6000 Litres",null,null,null,"25101718","Aircraft Rescue And Firefighting, 1500 Gallons (6000 Litres","25101718",273,273,273,"25101718"]
[null,{"$f":"IFERROR(INDEX($G$7:$H$13233,$L280,COLUMNS($B$6:B279)),\"\")","v":"25101717"},"Aircraft Rescue And Firefighting, 3000 Gallons (12,000 Litres)",null,null,null,"25101717","Aircraft Rescue And Firefighting, 3000 Gallons (12,000 Litres)","25101717",274,274,274,"25101717"]
[null,{"$f":"IFERROR(INDEX($G$7:$H$13233,$L281,COLUMNS($B$6:B280)),\"\")","v":"25191514"},"Aircraft towbar",null,null,null,"25191514","Aircraft towbar","25191514",275,275,275,"25191514"]
[null,{"$f":"IFERROR(INDEX($G$7:$H$13233,$L282,COLUMNS($B$6:B281)),\"\")","v":"25191519"},"Aircraft towing adapter",null,null,null,"25191519","Aircraft towing adapter","25191519",276,276,276,"25191519"]
[null,{"$f":"IFERROR(INDEX($G$7:$H$13233,$L283,COLUMNS($B$6:B282)),\"\")","v":"25131513"},"Aircraft, Flight Inspection (Fully Equipped) ",null,null,null,"25131513","Aircraft, Flight Inspection (Fully Equipped) ","25131513",277,277,277,"25131513"]
[null,{"$f":"IFERROR(INDEX($G$7:$H$13233,$L284,COLUMNS($B$6:B283)),\"\")","v":"25131512"},"Aircraft, Jet Widebody",null,null,null,"25131512","Aircraft, Jet Widebody","25131512",278,278,278,"25131512"]
[null,{"$f":"IFERROR(INDEX($G$7:$H$13233,$L285,COLUMNS($B$6:B284)),\"\")","v":"25131510"},"Aircraft, Single Engine",null,null,null,"25131510","Aircraft, Single Engine","25131510",279,279,279,"25131510"]
[null,{"$f":"IFERROR(INDEX($G$7:$H$13233,$L286,COLUMNS($B$6:B285)),\"\")","v":"25131511"},"Aircraft, Twin Engine",null,null,null,"25131511","Aircraft, Twin Engine","25131511",280,280,280,"25131511"]
[null,{"$f":"IFERROR(INDEX($G$7:$H$13233,$L287,COLUMNS($B$6:B286)),\"\")","v":"95121613"},"Airfield",null,null,null,"95121613","Airfield","95121613",281,281,281,"95121613"]
[null,{"$f":"IFERROR(INDEX($G$7:$H$13233,$L288,COLUMNS($B$6:B287)),\"\")","v":"25191524"},"Airfreight conveyor truck",null,null,null,"25191524","Airfreight conveyor truck","25191524",282,282,282,"25191524"]
[null,{"$f":"IFERROR(INDEX($G$7:$H$13233,$L289,COLUMNS($B$6:B288)),\"\")","v":"78203000"},"Airline Cabin And Support Services",null,null,null,"78203000","Airline Cabin And Support Services","78203000",283,283,283,"78203000"]
[null,{"$f":"IFERROR(INDEX($G$7:$H$13233,$L290,COLUMNS($B$6:B289)),\"\")","v":"43212111"},"Airline ticket or boarding pass ATB printers",null,null,null,"43212111","Airline ticket or boarding pass ATB printers","43212111",284,284,284,"43212111"]
[null,{"$f":"IFERROR(INDEX($G$7:$H$13233,$L291,COLUMNS($B$6:B290)),\"\")","v":"43211733"},"Airline Ticket Validator ",null,null,null,"43211733","Airline Ticket Validator ","43211733",285,285,285,"43211733"]
[null,{"$f":"IFERROR(INDEX($G$7:$H$13233,$L292,COLUMNS($B$6:B291)),\"\")","v":"25191523"},"Airplane baggage tug or tractor",null,null,null,"25191523","Airplane baggage tug or tractor","25191523",286,286,286,"25191523"]
[null,{"$f":"IFERROR(INDEX($G$7:$H$13233,$L293,COLUMNS($B$6:B292)),\"\")","v":"78204010"},"Airport And Passenger Terminals Simulation Modelling (Airside And Landside)",null,null,null,"78204010","Airport And Passenger Terminals Simulation Modelling (Airside And Landside)","78204010",287,287,287,"78204010"]
[null,{"$f":"IFERROR(INDEX($G$7:$H$13233,$L294,COLUMNS($B$6:B293)),\"\")","v":"95121611"},"Airport building",null,null,null,"95121611","Airport building","95121611",288,288,288,"95121611"]
[null,{"$f":"IFERROR(INDEX($G$7:$H$13233,$L295,COLUMNS($B$6:B294)),\"\")","v":"95121612"},"Airport control tower",null,null,null,"95121612","Airport control tower","95121612",289,289,289,"95121612"]
[null,{"$f":"IFERROR(INDEX($G$7:$H$13233,$L296,COLUMNS($B$6:B295)),\"\")","v":"81101509"},"Airport engineering",null,null,null,"81101509","Airport engineering","81101509",290,290,290,"81101509"]
[null,{"$f":"IFERROR(INDEX($G$7:$H$13233,$L297,COLUMNS($B$6:B296)),\"\")","v":"25191530"},"Airport Flight Management System ",null,null,null,"25191530","Airport Flight Management System ","25191530",291,291,291,"25191530"]
[null,{"$f":"IFERROR(INDEX($G$7:$H$13233,$L298,COLUMNS($B$6:B297)),\"\")","v":"25191533"},"Airport Information System ",null,null,null,"25191533","Airport Information System ","25191533",292,292,292,"25191533"]
[null,{"$f":"IFERROR(INDEX($G$7:$H$13233,$L299,COLUMNS($B$6:B298)),\"\")","v":"78204011"},"Airport Inspection And Certification ",null,null,null,"78204011","Airport Inspection And Certification ","78204011",293,293,293,"78204011"]
[null,{"$f":"IFERROR(INDEX($G$7:$H$13233,$L300,COLUMNS($B$6:B299)),\"\")","v":"39111623"},"Airport Lighting Lamp ",null,null,null,"39111623","Airport Lighting Lamp ","39111623",294,294,294,"39111623"]
[null,{"$f":"IFERROR(INDEX($G$7:$H$13233,$L301,COLUMNS($B$6:B300)),\"\")","v":"78201000"},"Airport Maintenance",null,null,null,"78201000","Airport Maintenance","78201000",295,295,295,"78201000"]
[null,{"$f":"IFERROR(INDEX($G$7:$H$13233,$L302,COLUMNS($B$6:B301)),\"\")","v":"78204015"},"Airport Maps, Networks (GIS), Studies",null,null,null,"78204015","Airport Maps, Networks (GIS), Studies","78204015",296,296,296,"78204015"]
[null,{"$f":"IFERROR(INDEX($G$7:$H$13233,$L303,COLUMNS($B$6:B302)),\"\")","v":"78204012"},"Airport Operations Readiness ",null,null,null,"78204012","Airport Operations Readiness ","78204012",297,297,297,"78204012"]
[null,{"$f":"IFERROR(INDEX($G$7:$H$13233,$L304,COLUMNS($B$6:B303)),\"\")","v":"25191554"},"Airport or Aviation billing system",null,null,null,"25191554","Airport or Aviation billing system","25191554",298,298,298,"25191554"]
[null,{"$f":"IFERROR(INDEX($G$7:$H$13233,$L305,COLUMNS($B$6:B304)),\"\")","v":"72141101"},"Airport runway construction service",null,null,null,"72141101","Airport runway construction service","72141101",299,299,299,"72141101"]
[null,{"$f":"IFERROR(INDEX($G$7:$H$13233,$L306,COLUMNS($B$6:B305)),\"\")","v":"46161501"},"Airport signaling systems",null,null,null,"46161501","Airport signaling systems","46161501",300,300,300,"46161501"]
[null,{"$f":"IFERROR(INDEX($G$7:$H$13233,$L307,COLUMNS($B$6:B306)),\"\")","v":"72121410"},"Airport terminal and hanger construction",null,null,null,"72121410","Airport terminal and hanger construction","72121410",301,301,301,"72121410"]
[null,{"$f":"IFERROR(INDEX($G$7:$H$13233,$L308,COLUMNS($B$6:B307)),\"\")","v":"46161528"},"Airport warning light",null,null,null,"46161528","Airport warning light","46161528",302,302,302,"46161528"]
[null,{"$f":"IFERROR(INDEX($G$7:$H$13233,$L309,COLUMNS($B$6:B308)),\"\")","v":"78204018"},"Airport, Fauna Control Services",null,null,null,"78204018","Airport, Fauna Control Services","78204018",303,303,303,"78204018"]
[null,{"$f":"IFERROR(INDEX($G$7:$H$13233,$L310,COLUMNS($B$6:B309)),\"\")","v":"25191512"},"Airstairs or stair trucks",null,null,null,"25191512","Airstairs or stair trucks","25191512",304,304,304,"25191512"]
[null,{"$f":"IFERROR(INDEX($G$7:$H$13233,$L311,COLUMNS($B$6:B310)),\"\")","v":"72154038"},"Airwave shielding installation for computer room service",null,null,null,"72154038","Airwave shielding installation for computer room service","72154038",305,305,305,"72154038"]
[null,{"$f":"IFERROR(INDEX($G$7:$H$13233,$L312,COLUMNS($B$6:B311)),\"\")","v":"42192414"},"Airway management bags",null,null,null,"42192414","Airway management bags","42192414",306,306,306,"42192414"]
[null,{"$f":"IFERROR(INDEX($G$7:$H$13233,$L313,COLUMNS($B$6:B312)),\"\")","v":"42271900"},"Airway management products",null,null,null,"42271900","Airway management products","42271900",307,307,307,"42271900"]
[null,{"$f":"IFERROR(INDEX($G$7:$H$13233,$L314,COLUMNS($B$6:B313)),\"\")","v":"78181842"},"Airworthiness And Aircraft Certification ",null,null,null,"78181842","Airworthiness And Aircraft Certification ","78181842",308,308,308,"78181842"]
[null,{"$f":"IFERROR(INDEX($G$7:$H$13233,$L315,COLUMNS($B$6:B314)),\"\")","v":"50301501"},"Akane apples",null,null,null,"50301501","Akane apples","50301501",309,309,309,"50301501"]
[null,{"$f":"IFERROR(INDEX($G$7:$H$13233,$L316,COLUMNS($B$6:B315)),\"\")","v":"46171604"},"Alarm systems",null,null,null,"46171604","Alarm systems","46171604",310,310,310,"46171604"]
[null,{"$f":"IFERROR(INDEX($G$7:$H$13233,$L317,COLUMNS($B$6:B316)),\"\")","v":"51282902"},"Alatrofloxacin",null,null,null,"51282902","Alatrofloxacin","51282902",311,311,311,"51282902"]
[null,{"$f":"IFERROR(INDEX($G$7:$H$13233,$L318,COLUMNS($B$6:B317)),\"\")","v":"51451801"},"Albendazole",null,null,null,"51451801","Albendazole","51451801",312,312,312,"51451801"]
[null,{"$f":"IFERROR(INDEX($G$7:$H$13233,$L319,COLUMNS($B$6:B318)),\"\")","v":"14111614"},"Album papers or tissues",null,null,null,"14111614","Album papers or tissues","14111614",313,313,313,"14111614"]
[null,{"$f":"IFERROR(INDEX($G$7:$H$13233,$L320,COLUMNS($B$6:B319)),\"\")","v":"51131909"},"Albumin human",null,null,null,"51131909","Albumin human","51131909",314,314,314,"51131909"]
[null,{"$f":"IFERROR(INDEX($G$7:$H$13233,$L321,COLUMNS($B$6:B320)),\"\")","v":"51391703"},"Albuterol or salbutamol",null,null,null,"51391703","Albuterol or salbutamol","51391703",315,315,315,"51391703"]
[null,{"$f":"IFERROR(INDEX($G$7:$H$13233,$L322,COLUMNS($B$6:B321)),\"\")","v":"51162002"},"Albuterol/ipratropium",null,null,null,"51162002","Albuterol/ipratropium","51162002",316,316,316,"51162002"]
[null,{"$f":"IFERROR(INDEX($G$7:$H$13233,$L323,COLUMNS($B$6:B322)),\"\")","v":"46151604"},"Alcohol analysers",null,null,null,"46151604","Alcohol analysers","46151604",317,317,317,"46151604"]
[null,{"$f":"IFERROR(INDEX($G$7:$H$13233,$L324,COLUMNS($B$6:B323)),\"\")","v":"41113044"},"Alcohol hydrometer",null,null,null,"41113044","Alcohol hydrometer","41113044",318,318,318,"41113044"]
[null,{"$f":"IFERROR(INDEX($G$7:$H$13233,$L325,COLUMNS($B$6:B324)),\"\")","v":"50202200"},"Alcoholic beverages",null,null,null,"50202200","Alcoholic beverages","50202200",319,319,319,"50202200"]
[null,{"$f":"IFERROR(INDEX($G$7:$H$13233,$L326,COLUMNS($B$6:B325)),\"\")","v":"85111616"},"Alcoholism prevention or control services",null,null,null,"85111616","Alcoholism prevention or control services","85111616",320,320,320,"85111616"]
[null,{"$f":"IFERROR(INDEX($G$7:$H$13233,$L327,COLUMNS($B$6:B326)),\"\")","v":"41113038"},"Alcoholometer",null,null,null,"41113038","Alcoholometer","41113038",321,321,321,"41113038"]
[null,{"$f":"IFERROR(INDEX($G$7:$H$13233,$L328,COLUMNS($B$6:B327)),\"\")","v":"51112035"},"Alectinib ",null,null,null,"51112035","Alectinib ","51112035",322,322,322,"51112035"]
[null,{"$f":"IFERROR(INDEX($G$7:$H$13233,$L329,COLUMNS($B$6:B328)),\"\")","v":"51111778"},"Alemtuzumab",null,null,null,"51111778","Alemtuzumab","51111778",323,323,323,"51111778"]
[null,{"$f":"IFERROR(INDEX($G$7:$H$13233,$L330,COLUMNS($B$6:B329)),\"\")","v":"51182406"},"Alendronic acid or alendronate sodium",null,null,null,"51182406","Alendronic acid or alendronate sodium","51182406",324,324,324,"51182406"]
[null,{"$f":"IFERROR(INDEX($G$7:$H$13233,$L331,COLUMNS($B$6:B330)),\"\")","v":"41111624"},"Alexometer",null,null,null,"41111624","Alexometer","41111624",325,325,325,"41111624"]
[null,{"$f":"IFERROR(INDEX($G$7:$H$13233,$L332,COLUMNS($B$6:B331)),\"\")","v":"85141602"},"Algae or sea weed medical cures",null,null,null,"85141602","Algae or sea weed medical cures","85141602",326,326,326,"85141602"]
[null,{"$f":"IFERROR(INDEX($G$7:$H$13233,$L333,COLUMNS($B$6:B332)),\"\")","v":"47101601"},"Algaecides",null,null,null,"47101601","Algaecides","47101601",327,327,327,"47101601"]
[null,{"$f":"IFERROR(INDEX($G$7:$H$13233,$L334,COLUMNS($B$6:B333)),\"\")","v":"51171511"},"Algeldrate or aluminium hydroxide",null,null,null,"51171511","Algeldrate or aluminium hydroxide","51171511",328,328,328,"51171511"]
[null,{"$f":"IFERROR(INDEX($G$7:$H$13233,$L335,COLUMNS($B$6:B334)),\"\")","v":"42311540"},"Alginate dressings",null,null,null,"42311540","Alginate dressings","42311540",329,329,329,"42311540"]
[null,{"$f":"IFERROR(INDEX($G$7:$H$13233,$L336,COLUMNS($B$6:B335)),\"\")","v":"51171973"},"Alglucosidase alfa",null,null,null,"51171973","Alglucosidase alfa","51171973",330,330,330,"51171973"]
[null,{"$f":"IFERROR(INDEX($G$7:$H$13233,$L337,COLUMNS($B$6:B336)),\"\")","v":"93121610"},"Aligned countries cooperation",null,null,null,"93121610","Aligned countries cooperation","93121610",331,331,331,"93121610"]
[null,{"$f":"IFERROR(INDEX($G$7:$H$13233,$L338,COLUMNS($B$6:B337)),\"\")","v":"12352000"},"Aliphatic and aromatic compounds",null,null,null,"12352000","Aliphatic and aromatic compounds","12352000",332,332,332,"12352000"]
[null,{"$f":"IFERROR(INDEX($G$7:$H$13233,$L339,COLUMNS($B$6:B338)),\"\")","v":"51321505"},"Alirocumab",null,null,null,"51321505","Alirocumab","51321505",333,333,333,"51321505"]
[null,{"$f":"IFERROR(INDEX($G$7:$H$13233,$L340,COLUMNS($B$6:B339)),\"\")","v":"12141800"},"Alkali metals",null,null,null,"12141800","Alkali metals","12141800",334,334,334,"12141800"]
[null,{"$f":"IFERROR(INDEX($G$7:$H$13233,$L341,COLUMNS($B$6:B340)),\"\")","v":"26111702"},"Alkaline batteries",null,null,null,"26111702","Alkaline batteries","26111702",335,335,335,"26111702"]
[null,{"$f":"IFERROR(INDEX($G$7:$H$13233,$L342,COLUMNS($B$6:B341)),\"\")","v":"51112300"},"Alkylating agent alkanesulfonic acids",null,null,null,"51112300","Alkylating agent alkanesulfonic acids","51112300",336,336,336,"51112300"]
[null,{"$f":"IFERROR(INDEX($G$7:$H$13233,$L343,COLUMNS($B$6:B342)),\"\")","v":"51112400"},"Alkylating agent amides",null,null,null,"51112400","Alkylating agent amides","51112400",337,337,337,"51112400"]
[null,{"$f":"IFERROR(INDEX($G$7:$H$13233,$L344,COLUMNS($B$6:B343)),\"\")","v":"51113000"},"Alkylating agent amines",null,null,null,"51113000","Alkylating agent amines","51113000",338,338,338,"51113000"]
[null,{"$f":"IFERROR(INDEX($G$7:$H$13233,$L345,COLUMNS($B$6:B344)),\"\")","v":"51112500"},"Alkylating agent nitrogen mustard compounds",null,null,null,"51112500","Alkylating agent nitrogen mustard compounds","51112500",339,339,339,"51112500"]
[null,{"$f":"IFERROR(INDEX($G$7:$H$13233,$L346,COLUMNS($B$6:B345)),\"\")","v":"51112600"},"Alkylating agent nitrosourea compounds",null,null,null,"51112600","Alkylating agent nitrosourea compounds","51112600",340,340,340,"51112600"]
[null,{"$f":"IFERROR(INDEX($G$7:$H$13233,$L347,COLUMNS($B$6:B346)),\"\")","v":"51112700"},"Alkylating agent organoplatinum compounds",null,null,null,"51112700","Alkylating agent organoplatinum compounds","51112700",341,341,341,"51112700"]
[null,{"$f":"IFERROR(INDEX($G$7:$H$13233,$L348,COLUMNS($B$6:B347)),\"\")","v":"51113500"},"Alkylating agent piperazines",null,null,null,"51113500","Alkylating agent piperazines","51113500",342,342,342,"51113500"]
[null,{"$f":"IFERROR(INDEX($G$7:$H$13233,$L349,COLUMNS($B$6:B348)),\"\")","v":"51112800"},"Alkylating agent stilbenes",null,null,null,"51112800","Alkylating agent stilbenes","51112800",343,343,343,"51112800"]
[null,{"$f":"IFERROR(INDEX($G$7:$H$13233,$L350,COLUMNS($B$6:B349)),\"\")","v":"51112900"},"Alkylating agent triazines",null,null,null,"51112900","Alkylating agent triazines","51112900",344,344,344,"51112900"]
[null,{"$f":"IFERROR(INDEX($G$7:$H$13233,$L351,COLUMNS($B$6:B350)),\"\")","v":"43211521"},"All in one desktop computer",null,null,null,"43211521","All in one desktop computer","43211521",345,345,345,"43211521"]
[null,{"$f":"IFERROR(INDEX($G$7:$H$13233,$L352,COLUMNS($B$6:B351)),\"\")","v":"25101905"},"All terrain vehicles tracked or wheeled",null,null,null,"25101905","All terrain vehicles tracked or wheeled","25101905",346,346,346,"25101905"]
[null,{"$f":"IFERROR(INDEX($G$7:$H$13233,$L353,COLUMNS($B$6:B352)),\"\")","v":"51241660"},"Allantoin/clioquinol/coal tar",null,null,null,"51241660","Allantoin/clioquinol/coal tar","51241660",347,347,347,"51241660"]
[null,{"$f":"IFERROR(INDEX($G$7:$H$13233,$L354,COLUMNS($B$6:B353)),\"\")","v":"51241603"},"Allantoin/coal tar",null,null,null,"51241603","Allantoin/coal tar","51241603",348,348,348,"51241603"]
[null,{"$f":"IFERROR(INDEX($G$7:$H$13233,$L355,COLUMNS($B$6:B354)),\"\")","v":"85111606"},"Allergies prevention or control services",null,null,null,"85111606","Allergies prevention or control services","85111606",349,349,349,"85111606"]
[null,{"$f":"IFERROR(INDEX($G$7:$H$13233,$L356,COLUMNS($B$6:B355)),\"\")","v":"42183201"},"Allergy detecting or testing instruments",null,null,null,"42183201","Allergy detecting or testing instruments","42183201",350,350,350,"42183201"]
[null,{"$f":"IFERROR(INDEX($G$7:$H$13233,$L357,COLUMNS($B$6:B356)),\"\")","v":"42183200"},"Allergy examining equipment and supplies",null,null,null,"42183200","Allergy examining equipment and supplies","42183200",351,351,351,"42183200"]
[null,{"$f":"IFERROR(INDEX($G$7:$H$13233,$L358,COLUMNS($B$6:B357)),\"\")","v":"51192001"},"Allopurinol",null,null,null,"51192001","Allopurinol","51192001",352,352,352,"51192001"]
[null,{"$f":"IFERROR(INDEX($G$7:$H$13233,$L359,COLUMNS($B$6:B358)),\"\")","v":"11170000"},"Alloys",null,null,null,"11170000","Alloys","11170000",353,353,353,"11170000"]
[null,{"$f":"IFERROR(INDEX($G$7:$H$13233,$L360,COLUMNS($B$6:B359)),\"\")","v":"51241262"},"Almond oil",null,null,null,"51241262","Almond oil","51241262",354,354,354,"51241262"]
[null,{"$f":"IFERROR(INDEX($G$7:$H$13233,$L361,COLUMNS($B$6:B360)),\"\")","v":"51142423"},"Almotriptan malate",null,null,null,"51142423","Almotriptan malate","51142423",355,355,355,"51142423"]
[null,{"$f":"IFERROR(INDEX($G$7:$H$13233,$L362,COLUMNS($B$6:B361)),\"\")","v":"10101518"},"Alpaca",null,null,null,"10101518","Alpaca","10101518",356,356,356,"10101518"]
[null,{"$f":"IFERROR(INDEX($G$7:$H$13233,$L363,COLUMNS($B$6:B362)),\"\")","v":"51191968"},"Alpha keto amino acid analogs",null,null,null,"51191968","Alpha keto amino acid analogs","51191968",357,357,357,"51191968"]
[null,{"$f":"IFERROR(INDEX($G$7:$H$13233,$L364,COLUMNS($B$6:B363)),\"\")","v":"12142203"},"Alpha sources",null,null,null,"12142203","Alpha sources","12142203",358,358,358,"12142203"]
[null,{"$f":"IFERROR(INDEX($G$7:$H$13233,$L365,COLUMNS($B$6:B364)),\"\")","v":"51401505"},"Alprazolam",null,null,null,"51401505","Alprazolam","51401505",359,359,359,"51401505"]
[null,{"$f":"IFERROR(INDEX($G$7:$H$13233,$L366,COLUMNS($B$6:B365)),\"\")","v":"51413301"},"Alprostadil",null,null,null,"51413301","Alprostadil","51413301",360,360,360,"51413301"]
[null,{"$f":"IFERROR(INDEX($G$7:$H$13233,$L367,COLUMNS($B$6:B366)),\"\")","v":"51412702"},"Alteplase",null,null,null,"51412702","Alteplase","51412702",361,361,361,"51412702"]
[null,{"$f":"IFERROR(INDEX($G$7:$H$13233,$L368,COLUMNS($B$6:B367)),\"\")","v":"23271423"},"Alternating current AC arc welder",null,null,null,"23271423","Alternating current AC arc welder","23271423",362,362,362,"23271423"]
[null,{"$f":"IFERROR(INDEX($G$7:$H$13233,$L369,COLUMNS($B$6:B368)),\"\")","v":"85140000"},"Alternative and holistic medicine",null,null,null,"85140000","Alternative and holistic medicine","85140000",363,363,363,"85140000"]
[null,{"$f":"IFERROR(INDEX($G$7:$H$13233,$L370,COLUMNS($B$6:B369)),\"\")","v":"86110000"},"Alternative educational systems",null,null,null,"86110000","Alternative educational systems","86110000",364,364,364,"86110000"]
[null,{"$f":"IFERROR(INDEX($G$7:$H$13233,$L371,COLUMNS($B$6:B370)),\"\")","v":"60131700"},"Alternative sounds musical instruments",null,null,null,"60131700","Alternative sounds musical instruments","60131700",365,365,365,"60131700"]
[null,{"$f":"IFERROR(INDEX($G$7:$H$13233,$L372,COLUMNS($B$6:B371)),\"\")","v":"12131506"},"Aluminized explosives",null,null,null,"12131506","Aluminized explosives","12131506",366,366,366,"12131506"]
[null,{"$f":"IFERROR(INDEX($G$7:$H$13233,$L373,COLUMNS($B$6:B372)),\"\")","v":"11172001"},"Aluminum alloy 7178",null,null,null,"11172001","Aluminum alloy 7178","11172001",367,367,367,"11172001"]
[null,{"$f":"IFERROR(INDEX($G$7:$H$13233,$L374,COLUMNS($B$6:B373)),\"\")","v":"11172000"},"Aluminum based alloys",null,null,null,"11172000","Aluminum based alloys","11172000",368,368,368,"11172000"]
[null,{"$f":"IFERROR(INDEX($G$7:$H$13233,$L375,COLUMNS($B$6:B374)),\"\")","v":"48102108"},"Aluminum food wrapping foil",null,null,null,"48102108","Aluminum food wrapping foil","48102108",369,369,369,"48102108"]
[null,{"$f":"IFERROR(INDEX($G$7:$H$13233,$L376,COLUMNS($B$6:B375)),\"\")","v":"51172410"},"Aluminum hydroxide/magnesium hydroxide",null,null,null,"51172410","Aluminum hydroxide/magnesium hydroxide","51172410",370,370,370,"51172410"]
[null,{"$f":"IFERROR(INDEX($G$7:$H$13233,$L377,COLUMNS($B$6:B376)),\"\")","v":"51172413"},"Aluminum hydroxide/magnesium trisilicate",null,null,null,"51172413","Aluminum hydroxide/magnesium trisilicate","51172413",371,371,371,"51172413"]
[null,{"$f":"IFERROR(INDEX($G$7:$H$13233,$L378,COLUMNS($B$6:B377)),\"\")","v":"30102306"},"Aluminum profiles",null,null,null,"30102306","Aluminum profiles","30102306",372,372,372,"30102306"]
[null,{"$f":"IFERROR(INDEX($G$7:$H$13233,$L379,COLUMNS($B$6:B378)),\"\")","v":"30265001"},"Aluminum SAE 1000 series cold rolled sheet",null,null,null,"30265001","Aluminum SAE 1000 series cold rolled sheet","30265001",373,373,373,"30265001"]
[null,{"$f":"IFERROR(INDEX($G$7:$H$13233,$L380,COLUMNS($B$6:B379)),\"\")","v":"30265002"},"Aluminum SAE 1000 series hot rolled sheet",null,null,null,"30265002","Aluminum SAE 1000 series hot rolled sheet","30265002",374,374,374,"30265002"]
[null,{"$f":"IFERROR(INDEX($G$7:$H$13233,$L381,COLUMNS($B$6:B380)),\"\")","v":"30265003"},"Aluminum SAE 2000 series cold rolled sheet",null,null,null,"30265003","Aluminum SAE 2000 series cold rolled sheet","30265003",375,375,375,"30265003"]
[null,{"$f":"IFERROR(INDEX($G$7:$H$13233,$L382,COLUMNS($B$6:B381)),\"\")","v":"30265004"},"Aluminum SAE 2000 series hot rolled sheet",null,null,null,"30265004","Aluminum SAE 2000 series hot rolled sheet","30265004",376,376,376,"30265004"]
[null,{"$f":"IFERROR(INDEX($G$7:$H$13233,$L383,COLUMNS($B$6:B382)),\"\")","v":"30265005"},"Aluminum SAE 3000 series cold rolled sheet",null,null,null,"30265005","Aluminum SAE 3000 series cold rolled sheet","30265005",377,377,377,"30265005"]
[null,{"$f":"IFERROR(INDEX($G$7:$H$13233,$L384,COLUMNS($B$6:B383)),\"\")","v":"30265006"},"Aluminum SAE 3000 series hot rolled sheet",null,null,null,"30265006","Aluminum SAE 3000 series hot rolled sheet","30265006",378,378,378,"30265006"]
[null,{"$f":"IFERROR(INDEX($G$7:$H$13233,$L385,COLUMNS($B$6:B384)),\"\")","v":"30265007"},"Aluminum SAE 4000 series cold rolled sheet",null,null,null,"30265007","Aluminum SAE 4000 series cold rolled sheet","30265007",379,379,379,"30265007"]
[null,{"$f":"IFERROR(INDEX($G$7:$H$13233,$L386,COLUMNS($B$6:B385)),\"\")","v":"30265008"},"Aluminum SAE 4000 series hot rolled sheet",null,null,null,"30265008","Aluminum SAE 4000 series hot rolled sheet","30265008",380,380,380,"30265008"]
[null,{"$f":"IFERROR(INDEX($G$7:$H$13233,$L387,COLUMNS($B$6:B386)),\"\")","v":"30265009"},"Aluminum SAE 5000 series cold rolled sheet",null,null,null,"30265009","Aluminum SAE 5000 series cold rolled sheet","30265009",381,381,381,"30265009"]
[null,{"$f":"IFERROR(INDEX($G$7:$H$13233,$L388,COLUMNS($B$6:B387)),\"\")","v":"30265010"},"Aluminum SAE 5000 series hot rolled sheet",null,null,null,"30265010","Aluminum SAE 5000 series hot rolled sheet","30265010",382,382,382,"30265010"]
[null,{"$f":"IFERROR(INDEX($G$7:$H$13233,$L389,COLUMNS($B$6:B388)),\"\")","v":"30265011"},"Aluminum SAE 6000 series cold rolled sheet",null,null,null,"30265011","Aluminum SAE 6000 series cold rolled sheet","30265011",383,383,383,"30265011"]
[null,{"$f":"IFERROR(INDEX($G$7:$H$13233,$L390,COLUMNS($B$6:B389)),\"\")","v":"30265000"},"Aluminum sheets",null,null,null,"30265000","Aluminum sheets","30265000",384,384,384,"30265000"]
[null,{"$f":"IFERROR(INDEX($G$7:$H$13233,$L391,COLUMNS($B$6:B390)),\"\")","v":"51142517"},"Amantadine",null,null,null,"51142517","Amantadine","51142517",385,385,385,"51142517"]
[null,{"$f":"IFERROR(INDEX($G$7:$H$13233,$L392,COLUMNS($B$6:B391)),\"\")","v":"83111902"},"Amateur radio networks or services",null,null,null,"83111902","Amateur radio networks or services","83111902",386,386,386,"83111902"]
[null,{"$f":"IFERROR(INDEX($G$7:$H$13233,$L393,COLUMNS($B$6:B392)),\"\")","v":"43233505"},"Ambient music or advertising messaging software",null,null,null,"43233505","Ambient music or advertising messaging software","43233505",387,387,387,"43233505"]
[null,{"$f":"IFERROR(INDEX($G$7:$H$13233,$L394,COLUMNS($B$6:B393)),\"\")","v":"50301502"},"Ambrosia apples",null,null,null,"50301502","Ambrosia apples","50301502",388,388,388,"50301502"]
[null,{"$f":"IFERROR(INDEX($G$7:$H$13233,$L395,COLUMNS($B$6:B394)),\"\")","v":"51162702"},"Ambroxol",null,null,null,"51162702","Ambroxol","51162702",389,389,389,"51162702"]
[null,{"$f":"IFERROR(INDEX($G$7:$H$13233,$L396,COLUMNS($B$6:B395)),\"\")","v":"25175201"},"Ambulance Accessories",null,null,null,"25175201","Ambulance Accessories","25175201",390,390,390,"25175201"]
[null,{"$f":"IFERROR(INDEX($G$7:$H$13233,$L397,COLUMNS($B$6:B396)),\"\")","v":"53102709"},"Ambulance officers uniforms",null,null,null,"53102709","Ambulance officers uniforms","53102709",391,391,391,"53102709"]
[null,{"$f":"IFERROR(INDEX($G$7:$H$13233,$L398,COLUMNS($B$6:B397)),\"\")","v":"92101902"},"Ambulance services",null,null,null,"92101902","Ambulance services","92101902",392,392,392,"92101902"]
[null,{"$f":"IFERROR(INDEX($G$7:$H$13233,$L399,COLUMNS($B$6:B398)),\"\")","v":"95121706"},"Ambulance station",null,null,null,"95121706","Ambulance station","95121706",393,393,393,"95121706"]
[null,{"$f":"IFERROR(INDEX($G$7:$H$13233,$L400,COLUMNS($B$6:B399)),\"\")","v":"25101703"},"Ambulances",null,null,null,"25101703","Ambulances","25101703",394,394,394,"25101703"]
[null,{"$f":"IFERROR(INDEX($G$7:$H$13233,$L401,COLUMNS($B$6:B400)),\"\")","v":"42211500"},"Ambulation and transfer and positioning aids for the physically challenged",null,null,null,"42211500","Ambulation and transfer and positioning aids for the physically challenged","42211500",395,395,395,"42211500"]
[null,{"$f":"IFERROR(INDEX($G$7:$H$13233,$L402,COLUMNS($B$6:B401)),\"\")","v":"51100000"},"Amebicides and trichomonacides and antiprotozoals",null,null,null,"51100000","Amebicides and trichomonacides and antiprotozoals","51100000",396,396,396,"51100000"]
[null,{"$f":"IFERROR(INDEX($G$7:$H$13233,$L403,COLUMNS($B$6:B402)),\"\")","v":"51101600"},"Amebicides and Trichomonacides and Antiprotozoals",null,null,null,"51101600","Amebicides and Trichomonacides and Antiprotozoals","51101600",397,397,397,"51101600"]
[null,{"$f":"IFERROR(INDEX($G$7:$H$13233,$L404,COLUMNS($B$6:B403)),\"\")","v":"51272111"},"Amethocaine or tetracaine",null,null,null,"51272111","Amethocaine or tetracaine","51272111",398,398,398,"51272111"]
[null,{"$f":"IFERROR(INDEX($G$7:$H$13233,$L405,COLUMNS($B$6:B404)),\"\")","v":"51112901"},"Amifostine",null,null,null,"51112901","Amifostine","51112901",399,399,399,"51112901"]
[null,{"$f":"IFERROR(INDEX($G$7:$H$13233,$L406,COLUMNS($B$6:B405)),\"\")","v":"51281627"},"Amikacin",null,null,null,"51281627","Amikacin","51281627",400,400,400,"51281627"]
[null,{"$f":"IFERROR(INDEX($G$7:$H$13233,$L407,COLUMNS($B$6:B406)),\"\")","v":"51281632"},"Amikacin sulfate",null,null,null,"51281632","Amikacin sulfate","51281632",401,401,401,"51281632"]
[null,{"$f":"IFERROR(INDEX($G$7:$H$13233,$L408,COLUMNS($B$6:B407)),\"\")","v":"41115802"},"Amino acid analyzer accessories or supplies",null,null,null,"41115802","Amino acid analyzer accessories or supplies","41115802",402,402,402,"41115802"]
[null,{"$f":"IFERROR(INDEX($G$7:$H$13233,$L409,COLUMNS($B$6:B408)),\"\")","v":"41116001"},"Amino acid analyzer reagents",null,null,null,"41116001","Amino acid analyzer reagents","41116001",403,403,403,"41116001"]
[null,{"$f":"IFERROR(INDEX($G$7:$H$13233,$L410,COLUMNS($B$6:B409)),\"\")","v":"41115801"},"Amino acid analyzers",null,null,null,"41115801","Amino acid analyzers","41115801",404,404,404,"41115801"]
[null,{"$f":"IFERROR(INDEX($G$7:$H$13233,$L411,COLUMNS($B$6:B410)),\"\")","v":"51131808"},"Aminocaproic acid",null,null,null,"51131808","Aminocaproic acid","51131808",405,405,405,"51131808"]
[null,{"$f":"IFERROR(INDEX($G$7:$H$13233,$L412,COLUMNS($B$6:B411)),\"\")","v":"51281600"},"Aminoglycosides",null,null,null,"51281600","Aminoglycosides","51281600",406,406,406,"51281600"]
[null,{"$f":"IFERROR(INDEX($G$7:$H$13233,$L413,COLUMNS($B$6:B412)),\"\")","v":"51281700"},"Aminopenicillins",null,null,null,"51281700","Aminopenicillins","51281700",407,407,407,"51281700"]
[null,{"$f":"IFERROR(INDEX($G$7:$H$13233,$L414,COLUMNS($B$6:B413)),\"\")","v":"51391602"},"Aminophylline",null,null,null,"51391602","Aminophylline","51391602",408,408,408,"51391602"]
[null,{"$f":"IFERROR(INDEX($G$7:$H$13233,$L415,COLUMNS($B$6:B414)),\"\")","v":"51123601"},"Amiodarone",null,null,null,"51123601","Amiodarone","51123601",409,409,409,"51123601"]
[null,{"$f":"IFERROR(INDEX($G$7:$H$13233,$L416,COLUMNS($B$6:B415)),\"\")","v":"51281503"},"Amithiozone or thiacetazone",null,null,null,"51281503","Amithiozone or thiacetazone","51281503",410,410,410,"51281503"]
[null,{"$f":"IFERROR(INDEX($G$7:$H$13233,$L417,COLUMNS($B$6:B416)),\"\")","v":"51293002"},"Amitriptyline",null,null,null,"51293002","Amitriptyline","51293002",411,411,411,"51293002"]
[null,{"$f":"IFERROR(INDEX($G$7:$H$13233,$L418,COLUMNS($B$6:B417)),\"\")","v":"51293012"},"Amitriptyline hydrochloride",null,null,null,"51293012","Amitriptyline hydrochloride","51293012",412,412,412,"51293012"]
[null,{"$f":"IFERROR(INDEX($G$7:$H$13233,$L419,COLUMNS($B$6:B418)),\"\")","v":"51433902"},"Amlodipine",null,null,null,"51433902","Amlodipine","51433902",413,413,413,"51433902"]
[null,{"$f":"IFERROR(INDEX($G$7:$H$13233,$L420,COLUMNS($B$6:B419)),\"\")","v":"51433924"},"Amlodipine besilate",null,null,null,"51433924","Amlodipine besilate","51433924",414,414,414,"51433924"]
[null,{"$f":"IFERROR(INDEX($G$7:$H$13233,$L421,COLUMNS($B$6:B420)),\"\")","v":"51434958"},"Amlodipine besilate/Irbesartan",null,null,null,"51434958","Amlodipine besilate/Irbesartan","51434958",415,415,415,"51434958"]
[null,{"$f":"IFERROR(INDEX($G$7:$H$13233,$L422,COLUMNS($B$6:B421)),\"\")","v":"51433925"},"Amlodipine maleate",null,null,null,"51433925","Amlodipine maleate","51433925",416,416,416,"51433925"]
[null,{"$f":"IFERROR(INDEX($G$7:$H$13233,$L423,COLUMNS($B$6:B422)),\"\")","v":"51434907"},"Amlodipine/hydrochlorothiazide/olmesartan",null,null,null,"51434907","Amlodipine/hydrochlorothiazide/olmesartan","51434907",417,417,417,"51434907"]
[null,{"$f":"IFERROR(INDEX($G$7:$H$13233,$L424,COLUMNS($B$6:B423)),\"\")","v":"51434908"},"Amlodipine/hydrochlorothiazide/valsartan",null,null,null,"51434908","Amlodipine/hydrochlorothiazide/valsartan","51434908",418,418,418,"51434908"]
[null,{"$f":"IFERROR(INDEX($G$7:$H$13233,$L425,COLUMNS($B$6:B424)),\"\")","v":"51434960"},"Amlodipine/Indapamide/Perindopril arginine",null,null,null,"51434960","Amlodipine/Indapamide/Perindopril arginine","51434960",419,419,419,"51434960"]
[null,{"$f":"IFERROR(INDEX($G$7:$H$13233,$L426,COLUMNS($B$6:B425)),\"\")","v":"51434909"},"Amlodipine/olmesartan",null,null,null,"51434909","Amlodipine/olmesartan","51434909",420,420,420,"51434909"]
[null,{"$f":"IFERROR(INDEX($G$7:$H$13233,$L427,COLUMNS($B$6:B426)),\"\")","v":"51434961"},"Amlodipine/Perindopril arginine",null,null,null,"51434961","Amlodipine/Perindopril arginine","51434961",421,421,421,"51434961"]
[null,{"$f":"IFERROR(INDEX($G$7:$H$13233,$L428,COLUMNS($B$6:B427)),\"\")","v":"41113601"},"Ammeters",null,null,null,"41113601","Ammeters","41113601",422,422,422,"41113601"]
[null,{"$f":"IFERROR(INDEX($G$7:$H$13233,$L429,COLUMNS($B$6:B428)),\"\")","v":"47131804"},"Ammonia cleaners",null,null,null,"47131804","Ammonia cleaners","47131804",423,423,423,"47131804"]
[null,{"$f":"IFERROR(INDEX($G$7:$H$13233,$L430,COLUMNS($B$6:B429)),\"\")","v":"47101502"},"Ammonia removal equipment",null,null,null,"47101502","Ammonia removal equipment","47101502",424,424,424,"47101502"]
[null,{"$f":"IFERROR(INDEX($G$7:$H$13233,$L431,COLUMNS($B$6:B430)),\"\")","v":"12131509"},"Ammonium nitrate and fuel oil ANFO",null,null,null,"12131509","Ammonium nitrate and fuel oil ANFO","12131509",425,425,425,"12131509"]
[null,{"$f":"IFERROR(INDEX($G$7:$H$13233,$L432,COLUMNS($B$6:B431)),\"\")","v":"12131507"},"Ammonium nitrate explosives",null,null,null,"12131507","Ammonium nitrate explosives","12131507",426,426,426,"12131507"]
[null,{"$f":"IFERROR(INDEX($G$7:$H$13233,$L433,COLUMNS($B$6:B432)),\"\")","v":"10171601"},"Ammonium nitrate fertilizer",null,null,null,"10171601","Ammonium nitrate fertilizer","10171601",427,427,427,"10171601"]
[null,{"$f":"IFERROR(INDEX($G$7:$H$13233,$L434,COLUMNS($B$6:B433)),\"\")","v":"10171613"},"Ammonium nitrate mixed with calcium carbonate fertilizer",null,null,null,"10171613","Ammonium nitrate mixed with calcium carbonate fertilizer","10171613",428,428,428,"10171613"]
[null,{"$f":"IFERROR(INDEX($G$7:$H$13233,$L435,COLUMNS($B$6:B434)),\"\")","v":"46101600"},"Ammunition",null,null,null,"46101600","Ammunition","46101600",429,429,429,"46101600"]
[null,{"$f":"IFERROR(INDEX($G$7:$H$13233,$L436,COLUMNS($B$6:B435)),\"\")","v":"46101700"},"Ammunition handling systems",null,null,null,"46101700","Ammunition handling systems","46101700",430,430,430,"46101700"]
[null,{"$f":"IFERROR(INDEX($G$7:$H$13233,$L437,COLUMNS($B$6:B436)),\"\")","v":"42143135"},"Amniocentesis hooks",null,null,null,"42143135","Amniocentesis hooks","42143135",431,431,431,"42143135"]
[null,{"$f":"IFERROR(INDEX($G$7:$H$13233,$L438,COLUMNS($B$6:B437)),\"\")","v":"42143122"},"Amniocentesis kit accessories",null,null,null,"42143122","Amniocentesis kit accessories","42143122",432,432,432,"42143122"]
[null,{"$f":"IFERROR(INDEX($G$7:$H$13233,$L439,COLUMNS($B$6:B438)),\"\")","v":"42143104"},"Amniocentesis kits",null,null,null,"42143104","Amniocentesis kits","42143104",433,433,433,"42143104"]
[null,{"$f":"IFERROR(INDEX($G$7:$H$13233,$L440,COLUMNS($B$6:B439)),\"\")","v":"42142501"},"Amniocentesis needles",null,null,null,"42142501","Amniocentesis needles","42142501",434,434,434,"42142501"]
[null,{"$f":"IFERROR(INDEX($G$7:$H$13233,$L441,COLUMNS($B$6:B440)),\"\")","v":"51101913"},"Amodiaquine",null,null,null,"51101913","Amodiaquine","51101913",435,435,435,"51101913"]
[null,{"$f":"IFERROR(INDEX($G$7:$H$13233,$L442,COLUMNS($B$6:B441)),\"\")","v":"51102905"},"Amodiaquine and pyrimethamine/sulfadoxine",null,null,null,"51102905","Amodiaquine and pyrimethamine/sulfadoxine","51102905",436,436,436,"51102905"]
[null,{"$f":"IFERROR(INDEX($G$7:$H$13233,$L443,COLUMNS($B$6:B442)),\"\")","v":"51102907"},"Amodiaquine/artesunate",null,null,null,"51102907","Amodiaquine/artesunate","51102907",437,437,437,"51102907"]
[null,{"$f":"IFERROR(INDEX($G$7:$H$13233,$L444,COLUMNS($B$6:B443)),\"\")","v":"51281702"},"Amoxicillin",null,null,null,"51281702","Amoxicillin","51281702",438,438,438,"51281702"]
[null,{"$f":"IFERROR(INDEX($G$7:$H$13233,$L445,COLUMNS($B$6:B444)),\"\")","v":"51281710"},"Amoxicillin anhydrous",null,null,null,"51281710","Amoxicillin anhydrous","51281710",439,439,439,"51281710"]
[null,{"$f":"IFERROR(INDEX($G$7:$H$13233,$L446,COLUMNS($B$6:B445)),\"\")","v":"51281711"},"Amoxicillin hydrate",null,null,null,"51281711","Amoxicillin hydrate","51281711",440,440,440,"51281711"]
[null,{"$f":"IFERROR(INDEX($G$7:$H$13233,$L447,COLUMNS($B$6:B446)),\"\")","v":"51281712"},"Amoxicillin sodium",null,null,null,"51281712","Amoxicillin sodium","51281712",441,441,441,"51281712"]
[null,{"$f":"IFERROR(INDEX($G$7:$H$13233,$L448,COLUMNS($B$6:B447)),\"\")","v":"51281713"},"Amoxicillin trihydrate",null,null,null,"51281713","Amoxicillin trihydrate","51281713",442,442,442,"51281713"]
[null,{"$f":"IFERROR(INDEX($G$7:$H$13233,$L449,COLUMNS($B$6:B448)),\"\")","v":"51285005"},"Amoxicillin trihydrate/Potassium clavulanate",null,null,null,"51285005","Amoxicillin trihydrate/Potassium clavulanate","51285005",443,443,443,"51285005"]
[null,{"$f":"IFERROR(INDEX($G$7:$H$13233,$L450,COLUMNS($B$6:B449)),\"\")","v":"51285101"},"Amoxicillin/clarithromycin/lansoprazole",null,null,null,"51285101","Amoxicillin/clarithromycin/lansoprazole","51285101",444,444,444,"51285101"]
[null,{"$f":"IFERROR(INDEX($G$7:$H$13233,$L451,COLUMNS($B$6:B450)),\"\")","v":"51284300"},"Amphenicols",null,null,null,"51284300","Amphenicols","51284300",445,445,445,"51284300"]
[null,{"$f":"IFERROR(INDEX($G$7:$H$13233,$L452,COLUMNS($B$6:B451)),\"\")","v":"25101909"},"Amphibious vehicle",null,null,null,"25101909","Amphibious vehicle","25101909",446,446,446,"25101909"]
[null,{"$f":"IFERROR(INDEX($G$7:$H$13233,$L453,COLUMNS($B$6:B452)),\"\")","v":"51302401"},"Amphotericin B",null,null,null,"51302401","Amphotericin B","51302401",447,447,447,"51302401"]
[null,{"$f":"IFERROR(INDEX($G$7:$H$13233,$L454,COLUMNS($B$6:B453)),\"\")","v":"51281703"},"Ampicillin",null,null,null,"51281703","Ampicillin","51281703",448,448,448,"51281703"]
[null,{"$f":"IFERROR(INDEX($G$7:$H$13233,$L455,COLUMNS($B$6:B454)),\"\")","v":"51281714"},"Ampicillin anhydrous",null,null,null,"51281714","Ampicillin anhydrous","51281714",449,449,449,"51281714"]
[null,{"$f":"IFERROR(INDEX($G$7:$H$13233,$L456,COLUMNS($B$6:B455)),\"\")","v":"51281716"},"Ampicillin sodium",null,null,null,"51281716","Ampicillin sodium","51281716",450,450,450,"51281716"]
[null,{"$f":"IFERROR(INDEX($G$7:$H$13233,$L457,COLUMNS($B$6:B456)),\"\")","v":"51281717"},"Ampicillin trihydrate",null,null,null,"51281717","Ampicillin trihydrate","51281717",451,451,451,"51281717"]
[null,{"$f":"IFERROR(INDEX($G$7:$H$13233,$L458,COLUMNS($B$6:B457)),\"\")","v":"51285006"},"Ampicillin/sulbactam",null,null,null,"51285006","Ampicillin/sulbactam","51285006",452,452,452,"51285006"]
[null,{"$f":"IFERROR(INDEX($G$7:$H$13233,$L459,COLUMNS($B$6:B458)),\"\")","v":"51341501"},"Amprenavir",null,null,null,"51341501","Amprenavir","51341501",453,453,453,"51341501"]
[null,{"$f":"IFERROR(INDEX($G$7:$H$13233,$L460,COLUMNS($B$6:B459)),\"\")","v":"51472601"},"Amylmetacresol",null,null,null,"51472601","Amylmetacresol","51472601",454,454,454,"51472601"]
[null,{"$f":"IFERROR(INDEX($G$7:$H$13233,$L461,COLUMNS($B$6:B460)),\"\")","v":"41103407"},"Anaerobic chamber",null,null,null,"41103407","Anaerobic chamber","41103407",455,455,455,"41103407"]
[null,{"$f":"IFERROR(INDEX($G$7:$H$13233,$L462,COLUMNS($B$6:B461)),\"\")","v":"41104308"},"Anaerobic environmental culture systems or supplies",null,null,null,"41104308","Anaerobic environmental culture systems or supplies","41104308",456,456,456,"41104308"]
[null,{"$f":"IFERROR(INDEX($G$7:$H$13233,$L463,COLUMNS($B$6:B462)),\"\")","v":"41104303"},"Anaerobic jars or accessories",null,null,null,"41104303","Anaerobic jars or accessories","41104303",457,457,457,"41104303"]
[null,{"$f":"IFERROR(INDEX($G$7:$H$13233,$L464,COLUMNS($B$6:B463)),\"\")","v":"51271600"},"Anaesthetic amides",null,null,null,"51271600","Anaesthetic amides","51271600",458,458,458,"51271600"]
[null,{"$f":"IFERROR(INDEX($G$7:$H$13233,$L465,COLUMNS($B$6:B464)),\"\")","v":"51272000"},"Anaesthetic barbiturates",null,null,null,"51272000","Anaesthetic barbiturates","51272000",459,459,459,"51272000"]
[null,{"$f":"IFERROR(INDEX($G$7:$H$13233,$L466,COLUMNS($B$6:B465)),\"\")","v":"51272100"},"Anaesthetic benzoates",null,null,null,"51272100","Anaesthetic benzoates","51272100",460,460,460,"51272100"]
[null,{"$f":"IFERROR(INDEX($G$7:$H$13233,$L467,COLUMNS($B$6:B466)),\"\")","v":"51272200"},"Anaesthetic cycloparaffins",null,null,null,"51272200","Anaesthetic cycloparaffins","51272200",461,461,461,"51272200"]
[null,{"$f":"IFERROR(INDEX($G$7:$H$13233,$L468,COLUMNS($B$6:B467)),\"\")","v":"51272300"},"Anaesthetic dioxolanes and gases and imidazoles and isoquinolines",null,null,null,"51272300","Anaesthetic dioxolanes and gases and imidazoles and isoquinolines","51272300",462,462,462,"51272300"]
[null,{"$f":"IFERROR(INDEX($G$7:$H$13233,$L469,COLUMNS($B$6:B468)),\"\")","v":"51270000"},"Anaesthetic drugs and related adjuncts and analeptics",null,null,null,"51270000","Anaesthetic drugs and related adjuncts and analeptics","51270000",463,463,463,"51270000"]
[null,{"$f":"IFERROR(INDEX($G$7:$H$13233,$L470,COLUMNS($B$6:B469)),\"\")","v":"51272400"},"Anaesthetic ethers",null,null,null,"51272400","Anaesthetic ethers","51272400",464,464,464,"51272400"]
[null,{"$f":"IFERROR(INDEX($G$7:$H$13233,$L471,COLUMNS($B$6:B470)),\"\")","v":"51272900"},"Anaesthetic phenols",null,null,null,"51272900","Anaesthetic phenols","51272900",465,465,465,"51272900"]
[null,{"$f":"IFERROR(INDEX($G$7:$H$13233,$L472,COLUMNS($B$6:B471)),\"\")","v":"51273000"},"Anaesthetic piperidines",null,null,null,"51273000","Anaesthetic piperidines","51273000",466,466,466,"51273000"]
[null,{"$f":"IFERROR(INDEX($G$7:$H$13233,$L473,COLUMNS($B$6:B472)),\"\")","v":"42182001"},"Anal or rectal exam speculas",null,null,null,"42182001","Anal or rectal exam speculas","42182001",467,467,467,"42182001"]
[null,{"$f":"IFERROR(INDEX($G$7:$H$13233,$L474,COLUMNS($B$6:B473)),\"\")","v":"42221705"},"Analgesia infusion vial assemblies",null,null,null,"42221705","Analgesia infusion vial assemblies","42221705",468,468,468,"42221705"]
[null,{"$f":"IFERROR(INDEX($G$7:$H$13233,$L475,COLUMNS($B$6:B474)),\"\")","v":"42221707"},"Analgesic infusion sets or kits",null,null,null,"42221707","Analgesic infusion sets or kits","42221707",469,469,469,"42221707"]
[null,{"$f":"IFERROR(INDEX($G$7:$H$13233,$L476,COLUMNS($B$6:B475)),\"\")","v":"43211517"},"Analog computer",null,null,null,"43211517","Analog computer","43211517",470,470,470,"43211517"]
[null,{"$f":"IFERROR(INDEX($G$7:$H$13233,$L477,COLUMNS($B$6:B476)),\"\")","v":"43191509"},"Analog telephones",null,null,null,"43191509","Analog telephones","43191509",471,471,471,"43191509"]
[null,{"$f":"IFERROR(INDEX($G$7:$H$13233,$L478,COLUMNS($B$6:B477)),\"\")","v":"41111517"},"Analytical balances",null,null,null,"41111517","Analytical balances","41111517",472,472,472,"41111517"]
[null,{"$f":"IFERROR(INDEX($G$7:$H$13233,$L479,COLUMNS($B$6:B478)),\"\")","v":"43232605"},"Analytical or scientific software",null,null,null,"43232605","Analytical or scientific software","43232605",473,473,473,"43232605"]
[null,{"$f":"IFERROR(INDEX($G$7:$H$13233,$L480,COLUMNS($B$6:B479)),\"\")","v":"42312014"},"Anastomosis rings",null,null,null,"42312014","Anastomosis rings","42312014",474,474,474,"42312014"]
[null,{"$f":"IFERROR(INDEX($G$7:$H$13233,$L481,COLUMNS($B$6:B480)),\"\")","v":"51111875"},"Anastrozole",null,null,null,"51111875","Anastrozole","51111875",475,475,475,"51111875"]
[null,{"$f":"IFERROR(INDEX($G$7:$H$13233,$L482,COLUMNS($B$6:B481)),\"\")","v":"42301502"},"Anatomical human mannequins for medical education or training",null,null,null,"42301502","Anatomical human mannequins for medical education or training","42301502",476,476,476,"42301502"]
[null,{"$f":"IFERROR(INDEX($G$7:$H$13233,$L483,COLUMNS($B$6:B482)),\"\")","v":"42301501"},"Anatomical human models for medical education or training",null,null,null,"42301501","Anatomical human models for medical education or training","42301501",477,477,477,"42301501"]
[null,{"$f":"IFERROR(INDEX($G$7:$H$13233,$L484,COLUMNS($B$6:B483)),\"\")","v":"25111906"},"Anchor chocks",null,null,null,"25111906","Anchor chocks","25111906",478,478,478,"25111906"]
[null,{"$f":"IFERROR(INDEX($G$7:$H$13233,$L485,COLUMNS($B$6:B484)),\"\")","v":"25111907"},"Anchor lines",null,null,null,"25111907","Anchor lines","25111907",479,479,479,"25111907"]
[null,{"$f":"IFERROR(INDEX($G$7:$H$13233,$L486,COLUMNS($B$6:B485)),\"\")","v":"30241502"},"Anchor plate",null,null,null,"30241502","Anchor plate","30241502",480,480,480,"30241502"]
[null,{"$f":"IFERROR(INDEX($G$7:$H$13233,$L487,COLUMNS($B$6:B486)),\"\")","v":"31162100"},"Anchors",null,null,null,"31162100","Anchors","31162100",481,481,481,"31162100"]
[null,{"$f":"IFERROR(INDEX($G$7:$H$13233,$L488,COLUMNS($B$6:B487)),\"\")","v":"11111805"},"Andalusite",null,null,null,"11111805","Andalusite","11111805",482,482,482,"11111805"]
[null,{"$f":"IFERROR(INDEX($G$7:$H$13233,$L489,COLUMNS($B$6:B488)),\"\")","v":"51182000"},"Androgens and androgen inhibitors",null,null,null,"51182000","Androgens and androgen inhibitors","51182000",483,483,483,"51182000"]
[null,{"$f":"IFERROR(INDEX($G$7:$H$13233,$L490,COLUMNS($B$6:B489)),\"\")","v":"41115835"},"Androgeny and fertility automated counter",null,null,null,"41115835","Androgeny and fertility automated counter","41115835",484,484,484,"41115835"]
[null,{"$f":"IFERROR(INDEX($G$7:$H$13233,$L491,COLUMNS($B$6:B490)),\"\")","v":"41115836"},"Androgeny and fertility automated counter accessories and supplies",null,null,null,"41115836","Androgeny and fertility automated counter accessories and supplies","41115836",485,485,485,"41115836"]
[null,{"$f":"IFERROR(INDEX($G$7:$H$13233,$L492,COLUMNS($B$6:B491)),\"\")","v":"41116017"},"Androgeny and fertility automated counter reagent",null,null,null,"41116017","Androgeny and fertility automated counter reagent","41116017",486,486,486,"41116017"]
[null,{"$f":"IFERROR(INDEX($G$7:$H$13233,$L493,COLUMNS($B$6:B492)),\"\")","v":"41116151"},"Androgeny and fertility quality controls and calibrators and standards",null,null,null,"41116151","Androgeny and fertility quality controls and calibrators and standards","41116151",487,487,487,"41116151"]
[null,{"$f":"IFERROR(INDEX($G$7:$H$13233,$L494,COLUMNS($B$6:B493)),\"\")","v":"41116162"},"Androgeny and fertility reagent or solution or stain",null,null,null,"41116162","Androgeny and fertility reagent or solution or stain","41116162",488,488,488,"41116162"]
[null,{"$f":"IFERROR(INDEX($G$7:$H$13233,$L495,COLUMNS($B$6:B494)),\"\")","v":"41116150"},"Androgeny and fertility test kits and supplies",null,null,null,"41116150","Androgeny and fertility test kits and supplies","41116150",489,489,489,"41116150"]
[null,{"$f":"IFERROR(INDEX($G$7:$H$13233,$L496,COLUMNS($B$6:B495)),\"\")","v":"41115302"},"Anechoic chambers",null,null,null,"41115302","Anechoic chambers","41115302",490,490,490,"41115302"]
[null,{"$f":"IFERROR(INDEX($G$7:$H$13233,$L497,COLUMNS($B$6:B496)),\"\")","v":"41114401"},"Anemometers",null,null,null,"41114401","Anemometers","41114401",491,491,491,"41114401"]
[null,{"$f":"IFERROR(INDEX($G$7:$H$13233,$L498,COLUMNS($B$6:B497)),\"\")","v":"41114424"},"Anenometer calibrator",null,null,null,"41114424","Anenometer calibrator","41114424",492,492,492,"41114424"]
[null,{"$f":"IFERROR(INDEX($G$7:$H$13233,$L499,COLUMNS($B$6:B498)),\"\")","v":"42181601"},"Aneroid blood pressure units",null,null,null,"42181601","Aneroid blood pressure units","42181601",493,493,493,"42181601"]
[null,{"$f":"IFERROR(INDEX($G$7:$H$13233,$L500,COLUMNS($B$6:B499)),\"\")","v":"42272500"},"Anesthesia apparatus and accessories and supplies",null,null,null,"42272500","Anesthesia apparatus and accessories and supplies","42272500",494,494,494,"42272500"]
[null,{"$f":"IFERROR(INDEX($G$7:$H$13233,$L501,COLUMNS($B$6:B500)),\"\")","v":"42272506"},"Anesthesia apparatus screen filters",null,null,null,"42272506","Anesthesia apparatus screen filters","42272506",495,495,495,"42272506"]
[null,{"$f":"IFERROR(INDEX($G$7:$H$13233,$L502,COLUMNS($B$6:B501)),\"\")","v":"42272503"},"Anesthesia inhalers or inhaler units",null,null,null,"42272503","Anesthesia inhalers or inhaler units","42272503",496,496,496,"42272503"]
[null,{"$f":"IFERROR(INDEX($G$7:$H$13233,$L503,COLUMNS($B$6:B502)),\"\")","v":"42272509"},"Anesthesia machine calibrators",null,null,null,"42272509","Anesthesia machine calibrators","42272509",497,497,497,"42272509"]
[null,{"$f":"IFERROR(INDEX($G$7:$H$13233,$L504,COLUMNS($B$6:B503)),\"\")","v":"42272510"},"Anesthesia machine upgrade kits",null,null,null,"42272510","Anesthesia machine upgrade kits","42272510",498,498,498,"42272510"]
[null,{"$f":"IFERROR(INDEX($G$7:$H$13233,$L505,COLUMNS($B$6:B504)),\"\")","v":"42142502"},"Anesthesia needles",null,null,null,"42142502","Anesthesia needles","42142502",499,499,499,"42142502"]
[null,{"$f":"IFERROR(INDEX($G$7:$H$13233,$L506,COLUMNS($B$6:B505)),\"\")","v":"42142535"},"Anesthesia nerve block trays or needles",null,null,null,"42142535","Anesthesia nerve block trays or needles","42142535",500,500,500,"42142535"]
[null,{"$f":"IFERROR(INDEX($G$7:$H$13233,$L507,COLUMNS($B$6:B506)),\"\")","v":"42203407"},"Angiography contrast medium delivery sets",null,null,null,"42203407","Angiography contrast medium delivery sets","42203407",501,501,501,"42203407"]
[null,{"$f":"IFERROR(INDEX($G$7:$H$13233,$L508,COLUMNS($B$6:B507)),\"\")","v":"42203428"},"Angiography control valves and hemostatic valves",null,null,null,"42203428","Angiography control valves and hemostatic valves","42203428",502,502,502,"42203428"]
[null,{"$f":"IFERROR(INDEX($G$7:$H$13233,$L509,COLUMNS($B$6:B508)),\"\")","v":"42203426"},"Angiography guidewire torque devices",null,null,null,"42203426","Angiography guidewire torque devices","42203426",503,503,503,"42203426"]
[null,{"$f":"IFERROR(INDEX($G$7:$H$13233,$L510,COLUMNS($B$6:B509)),\"\")","v":"42203427"},"Angiography introducer needles",null,null,null,"42203427","Angiography introducer needles","42203427",504,504,504,"42203427"]
[null,{"$f":"IFERROR(INDEX($G$7:$H$13233,$L511,COLUMNS($B$6:B510)),\"\")","v":"42203405"},"Angioplasty balloon catheters",null,null,null,"42203405","Angioplasty balloon catheters","42203405",505,505,505,"42203405"]
[null,{"$f":"IFERROR(INDEX($G$7:$H$13233,$L512,COLUMNS($B$6:B511)),\"\")","v":"42203409"},"Angioscopic valvulotomes",null,null,null,"42203409","Angioscopic valvulotomes","42203409",506,506,506,"42203409"]
[null,{"$f":"IFERROR(INDEX($G$7:$H$13233,$L513,COLUMNS($B$6:B512)),\"\")","v":"30101500"},"Angles",null,null,null,"30101500","Angles","30101500",507,507,507,"30101500"]
[null,{"$f":"IFERROR(INDEX($G$7:$H$13233,$L514,COLUMNS($B$6:B513)),\"\")","v":"41111968"},"Angular rate sensor",null,null,null,"41111968","Angular rate sensor","41111968",508,508,508,"41111968"]
[null,{"$f":"IFERROR(INDEX($G$7:$H$13233,$L515,COLUMNS($B$6:B514)),\"\")","v":"51283101"},"Anidulafungin",null,null,null,"51283101","Anidulafungin","51283101",509,509,509,"51283101"]
[null,{"$f":"IFERROR(INDEX($G$7:$H$13233,$L516,COLUMNS($B$6:B515)),\"\")","v":"41102604"},"Animal catching devices",null,null,null,"41102604","Animal catching devices","41102604",510,510,510,"41102604"]
[null,{"$f":"IFERROR(INDEX($G$7:$H$13233,$L517,COLUMNS($B$6:B516)),\"\")","v":"10131600"},"Animal containment",null,null,null,"10131600","Animal containment","10131600",511,{"$f":"IF(ISNUMBER(SEARCH($H$4,H517)),J517,\"\")","v":511},{"$f":"IFERROR(SMALL($K$7:$K$13233,J517),\"\")","v":511},"10131600"]
[null,{"$f":"IFERROR(INDEX($G$7:$H$13233,$L518,COLUMNS($B$6:B517)),\"\")","v":"10130000"},"Animal containment and habitats",null,null,null,"10130000","Animal containment and habitats","10130000",512,512,512,"10130000"]
[null,{"$f":"IFERROR(INDEX($G$7:$H$13233,$L519,COLUMNS($B$6:B518)),\"\")","v":"10191701"},"Animal control traps",null,null,null,"10191701","Animal control traps","10191701",513,513,513,"10191701"]
[null,{"$f":"IFERROR(INDEX($G$7:$H$13233,$L520,COLUMNS($B$6:B519)),\"\")","v":"70122002"},"Animal disease control",null,null,null,"70122002","Animal disease control","70122002",514,514,514,"70122002"]
[null,{"$f":"IFERROR(INDEX($G$7:$H$13233,$L521,COLUMNS($B$6:B520)),\"\")","v":"10120000"},"Animal feed",null,null,null,"10120000","Animal feed","10120000",515,515,515,"10120000"]
[null,{"$f":"IFERROR(INDEX($G$7:$H$13233,$L522,COLUMNS($B$6:B521)),\"\")","v":"41102610"},"Animal for research testing",null,null,null,"41102610","Animal for research testing","41102610",516,516,516,"41102610"]
[null,{"$f":"IFERROR(INDEX($G$7:$H$13233,$L523,COLUMNS($B$6:B522)),\"\")","v":"72154600"},"Animal habitat and enclosure construction and maintenance services",null,null,null,"72154600","Animal habitat and enclosure construction and maintenance services","72154600",517,517,517,"72154600"]
[null,{"$f":"IFERROR(INDEX($G$7:$H$13233,$L524,COLUMNS($B$6:B523)),\"\")","v":"10131700"},"Animal habitats",null,null,null,"10131700","Animal habitats","10131700",518,518,518,"10131700"]
[null,{"$f":"IFERROR(INDEX($G$7:$H$13233,$L525,COLUMNS($B$6:B524)),\"\")","v":"70122000"},"Animal health",null,null,null,"70122000","Animal health","70122000",519,519,519,"70122000"]
[null,{"$f":"IFERROR(INDEX($G$7:$H$13233,$L526,COLUMNS($B$6:B525)),\"\")","v":"70122010"},"Animal health information services",null,null,null,"70122010","Animal health information services","70122010",520,520,520,"70122010"]
[null,{"$f":"IFERROR(INDEX($G$7:$H$13233,$L527,COLUMNS($B$6:B526)),\"\")","v":"70122005"},"Animal health preventive medication services",null,null,null,"70122005","Animal health preventive medication services","70122005",521,521,521,"70122005"]
[null,{"$f":"IFERROR(INDEX($G$7:$H$13233,$L528,COLUMNS($B$6:B527)),\"\")","v":"11131500"},"Animal hides and skins and animal textile materials",null,null,null,"11131500","Animal hides and skins and animal textile materials","11131500",522,522,522,"11131500"]
[null,{"$f":"IFERROR(INDEX($G$7:$H$13233,$L529,COLUMNS($B$6:B528)),\"\")","v":"70122009"},"Animal hospital services",null,null,null,"70122009","Animal hospital services","70122009",523,523,523,"70122009"]
[null,{"$f":"IFERROR(INDEX($G$7:$H$13233,$L530,COLUMNS($B$6:B529)),\"\")","v":"70121604"},"Animal husbandry",null,null,null,"70121604","Animal husbandry","70121604",524,524,524,"70121604"]
[null,{"$f":"IFERROR(INDEX($G$7:$H$13233,$L531,COLUMNS($B$6:B530)),\"\")","v":"41102603"},"Animal identification supplies",null,null,null,"41102603","Animal identification supplies","41102603",525,525,525,"41102603"]
[null,{"$f":"IFERROR(INDEX($G$7:$H$13233,$L532,COLUMNS($B$6:B531)),\"\")","v":"41102600"},"Animal laboratory equipment and accessories",null,null,null,"41102600","Animal laboratory equipment and accessories","41102600",526,526,526,"41102600"]
[null,{"$f":"IFERROR(INDEX($G$7:$H$13233,$L533,COLUMNS($B$6:B532)),\"\")","v":"94131901"},"Animal liberation movements",null,null,null,"94131901","Animal liberation movements","94131901",527,527,527,"94131901"]
[null,{"$f":"IFERROR(INDEX($G$7:$H$13233,$L534,COLUMNS($B$6:B533)),\"\")","v":"70122001"},"Animal nutrition",null,null,null,"70122001","Animal nutrition","70122001",528,528,528,"70122001"]
[null,{"$f":"IFERROR(INDEX($G$7:$H$13233,$L535,COLUMNS($B$6:B534)),\"\")","v":"94131900"},"Animal protection associations",null,null,null,"94131900","Animal protection associations","94131900",529,529,529,"94131900"]
[null,{"$f":"IFERROR(INDEX($G$7:$H$13233,$L536,COLUMNS($B$6:B535)),\"\")","v":"10131500"},"Animal shelters",null,null,null,"10131500","Animal shelters","10131500",530,530,530,"10131500"]
[null,{"$f":"IFERROR(INDEX($G$7:$H$13233,$L537,COLUMNS($B$6:B536)),\"\")","v":"41102608"},"Animal testing equipment",null,null,null,"41102608","Animal testing equipment","41102608",531,531,531,"41102608"]
[null,{"$f":"IFERROR(INDEX($G$7:$H$13233,$L538,COLUMNS($B$6:B537)),\"\")","v":"10131605"},"Animal transport cage",null,null,null,"10131605","Animal transport cage","10131605",532,532,532,"10131605"]
[null,{"$f":"IFERROR(INDEX($G$7:$H$13233,$L539,COLUMNS($B$6:B538)),\"\")","v":"72102105"},"Animal trapping",null,null,null,"72102105","Animal trapping","72102105",533,533,533,"72102105"]
[null,{"$f":"IFERROR(INDEX($G$7:$H$13233,$L540,COLUMNS($B$6:B539)),\"\")","v":"70122003"},"Animal trypanosomiasis",null,null,null,"70122003","Animal trypanosomiasis","70122003",534,534,534,"70122003"]
[null,{"$f":"IFERROR(INDEX($G$7:$H$13233,$L541,COLUMNS($B$6:B540)),\"\")","v":"70122006"},"Animal vaccination services",null,null,null,"70122006","Animal vaccination services","70122006",535,535,535,"70122006"]
[null,{"$f":"IFERROR(INDEX($G$7:$H$13233,$L542,COLUMNS($B$6:B541)),\"\")","v":"41111506"},"Animal weighing scales",null,null,null,"41111506","Animal weighing scales","41111506",536,536,536,"41111506"]
[null,{"$f":"IFERROR(INDEX($G$7:$H$13233,$L543,COLUMNS($B$6:B542)),\"\")","v":"42241701"},"Ankle or foot orthopedic softgoods",null,null,null,"42241701","Ankle or foot orthopedic softgoods","42241701",537,537,537,"42241701"]
[null,{"$f":"IFERROR(INDEX($G$7:$H$13233,$L544,COLUMNS($B$6:B543)),\"\")","v":"81112224"},"ANS & ATM Software Maintenance/Development Services",null,null,null,"81112224","ANS & ATM Software Maintenance/Development Services","81112224",538,538,538,"81112224"]
[null,{"$f":"IFERROR(INDEX($G$7:$H$13233,$L545,COLUMNS($B$6:B544)),\"\")","v":"78204006"},"ANS & ATM Software Maintenance/Development Services (Aviation)",null,null,null,"78204006","ANS & ATM Software Maintenance/Development Services (Aviation)","78204006",539,539,539,"78204006"]
[null,{"$f":"IFERROR(INDEX($G$7:$H$13233,$L546,COLUMNS($B$6:B545)),\"\")","v":"43191505"},"Answering machines",null,null,null,"43191505","Answering machines","43191505",540,540,540,"43191505"]
[null,{"$f":"IFERROR(INDEX($G$7:$H$13233,$L547,COLUMNS($B$6:B546)),\"\")","v":"51171500"},"Antacids and antiflatulents",null,null,null,"51171500","Antacids and antiflatulents","51171500",541,541,541,"51171500"]
[null,{"$f":"IFERROR(INDEX($G$7:$H$13233,$L548,COLUMNS($B$6:B547)),\"\")","v":"43221727"},"Antenna accessory",null,null,null,"43221727","Antenna accessory","43221727",542,542,542,"43221727"]
[null,{"$f":"IFERROR(INDEX($G$7:$H$13233,$L549,COLUMNS($B$6:B548)),\"\")","v":"72154001"},"Antenna installation service",null,null,null,"72154001","Antenna installation service","72154001",543,543,543,"72154001"]
[null,{"$f":"IFERROR(INDEX($G$7:$H$13233,$L550,COLUMNS($B$6:B549)),\"\")","v":"51451900"},"Anthelmintic amides",null,null,null,"51451900","Anthelmintic amides","51451900",544,544,544,"51451900"]
[null,{"$f":"IFERROR(INDEX($G$7:$H$13233,$L551,COLUMNS($B$6:B550)),\"\")","v":"51452100"},"Anthelmintic benzene derivatives",null,null,null,"51452100","Anthelmintic benzene derivatives","51452100",545,545,545,"51452100"]
[null,{"$f":"IFERROR(INDEX($G$7:$H$13233,$L552,COLUMNS($B$6:B551)),\"\")","v":"51451600"},"Anthelmintic benzimidazoles",null,null,null,"51451600","Anthelmintic benzimidazoles","51451600",546,546,546,"51451600"]
[null,{"$f":"IFERROR(INDEX($G$7:$H$13233,$L553,COLUMNS($B$6:B552)),\"\")","v":"51452200"},"Anthelmintic benzoates",null,null,null,"51452200","Anthelmintic benzoates","51452200",547,547,547,"51452200"]
[null,{"$f":"IFERROR(INDEX($G$7:$H$13233,$L554,COLUMNS($B$6:B553)),\"\")","v":"51452300"},"Anthelmintic benzodioxoles and butyrophenones and copper compounds and cyclohexanes and naphthalenes",null,null,null,"51452300","Anthelmintic benzodioxoles and butyrophenones and copper compounds and cyclohexanes and naphthalenes","51452300",548,548,548,"51452300"]
[null,{"$f":"IFERROR(INDEX($G$7:$H$13233,$L555,COLUMNS($B$6:B554)),\"\")","v":"51452400"},"Anthelmintic carbamates",null,null,null,"51452400","Anthelmintic carbamates","51452400",549,549,549,"51452400"]
[null,{"$f":"IFERROR(INDEX($G$7:$H$13233,$L556,COLUMNS($B$6:B555)),\"\")","v":"51452500"},"Anthelmintic chlorinated hydrocarbons",null,null,null,"51452500","Anthelmintic chlorinated hydrocarbons","51452500",550,550,550,"51452500"]
[null,{"$f":"IFERROR(INDEX($G$7:$H$13233,$L557,COLUMNS($B$6:B556)),\"\")","v":"51451800"},"Anthelmintic from other constituents",null,null,null,"51451800","Anthelmintic from other constituents","51451800",551,551,551,"51451800"]
[null,{"$f":"IFERROR(INDEX($G$7:$H$13233,$L558,COLUMNS($B$6:B557)),\"\")","v":"51452600"},"Anthelmintic guanidines",null,null,null,"51452600","Anthelmintic guanidines","51452600",552,552,552,"51452600"]
[null,{"$f":"IFERROR(INDEX($G$7:$H$13233,$L559,COLUMNS($B$6:B558)),\"\")","v":"51452700"},"Anthelmintic isoquinolines",null,null,null,"51452700","Anthelmintic isoquinolines","51452700",553,553,553,"51452700"]
[null,{"$f":"IFERROR(INDEX($G$7:$H$13233,$L560,COLUMNS($B$6:B559)),\"\")","v":"51452800"},"Anthelmintic macrolides",null,null,null,"51452800","Anthelmintic macrolides","51452800",554,554,554,"51452800"]
[null,{"$f":"IFERROR(INDEX($G$7:$H$13233,$L561,COLUMNS($B$6:B560)),\"\")","v":"51452900"},"Anthelmintic organophosphorus compounds",null,null,null,"51452900","Anthelmintic organophosphorus compounds","51452900",555,555,555,"51452900"]
[null,{"$f":"IFERROR(INDEX($G$7:$H$13233,$L562,COLUMNS($B$6:B561)),\"\")","v":"51453000"},"Anthelmintic piperazines",null,null,null,"51453000","Anthelmintic piperazines","51453000",556,556,556,"51453000"]
[null,{"$f":"IFERROR(INDEX($G$7:$H$13233,$L563,COLUMNS($B$6:B562)),\"\")","v":"51453200"},"Anthelmintic quinolines",null,null,null,"51453200","Anthelmintic quinolines","51453200",557,557,557,"51453200"]
[null,{"$f":"IFERROR(INDEX($G$7:$H$13233,$L564,COLUMNS($B$6:B563)),\"\")","v":"51453400"},"Anthelmintic terpenes",null,null,null,"51453400","Anthelmintic terpenes","51453400",558,558,558,"51453400"]
[null,{"$f":"IFERROR(INDEX($G$7:$H$13233,$L565,COLUMNS($B$6:B564)),\"\")","v":"51453500"},"Anthelmintic thiazoles",null,null,null,"51453500","Anthelmintic thiazoles","51453500",559,559,559,"51453500"]
[null,{"$f":"IFERROR(INDEX($G$7:$H$13233,$L566,COLUMNS($B$6:B565)),\"\")","v":"51453600"},"Anthelmintic thiocyanates",null,null,null,"51453600","Anthelmintic thiocyanates","51453600",560,560,560,"51453600"]
[null,{"$f":"IFERROR(INDEX($G$7:$H$13233,$L567,COLUMNS($B$6:B566)),\"\")","v":"51450000"},"Anthelmintics",null,null,null,"51450000","Anthelmintics","51450000",561,561,561,"51450000"]
[null,{"$f":"IFERROR(INDEX($G$7:$H$13233,$L568,COLUMNS($B$6:B567)),\"\")","v":"51281800"},"Anthracyclines",null,null,null,"51281800","Anthracyclines","51281800",562,562,562,"51281800"]
[null,{"$f":"IFERROR(INDEX($G$7:$H$13233,$L569,COLUMNS($B$6:B568)),\"\")","v":"93141715"},"Anthropological research service",null,null,null,"93141715","Anthropological research service","93141715",563,563,563,"93141715"]
[null,{"$f":"IFERROR(INDEX($G$7:$H$13233,$L570,COLUMNS($B$6:B569)),\"\")","v":"51143200"},"Anti abuse drugs",null,null,null,"51143200","Anti abuse drugs","51143200",564,564,564,"51143200"]
[null,{"$f":"IFERROR(INDEX($G$7:$H$13233,$L571,COLUMNS($B$6:B570)),\"\")","v":"41116029"},"Anti B serum, monoclonal",null,null,null,"41116029","Anti B serum, monoclonal","41116029",565,565,565,"41116029"]
[null,{"$f":"IFERROR(INDEX($G$7:$H$13233,$L572,COLUMNS($B$6:B571)),\"\")","v":"41121708"},"Anti coagulant test tubes",null,null,null,"41121708","Anti coagulant test tubes","41121708",566,566,566,"41121708"]
[null,{"$f":"IFERROR(INDEX($G$7:$H$13233,$L573,COLUMNS($B$6:B572)),\"\")","v":"15121800"},"Anti corrosives",null,null,null,"15121800","Anti corrosives","15121800",567,567,567,"15121800"]
[null,{"$f":"IFERROR(INDEX($G$7:$H$13233,$L574,COLUMNS($B$6:B573)),\"\")","v":"46221503"},"Anti explosive device detonator",null,null,null,"46221503","Anti explosive device detonator","46221503",568,568,568,"46221503"]
[null,{"$f":"IFERROR(INDEX($G$7:$H$13233,$L575,COLUMNS($B$6:B574)),\"\")","v":"12163200"},"Anti gas migration agents",null,null,null,"12163200","Anti gas migration agents","12163200",569,569,569,"12163200"]
[null,{"$f":"IFERROR(INDEX($G$7:$H$13233,$L576,COLUMNS($B$6:B575)),\"\")","v":"12162200"},"Anti oxidants",null,null,null,"12162200","Anti oxidants","12162200",570,570,570,"12162200"]
[null,{"$f":"IFERROR(INDEX($G$7:$H$13233,$L577,COLUMNS($B$6:B576)),\"\")","v":"94131802"},"Anti racism movements",null,null,null,"94131802","Anti racism movements","94131802",571,571,571,"94131802"]
[null,{"$f":"IFERROR(INDEX($G$7:$H$13233,$L578,COLUMNS($B$6:B577)),\"\")","v":"42211901"},"Anti slip materials for the physically challenged",null,null,null,"42211901","Anti slip materials for the physically challenged","42211901",572,572,572,"42211901"]
[null,{"$f":"IFERROR(INDEX($G$7:$H$13233,$L579,COLUMNS($B$6:B578)),\"\")","v":"12163100"},"Anti sludgers",null,null,null,"12163100","Anti sludgers","12163100",573,573,573,"12163100"]
[null,{"$f":"IFERROR(INDEX($G$7:$H$13233,$L580,COLUMNS($B$6:B579)),\"\")","v":"46182100"},"Anti static equipment and supplies",null,null,null,"46182100","Anti static equipment and supplies","46182100",574,574,574,"46182100"]
[null,{"$f":"IFERROR(INDEX($G$7:$H$13233,$L581,COLUMNS($B$6:B580)),\"\")","v":"46182104"},"Anti static floor mats",null,null,null,"46182104","Anti static floor mats","46182104",575,575,575,"46182104"]
[null,{"$f":"IFERROR(INDEX($G$7:$H$13233,$L582,COLUMNS($B$6:B581)),\"\")","v":"46182105"},"Anti static worktable mats",null,null,null,"46182105","Anti static worktable mats","46182105",576,576,576,"46182105"]
[null,{"$f":"IFERROR(INDEX($G$7:$H$13233,$L583,COLUMNS($B$6:B582)),\"\")","v":"51131500"},"Antianemic drugs",null,null,null,"51131500","Antianemic drugs","51131500",577,577,577,"51131500"]
[null,{"$f":"IFERROR(INDEX($G$7:$H$13233,$L584,COLUMNS($B$6:B583)),\"\")","v":"51121500"},"Antiarrythmic agents",null,null,null,"51121500","Antiarrythmic agents","51121500",578,578,578,"51121500"]
[null,{"$f":"IFERROR(INDEX($G$7:$H$13233,$L585,COLUMNS($B$6:B584)),\"\")","v":"51123500"},"Antiarrythmic benzazepines",null,null,null,"51123500","Antiarrythmic benzazepines","51123500",579,579,579,"51123500"]
[null,{"$f":"IFERROR(INDEX($G$7:$H$13233,$L586,COLUMNS($B$6:B585)),\"\")","v":"51123600"},"Antiarrythmic benzofurans",null,null,null,"51123600","Antiarrythmic benzofurans","51123600",580,580,580,"51123600"]
[null,{"$f":"IFERROR(INDEX($G$7:$H$13233,$L587,COLUMNS($B$6:B586)),\"\")","v":"51124400"},"Antiarrythmic cardiac glycosides or cardenolides",null,null,null,"51124400","Antiarrythmic cardiac glycosides or cardenolides","51124400",581,581,581,"51124400"]
[null,{"$f":"IFERROR(INDEX($G$7:$H$13233,$L588,COLUMNS($B$6:B587)),\"\")","v":"51123900"},"Antiarrythmic indoles",null,null,null,"51123900","Antiarrythmic indoles","51123900",582,582,582,"51123900"]
[null,{"$f":"IFERROR(INDEX($G$7:$H$13233,$L589,COLUMNS($B$6:B588)),\"\")","v":"51124100"},"Antiarrythmic purines",null,null,null,"51124100","Antiarrythmic purines","51124100",583,583,583,"51124100"]
[null,{"$f":"IFERROR(INDEX($G$7:$H$13233,$L590,COLUMNS($B$6:B589)),\"\")","v":"51120000"},"Antiarrythmics and antianginals and cardioplegics and drugs for heart failure",null,null,null,"51120000","Antiarrythmics and antianginals and cardioplegics and drugs for heart failure","51120000",584,584,584,"51120000"]
[null,{"$f":"IFERROR(INDEX($G$7:$H$13233,$L591,COLUMNS($B$6:B590)),\"\")","v":"51161500"},"Antiasthmatic drugs",null,null,null,"51161500","Antiasthmatic drugs","51161500",585,585,585,"51161500"]
[null,{"$f":"IFERROR(INDEX($G$7:$H$13233,$L592,COLUMNS($B$6:B591)),\"\")","v":"51285600"},"Antibacterial alcohols",null,null,null,"51285600","Antibacterial alcohols","51285600",586,586,586,"51285600"]
[null,{"$f":"IFERROR(INDEX($G$7:$H$13233,$L593,COLUMNS($B$6:B592)),\"\")","v":"51285900"},"Antibacterial amines",null,null,null,"51285900","Antibacterial amines","51285900",587,587,587,"51285900"]
[null,{"$f":"IFERROR(INDEX($G$7:$H$13233,$L594,COLUMNS($B$6:B593)),\"\")","v":"51285300"},"Antibacterial nitrofurans",null,null,null,"51285300","Antibacterial nitrofurans","51285300",588,588,588,"51285300"]
[null,{"$f":"IFERROR(INDEX($G$7:$H$13233,$L595,COLUMNS($B$6:B594)),\"\")","v":"51286500"},"Antibacterial pyrans",null,null,null,"51286500","Antibacterial pyrans","51286500",589,589,589,"51286500"]
[null,{"$f":"IFERROR(INDEX($G$7:$H$13233,$L596,COLUMNS($B$6:B595)),\"\")","v":"51287000"},"Antibacterial sulfones",null,null,null,"51287000","Antibacterial sulfones","51287000",590,590,590,"51287000"]
[null,{"$f":"IFERROR(INDEX($G$7:$H$13233,$L597,COLUMNS($B$6:B596)),\"\")","v":"51280000"},"Antibacterials",null,null,null,"51280000","Antibacterials","51280000",591,591,591,"51280000"]
[null,{"$f":"IFERROR(INDEX($G$7:$H$13233,$L598,COLUMNS($B$6:B597)),\"\")","v":"51285500"},"Antibacterials, synthesized",null,null,null,"51285500","Antibacterials, synthesized","51285500",592,592,592,"51285500"]
[null,{"$f":"IFERROR(INDEX($G$7:$H$13233,$L599,COLUMNS($B$6:B598)),\"\")","v":"41115832"},"Antibiotic detection equipment",null,null,null,"41115832","Antibiotic detection equipment","41115832",593,593,593,"41115832"]
[null,{"$f":"IFERROR(INDEX($G$7:$H$13233,$L600,COLUMNS($B$6:B599)),\"\")","v":"51131600"},"Anticoagulants",null,null,null,"51131600","Anticoagulants","51131600",594,594,594,"51131600"]
[null,{"$f":"IFERROR(INDEX($G$7:$H$13233,$L601,COLUMNS($B$6:B600)),\"\")","v":"51141500"},"Anticonvulsants",null,null,null,"51141500","Anticonvulsants","51141500",595,595,595,"51141500"]
[null,{"$f":"IFERROR(INDEX($G$7:$H$13233,$L602,COLUMNS($B$6:B601)),\"\")","v":"51291700"},"Antidepressant alcohols",null,null,null,"51291700","Antidepressant alcohols","51291700",596,596,596,"51291700"]
[null,{"$f":"IFERROR(INDEX($G$7:$H$13233,$L603,COLUMNS($B$6:B602)),\"\")","v":"51292000"},"Antidepressant amines",null,null,null,"51292000","Antidepressant amines","51292000",597,597,597,"51292000"]
[null,{"$f":"IFERROR(INDEX($G$7:$H$13233,$L604,COLUMNS($B$6:B603)),\"\")","v":"51292900"},"Antidepressant dibenzazepines",null,null,null,"51292900","Antidepressant dibenzazepines","51292900",598,598,598,"51292900"]
[null,{"$f":"IFERROR(INDEX($G$7:$H$13233,$L605,COLUMNS($B$6:B604)),\"\")","v":"51293000"},"Antidepressant dibenzocycloheptenes",null,null,null,"51293000","Antidepressant dibenzocycloheptenes","51293000",599,599,599,"51293000"]
[null,{"$f":"IFERROR(INDEX($G$7:$H$13233,$L606,COLUMNS($B$6:B605)),\"\")","v":"51293400"},"Antidepressant imidazoles and isonicotinic acids and ketones and orphenadrine/analogs and derivatives and phenanthrenes",null,null,null,"51293400","Antidepressant imidazoles and isonicotinic acids and ketones and orphenadrine/analogs and derivatives and phenanthrenes","51293400",600,600,600,"51293400"]
[null,{"$f":"IFERROR(INDEX($G$7:$H$13233,$L607,COLUMNS($B$6:B606)),\"\")","v":"51294000"},"Antidepressant morpholines",null,null,null,"51294000","Antidepressant morpholines","51294000",601,601,601,"51294000"]
[null,{"$f":"IFERROR(INDEX($G$7:$H$13233,$L608,COLUMNS($B$6:B607)),\"\")","v":"51294400"},"Antidepressant piperazines",null,null,null,"51294400","Antidepressant piperazines","51294400",602,602,602,"51294400"]
[null,{"$f":"IFERROR(INDEX($G$7:$H$13233,$L609,COLUMNS($B$6:B608)),\"\")","v":"51294500"},"Antidepressant piperidines",null,null,null,"51294500","Antidepressant piperidines","51294500",603,603,603,"51294500"]
[null,{"$f":"IFERROR(INDEX($G$7:$H$13233,$L610,COLUMNS($B$6:B609)),\"\")","v":"51290000"},"Antidepressants",null,null,null,"51290000","Antidepressants","51290000",604,604,604,"51290000"]
[null,{"$f":"IFERROR(INDEX($G$7:$H$13233,$L611,COLUMNS($B$6:B610)),\"\")","v":"51181500"},"Antidiabetic agents and hyperglycemic agents",null,null,null,"51181500","Antidiabetic agents and hyperglycemic agents","51181500",605,605,605,"51181500"]
[null,{"$f":"IFERROR(INDEX($G$7:$H$13233,$L612,COLUMNS($B$6:B611)),\"\")","v":"51183800"},"Antidiabetic and hyperglycemic alpha-glucosidase inhibitors",null,null,null,"51183800","Antidiabetic and hyperglycemic alpha-glucosidase inhibitors","51183800",606,606,606,"51183800"]
[null,{"$f":"IFERROR(INDEX($G$7:$H$13233,$L613,COLUMNS($B$6:B612)),\"\")","v":"51183300"},"Antidiabetic and hyperglycemic dipeptidyl peptidase-4 inhibitors",null,null,null,"51183300","Antidiabetic and hyperglycemic dipeptidyl peptidase-4 inhibitors","51183300",607,607,607,"51183300"]
[null,{"$f":"IFERROR(INDEX($G$7:$H$13233,$L614,COLUMNS($B$6:B613)),\"\")","v":"51183500"},"Antidiabetic and hyperglycemic guanidines",null,null,null,"51183500","Antidiabetic and hyperglycemic guanidines","51183500",608,608,608,"51183500"]
[null,{"$f":"IFERROR(INDEX($G$7:$H$13233,$L615,COLUMNS($B$6:B614)),\"\")","v":"51183600"},"Antidiabetic and hyperglycemic peptide hormones",null,null,null,"51183600","Antidiabetic and hyperglycemic peptide hormones","51183600",609,609,609,"51183600"]
[null,{"$f":"IFERROR(INDEX($G$7:$H$13233,$L616,COLUMNS($B$6:B615)),\"\")","v":"51184000"},"Antidiabetic and hyperglycemic sulfonylureas",null,null,null,"51184000","Antidiabetic and hyperglycemic sulfonylureas","51184000",610,610,610,"51184000"]
[null,{"$f":"IFERROR(INDEX($G$7:$H$13233,$L617,COLUMNS($B$6:B616)),\"\")","v":"51183700"},"Antidiabetic and hyperglycemic thiazolidinediones",null,null,null,"51183700","Antidiabetic and hyperglycemic thiazolidinediones","51183700",611,611,611,"51183700"]
[null,{"$f":"IFERROR(INDEX($G$7:$H$13233,$L618,COLUMNS($B$6:B617)),\"\")","v":"51171700"},"Antidiarrheals",null,null,null,"51171700","Antidiarrheals","51171700",612,612,612,"51171700"]
[null,{"$f":"IFERROR(INDEX($G$7:$H$13233,$L619,COLUMNS($B$6:B618)),\"\")","v":"51172300"},"Antidotes and emetics",null,null,null,"51172300","Antidotes and emetics","51172300",613,613,613,"51172300"]
[null,{"$f":"IFERROR(INDEX($G$7:$H$13233,$L620,COLUMNS($B$6:B619)),\"\")","v":"51171800"},"Antiemetics and antinauseants and antivertigo agents",null,null,null,"51171800","Antiemetics and antinauseants and antivertigo agents","51171800",614,614,614,"51171800"]
[null,{"$f":"IFERROR(INDEX($G$7:$H$13233,$L621,COLUMNS($B$6:B620)),\"\")","v":"51131829"},"Anti-factor VIII coagulant complex",null,null,null,"51131829","Anti-factor VIII coagulant complex","51131829",615,615,615,"51131829"]
[null,{"$f":"IFERROR(INDEX($G$7:$H$13233,$L622,COLUMNS($B$6:B621)),\"\")","v":"15121807"},"Antifreeze",null,null,null,"15121807","Antifreeze","15121807",616,616,616,"15121807"]
[null,{"$f":"IFERROR(INDEX($G$7:$H$13233,$L623,COLUMNS($B$6:B622)),\"\")","v":"51301800"},"Antifungal amines",null,null,null,"51301800","Antifungal amines","51301800",617,617,617,"51301800"]
[null,{"$f":"IFERROR(INDEX($G$7:$H$13233,$L624,COLUMNS($B$6:B623)),\"\")","v":"51301900"},"Antifungal aminoacridines and azoles and benzimidazoles and benzofurans",null,null,null,"51301900","Antifungal aminoacridines and azoles and benzimidazoles and benzofurans","51301900",618,618,618,"51301900"]
[null,{"$f":"IFERROR(INDEX($G$7:$H$13233,$L625,COLUMNS($B$6:B624)),\"\")","v":"51302000"},"Antifungal carboxylic acids",null,null,null,"51302000","Antifungal carboxylic acids","51302000",619,619,619,"51302000"]
[null,{"$f":"IFERROR(INDEX($G$7:$H$13233,$L626,COLUMNS($B$6:B625)),\"\")","v":"51300000"},"Antifungal drugs",null,null,null,"51300000","Antifungal drugs","51300000",620,620,620,"51300000"]
[null,{"$f":"IFERROR(INDEX($G$7:$H$13233,$L627,COLUMNS($B$6:B626)),\"\")","v":"51302300"},"Antifungal imidazoles",null,null,null,"51302300","Antifungal imidazoles","51302300",621,621,621,"51302300"]
[null,{"$f":"IFERROR(INDEX($G$7:$H$13233,$L628,COLUMNS($B$6:B627)),\"\")","v":"51302400"},"Antifungal macrolides",null,null,null,"51302400","Antifungal macrolides","51302400",622,622,622,"51302400"]
[null,{"$f":"IFERROR(INDEX($G$7:$H$13233,$L629,COLUMNS($B$6:B628)),\"\")","v":"51302500"},"Antifungal naphthalenes",null,null,null,"51302500","Antifungal naphthalenes","51302500",623,623,623,"51302500"]
[null,{"$f":"IFERROR(INDEX($G$7:$H$13233,$L630,COLUMNS($B$6:B629)),\"\")","v":"51302700"},"Antifungal phenols",null,null,null,"51302700","Antifungal phenols","51302700",624,624,624,"51302700"]
[null,{"$f":"IFERROR(INDEX($G$7:$H$13233,$L631,COLUMNS($B$6:B630)),\"\")","v":"51302900"},"Antifungal pyridines",null,null,null,"51302900","Antifungal pyridines","51302900",625,625,625,"51302900"]
[null,{"$f":"IFERROR(INDEX($G$7:$H$13233,$L632,COLUMNS($B$6:B631)),\"\")","v":"51303000"},"Antifungal pyrimidines",null,null,null,"51303000","Antifungal pyrimidines","51303000",626,626,626,"51303000"]
[null,{"$f":"IFERROR(INDEX($G$7:$H$13233,$L633,COLUMNS($B$6:B632)),\"\")","v":"51303100"},"Antifungal pyrroles and pyrrolidinones and quinazolines and terpenes",null,null,null,"51303100","Antifungal pyrroles and pyrrolidinones and quinazolines and terpenes","51303100",627,627,627,"51303100"]
[null,{"$f":"IFERROR(INDEX($G$7:$H$13233,$L634,COLUMNS($B$6:B633)),\"\")","v":"51303400"},"Antifungal triazoles",null,null,null,"51303400","Antifungal triazoles","51303400",628,628,628,"51303400"]
[null,{"$f":"IFERROR(INDEX($G$7:$H$13233,$L635,COLUMNS($B$6:B634)),\"\")","v":"51192000"},"Antigout drugs",null,null,null,"51192000","Antigout drugs","51192000",629,629,629,"51192000"]
[null,{"$f":"IFERROR(INDEX($G$7:$H$13233,$L636,COLUMNS($B$6:B635)),\"\")","v":"51311900"},"Antihistamine or H1 blocker benzopyrans",null,null,null,"51311900","Antihistamine or H1 blocker benzopyrans","51311900",630,630,630,"51311900"]
[null,{"$f":"IFERROR(INDEX($G$7:$H$13233,$L637,COLUMNS($B$6:B636)),\"\")","v":"51312100"},"Antihistamine or H1 blocker cyclic s-oxides and dibenzazepines and dibenzoxepins and glyoxylates",null,null,null,"51312100","Antihistamine or H1 blocker cyclic s-oxides and dibenzazepines and dibenzoxepins and glyoxylates","51312100",631,631,631,"51312100"]
[null,{"$f":"IFERROR(INDEX($G$7:$H$13233,$L638,COLUMNS($B$6:B637)),\"\")","v":"51312200"},"Antihistamine or H1 blocker dibenzocycloheptenes",null,null,null,"51312200","Antihistamine or H1 blocker dibenzocycloheptenes","51312200",632,632,632,"51312200"]
[null,{"$f":"IFERROR(INDEX($G$7:$H$13233,$L639,COLUMNS($B$6:B638)),\"\")","v":"51312300"},"Antihistamine or H1 blocker ethylamines",null,null,null,"51312300","Antihistamine or H1 blocker ethylamines","51312300",633,633,633,"51312300"]
[null,{"$f":"IFERROR(INDEX($G$7:$H$13233,$L640,COLUMNS($B$6:B639)),\"\")","v":"51312400"},"Antihistamine or H1 blocker ethylenediamines",null,null,null,"51312400","Antihistamine or H1 blocker ethylenediamines","51312400",634,634,634,"51312400"]
[null,{"$f":"IFERROR(INDEX($G$7:$H$13233,$L641,COLUMNS($B$6:B640)),\"\")","v":"51313000"},"Antihistamine or H1 blocker phthalazines",null,null,null,"51313000","Antihistamine or H1 blocker phthalazines","51313000",635,635,635,"51313000"]
[null,{"$f":"IFERROR(INDEX($G$7:$H$13233,$L642,COLUMNS($B$6:B641)),\"\")","v":"51313100"},"Antihistamine or H1 blocker piperazines",null,null,null,"51313100","Antihistamine or H1 blocker piperazines","51313100",636,636,636,"51313100"]
[null,{"$f":"IFERROR(INDEX($G$7:$H$13233,$L643,COLUMNS($B$6:B642)),\"\")","v":"51313200"},"Antihistamine or H1 blocker piperidines",null,null,null,"51313200","Antihistamine or H1 blocker piperidines","51313200",637,637,637,"51313200"]
[null,{"$f":"IFERROR(INDEX($G$7:$H$13233,$L644,COLUMNS($B$6:B643)),\"\")","v":"51313300"},"Antihistamine or H1 blocker propylamines",null,null,null,"51313300","Antihistamine or H1 blocker propylamines","51313300",638,638,638,"51313300"]
[null,{"$f":"IFERROR(INDEX($G$7:$H$13233,$L645,COLUMNS($B$6:B644)),\"\")","v":"51313400"},"Antihistamine or H1 blocker pyridines",null,null,null,"51313400","Antihistamine or H1 blocker pyridines","51313400",639,639,639,"51313400"]
[null,{"$f":"IFERROR(INDEX($G$7:$H$13233,$L646,COLUMNS($B$6:B645)),\"\")","v":"51313700"},"Antihistamine or H1 blocker quinolizines and sulfonamides and thiazines and thiazoles and thiophenes",null,null,null,"51313700","Antihistamine or H1 blocker quinolizines and sulfonamides and thiazines and thiazoles and thiophenes","51313700",640,640,640,"51313700"]
[null,{"$f":"IFERROR(INDEX($G$7:$H$13233,$L647,COLUMNS($B$6:B646)),\"\")","v":"51313800"},"Antihistamine or H1 blocker terfenadine/analogs and derivatives",null,null,null,"51313800","Antihistamine or H1 blocker terfenadine/analogs and derivatives","51313800",641,641,641,"51313800"]
[null,{"$f":"IFERROR(INDEX($G$7:$H$13233,$L648,COLUMNS($B$6:B647)),\"\")","v":"51310000"},"Antihistamines or H1 blockers",null,null,null,"51310000","Antihistamines or H1 blockers","51310000",642,642,642,"51310000"]
[null,{"$f":"IFERROR(INDEX($G$7:$H$13233,$L649,COLUMNS($B$6:B648)),\"\")","v":"51320000"},"Antihyperlipidemic and hypocholesterolemic agents",null,null,null,"51320000","Antihyperlipidemic and hypocholesterolemic agents","51320000",643,643,643,"51320000"]
[null,{"$f":"IFERROR(INDEX($G$7:$H$13233,$L650,COLUMNS($B$6:B649)),\"\")","v":"51321600"},"Antihyperlipidemic and hypocholesterolemic alcohols",null,null,null,"51321600","Antihyperlipidemic and hypocholesterolemic alcohols","51321600",644,644,644,"51321600"]
[null,{"$f":"IFERROR(INDEX($G$7:$H$13233,$L651,COLUMNS($B$6:B650)),\"\")","v":"51321900"},"Antihyperlipidemic and hypocholesterolemic amides",null,null,null,"51321900","Antihyperlipidemic and hypocholesterolemic amides","51321900",645,645,645,"51321900"]
[null,{"$f":"IFERROR(INDEX($G$7:$H$13233,$L652,COLUMNS($B$6:B651)),\"\")","v":"51322200"},"Antihyperlipidemic and hypocholesterolemic azetidines and cyclohexanes and fluorobenzenes and furans",null,null,null,"51322200","Antihyperlipidemic and hypocholesterolemic azetidines and cyclohexanes and fluorobenzenes and furans","51322200",646,646,646,"51322200"]
[null,{"$f":"IFERROR(INDEX($G$7:$H$13233,$L653,COLUMNS($B$6:B652)),\"\")","v":"51321500"},"Antihyperlipidemic and hypocholesterolemic benzene derivatives",null,null,null,"51321500","Antihyperlipidemic and hypocholesterolemic benzene derivatives","51321500",647,647,647,"51321500"]
[null,{"$f":"IFERROR(INDEX($G$7:$H$13233,$L654,COLUMNS($B$6:B653)),\"\")","v":"51321700"},"Antihyperlipidemic and hypocholesterolemic fatty acids",null,null,null,"51321700","Antihyperlipidemic and hypocholesterolemic fatty acids","51321700",648,648,648,"51321700"]
[null,{"$f":"IFERROR(INDEX($G$7:$H$13233,$L655,COLUMNS($B$6:B654)),\"\")","v":"51321800"},"Antihyperlipidemic and hypocholesterolemic fibric acids",null,null,null,"51321800","Antihyperlipidemic and hypocholesterolemic fibric acids","51321800",649,649,649,"51321800"]
[null,{"$f":"IFERROR(INDEX($G$7:$H$13233,$L656,COLUMNS($B$6:B655)),\"\")","v":"51322300"},"Antihyperlipidemic and hypocholesterolemic macromolecular substances",null,null,null,"51322300","Antihyperlipidemic and hypocholesterolemic macromolecular substances","51322300",650,650,650,"51322300"]
[null,{"$f":"IFERROR(INDEX($G$7:$H$13233,$L657,COLUMNS($B$6:B656)),\"\")","v":"51322700"},"Antihyperlipidemic and hypocholesterolemic naphthalenes",null,null,null,"51322700","Antihyperlipidemic and hypocholesterolemic naphthalenes","51322700",651,651,651,"51322700"]
[null,{"$f":"IFERROR(INDEX($G$7:$H$13233,$L658,COLUMNS($B$6:B657)),\"\")","v":"51431500"},"Antihypertensive acrylates and amides and angiotensins and aromatic amino acids",null,null,null,"51431500","Antihypertensive acrylates and amides and angiotensins and aromatic amino acids","51431500",652,652,652,"51431500"]
[null,{"$f":"IFERROR(INDEX($G$7:$H$13233,$L659,COLUMNS($B$6:B658)),\"\")","v":"51431900"},"Antihypertensive alcohols",null,null,null,"51431900","Antihypertensive alcohols","51431900",653,653,653,"51431900"]
[null,{"$f":"IFERROR(INDEX($G$7:$H$13233,$L660,COLUMNS($B$6:B659)),\"\")","v":"51431600"},"Antihypertensive amines",null,null,null,"51431600","Antihypertensive amines","51431600",654,654,654,"51431600"]
[null,{"$f":"IFERROR(INDEX($G$7:$H$13233,$L661,COLUMNS($B$6:B660)),\"\")","v":"51431700"},"Antihypertensive benzazepines",null,null,null,"51431700","Antihypertensive benzazepines","51431700",655,655,655,"51431700"]
[null,{"$f":"IFERROR(INDEX($G$7:$H$13233,$L662,COLUMNS($B$6:B661)),\"\")","v":"51431800"},"Antihypertensive benzene derivatives and benzimidazoles and benzofurans and catecholamines",null,null,null,"51431800","Antihypertensive benzene derivatives and benzimidazoles and benzofurans and catecholamines","51431800",656,656,656,"51431800"]
[null,{"$f":"IFERROR(INDEX($G$7:$H$13233,$L663,COLUMNS($B$6:B662)),\"\")","v":"51432700"},"Antihypertensive bicyclo compounds",null,null,null,"51432700","Antihypertensive bicyclo compounds","51432700",657,657,657,"51432700"]
[null,{"$f":"IFERROR(INDEX($G$7:$H$13233,$L664,COLUMNS($B$6:B663)),\"\")","v":"51430000"},"Antihypertensive drugs",null,null,null,"51430000","Antihypertensive drugs","51430000",658,658,658,"51430000"]
[null,{"$f":"IFERROR(INDEX($G$7:$H$13233,$L665,COLUMNS($B$6:B664)),\"\")","v":"51432300"},"Antihypertensive imidazoles",null,null,null,"51432300","Antihypertensive imidazoles","51432300",659,659,659,"51432300"]
[null,{"$f":"IFERROR(INDEX($G$7:$H$13233,$L666,COLUMNS($B$6:B665)),\"\")","v":"51432400"},"Antihypertensive imino acids",null,null,null,"51432400","Antihypertensive imino acids","51432400",660,660,660,"51432400"]
[null,{"$f":"IFERROR(INDEX($G$7:$H$13233,$L667,COLUMNS($B$6:B666)),\"\")","v":"51432500"},"Antihypertensive indoles",null,null,null,"51432500","Antihypertensive indoles","51432500",661,661,661,"51432500"]
[null,{"$f":"IFERROR(INDEX($G$7:$H$13233,$L668,COLUMNS($B$6:B667)),\"\")","v":"51432800"},"Antihypertensive oligopeptides",null,null,null,"51432800","Antihypertensive oligopeptides","51432800",662,662,662,"51432800"]
[null,{"$f":"IFERROR(INDEX($G$7:$H$13233,$L669,COLUMNS($B$6:B668)),\"\")","v":"51433300"},"Antihypertensive phthalazines",null,null,null,"51433300","Antihypertensive phthalazines","51433300",663,663,663,"51433300"]
[null,{"$f":"IFERROR(INDEX($G$7:$H$13233,$L670,COLUMNS($B$6:B669)),\"\")","v":"51432600"},"Antihypertensive piperazines",null,null,null,"51432600","Antihypertensive piperazines","51432600",664,664,664,"51432600"]
[null,{"$f":"IFERROR(INDEX($G$7:$H$13233,$L671,COLUMNS($B$6:B670)),\"\")","v":"51433700"},"Antihypertensive prostaglandins and pyrazoles and pyrimidines and quinazolines",null,null,null,"51433700","Antihypertensive prostaglandins and pyrazoles and pyrimidines and quinazolines","51433700",665,665,665,"51433700"]
[null,{"$f":"IFERROR(INDEX($G$7:$H$13233,$L672,COLUMNS($B$6:B671)),\"\")","v":"51433800"},"Antihypertensive pyridazines",null,null,null,"51433800","Antihypertensive pyridazines","51433800",666,666,666,"51433800"]
[null,{"$f":"IFERROR(INDEX($G$7:$H$13233,$L673,COLUMNS($B$6:B672)),\"\")","v":"51433900"},"Antihypertensive pyridines",null,null,null,"51433900","Antihypertensive pyridines","51433900",667,667,667,"51433900"]
[null,{"$f":"IFERROR(INDEX($G$7:$H$13233,$L674,COLUMNS($B$6:B673)),\"\")","v":"51434500"},"Antihypertensive tetrazoles",null,null,null,"51434500","Antihypertensive tetrazoles","51434500",668,668,668,"51434500"]
[null,{"$f":"IFERROR(INDEX($G$7:$H$13233,$L675,COLUMNS($B$6:B674)),\"\")","v":"51111600"},"Antimetabolites",null,null,null,"51111600","Antimetabolites","51111600",669,669,669,"51111600"]
[null,{"$f":"IFERROR(INDEX($G$7:$H$13233,$L676,COLUMNS($B$6:B675)),\"\")","v":"51110000"},"Antineoplastic agents",null,null,null,"51110000","Antineoplastic agents","51110000",670,670,670,"51110000"]
[null,{"$f":"IFERROR(INDEX($G$7:$H$13233,$L677,COLUMNS($B$6:B676)),\"\")","v":"51111700"},"Antineoplastic antibiotics",null,null,null,"51111700","Antineoplastic antibiotics","51111700",671,671,671,"51111700"]
[null,{"$f":"IFERROR(INDEX($G$7:$H$13233,$L678,COLUMNS($B$6:B677)),\"\")","v":"51281900"},"Antineoplastics",null,null,null,"51281900","Antineoplastics","51281900",672,672,672,"51281900"]
[null,{"$f":"IFERROR(INDEX($G$7:$H$13233,$L679,COLUMNS($B$6:B678)),\"\")","v":"51142500"},"Antiparkinson drugs",null,null,null,"51142500","Antiparkinson drugs","51142500",673,673,673,"51142500"]
[null,{"$f":"IFERROR(INDEX($G$7:$H$13233,$L680,COLUMNS($B$6:B679)),\"\")","v":"51101900"},"Antiprotozoals",null,null,null,"51101900","Antiprotozoals","51101900",674,674,674,"51101900"]
[null,{"$f":"IFERROR(INDEX($G$7:$H$13233,$L681,COLUMNS($B$6:B680)),\"\")","v":"51331900"},"Antipsychotic anions",null,null,null,"51331900","Antipsychotic anions","51331900",675,675,675,"51331900"]
[null,{"$f":"IFERROR(INDEX($G$7:$H$13233,$L682,COLUMNS($B$6:B681)),\"\")","v":"51332000"},"Antipsychotic azoles",null,null,null,"51332000","Antipsychotic azoles","51332000",676,676,676,"51332000"]
[null,{"$f":"IFERROR(INDEX($G$7:$H$13233,$L683,COLUMNS($B$6:B682)),\"\")","v":"51332500"},"Antipsychotic butyrophenones",null,null,null,"51332500","Antipsychotic butyrophenones","51332500",677,677,677,"51332500"]
[null,{"$f":"IFERROR(INDEX($G$7:$H$13233,$L684,COLUMNS($B$6:B683)),\"\")","v":"51332700"},"Antipsychotic dibenzazepines",null,null,null,"51332700","Antipsychotic dibenzazepines","51332700",678,678,678,"51332700"]
[null,{"$f":"IFERROR(INDEX($G$7:$H$13233,$L685,COLUMNS($B$6:B684)),\"\")","v":"51333200"},"Antipsychotic nitrogen mustard compounds",null,null,null,"51333200","Antipsychotic nitrogen mustard compounds","51333200",679,679,679,"51333200"]
[null,{"$f":"IFERROR(INDEX($G$7:$H$13233,$L686,COLUMNS($B$6:B685)),\"\")","v":"51332800"},"Antipsychotic phenothiazines",null,null,null,"51332800","Antipsychotic phenothiazines","51332800",680,680,680,"51332800"]
[null,{"$f":"IFERROR(INDEX($G$7:$H$13233,$L687,COLUMNS($B$6:B686)),\"\")","v":"51333400"},"Antipsychotic piperazines",null,null,null,"51333400","Antipsychotic piperazines","51333400",681,681,681,"51333400"]
[null,{"$f":"IFERROR(INDEX($G$7:$H$13233,$L688,COLUMNS($B$6:B687)),\"\")","v":"51333600"},"Antipsychotic pyrimidines",null,null,null,"51333600","Antipsychotic pyrimidines","51333600",682,682,682,"51333600"]
[null,{"$f":"IFERROR(INDEX($G$7:$H$13233,$L689,COLUMNS($B$6:B688)),\"\")","v":"51334200"},"Antipsychotic thiepins",null,null,null,"51334200","Antipsychotic thiepins","51334200",683,683,683,"51334200"]
[null,{"$f":"IFERROR(INDEX($G$7:$H$13233,$L690,COLUMNS($B$6:B689)),\"\")","v":"51334300"},"Antipsychotic thioxanthenes",null,null,null,"51334300","Antipsychotic thioxanthenes","51334300",684,684,684,"51334300"]
[null,{"$f":"IFERROR(INDEX($G$7:$H$13233,$L691,COLUMNS($B$6:B690)),\"\")","v":"51330000"},"Antipsychotics",null,null,null,"51330000","Antipsychotics","51330000",685,685,685,"51330000"]
[null,{"$f":"IFERROR(INDEX($G$7:$H$13233,$L692,COLUMNS($B$6:B691)),\"\")","v":"51472000"},"Antiseptic aldehydes",null,null,null,"51472000","Antiseptic aldehydes","51472000",686,686,686,"51472000"]
[null,{"$f":"IFERROR(INDEX($G$7:$H$13233,$L693,COLUMNS($B$6:B692)),\"\")","v":"51471500"},"Antiseptic alkenes and amidines and amines and ammonia-based compounds",null,null,null,"51471500","Antiseptic alkenes and amidines and amines and ammonia-based compounds","51471500",687,687,687,"51471500"]
[null,{"$f":"IFERROR(INDEX($G$7:$H$13233,$L694,COLUMNS($B$6:B693)),\"\")","v":"51472300"},"Antiseptic borates and chlorine-based compounds and heavy metals and herbal preparations",null,null,null,"51472300","Antiseptic borates and chlorine-based compounds and heavy metals and herbal preparations","51472300",688,688,688,"51472300"]
[null,{"$f":"IFERROR(INDEX($G$7:$H$13233,$L695,COLUMNS($B$6:B694)),\"\")","v":"51472600"},"Antiseptic cresols",null,null,null,"51472600","Antiseptic cresols","51472600",689,689,689,"51472600"]
[null,{"$f":"IFERROR(INDEX($G$7:$H$13233,$L696,COLUMNS($B$6:B695)),\"\")","v":"51472800"},"Antiseptic guanidines",null,null,null,"51472800","Antiseptic guanidines","51472800",690,690,690,"51472800"]
[null,{"$f":"IFERROR(INDEX($G$7:$H$13233,$L697,COLUMNS($B$6:B696)),\"\")","v":"51472900"},"Antiseptic halogens",null,null,null,"51472900","Antiseptic halogens","51472900",691,691,691,"51472900"]
[null,{"$f":"IFERROR(INDEX($G$7:$H$13233,$L698,COLUMNS($B$6:B697)),\"\")","v":"51473100"},"Antiseptic imidazoles and ketones and lipids and nitrofurans",null,null,null,"51473100","Antiseptic imidazoles and ketones and lipids and nitrofurans","51473100",692,692,692,"51473100"]
[null,{"$f":"IFERROR(INDEX($G$7:$H$13233,$L699,COLUMNS($B$6:B698)),\"\")","v":"51473200"},"Antiseptic organometallic compounds",null,null,null,"51473200","Antiseptic organometallic compounds","51473200",693,693,693,"51473200"]
[null,{"$f":"IFERROR(INDEX($G$7:$H$13233,$L700,COLUMNS($B$6:B699)),\"\")","v":"51473300"},"Antiseptic phenols",null,null,null,"51473300","Antiseptic phenols","51473300",694,694,694,"51473300"]
[null,{"$f":"IFERROR(INDEX($G$7:$H$13233,$L701,COLUMNS($B$6:B700)),\"\")","v":"51473500"},"Antiseptic pyrimidines and silvers and ureas and waters",null,null,null,"51473500","Antiseptic pyrimidines and silvers and ureas and waters","51473500",695,695,695,"51473500"]
[null,{"$f":"IFERROR(INDEX($G$7:$H$13233,$L702,COLUMNS($B$6:B701)),\"\")","v":"51473000"},"Antiseptic quaternary ammonium compounds",null,null,null,"51473000","Antiseptic quaternary ammonium compounds","51473000",696,696,696,"51473000"]
[null,{"$f":"IFERROR(INDEX($G$7:$H$13233,$L703,COLUMNS($B$6:B702)),\"\")","v":"51473600"},"Antiseptic quinolines",null,null,null,"51473600","Antiseptic quinolines","51473600",697,697,697,"51473600"]
[null,{"$f":"IFERROR(INDEX($G$7:$H$13233,$L704,COLUMNS($B$6:B703)),\"\")","v":"51473700"},"Antiseptic sulfur compounds",null,null,null,"51473700","Antiseptic sulfur compounds","51473700",698,698,698,"51473700"]
[null,{"$f":"IFERROR(INDEX($G$7:$H$13233,$L705,COLUMNS($B$6:B704)),\"\")","v":"42141507"},"Antiseptic Wipe with Alcohol & Chlorhexidine",null,null,null,"42141507","Antiseptic Wipe with Alcohol & Chlorhexidine","42141507",699,699,699,"42141507"]
[null,{"$f":"IFERROR(INDEX($G$7:$H$13233,$L706,COLUMNS($B$6:B705)),\"\")","v":"51470000"},"Antiseptics",null,null,null,"51470000","Antiseptics","51470000",700,700,700,"51470000"]
[null,{"$f":"IFERROR(INDEX($G$7:$H$13233,$L707,COLUMNS($B$6:B706)),\"\")","v":"24113102"},"Antistatic box",null,null,null,"24113102","Antistatic box","24113102",701,701,701,"24113102"]
[null,{"$f":"IFERROR(INDEX($G$7:$H$13233,$L708,COLUMNS($B$6:B707)),\"\")","v":"46182107"},"Antistatic maintenance kits",null,null,null,"46182107","Antistatic maintenance kits","46182107",702,702,702,"46182107"]
[null,{"$f":"IFERROR(INDEX($G$7:$H$13233,$L709,COLUMNS($B$6:B708)),\"\")","v":"46182101"},"Antistatic wrist straps",null,null,null,"46182101","Antistatic wrist straps","46182101",703,703,703,"46182101"]
[null,{"$f":"IFERROR(INDEX($G$7:$H$13233,$L710,COLUMNS($B$6:B709)),\"\")","v":"51202701"},"Anti-thymocyte globulin",null,null,null,"51202701","Anti-thymocyte globulin","51202701",704,704,704,"51202701"]
[null,{"$f":"IFERROR(INDEX($G$7:$H$13233,$L711,COLUMNS($B$6:B710)),\"\")","v":"51281500"},"Antitubercular drugs",null,null,null,"51281500","Antitubercular drugs","51281500",705,705,705,"51281500"]
[null,{"$f":"IFERROR(INDEX($G$7:$H$13233,$L712,COLUMNS($B$6:B711)),\"\")","v":"51162600"},"Antitussives and associated cough remedies",null,null,null,"51162600","Antitussives and associated cough remedies","51162600",706,706,706,"51162600"]
[null,{"$f":"IFERROR(INDEX($G$7:$H$13233,$L713,COLUMNS($B$6:B712)),\"\")","v":"51171900"},"Antiulcer and related gastrointestinal GI drugs",null,null,null,"51171900","Antiulcer and related gastrointestinal GI drugs","51171900",707,707,707,"51171900"]
[null,{"$f":"IFERROR(INDEX($G$7:$H$13233,$L714,COLUMNS($B$6:B713)),\"\")","v":"51341600"},"Antiviral adamantanes",null,null,null,"51341600","Antiviral adamantanes","51341600",708,708,708,"51341600"]
[null,{"$f":"IFERROR(INDEX($G$7:$H$13233,$L715,COLUMNS($B$6:B714)),\"\")","v":"51341800"},"Antiviral amides",null,null,null,"51341800","Antiviral amides","51341800",709,709,709,"51341800"]
[null,{"$f":"IFERROR(INDEX($G$7:$H$13233,$L716,COLUMNS($B$6:B715)),\"\")","v":"51341900"},"Antiviral amidines and amines and benzoxazines and cyclohexanes",null,null,null,"51341900","Antiviral amidines and amines and benzoxazines and cyclohexanes","51341900",710,710,710,"51341900"]
[null,{"$f":"IFERROR(INDEX($G$7:$H$13233,$L717,COLUMNS($B$6:B716)),\"\")","v":"51341500"},"Antiviral carboxylic acids",null,null,null,"51341500","Antiviral carboxylic acids","51341500",711,711,711,"51341500"]
[null,{"$f":"IFERROR(INDEX($G$7:$H$13233,$L718,COLUMNS($B$6:B717)),\"\")","v":"51340000"},"Antiviral drugs",null,null,null,"51340000","Antiviral drugs","51340000",712,712,712,"51340000"]
[null,{"$f":"IFERROR(INDEX($G$7:$H$13233,$L719,COLUMNS($B$6:B718)),\"\")","v":"51342300"},"Antiviral guanines",null,null,null,"51342300","Antiviral guanines","51342300",713,713,713,"51342300"]
[null,{"$f":"IFERROR(INDEX($G$7:$H$13233,$L720,COLUMNS($B$6:B719)),\"\")","v":"51342400"},"Antiviral isoquinolines",null,null,null,"51342400","Antiviral isoquinolines","51342400",714,714,714,"51342400"]
[null,{"$f":"IFERROR(INDEX($G$7:$H$13233,$L721,COLUMNS($B$6:B720)),\"\")","v":"51343700"},"Antiviral ketones and morpholines and nitriles and pyridazines",null,null,null,"51343700","Antiviral ketones and morpholines and nitriles and pyridazines","51343700",715,715,715,"51343700"]
[null,{"$f":"IFERROR(INDEX($G$7:$H$13233,$L722,COLUMNS($B$6:B721)),\"\")","v":"51342500"},"Antiviral nucleosides",null,null,null,"51342500","Antiviral nucleosides","51342500",716,716,716,"51342500"]
[null,{"$f":"IFERROR(INDEX($G$7:$H$13233,$L723,COLUMNS($B$6:B722)),\"\")","v":"51343500"},"Antiviral organophosphorus compounds",null,null,null,"51343500","Antiviral organophosphorus compounds","51343500",717,717,717,"51343500"]
[null,{"$f":"IFERROR(INDEX($G$7:$H$13233,$L724,COLUMNS($B$6:B723)),\"\")","v":"51342700"},"Antiviral peptides",null,null,null,"51342700","Antiviral peptides","51342700",718,718,718,"51342700"]
[null,{"$f":"IFERROR(INDEX($G$7:$H$13233,$L725,COLUMNS($B$6:B724)),\"\")","v":"51342900"},"Antiviral purines",null,null,null,"51342900","Antiviral purines","51342900",719,719,719,"51342900"]
[null,{"$f":"IFERROR(INDEX($G$7:$H$13233,$L726,COLUMNS($B$6:B725)),\"\")","v":"51343000"},"Antiviral pyridines",null,null,null,"51343000","Antiviral pyridines","51343000",720,720,720,"51343000"]
[null,{"$f":"IFERROR(INDEX($G$7:$H$13233,$L727,COLUMNS($B$6:B726)),\"\")","v":"51343100"},"Antiviral pyrimidines",null,null,null,"51343100","Antiviral pyrimidines","51343100",721,721,721,"51343100"]
[null,{"$f":"IFERROR(INDEX($G$7:$H$13233,$L728,COLUMNS($B$6:B727)),\"\")","v":"51343200"},"Antiviral pyrrolidinones and quinolines and thiazoles",null,null,null,"51343200","Antiviral pyrrolidinones and quinolines and thiazoles","51343200",722,722,722,"51343200"]
[null,{"$f":"IFERROR(INDEX($G$7:$H$13233,$L729,COLUMNS($B$6:B728)),\"\")","v":"51283403"},"Apalcillin",null,null,null,"51283403","Apalcillin","51283403",723,723,723,"51283403"]
[null,{"$f":"IFERROR(INDEX($G$7:$H$13233,$L730,COLUMNS($B$6:B729)),\"\")","v":"51283412"},"Apalcillin sodium",null,null,null,"51283412","Apalcillin sodium","51283412",724,724,724,"51283412"]
[null,{"$f":"IFERROR(INDEX($G$7:$H$13233,$L731,COLUMNS($B$6:B730)),\"\")","v":"72111106"},"Apartment remodeling service",null,null,null,"72111106","Apartment remodeling service","72111106",725,725,725,"72111106"]
[null,{"$f":"IFERROR(INDEX($G$7:$H$13233,$L732,COLUMNS($B$6:B731)),\"\")","v":"50301503"},"Api apples",null,null,null,"50301503","Api apples","50301503",726,726,726,"50301503"]
[null,{"$f":"IFERROR(INDEX($G$7:$H$13233,$L733,COLUMNS($B$6:B732)),\"\")","v":"70121610"},"Apiculture",null,null,null,"70121610","Apiculture","70121610",727,727,727,"70121610"]
[null,{"$f":"IFERROR(INDEX($G$7:$H$13233,$L734,COLUMNS($B$6:B733)),\"\")","v":"51131621"},"Apixaban",null,null,null,"51131621","Apixaban","51131621",728,728,728,"51131621"]
[null,{"$f":"IFERROR(INDEX($G$7:$H$13233,$L735,COLUMNS($B$6:B734)),\"\")","v":"53000000"},"Apparel and Luggage and Personal Care Products",null,null,null,"53000000","Apparel and Luggage and Personal Care Products","53000000",729,729,729,"53000000"]
[null,{"$f":"IFERROR(INDEX($G$7:$H$13233,$L736,COLUMNS($B$6:B735)),\"\")","v":"80121502"},"Appellate procedure services",null,null,null,"80121502","Appellate procedure services","80121502",730,730,730,"80121502"]
[null,{"$f":"IFERROR(INDEX($G$7:$H$13233,$L737,COLUMNS($B$6:B736)),\"\")","v":"50301500"},"Apples",null,null,null,"50301500","Apples","50301500",731,731,731,"50301500"]
[null,{"$f":"IFERROR(INDEX($G$7:$H$13233,$L738,COLUMNS($B$6:B737)),\"\")","v":"14111816"},"Applicant fingerprint cards",null,null,null,"14111816","Applicant fingerprint cards","14111816",732,732,732,"14111816"]
[null,{"$f":"IFERROR(INDEX($G$7:$H$13233,$L739,COLUMNS($B$6:B738)),\"\")","v":"81111508"},"Application implementation services",null,null,null,"81111508","Application implementation services","81111508",733,733,733,"81111508"]
[null,{"$f":"IFERROR(INDEX($G$7:$H$13233,$L740,COLUMNS($B$6:B739)),\"\")","v":"81141902"},"Application or technology research and development service",null,null,null,"81141902","Application or technology research and development service","81141902",734,734,734,"81141902"]
[null,{"$f":"IFERROR(INDEX($G$7:$H$13233,$L741,COLUMNS($B$6:B740)),\"\")","v":"81111504"},"Application programming services",null,null,null,"81111504","Application programming services","81111504",735,735,735,"81111504"]
[null,{"$f":"IFERROR(INDEX($G$7:$H$13233,$L742,COLUMNS($B$6:B741)),\"\")","v":"43232701"},"Application server software",null,null,null,"43232701","Application server software","43232701",736,736,736,"43232701"]
[null,{"$f":"IFERROR(INDEX($G$7:$H$13233,$L743,COLUMNS($B$6:B742)),\"\")","v":"81112106"},"Application service providers",null,null,null,"81112106","Application service providers","81112106",737,737,737,"81112106"]
[null,{"$f":"IFERROR(INDEX($G$7:$H$13233,$L744,COLUMNS($B$6:B743)),\"\")","v":"42141500"},"Applicator swabs and cotton balls",null,null,null,"42141500","Applicator swabs and cotton balls","42141500",738,738,738,"42141500"]
[null,{"$f":"IFERROR(INDEX($G$7:$H$13233,$L745,COLUMNS($B$6:B744)),\"\")","v":"44112005"},"Appointment books or refills",null,null,null,"44112005","Appointment books or refills","44112005",739,739,739,"44112005"]
[null,{"$f":"IFERROR(INDEX($G$7:$H$13233,$L746,COLUMNS($B$6:B745)),\"\")","v":"39111624"},"Approach Lighting System ",null,null,null,"39111624","Approach Lighting System ","39111624",740,740,740,"39111624"]
[null,{"$f":"IFERROR(INDEX($G$7:$H$13233,$L747,COLUMNS($B$6:B746)),\"\")","v":"39111625"},"Approach Lighting System, Mast",null,null,null,"39111625","Approach Lighting System, Mast","39111625",741,741,741,"39111625"]
[null,{"$f":"IFERROR(INDEX($G$7:$H$13233,$L748,COLUMNS($B$6:B747)),\"\")","v":"51294001"},"Aprepitant",null,null,null,"51294001","Aprepitant","51294001",742,742,742,"51294001"]
[null,{"$f":"IFERROR(INDEX($G$7:$H$13233,$L749,COLUMNS($B$6:B748)),\"\")","v":"51131830"},"Aprotinin/Fibrinogen+Calcium chloride/Thrombin",null,null,null,"51131830","Aprotinin/Fibrinogen+Calcium chloride/Thrombin","51131830",743,743,743,"51131830"]
[null,{"$f":"IFERROR(INDEX($G$7:$H$13233,$L750,COLUMNS($B$6:B749)),\"\")","v":"70101900"},"Aquaculture",null,null,null,"70101900","Aquaculture","70101900",744,744,744,"70101900"]
[null,{"$f":"IFERROR(INDEX($G$7:$H$13233,$L751,COLUMNS($B$6:B750)),\"\")","v":"21111600"},"Aquaculture equipment",null,null,null,"21111600","Aquaculture equipment","21111600",745,745,745,"21111600"]
[null,{"$f":"IFERROR(INDEX($G$7:$H$13233,$L752,COLUMNS($B$6:B751)),\"\")","v":"95121811"},"Aquaduct or other water supply conduit, except pipeline",null,null,null,"95121811","Aquaduct or other water supply conduit, except pipeline","95121811",746,746,746,"95121811"]
[null,{"$f":"IFERROR(INDEX($G$7:$H$13233,$L753,COLUMNS($B$6:B752)),\"\")","v":"41102602"},"Aquaria equipment",null,null,null,"41102602","Aquaria equipment","41102602",747,747,747,"41102602"]
[null,{"$f":"IFERROR(INDEX($G$7:$H$13233,$L754,COLUMNS($B$6:B753)),\"\")","v":"81171601"},"Aquatic ecology service",null,null,null,"81171601","Aquatic ecology service","81171601",748,748,748,"81171601"]
[null,{"$f":"IFERROR(INDEX($G$7:$H$13233,$L755,COLUMNS($B$6:B754)),\"\")","v":"72141119"},"Aqueduct construction service",null,null,null,"72141119","Aqueduct construction service","72141119",749,749,749,"72141119"]
[null,{"$f":"IFERROR(INDEX($G$7:$H$13233,$L756,COLUMNS($B$6:B755)),\"\")","v":"57040103"},"Arabic student kits and teacher kit",null,null,null,"57040103","Arabic student kits and teacher kit","57040103",750,750,750,"57040103"]
[null,{"$f":"IFERROR(INDEX($G$7:$H$13233,$L757,COLUMNS($B$6:B756)),\"\")","v":"81171702"},"Arboricultural science service",null,null,null,"81171702","Arboricultural science service","81171702",751,751,751,"81171702"]
[null,{"$f":"IFERROR(INDEX($G$7:$H$13233,$L758,COLUMNS($B$6:B757)),\"\")","v":"70111506"},"Arborist services",null,null,null,"70111506","Arborist services","70111506",752,752,752,"70111506"]
[null,{"$f":"IFERROR(INDEX($G$7:$H$13233,$L759,COLUMNS($B$6:B758)),\"\")","v":"81151705"},"Archaeological services",null,null,null,"81151705","Archaeological services","81151705",753,753,753,"81151705"]
[null,{"$f":"IFERROR(INDEX($G$7:$H$13233,$L760,COLUMNS($B$6:B759)),\"\")","v":"93141710"},"Archaic or indigenous language services",null,null,null,"93141710","Archaic or indigenous language services","93141710",754,754,754,"93141710"]
[null,{"$f":"IFERROR(INDEX($G$7:$H$13233,$L761,COLUMNS($B$6:B760)),\"\")","v":"44122023"},"Archboards",null,null,null,"44122023","Archboards","44122023",755,755,755,"44122023"]
[null,{"$f":"IFERROR(INDEX($G$7:$H$13233,$L762,COLUMNS($B$6:B761)),\"\")","v":"81101508"},"Architectural engineering",null,null,null,"81101508","Architectural engineering","81101508",756,756,756,"81101508"]
[null,{"$f":"IFERROR(INDEX($G$7:$H$13233,$L763,COLUMNS($B$6:B762)),\"\")","v":"72152604"},"Architectural sheet metal service",null,null,null,"72152604","Architectural sheet metal service","72152604",757,757,757,"72152604"]
[null,{"$f":"IFERROR(INDEX($G$7:$H$13233,$L764,COLUMNS($B$6:B763)),\"\")","v":"39111612"},"Area lighting",null,null,null,"39111612","Area lighting","39111612",758,758,758,"39111612"]
[null,{"$f":"IFERROR(INDEX($G$7:$H$13233,$L765,COLUMNS($B$6:B764)),\"\")","v":"51182102"},"Argipressin or vasopressin",null,null,null,"51182102","Argipressin or vasopressin","51182102",759,759,759,"51182102"]
[null,{"$f":"IFERROR(INDEX($G$7:$H$13233,$L766,COLUMNS($B$6:B765)),\"\")","v":"51294403"},"Aripiprazole",null,null,null,"51294403","Aripiprazole","51294403",760,760,760,"51294403"]
[null,{"$f":"IFERROR(INDEX($G$7:$H$13233,$L767,COLUMNS($B$6:B766)),\"\")","v":"41103516"},"Arm hood",null,null,null,"41103516","Arm hood","41103516",761,761,761,"41103516"]
[null,{"$f":"IFERROR(INDEX($G$7:$H$13233,$L768,COLUMNS($B$6:B767)),\"\")","v":"42241801"},"Arm orthopedic softgoods",null,null,null,"42241801","Arm orthopedic softgoods","42241801",762,762,762,"42241801"]
[null,{"$f":"IFERROR(INDEX($G$7:$H$13233,$L769,COLUMNS($B$6:B768)),\"\")","v":"92112400"},"Armed conflicts and incidents",null,null,null,"92112400","Armed conflicts and incidents","92112400",763,763,763,"92112400"]
[null,{"$f":"IFERROR(INDEX($G$7:$H$13233,$L770,COLUMNS($B$6:B769)),\"\")","v":"78101503"},"Armored air transport",null,null,null,"78101503","Armored air transport","78101503",764,764,764,"78101503"]
[null,{"$f":"IFERROR(INDEX($G$7:$H$13233,$L771,COLUMNS($B$6:B770)),\"\")","v":"25101713"},"Armored ambulance",null,null,null,"25101713","Armored ambulance","25101713",765,765,765,"25101713"]
[null,{"$f":"IFERROR(INDEX($G$7:$H$13233,$L772,COLUMNS($B$6:B771)),\"\")","v":"92121800"},"Armored car services and money transport",null,null,null,"92121800","Armored car services and money transport","92121800",766,{"$f":"IF(ISNUMBER(SEARCH($H$4,H772)),J772,\"\")","v":766},{"$f":"IFERROR(SMALL($K$7:$K$13233,J772),\"\")","v":766},"92121800"]
[null,{"$f":"IFERROR(INDEX($G$7:$H$13233,$L773,COLUMNS($B$6:B772)),\"\")","v":"25102002"},"Armored fighting vehicles",null,null,null,"25102002","Armored fighting vehicles","25102002",767,767,767,"25102002"]
[null,{"$f":"IFERROR(INDEX($G$7:$H$13233,$L774,COLUMNS($B$6:B773)),\"\")","v":"25101510"},"Armored motor vehicle",null,null,null,"25101510","Armored motor vehicle","25101510",768,768,768,"25101510"]
[null,{"$f":"IFERROR(INDEX($G$7:$H$13233,$L775,COLUMNS($B$6:B774)),\"\")","v":"25101714"},"Armored recovery vehicle",null,null,null,"25101714","Armored recovery vehicle","25101714",769,769,769,"25101714"]
[null,{"$f":"IFERROR(INDEX($G$7:$H$13233,$L776,COLUMNS($B$6:B775)),\"\")","v":"46151802"},"Armoured Container",null,null,null,"46151802","Armoured Container","46151802",770,770,770,"46151802"]
[null,{"$f":"IFERROR(INDEX($G$7:$H$13233,$L777,COLUMNS($B$6:B776)),\"\")","v":"46151802"},"Armoured Container",null,null,null,"46151802","Armoured Container","46151802",771,771,771,"46151802"]
[null,{"$f":"IFERROR(INDEX($G$7:$H$13233,$L778,COLUMNS($B$6:B777)),\"\")","v":"46101800"},"Arms and ammunition accessories",null,null,null,"46101800","Arms and ammunition accessories","46101800",772,772,772,"46101800"]
[null,{"$f":"IFERROR(INDEX($G$7:$H$13233,$L779,COLUMNS($B$6:B778)),\"\")","v":"92111601"},"Arms limitations",null,null,null,"92111601","Arms limitations","92111601",773,773,773,"92111601"]
[null,{"$f":"IFERROR(INDEX($G$7:$H$13233,$L780,COLUMNS($B$6:B779)),\"\")","v":"51261701"},"Arnolol",null,null,null,"51261701","Arnolol","51261701",774,774,774,"51261701"]
[null,{"$f":"IFERROR(INDEX($G$7:$H$13233,$L781,COLUMNS($B$6:B780)),\"\")","v":"41113666"},"Arrester tester",null,null,null,"41113666","Arrester tester","41113666",775,775,775,"41113666"]
[null,{"$f":"IFERROR(INDEX($G$7:$H$13233,$L782,COLUMNS($B$6:B781)),\"\")","v":"23221000"},"Arrival department machinery and equipment",null,null,null,"23221000","Arrival department machinery and equipment","23221000",776,776,776,"23221000"]
[null,{"$f":"IFERROR(INDEX($G$7:$H$13233,$L783,COLUMNS($B$6:B782)),\"\")","v":"41113050"},"Arsenic detector",null,null,null,"41113050","Arsenic detector","41113050",777,777,777,"41113050"]
[null,{"$f":"IFERROR(INDEX($G$7:$H$13233,$L784,COLUMNS($B$6:B783)),\"\")","v":"60121300"},"Art and craft cutting products",null,null,null,"60121300","Art and craft cutting products","60121300",778,778,778,"60121300"]
[null,{"$f":"IFERROR(INDEX($G$7:$H$13233,$L785,COLUMNS($B$6:B784)),\"\")","v":"82141502"},"Art design or graphics",null,null,null,"82141502","Art design or graphics","82141502",779,779,779,"82141502"]
[null,{"$f":"IFERROR(INDEX($G$7:$H$13233,$L786,COLUMNS($B$6:B785)),\"\")","v":"82141500"},"Art design services",null,null,null,"82141500","Art design services","82141500",780,780,780,"82141500"]
[null,{"$f":"IFERROR(INDEX($G$7:$H$13233,$L787,COLUMNS($B$6:B786)),\"\")","v":"95121712"},"Art gallery",null,null,null,"95121712","Art gallery","95121712",781,781,781,"95121712"]
[null,{"$f":"IFERROR(INDEX($G$7:$H$13233,$L788,COLUMNS($B$6:B787)),\"\")","v":"82151510"},"Art installation and picture hanging service",null,null,null,"82151510","Art installation and picture hanging service","82151510",782,782,782,"82151510"]
[null,{"$f":"IFERROR(INDEX($G$7:$H$13233,$L789,COLUMNS($B$6:B788)),\"\")","v":"14111606"},"Art or craft paper",null,null,null,"14111606","Art or craft paper","14111606",783,783,783,"14111606"]
[null,{"$f":"IFERROR(INDEX($G$7:$H$13233,$L790,COLUMNS($B$6:B789)),\"\")","v":"51101908"},"Artemether",null,null,null,"51101908","Artemether","51101908",784,784,784,"51101908"]
[null,{"$f":"IFERROR(INDEX($G$7:$H$13233,$L791,COLUMNS($B$6:B790)),\"\")","v":"51102901"},"Artemether/lumefantrine",null,null,null,"51102901","Artemether/lumefantrine","51102901",785,785,785,"51102901"]
[null,{"$f":"IFERROR(INDEX($G$7:$H$13233,$L792,COLUMNS($B$6:B791)),\"\")","v":"41104137"},"Arterial and capillary blood gas collection kit",null,null,null,"41104137","Arterial and capillary blood gas collection kit","41104137",786,786,786,"41104137"]
[null,{"$f":"IFERROR(INDEX($G$7:$H$13233,$L793,COLUMNS($B$6:B792)),\"\")","v":"42271502"},"Arterial blood gas monitors",null,null,null,"42271502","Arterial blood gas monitors","42271502",787,787,787,"42271502"]
[null,{"$f":"IFERROR(INDEX($G$7:$H$13233,$L794,COLUMNS($B$6:B793)),\"\")","v":"42221501"},"Arterial line catheters",null,null,null,"42221501","Arterial line catheters","42221501",788,788,788,"42221501"]
[null,{"$f":"IFERROR(INDEX($G$7:$H$13233,$L795,COLUMNS($B$6:B794)),\"\")","v":"42221502"},"Arterial line continuous catheter flush valves",null,null,null,"42221502","Arterial line continuous catheter flush valves","42221502",789,789,789,"42221502"]
[null,{"$f":"IFERROR(INDEX($G$7:$H$13233,$L796,COLUMNS($B$6:B795)),\"\")","v":"42142503"},"Arterial needles",null,null,null,"42142503","Arterial needles","42142503",790,790,790,"42142503"]
[null,{"$f":"IFERROR(INDEX($G$7:$H$13233,$L797,COLUMNS($B$6:B796)),\"\")","v":"42203424"},"Arteriotomy site closure devices",null,null,null,"42203424","Arteriotomy site closure devices","42203424",791,791,791,"42203424"]
[null,{"$f":"IFERROR(INDEX($G$7:$H$13233,$L798,COLUMNS($B$6:B797)),\"\")","v":"51101914"},"Artesunate",null,null,null,"51101914","Artesunate","51101914",792,792,792,"51101914"]
[null,{"$f":"IFERROR(INDEX($G$7:$H$13233,$L799,COLUMNS($B$6:B798)),\"\")","v":"51102909"},"Artesunate/Pyronaridine",null,null,null,"51102909","Artesunate/Pyronaridine","51102909",793,793,793,"51102909"]
[null,{"$f":"IFERROR(INDEX($G$7:$H$13233,$L800,COLUMNS($B$6:B799)),\"\")","v":"42203418"},"Artherectomy catheters",null,null,null,"42203418","Artherectomy catheters","42203418",794,794,794,"42203418"]
[null,{"$f":"IFERROR(INDEX($G$7:$H$13233,$L801,COLUMNS($B$6:B800)),\"\")","v":"50401500"},"Artichokes",null,null,null,"50401500","Artichokes","50401500",795,795,795,"50401500"]
[null,{"$f":"IFERROR(INDEX($G$7:$H$13233,$L802,COLUMNS($B$6:B801)),\"\")","v":"82141602"},"Article display arrangement",null,null,null,"82141602","Article display arrangement","82141602",796,796,796,"82141602"]
[null,{"$f":"IFERROR(INDEX($G$7:$H$13233,$L803,COLUMNS($B$6:B802)),\"\")","v":"82111701"},"Article writers services",null,null,null,"82111701","Article writers services","82111701",797,797,797,"82111701"]
[null,{"$f":"IFERROR(INDEX($G$7:$H$13233,$L804,COLUMNS($B$6:B803)),\"\")","v":"42143203"},"Artificial insemination catheters",null,null,null,"42143203","Artificial insemination catheters","42143203",798,798,798,"42143203"]
[null,{"$f":"IFERROR(INDEX($G$7:$H$13233,$L805,COLUMNS($B$6:B804)),\"\")","v":"72154002"},"Artificial turf installation service",null,null,null,"72154002","Artificial turf installation service","72154002",799,799,799,"72154002"]
[null,{"$f":"IFERROR(INDEX($G$7:$H$13233,$L806,COLUMNS($B$6:B805)),\"\")","v":"60120000"},"Arts and crafts equipment and accessories and supplies",null,null,null,"60120000","Arts and crafts equipment and accessories and supplies","60120000",800,800,800,"60120000"]
[null,{"$f":"IFERROR(INDEX($G$7:$H$13233,$L807,COLUMNS($B$6:B806)),\"\")","v":"76101602"},"Asbestos removal or encapsulation",null,null,null,"76101602","Asbestos removal or encapsulation","76101602",801,801,801,"76101602"]
[null,{"$f":"IFERROR(INDEX($G$7:$H$13233,$L808,COLUMNS($B$6:B807)),\"\")","v":"47121706"},"Ash trays",null,null,null,"47121706","Ash trays","47121706",802,802,802,"47121706"]
[null,{"$f":"IFERROR(INDEX($G$7:$H$13233,$L809,COLUMNS($B$6:B808)),\"\")","v":"51111901"},"Asparaginase",null,null,null,"51111901","Asparaginase","51111901",803,803,803,"51111901"]
[null,{"$f":"IFERROR(INDEX($G$7:$H$13233,$L810,COLUMNS($B$6:B809)),\"\")","v":"10151537"},"Asparagus seeds or seedlings",null,null,null,"10151537","Asparagus seeds or seedlings","10151537",804,804,804,"10151537"]
[null,{"$f":"IFERROR(INDEX($G$7:$H$13233,$L811,COLUMNS($B$6:B810)),\"\")","v":"30121601"},"Asphalt",null,null,null,"30121601","Asphalt","30121601",805,805,805,"30121601"]
[null,{"$f":"IFERROR(INDEX($G$7:$H$13233,$L812,COLUMNS($B$6:B811)),\"\")","v":"30111509"},"Asphalt based concrete",null,null,null,"30111509","Asphalt based concrete","30111509",806,806,806,"30111509"]
[null,{"$f":"IFERROR(INDEX($G$7:$H$13233,$L813,COLUMNS($B$6:B812)),\"\")","v":"41112236"},"Asphalt softening point tester",null,null,null,"41112236","Asphalt softening point tester","41112236",807,807,807,"41112236"]
[null,{"$f":"IFERROR(INDEX($G$7:$H$13233,$L814,COLUMNS($B$6:B813)),\"\")","v":"72152502"},"Asphalt tile installation service",null,null,null,"72152502","Asphalt tile installation service","72152502",808,808,808,"72152502"]
[null,{"$f":"IFERROR(INDEX($G$7:$H$13233,$L815,COLUMNS($B$6:B814)),\"\")","v":"30121600"},"Asphalts",null,null,null,"30121600","Asphalts","30121600",809,809,809,"30121600"]
[null,{"$f":"IFERROR(INDEX($G$7:$H$13233,$L816,COLUMNS($B$6:B815)),\"\")","v":"41121518"},"Aspirating pipette",null,null,null,"41121518","Aspirating pipette","41121518",810,810,810,"41121518"]
[null,{"$f":"IFERROR(INDEX($G$7:$H$13233,$L817,COLUMNS($B$6:B816)),\"\")","v":"51132102"},"Aspirin/dipyridamole",null,null,null,"51132102","Aspirin/dipyridamole","51132102",811,811,811,"51132102"]
[null,{"$f":"IFERROR(INDEX($G$7:$H$13233,$L818,COLUMNS($B$6:B817)),\"\")","v":"51122601"},"Aspirin/pravastatin",null,null,null,"51122601","Aspirin/pravastatin","51122601",812,812,812,"51122601"]
[null,{"$f":"IFERROR(INDEX($G$7:$H$13233,$L819,COLUMNS($B$6:B818)),\"\")","v":"73151501"},"Assembly line work",null,null,null,"73151501","Assembly line work","73151501",813,813,813,"73151501"]
[null,{"$f":"IFERROR(INDEX($G$7:$H$13233,$L820,COLUMNS($B$6:B819)),\"\")","v":"23153400"},"Assembly machines",null,null,null,"23153400","Assembly machines","23153400",814,814,814,"23153400"]
[null,{"$f":"IFERROR(INDEX($G$7:$H$13233,$L821,COLUMNS($B$6:B820)),\"\")","v":"73151500"},"Assembly services",null,null,null,"73151500","Assembly services","73151500",815,815,815,"73151500"]
[null,{"$f":"IFERROR(INDEX($G$7:$H$13233,$L822,COLUMNS($B$6:B821)),\"\")","v":"10101509"},"Asses",null,null,null,"10101509","Asses","10101509",816,816,816,"10101509"]
[null,{"$f":"IFERROR(INDEX($G$7:$H$13233,$L823,COLUMNS($B$6:B822)),\"\")","v":"85151703"},"Assessment of emergency food requirements",null,null,null,"85151703","Assessment of emergency food requirements","85151703",817,817,817,"85151703"]
[null,{"$f":"IFERROR(INDEX($G$7:$H$13233,$L824,COLUMNS($B$6:B823)),\"\")","v":"80161700"},"Asset recovery service",null,null,null,"80161700","Asset recovery service","80161700",818,818,818,"80161700"]
[null,{"$f":"IFERROR(INDEX($G$7:$H$13233,$L825,COLUMNS($B$6:B824)),\"\")","v":"42211902"},"Assistive cooking devices for the physically challenged",null,null,null,"42211902","Assistive cooking devices for the physically challenged","42211902",819,819,819,"42211902"]
[null,{"$f":"IFERROR(INDEX($G$7:$H$13233,$L826,COLUMNS($B$6:B825)),\"\")","v":"45111701"},"Assistive listening devices",null,null,null,"45111701","Assistive listening devices","45111701",820,820,820,"45111701"]
[null,{"$f":"IFERROR(INDEX($G$7:$H$13233,$L827,COLUMNS($B$6:B826)),\"\")","v":"14111532"},"Assorted paper kits",null,null,null,"14111532","Assorted paper kits","14111532",821,821,821,"14111532"]
[null,{"$f":"IFERROR(INDEX($G$7:$H$13233,$L828,COLUMNS($B$6:B827)),\"\")","v":"45121523"},"Astronomical camera",null,null,null,"45121523","Astronomical camera","45121523",822,822,822,"45121523"]
[null,{"$f":"IFERROR(INDEX($G$7:$H$13233,$L829,COLUMNS($B$6:B828)),\"\")","v":"43221805"},"Asynchronous transfer mode ATM network equipment",null,null,null,"43221805","Asynchronous transfer mode ATM network equipment","43221805",823,823,823,"43221805"]
[null,{"$f":"IFERROR(INDEX($G$7:$H$13233,$L830,COLUMNS($B$6:B829)),\"\")","v":"43201501"},"Asynchronous transfer mode ATM telecommunications interface cards",null,null,null,"43201501","Asynchronous transfer mode ATM telecommunications interface cards","43201501",824,824,824,"43201501"]
[null,{"$f":"IFERROR(INDEX($G$7:$H$13233,$L831,COLUMNS($B$6:B830)),\"\")","v":"51342701"},"Atazanavir",null,null,null,"51342701","Atazanavir","51342701",825,825,825,"51342701"]
[null,{"$f":"IFERROR(INDEX($G$7:$H$13233,$L832,COLUMNS($B$6:B831)),\"\")","v":"51343822"},"Atazanavir/ritonavir",null,null,null,"51343822","Atazanavir/ritonavir","51343822",826,826,826,"51343822"]
[null,{"$f":"IFERROR(INDEX($G$7:$H$13233,$L833,COLUMNS($B$6:B832)),\"\")","v":"51263101"},"Atenolol",null,null,null,"51263101","Atenolol","51263101",827,827,827,"51263101"]
[null,{"$f":"IFERROR(INDEX($G$7:$H$13233,$L834,COLUMNS($B$6:B833)),\"\")","v":"51111784"},"Atezolizumab",null,null,null,"51111784","Atezolizumab","51111784",828,828,828,"51111784"]
[null,{"$f":"IFERROR(INDEX($G$7:$H$13233,$L835,COLUMNS($B$6:B834)),\"\")","v":"72153100"},"Athletic and recreational facility construction services",null,null,null,"72153100","Athletic and recreational facility construction services","72153100",829,829,829,"72153100"]
[null,{"$f":"IFERROR(INDEX($G$7:$H$13233,$L836,COLUMNS($B$6:B835)),\"\")","v":"72153106"},"Athletic field construction service",null,null,null,"72153106","Athletic field construction service","72153106",830,830,830,"72153106"]
[null,{"$f":"IFERROR(INDEX($G$7:$H$13233,$L837,COLUMNS($B$6:B836)),\"\")","v":"53111900"},"Athletic footwear",null,null,null,"53111900","Athletic footwear","53111900",831,831,831,"53111900"]
[null,{"$f":"IFERROR(INDEX($G$7:$H$13233,$L838,COLUMNS($B$6:B837)),\"\")","v":"53102900"},"Athletic wear",null,null,null,"53102900","Athletic wear","53102900",832,832,832,"53102900"]
[null,{"$f":"IFERROR(INDEX($G$7:$H$13233,$L839,COLUMNS($B$6:B838)),\"\")","v":"51201569"},"Atlizumab or tocilizumab",null,null,null,"51201569","Atlizumab or tocilizumab","51201569",833,833,833,"51201569"]
[null,{"$f":"IFERROR(INDEX($G$7:$H$13233,$L840,COLUMNS($B$6:B839)),\"\")","v":"83112201"},"ATM asynchronous transfer mode managed network services",null,null,null,"83112201","ATM asynchronous transfer mode managed network services","83112201",834,834,834,"83112201"]
[null,{"$f":"IFERROR(INDEX($G$7:$H$13233,$L841,COLUMNS($B$6:B840)),\"\")","v":"41115417"},"Atomic absorption AA spectrometer accessories",null,null,null,"41115417","Atomic absorption AA spectrometer accessories","41115417",835,835,835,"41115417"]
[null,{"$f":"IFERROR(INDEX($G$7:$H$13233,$L842,COLUMNS($B$6:B841)),\"\")","v":"41115407"},"Atomic absorption AA spectrometers",null,null,null,"41115407","Atomic absorption AA spectrometers","41115407",836,836,836,"41115407"]
[null,{"$f":"IFERROR(INDEX($G$7:$H$13233,$L843,COLUMNS($B$6:B842)),\"\")","v":"26140000"},"Atomic and nuclear energy machinery and equipment",null,null,null,"26140000","Atomic and nuclear energy machinery and equipment","26140000",837,837,837,"26140000"]
[null,{"$f":"IFERROR(INDEX($G$7:$H$13233,$L844,COLUMNS($B$6:B843)),\"\")","v":"51431602"},"Atomoxetine",null,null,null,"51431602","Atomoxetine","51431602",838,838,838,"51431602"]
[null,{"$f":"IFERROR(INDEX($G$7:$H$13233,$L845,COLUMNS($B$6:B844)),\"\")","v":"51321701"},"Atorvastatin",null,null,null,"51321701","Atorvastatin","51321701",839,839,839,"51321701"]
[null,{"$f":"IFERROR(INDEX($G$7:$H$13233,$L846,COLUMNS($B$6:B845)),\"\")","v":"51321708"},"Atorvastatin calcium trihydrate",null,null,null,"51321708","Atorvastatin calcium trihydrate","51321708",840,840,840,"51321708"]
[null,{"$f":"IFERROR(INDEX($G$7:$H$13233,$L847,COLUMNS($B$6:B846)),\"\")","v":"51434962"},"Atorvastatin/Acetylsalicylic acid/Ramipril",null,null,null,"51434962","Atorvastatin/Acetylsalicylic acid/Ramipril","51434962",841,841,841,"51434962"]
[null,{"$f":"IFERROR(INDEX($G$7:$H$13233,$L848,COLUMNS($B$6:B847)),\"\")","v":"51182206"},"Atosiban",null,null,null,"51182206","Atosiban","51182206",842,842,842,"51182206"]
[null,{"$f":"IFERROR(INDEX($G$7:$H$13233,$L849,COLUMNS($B$6:B848)),\"\")","v":"51101923"},"Atovaquone",null,null,null,"51101923","Atovaquone","51101923",843,843,843,"51101923"]
[null,{"$f":"IFERROR(INDEX($G$7:$H$13233,$L850,COLUMNS($B$6:B849)),\"\")","v":"51151616"},"Atropine",null,null,null,"51151616","Atropine","51151616",844,844,844,"51151616"]
[null,{"$f":"IFERROR(INDEX($G$7:$H$13233,$L851,COLUMNS($B$6:B850)),\"\")","v":"25202801"},"ATS Message Handling System (AMHS)",null,null,null,"25202801","ATS Message Handling System (AMHS)","25202801",845,845,845,"25202801"]
[null,{"$f":"IFERROR(INDEX($G$7:$H$13233,$L852,COLUMNS($B$6:B851)),\"\")","v":"80141705"},"Auction services",null,null,null,"80141705","Auction services","80141705",846,846,846,"80141705"]
[null,{"$f":"IFERROR(INDEX($G$7:$H$13233,$L853,COLUMNS($B$6:B852)),\"\")","v":"43201502"},"Audio accelerator cards",null,null,null,"43201502","Audio accelerator cards","43201502",847,847,847,"43201502"]
[null,{"$f":"IFERROR(INDEX($G$7:$H$13233,$L854,COLUMNS($B$6:B853)),\"\")","v":"45111714"},"Audio analog to digital AD converter",null,null,null,"45111714","Audio analog to digital AD converter","45111714",848,848,848,"45111714"]
[null,{"$f":"IFERROR(INDEX($G$7:$H$13233,$L855,COLUMNS($B$6:B854)),\"\")","v":"52161500"},"Audio and visual equipment",null,null,null,"52161500","Audio and visual equipment","52161500",849,849,849,"52161500"]
[null,{"$f":"IFERROR(INDEX($G$7:$H$13233,$L856,COLUMNS($B$6:B855)),\"\")","v":"45110000"},"Audio and visual presentation and composing equipment",null,null,null,"45110000","Audio and visual presentation and composing equipment","45110000",850,850,850,"45110000"]
[null,{"$f":"IFERROR(INDEX($G$7:$H$13233,$L857,COLUMNS($B$6:B856)),\"\")","v":"43201546"},"Audio conferencing boards",null,null,null,"43201546","Audio conferencing boards","43201546",851,851,851,"43201546"]
[null,{"$f":"IFERROR(INDEX($G$7:$H$13233,$L858,COLUMNS($B$6:B857)),\"\")","v":"45111715"},"Audio digital to analog DA converter",null,null,null,"45111715","Audio digital to analog DA converter","45111715",852,852,852,"45111715"]
[null,{"$f":"IFERROR(INDEX($G$7:$H$13233,$L859,COLUMNS($B$6:B858)),\"\")","v":"45111713"},"Audio distribution amplifier",null,null,null,"45111713","Audio distribution amplifier","45111713",853,853,853,"45111713"]
[null,{"$f":"IFERROR(INDEX($G$7:$H$13233,$L860,COLUMNS($B$6:B859)),\"\")","v":"45111707"},"Audio equipment connector and stage box",null,null,null,"45111707","Audio equipment connector and stage box","45111707",854,854,854,"45111707"]
[null,{"$f":"IFERROR(INDEX($G$7:$H$13233,$L861,COLUMNS($B$6:B860)),\"\")","v":"45111702"},"Audio jack boxes",null,null,null,"45111702","Audio jack boxes","45111702",855,855,855,"45111702"]
[null,{"$f":"IFERROR(INDEX($G$7:$H$13233,$L862,COLUMNS($B$6:B861)),\"\")","v":"45111704"},"Audio mixing consoles",null,null,null,"45111704","Audio mixing consoles","45111704",856,856,856,"45111704"]
[null,{"$f":"IFERROR(INDEX($G$7:$H$13233,$L863,COLUMNS($B$6:B862)),\"\")","v":"45111719"},"Audio monitor",null,null,null,"45111719","Audio monitor","45111719",857,857,857,"45111719"]
[null,{"$f":"IFERROR(INDEX($G$7:$H$13233,$L864,COLUMNS($B$6:B863)),\"\")","v":"45111700"},"Audio presentation and composing equipment and hardware and controllers",null,null,null,"45111700","Audio presentation and composing equipment and hardware and controllers","45111700",858,858,858,"45111700"]
[null,{"$f":"IFERROR(INDEX($G$7:$H$13233,$L865,COLUMNS($B$6:B864)),\"\")","v":"45111720"},"Audio spectrum analyzer",null,null,null,"45111720","Audio spectrum analyzer","45111720",859,859,859,"45111720"]
[null,{"$f":"IFERROR(INDEX($G$7:$H$13233,$L866,COLUMNS($B$6:B865)),\"\")","v":"41112104"},"Audio transducers",null,null,null,"41112104","Audio transducers","41112104",860,860,860,"41112104"]
[null,{"$f":"IFERROR(INDEX($G$7:$H$13233,$L867,COLUMNS($B$6:B866)),\"\")","v":"45111815"},"Audio vidio console",null,null,null,"45111815","Audio vidio console","45111815",861,861,861,"45111815"]
[null,{"$f":"IFERROR(INDEX($G$7:$H$13233,$L868,COLUMNS($B$6:B867)),\"\")","v":"52161600"},"Audio visual equipment accessories",null,null,null,"52161600","Audio visual equipment accessories","52161600",862,862,862,"52161600"]
[null,{"$f":"IFERROR(INDEX($G$7:$H$13233,$L869,COLUMNS($B$6:B868)),\"\")","v":"80161507"},"Audio visual services",null,null,null,"80161507","Audio visual services","80161507",863,863,863,"80161507"]
[null,{"$f":"IFERROR(INDEX($G$7:$H$13233,$L870,COLUMNS($B$6:B869)),\"\")","v":"86141702"},"Audio visual technology",null,null,null,"86141702","Audio visual technology","86141702",864,864,864,"86141702"]
[null,{"$f":"IFERROR(INDEX($G$7:$H$13233,$L871,COLUMNS($B$6:B870)),\"\")","v":"45111901"},"Audioconferencing systems",null,null,null,"45111901","Audioconferencing systems","45111901",865,865,865,"45111901"]
[null,{"$f":"IFERROR(INDEX($G$7:$H$13233,$L872,COLUMNS($B$6:B871)),\"\")","v":"84111600"},"Audit services",null,null,null,"84111600","Audit services","84111600",866,866,866,"84111600"]
[null,{"$f":"IFERROR(INDEX($G$7:$H$13233,$L873,COLUMNS($B$6:B872)),\"\")","v":"43231516"},"Audit software",null,null,null,"43231516","Audit software","43231516",867,867,867,"43231516"]
[null,{"$f":"IFERROR(INDEX($G$7:$H$13233,$L874,COLUMNS($B$6:B873)),\"\")","v":"95141707"},"Auditorium",null,null,null,"95141707","Auditorium","95141707",868,868,868,"95141707"]
[null,{"$f":"IFERROR(INDEX($G$7:$H$13233,$L875,COLUMNS($B$6:B874)),\"\")","v":"56112300"},"Auditorium or stadium or special use seating parts and accessories",null,null,null,"56112300","Auditorium or stadium or special use seating parts and accessories","56112300",869,869,869,"56112300"]
[null,{"$f":"IFERROR(INDEX($G$7:$H$13233,$L876,COLUMNS($B$6:B875)),\"\")","v":"27111509"},"Augers",null,null,null,"27111509","Augers","27111509",870,870,870,"27111509"]
[null,{"$f":"IFERROR(INDEX($G$7:$H$13233,$L877,COLUMNS($B$6:B876)),\"\")","v":"43233201"},"Authentication server software",null,null,null,"43233201","Authentication server software","43233201",871,871,871,"43233201"]
[null,{"$f":"IFERROR(INDEX($G$7:$H$13233,$L878,COLUMNS($B$6:B877)),\"\")","v":"82121802"},"Author funded publishing services",null,null,null,"82121802","Author funded publishing services","82121802",872,872,872,"82121802"]
[null,{"$f":"IFERROR(INDEX($G$7:$H$13233,$L879,COLUMNS($B$6:B878)),\"\")","v":"26111729"},"Auto battery charger unit",null,null,null,"26111729","Auto battery charger unit","26111729",873,873,873,"26111729"]
[null,{"$f":"IFERROR(INDEX($G$7:$H$13233,$L880,COLUMNS($B$6:B879)),\"\")","v":"80141901"},"Auto shows or other exhibits",null,null,null,"80141901","Auto shows or other exhibits","80141901",874,874,874,"80141901"]
[null,{"$f":"IFERROR(INDEX($G$7:$H$13233,$L881,COLUMNS($B$6:B880)),\"\")","v":"42281500"},"Autoclave and sterilizer equipment and accessories",null,null,null,"42281500","Autoclave and sterilizer equipment and accessories","42281500",875,875,875,"42281500"]
[null,{"$f":"IFERROR(INDEX($G$7:$H$13233,$L882,COLUMNS($B$6:B881)),\"\")","v":"30131512"},"Autoclaved lightweight aerated concrete block",null,null,null,"30131512","Autoclaved lightweight aerated concrete block","30131512",876,876,876,"30131512"]
[null,{"$f":"IFERROR(INDEX($G$7:$H$13233,$L883,COLUMNS($B$6:B882)),\"\")","v":"41111743"},"Autocollimator",null,null,null,"41111743","Autocollimator","41111743",877,877,877,"41111743"]
[null,{"$f":"IFERROR(INDEX($G$7:$H$13233,$L884,COLUMNS($B$6:B883)),\"\")","v":"43221507"},"Autodialers",null,null,null,"43221507","Autodialers","43221507",878,878,878,"43221507"]
[null,{"$f":"IFERROR(INDEX($G$7:$H$13233,$L885,COLUMNS($B$6:B884)),\"\")","v":"42312304"},"Autolytic debridement products",null,null,null,"42312304","Autolytic debridement products","42312304",879,879,879,"42312304"]
[null,{"$f":"IFERROR(INDEX($G$7:$H$13233,$L886,COLUMNS($B$6:B885)),\"\")","v":"43221501"},"Automated attendant systems",null,null,null,"43221501","Automated attendant systems","43221501",880,880,880,"43221501"]
[null,{"$f":"IFERROR(INDEX($G$7:$H$13233,$L887,COLUMNS($B$6:B886)),\"\")","v":"41115841"},"Automated blood culture system",null,null,null,"41115841","Automated blood culture system","41115841",881,881,881,"41115841"]
[null,{"$f":"IFERROR(INDEX($G$7:$H$13233,$L888,COLUMNS($B$6:B887)),\"\")","v":"41115842"},"Automated blood culture system analyzer accessories or supplies ",null,null,null,"41115842","Automated blood culture system analyzer accessories or supplies ","41115842",882,882,882,"41115842"]
[null,{"$f":"IFERROR(INDEX($G$7:$H$13233,$L889,COLUMNS($B$6:B888)),\"\")","v":"41116021"},"Automated blood culture system analyzer reagent",null,null,null,"41116021","Automated blood culture system analyzer reagent","41116021",883,883,883,"41116021"]
[null,{"$f":"IFERROR(INDEX($G$7:$H$13233,$L890,COLUMNS($B$6:B889)),\"\")","v":"41102922"},"Automated cover slipping equipment",null,null,null,"41102922","Automated cover slipping equipment","41102922",884,884,884,"41102922"]
[null,{"$f":"IFERROR(INDEX($G$7:$H$13233,$L891,COLUMNS($B$6:B890)),\"\")","v":"45121709"},"Automated film processor",null,null,null,"45121709","Automated film processor","45121709",885,885,885,"45121709"]
[null,{"$f":"IFERROR(INDEX($G$7:$H$13233,$L892,COLUMNS($B$6:B891)),\"\")","v":"25191536"},"Automated Flight Inquiry Response Systems",null,null,null,"25191536","Automated Flight Inquiry Response Systems","25191536",886,886,886,"25191536"]
[null,{"$f":"IFERROR(INDEX($G$7:$H$13233,$L893,COLUMNS($B$6:B892)),\"\")","v":"41115853"},"Automated high performance chromatography HPLC analyzer system",null,null,null,"41115853","Automated high performance chromatography HPLC analyzer system","41115853",887,887,887,"41115853"]
[null,{"$f":"IFERROR(INDEX($G$7:$H$13233,$L894,COLUMNS($B$6:B893)),\"\")","v":"41115854"},"Automated high performance chromatography HPLC analyzer system accessories",null,null,null,"41115854","Automated high performance chromatography HPLC analyzer system accessories","41115854",888,888,888,"41115854"]
[null,{"$f":"IFERROR(INDEX($G$7:$H$13233,$L895,COLUMNS($B$6:B894)),\"\")","v":"41116023"},"Automated high performance chromatography HPLC analyzer system reagent or kit",null,null,null,"41116023","Automated high performance chromatography HPLC analyzer system reagent or kit","41116023",889,889,889,"41116023"]
[null,{"$f":"IFERROR(INDEX($G$7:$H$13233,$L896,COLUMNS($B$6:B895)),\"\")","v":"41121521"},"Automated liquid handling system accessories",null,null,null,"41121521","Automated liquid handling system accessories","41121521",890,890,890,"41121521"]
[null,{"$f":"IFERROR(INDEX($G$7:$H$13233,$L897,COLUMNS($B$6:B896)),\"\")","v":"41106232"},"Automated microbial culture plate streaker",null,null,null,"41106232","Automated microbial culture plate streaker","41106232",891,891,891,"41106232"]
[null,{"$f":"IFERROR(INDEX($G$7:$H$13233,$L898,COLUMNS($B$6:B897)),\"\")","v":"41102928"},"Automated microscope slide labeler",null,null,null,"41102928","Automated microscope slide labeler","41102928",892,892,892,"41102928"]
[null,{"$f":"IFERROR(INDEX($G$7:$H$13233,$L899,COLUMNS($B$6:B898)),\"\")","v":"41111735"},"Automated microscope stages",null,null,null,"41111735","Automated microscope stages","41111735",893,893,893,"41111735"]
[null,{"$f":"IFERROR(INDEX($G$7:$H$13233,$L900,COLUMNS($B$6:B899)),\"\")","v":"41111740"},"Automated optical inspection system",null,null,null,"41111740","Automated optical inspection system","41111740",894,894,894,"41111740"]
[null,{"$f":"IFERROR(INDEX($G$7:$H$13233,$L901,COLUMNS($B$6:B900)),\"\")","v":"46161536"},"Automated Parking Control System ",null,null,null,"46161536","Automated Parking Control System ","46161536",895,895,895,"46161536"]
[null,{"$f":"IFERROR(INDEX($G$7:$H$13233,$L902,COLUMNS($B$6:B901)),\"\")","v":"41115868"},"Automated quality control manager system",null,null,null,"41115868","Automated quality control manager system","41115868",896,896,896,"41115868"]
[null,{"$f":"IFERROR(INDEX($G$7:$H$13233,$L903,COLUMNS($B$6:B902)),\"\")","v":"41112602"},"Automated swab test kits",null,null,null,"41112602","Automated swab test kits","41112602",897,897,897,"41112602"]
[null,{"$f":"IFERROR(INDEX($G$7:$H$13233,$L904,COLUMNS($B$6:B903)),\"\")","v":"41121520"},"Automated vial or tube decapper recapper",null,null,null,"41121520","Automated vial or tube decapper recapper","41121520",898,898,898,"41121520"]
[null,{"$f":"IFERROR(INDEX($G$7:$H$13233,$L905,COLUMNS($B$6:B904)),\"\")","v":"43221502"},"Automatic call distributor ACD",null,null,null,"43221502","Automatic call distributor ACD","43221502",899,899,899,"43221502"]
[null,{"$f":"IFERROR(INDEX($G$7:$H$13233,$L906,COLUMNS($B$6:B905)),\"\")","v":"25202902"},"Automatic Dependent Surveillance (ADS) ",null,null,null,"25202902","Automatic Dependent Surveillance (ADS) ","25202902",900,900,900,"25202902"]
[null,{"$f":"IFERROR(INDEX($G$7:$H$13233,$L907,COLUMNS($B$6:B906)),\"\")","v":"44101730"},"Automatic document sorter",null,null,null,"44101730","Automatic document sorter","44101730",901,901,901,"44101730"]
[null,{"$f":"IFERROR(INDEX($G$7:$H$13233,$L908,COLUMNS($B$6:B907)),\"\")","v":"30171510"},"Automatic doors",null,null,null,"30171510","Automatic doors","30171510",902,902,902,"30171510"]
[null,{"$f":"IFERROR(INDEX($G$7:$H$13233,$L909,COLUMNS($B$6:B908)),\"\")","v":"24102300"},"Automatic guided vehicles AGV",null,null,null,"24102300","Automatic guided vehicles AGV","24102300",903,903,903,"24102300"]
[null,{"$f":"IFERROR(INDEX($G$7:$H$13233,$L910,COLUMNS($B$6:B909)),\"\")","v":"44102408"},"Automatic labeling systems",null,null,null,"44102408","Automatic labeling systems","44102408",904,904,904,"44102408"]
[null,{"$f":"IFERROR(INDEX($G$7:$H$13233,$L911,COLUMNS($B$6:B910)),\"\")","v":"41111525"},"Automatic packer scale",null,null,null,"41111525","Automatic packer scale","41111525",905,905,905,"41111525"]
[null,{"$f":"IFERROR(INDEX($G$7:$H$13233,$L912,COLUMNS($B$6:B911)),\"\")","v":"44102109"},"Automatic postal or mailing machine",null,null,null,"44102109","Automatic postal or mailing machine","44102109",906,906,906,"44102109"]
[null,{"$f":"IFERROR(INDEX($G$7:$H$13233,$L913,COLUMNS($B$6:B912)),\"\")","v":"41111526"},"Automatic selective scale",null,null,null,"41111526","Automatic selective scale","41111526",907,907,907,"41111526"]
[null,{"$f":"IFERROR(INDEX($G$7:$H$13233,$L914,COLUMNS($B$6:B913)),\"\")","v":"25202905"},"Automatic Terminal Information Service (ATIS) Equipment ",null,null,null,"25202905","Automatic Terminal Information Service (ATIS) Equipment ","25202905",908,908,908,"25202905"]
[null,{"$f":"IFERROR(INDEX($G$7:$H$13233,$L915,COLUMNS($B$6:B914)),\"\")","v":"25202905"},"Automatic Terminal Information Service (ATIS) Equipment ",null,null,null,"25202905","Automatic Terminal Information Service (ATIS) Equipment ","25202905",909,909,909,"25202905"]
[null,{"$f":"IFERROR(INDEX($G$7:$H$13233,$L916,COLUMNS($B$6:B915)),\"\")","v":"46171628"},"Automatic time of day indicator",null,null,null,"46171628","Automatic time of day indicator","46171628",910,910,910,"46171628"]
[null,{"$f":"IFERROR(INDEX($G$7:$H$13233,$L917,COLUMNS($B$6:B916)),\"\")","v":"46171640"},"Automatic traffic monitoring system",null,null,null,"46171640","Automatic traffic monitoring system","46171640",911,911,911,"46171640"]
[null,{"$f":"IFERROR(INDEX($G$7:$H$13233,$L918,COLUMNS($B$6:B917)),\"\")","v":"41114423"},"Automatic weather system calibrator",null,null,null,"41114423","Automatic weather system calibrator","41114423",912,912,912,"41114423"]
[null,{"$f":"IFERROR(INDEX($G$7:$H$13233,$L919,COLUMNS($B$6:B918)),\"\")","v":"32150000"},"Automation control devices and components and accessories",null,null,null,"32150000","Automation control devices and components and accessories","32150000",913,913,913,"32150000"]
[null,{"$f":"IFERROR(INDEX($G$7:$H$13233,$L920,COLUMNS($B$6:B919)),\"\")","v":"25181601"},"Automobile chassis",null,null,null,"25181601","Automobile chassis","25181601",914,914,914,"25181601"]
[null,{"$f":"IFERROR(INDEX($G$7:$H$13233,$L921,COLUMNS($B$6:B920)),\"\")","v":"25172504"},"Automobile or light truck tires",null,null,null,"25172504","Automobile or light truck tires","25172504",915,915,915,"25172504"]
[null,{"$f":"IFERROR(INDEX($G$7:$H$13233,$L922,COLUMNS($B$6:B921)),\"\")","v":"25171901"},"Automobile rims or wheels",null,null,null,"25171901","Automobile rims or wheels","25171901",916,916,916,"25171901"]
[null,{"$f":"IFERROR(INDEX($G$7:$H$13233,$L923,COLUMNS($B$6:B922)),\"\")","v":"25172502"},"Automobile tire tubes",null,null,null,"25172502","Automobile tire tubes","25172502",917,917,917,"25172502"]
[null,{"$f":"IFERROR(INDEX($G$7:$H$13233,$L924,COLUMNS($B$6:B923)),\"\")","v":"25101503"},"Automobiles or cars",null,null,null,"25101503","Automobiles or cars","25101503",918,918,918,"25101503"]
[null,{"$f":"IFERROR(INDEX($G$7:$H$13233,$L925,COLUMNS($B$6:B924)),\"\")","v":"78181507"},"Automotive and light truck maintenance and repair",null,null,null,"78181507","Automotive and light truck maintenance and repair","78181507",919,919,919,"78181507"]
[null,{"$f":"IFERROR(INDEX($G$7:$H$13233,$L926,COLUMNS($B$6:B925)),\"\")","v":"43221720"},"Automotive antennas",null,null,null,"43221720","Automotive antennas","43221720",920,920,920,"43221720"]
[null,{"$f":"IFERROR(INDEX($G$7:$H$13233,$L927,COLUMNS($B$6:B926)),\"\")","v":"25171702"},"Automotive braking systems",null,null,null,"25171702","Automotive braking systems","25171702",921,921,921,"25171702"]
[null,{"$f":"IFERROR(INDEX($G$7:$H$13233,$L928,COLUMNS($B$6:B927)),\"\")","v":"26121800"},"Automotive cable",null,null,null,"26121800","Automotive cable","26121800",922,922,922,"26121800"]
[null,{"$f":"IFERROR(INDEX($G$7:$H$13233,$L929,COLUMNS($B$6:B928)),\"\")","v":"25181600"},"Automotive chassis",null,null,null,"25181600","Automotive chassis","25181600",923,923,923,"25181600"]
[null,{"$f":"IFERROR(INDEX($G$7:$H$13233,$L930,COLUMNS($B$6:B929)),\"\")","v":"72121300"},"Automotive garage and service station construction services",null,null,null,"72121300","Automotive garage and service station construction services","72121300",924,924,924,"72121300"]
[null,{"$f":"IFERROR(INDEX($G$7:$H$13233,$L931,COLUMNS($B$6:B930)),\"\")","v":"72121301"},"Automotive garage construction service",null,null,null,"72121301","Automotive garage construction service","72121301",925,925,925,"72121301"]
[null,{"$f":"IFERROR(INDEX($G$7:$H$13233,$L932,COLUMNS($B$6:B931)),\"\")","v":"43202219"},"Automotive heating ventilation air conditioning HVAC control head assembly",null,null,null,"43202219","Automotive heating ventilation air conditioning HVAC control head assembly","43202219",926,926,926,"43202219"]
[null,{"$f":"IFERROR(INDEX($G$7:$H$13233,$L933,COLUMNS($B$6:B932)),\"\")","v":"43202220"},"Automotive heating ventilation air conditioning HVAC power module",null,null,null,"43202220","Automotive heating ventilation air conditioning HVAC power module","43202220",927,927,927,"43202220"]
[null,{"$f":"IFERROR(INDEX($G$7:$H$13233,$L934,COLUMNS($B$6:B933)),\"\")","v":"43202221"},"Automotive heating ventilation air conditioning HVAC resistor assembly",null,null,null,"43202221","Automotive heating ventilation air conditioning HVAC resistor assembly","43202221",928,928,928,"43202221"]
[null,{"$f":"IFERROR(INDEX($G$7:$H$13233,$L935,COLUMNS($B$6:B934)),\"\")","v":"95121605"},"Automotive repair or servicing building",null,null,null,"95121605","Automotive repair or servicing building","95121605",929,929,929,"95121605"]
[null,{"$f":"IFERROR(INDEX($G$7:$H$13233,$L936,COLUMNS($B$6:B935)),\"\")","v":"72121302"},"Automotive service station construction service",null,null,null,"72121302","Automotive service station construction service","72121302",930,930,930,"72121302"]
[null,{"$f":"IFERROR(INDEX($G$7:$H$13233,$L937,COLUMNS($B$6:B936)),\"\")","v":"27140000"},"Automotive specialty tools",null,null,null,"27140000","Automotive specialty tools","27140000",931,931,931,"27140000"]
[null,{"$f":"IFERROR(INDEX($G$7:$H$13233,$L938,COLUMNS($B$6:B937)),\"\")","v":"60106101"},"Automotive teaching aids or materials",null,null,null,"60106101","Automotive teaching aids or materials","60106101",932,932,932,"60106101"]
[null,{"$f":"IFERROR(INDEX($G$7:$H$13233,$L939,COLUMNS($B$6:B938)),\"\")","v":"51150000"},"Autonomic nervous system drugs",null,null,null,"51150000","Autonomic nervous system drugs","51150000",933,933,933,"51150000"]
[null,{"$f":"IFERROR(INDEX($G$7:$H$13233,$L940,COLUMNS($B$6:B939)),\"\")","v":"42261605"},"Autopsy body boards",null,null,null,"42261605","Autopsy body boards","42261605",934,934,934,"42261605"]
[null,{"$f":"IFERROR(INDEX($G$7:$H$13233,$L941,COLUMNS($B$6:B940)),\"\")","v":"42261503"},"Autopsy bullet probes",null,null,null,"42261503","Autopsy bullet probes","42261503",935,935,935,"42261503"]
[null,{"$f":"IFERROR(INDEX($G$7:$H$13233,$L942,COLUMNS($B$6:B941)),\"\")","v":"42261807"},"Autopsy carts",null,null,null,"42261807","Autopsy carts","42261807",936,936,936,"42261807"]
[null,{"$f":"IFERROR(INDEX($G$7:$H$13233,$L943,COLUMNS($B$6:B942)),\"\")","v":"42261506"},"Autopsy chisels or osteotomes",null,null,null,"42261506","Autopsy chisels or osteotomes","42261506",937,937,937,"42261506"]
[null,{"$f":"IFERROR(INDEX($G$7:$H$13233,$L944,COLUMNS($B$6:B943)),\"\")","v":"42261502"},"Autopsy dissection forceps for general use",null,null,null,"42261502","Autopsy dissection forceps for general use","42261502",938,938,938,"42261502"]
[null,{"$f":"IFERROR(INDEX($G$7:$H$13233,$L945,COLUMNS($B$6:B944)),\"\")","v":"42261509"},"Autopsy dissection kits",null,null,null,"42261509","Autopsy dissection kits","42261509",939,939,939,"42261509"]
[null,{"$f":"IFERROR(INDEX($G$7:$H$13233,$L946,COLUMNS($B$6:B945)),\"\")","v":"42261600"},"Autopsy equipment and supplies",null,null,null,"42261600","Autopsy equipment and supplies","42261600",940,940,940,"42261600"]
[null,{"$f":"IFERROR(INDEX($G$7:$H$13233,$L947,COLUMNS($B$6:B946)),\"\")","v":"42261610"},"Autopsy fluid collection vacuum aspirators or tubing",null,null,null,"42261610","Autopsy fluid collection vacuum aspirators or tubing","42261610",941,941,941,"42261610"]
[null,{"$f":"IFERROR(INDEX($G$7:$H$13233,$L948,COLUMNS($B$6:B947)),\"\")","v":"42261700"},"Autopsy furniture",null,null,null,"42261700","Autopsy furniture","42261700",942,942,942,"42261700"]
[null,{"$f":"IFERROR(INDEX($G$7:$H$13233,$L949,COLUMNS($B$6:B948)),\"\")","v":"42261606"},"Autopsy hanging scales",null,null,null,"42261606","Autopsy hanging scales","42261606",943,943,943,"42261606"]
[null,{"$f":"IFERROR(INDEX($G$7:$H$13233,$L950,COLUMNS($B$6:B949)),\"\")","v":"42261604"},"Autopsy head rests",null,null,null,"42261604","Autopsy head rests","42261604",944,944,944,"42261604"]
[null,{"$f":"IFERROR(INDEX($G$7:$H$13233,$L951,COLUMNS($B$6:B950)),\"\")","v":"42261608"},"Autopsy infectious disease kits",null,null,null,"42261608","Autopsy infectious disease kits","42261608",945,945,945,"42261608"]
[null,{"$f":"IFERROR(INDEX($G$7:$H$13233,$L952,COLUMNS($B$6:B951)),\"\")","v":"42261505"},"Autopsy knives or blades",null,null,null,"42261505","Autopsy knives or blades","42261505",946,946,946,"42261505"]
[null,{"$f":"IFERROR(INDEX($G$7:$H$13233,$L953,COLUMNS($B$6:B952)),\"\")","v":"42261513"},"Autopsy saw blades",null,null,null,"42261513","Autopsy saw blades","42261513",947,947,947,"42261513"]
[null,{"$f":"IFERROR(INDEX($G$7:$H$13233,$L954,COLUMNS($B$6:B953)),\"\")","v":"42261512"},"Autopsy saws",null,null,null,"42261512","Autopsy saws","42261512",948,948,948,"42261512"]
[null,{"$f":"IFERROR(INDEX($G$7:$H$13233,$L955,COLUMNS($B$6:B954)),\"\")","v":"42261501"},"Autopsy scissors",null,null,null,"42261501","Autopsy scissors","42261501",949,949,949,"42261501"]
[null,{"$f":"IFERROR(INDEX($G$7:$H$13233,$L956,COLUMNS($B$6:B955)),\"\")","v":"42261607"},"Autopsy specimen bags or containers",null,null,null,"42261607","Autopsy specimen bags or containers","42261607",950,950,950,"42261607"]
[null,{"$f":"IFERROR(INDEX($G$7:$H$13233,$L957,COLUMNS($B$6:B956)),\"\")","v":"42261504"},"Autopsy thread or needle pullers",null,null,null,"42261504","Autopsy thread or needle pullers","42261504",951,951,951,"42261504"]
[null,{"$f":"IFERROR(INDEX($G$7:$H$13233,$L958,COLUMNS($B$6:B957)),\"\")","v":"42261511"},"Autopsy vein directors",null,null,null,"42261511","Autopsy vein directors","42261511",952,952,952,"42261511"]
[null,{"$f":"IFERROR(INDEX($G$7:$H$13233,$L959,COLUMNS($B$6:B958)),\"\")","v":"41105341"},"Autoradiography film",null,null,null,"41105341","Autoradiography film","41105341",953,953,953,"41105341"]
[null,{"$f":"IFERROR(INDEX($G$7:$H$13233,$L960,COLUMNS($B$6:B959)),\"\")","v":"42294601"},"Autotransfusion blood or transfer bags",null,null,null,"42294601","Autotransfusion blood or transfer bags","42294601",954,954,954,"42294601"]
[null,{"$f":"IFERROR(INDEX($G$7:$H$13233,$L961,COLUMNS($B$6:B960)),\"\")","v":"42294602"},"Autotransfusion bowl kits or centrifugal kits",null,null,null,"42294602","Autotransfusion bowl kits or centrifugal kits","42294602",955,955,955,"42294602"]
[null,{"$f":"IFERROR(INDEX($G$7:$H$13233,$L962,COLUMNS($B$6:B961)),\"\")","v":"42294604"},"Autotransfusion filters",null,null,null,"42294604","Autotransfusion filters","42294604",956,956,956,"42294604"]
[null,{"$f":"IFERROR(INDEX($G$7:$H$13233,$L963,COLUMNS($B$6:B962)),\"\")","v":"42294600"},"Autotransfusion products",null,null,null,"42294600","Autotransfusion products","42294600",957,957,957,"42294600"]
[null,{"$f":"IFERROR(INDEX($G$7:$H$13233,$L964,COLUMNS($B$6:B963)),\"\")","v":"42294605"},"Autotransfusion reservoirs ",null,null,null,"42294605","Autotransfusion reservoirs ","42294605",958,958,958,"42294605"]
[null,{"$f":"IFERROR(INDEX($G$7:$H$13233,$L965,COLUMNS($B$6:B964)),\"\")","v":"42294606"},"Autotransfusion tubing sets or kits",null,null,null,"42294606","Autotransfusion tubing sets or kits","42294606",959,959,959,"42294606"]
[null,{"$f":"IFERROR(INDEX($G$7:$H$13233,$L966,COLUMNS($B$6:B965)),\"\")","v":"42294603"},"Autotransfusion units",null,null,null,"42294603","Autotransfusion units","42294603",960,960,960,"42294603"]
[null,{"$f":"IFERROR(INDEX($G$7:$H$13233,$L967,COLUMNS($B$6:B966)),\"\")","v":"42294607"},"Autotransfusion valves",null,null,null,"42294607","Autotransfusion valves","42294607",961,961,961,"42294607"]
[null,{"$f":"IFERROR(INDEX($G$7:$H$13233,$L968,COLUMNS($B$6:B967)),\"\")","v":"42294611"},"Autotransfusion waste collection systems",null,null,null,"42294611","Autotransfusion waste collection systems","42294611",962,962,962,"42294611"]
[null,{"$f":"IFERROR(INDEX($G$7:$H$13233,$L969,COLUMNS($B$6:B968)),\"\")","v":"26111611"},"Auxiliary generator",null,null,null,"26111611","Auxiliary generator","26111611",963,963,963,"26111611"]
[null,{"$f":"IFERROR(INDEX($G$7:$H$13233,$L970,COLUMNS($B$6:B969)),\"\")","v":"51201704"},"Avian infectious bronchitis vaccines",null,null,null,"51201704","Avian infectious bronchitis vaccines","51201704",964,964,964,"51201704"]
[null,{"$f":"IFERROR(INDEX($G$7:$H$13233,$L971,COLUMNS($B$6:B970)),\"\")","v":"15101504"},"Aviation fuel",null,null,null,"15101504","Aviation fuel","15101504",965,965,965,"15101504"]
[null,{"$f":"IFERROR(INDEX($G$7:$H$13233,$L972,COLUMNS($B$6:B971)),\"\")","v":"43232601"},"Aviation ground support software",null,null,null,"43232601","Aviation ground support software","43232601",966,966,966,"43232601"]
[null,{"$f":"IFERROR(INDEX($G$7:$H$13233,$L973,COLUMNS($B$6:B972)),\"\")","v":"78204001"},"Aviation Security Services",null,null,null,"78204001","Aviation Security Services","78204001",967,967,967,"78204001"]
[null,{"$f":"IFERROR(INDEX($G$7:$H$13233,$L974,COLUMNS($B$6:B973)),\"\")","v":"86101400"},"Aviation Specific Training",null,null,null,"86101400","Aviation Specific Training","86101400",968,968,968,"86101400"]
[null,{"$f":"IFERROR(INDEX($G$7:$H$13233,$L975,COLUMNS($B$6:B974)),\"\")","v":"43232602"},"Aviation test software",null,null,null,"43232602","Aviation test software","43232602",969,969,969,"43232602"]
[null,{"$f":"IFERROR(INDEX($G$7:$H$13233,$L976,COLUMNS($B$6:B975)),\"\")","v":"78204004"},"Aviation-Related Safety Audits Services",null,null,null,"78204004","Aviation-Related Safety Audits Services","78204004",970,970,970,"78204004"]
[null,{"$f":"IFERROR(INDEX($G$7:$H$13233,$L977,COLUMNS($B$6:B976)),\"\")","v":"78200000"},"Aviation-Related Services And Consultancy",null,null,null,"78200000","Aviation-Related Services And Consultancy","78200000",971,971,971,"78200000"]
[null,{"$f":"IFERROR(INDEX($G$7:$H$13233,$L978,COLUMNS($B$6:B977)),\"\")","v":"78204000"},"Aviation-Specific Services",null,null,null,"78204000","Aviation-Specific Services","78204000",972,972,972,"78204000"]
[null,{"$f":"IFERROR(INDEX($G$7:$H$13233,$L979,COLUMNS($B$6:B978)),\"\")","v":"81102301"},"Avionics design",null,null,null,"81102301","Avionics design","81102301",973,973,973,"81102301"]
[null,{"$f":"IFERROR(INDEX($G$7:$H$13233,$L980,COLUMNS($B$6:B979)),\"\")","v":"51242302"},"Avobenzone/padimate-o",null,null,null,"51242302","Avobenzone/padimate-o","51242302",974,974,974,"51242302"]
[null,{"$f":"IFERROR(INDEX($G$7:$H$13233,$L981,COLUMNS($B$6:B980)),\"\")","v":"49101700"},"Awards",null,null,null,"49101700","Awards","49101700",975,975,975,"49101700"]
[null,{"$f":"IFERROR(INDEX($G$7:$H$13233,$L982,COLUMNS($B$6:B981)),\"\")","v":"72154003"},"Awning installation service",null,null,null,"72154003","Awning installation service","72154003",976,976,976,"72154003"]
[null,{"$f":"IFERROR(INDEX($G$7:$H$13233,$L983,COLUMNS($B$6:B982)),\"\")","v":"51111833"},"Axitinib",null,null,null,"51111833","Axitinib","51111833",977,977,977,"51111833"]
[null,{"$f":"IFERROR(INDEX($G$7:$H$13233,$L984,COLUMNS($B$6:B983)),\"\")","v":"41111518"},"Axle load scales",null,null,null,"41111518","Axle load scales","41111518",978,978,978,"41111518"]
[null,{"$f":"IFERROR(INDEX($G$7:$H$13233,$L985,COLUMNS($B$6:B984)),\"\")","v":"51111625"},"Azacitidine",null,null,null,"51111625","Azacitidine","51111625",979,979,979,"51111625"]
[null,{"$f":"IFERROR(INDEX($G$7:$H$13233,$L986,COLUMNS($B$6:B985)),\"\")","v":"51101636"},"Azanidazole",null,null,null,"51101636","Azanidazole","51101636",980,980,980,"51101636"]
[null,{"$f":"IFERROR(INDEX($G$7:$H$13233,$L987,COLUMNS($B$6:B986)),\"\")","v":"51203401"},"Azathioprine",null,null,null,"51203401","Azathioprine","51203401",981,981,981,"51203401"]
[null,{"$f":"IFERROR(INDEX($G$7:$H$13233,$L988,COLUMNS($B$6:B987)),\"\")","v":"51343116"},"Azidothymidine or zidovudine",null,null,null,"51343116","Azidothymidine or zidovudine","51343116",982,982,982,"51343116"]
[null,{"$f":"IFERROR(INDEX($G$7:$H$13233,$L989,COLUMNS($B$6:B988)),\"\")","v":"51282301"},"Azithromycin",null,null,null,"51282301","Azithromycin","51282301",983,983,983,"51282301"]
[null,{"$f":"IFERROR(INDEX($G$7:$H$13233,$L990,COLUMNS($B$6:B989)),\"\")","v":"51282309"},"Azithromycin anhydrous",null,null,null,"51282309","Azithromycin anhydrous","51282309",984,984,984,"51282309"]
[null,{"$f":"IFERROR(INDEX($G$7:$H$13233,$L991,COLUMNS($B$6:B990)),\"\")","v":"51282310"},"Azithromycin dihydrate",null,null,null,"51282310","Azithromycin dihydrate","51282310",985,985,985,"51282310"]
[null,{"$f":"IFERROR(INDEX($G$7:$H$13233,$L992,COLUMNS($B$6:B991)),\"\")","v":"51284502"},"Aztreonam",null,null,null,"51284502","Aztreonam","51284502",986,986,986,"51284502"]
[null,{"$f":"IFERROR(INDEX($G$7:$H$13233,$L993,COLUMNS($B$6:B992)),\"\")","v":"56101800"},"Baby and toddler furniture and accessories",null,null,null,"56101800","Baby and toddler furniture and accessories","56101800",987,987,987,"56101800"]
[null,{"$f":"IFERROR(INDEX($G$7:$H$13233,$L994,COLUMNS($B$6:B993)),\"\")","v":"53131667"},"Baby bath tub",null,null,null,"53131667","Baby bath tub","53131667",988,988,988,"53131667"]
[null,{"$f":"IFERROR(INDEX($G$7:$H$13233,$L995,COLUMNS($B$6:B994)),\"\")","v":"53131664"},"Baby body wash",null,null,null,"53131664","Baby body wash","53131664",989,989,989,"53131664"]
[null,{"$f":"IFERROR(INDEX($G$7:$H$13233,$L996,COLUMNS($B$6:B995)),\"\")","v":"53131663"},"Baby&infant moisturizing cream",null,null,null,"53131663","Baby&infant moisturizing cream","53131663",990,990,990,"53131663"]
[null,{"$f":"IFERROR(INDEX($G$7:$H$13233,$L997,COLUMNS($B$6:B996)),\"\")","v":"53131662"},"Baby/infant shampoo ",null,null,null,"53131662","Baby/infant shampoo ","53131662",991,991,991,"53131662"]
[null,{"$f":"IFERROR(INDEX($G$7:$H$13233,$L998,COLUMNS($B$6:B997)),\"\")","v":"51102818"},"Bacitracin/diperodon/neomycin/polymyxin b",null,null,null,"51102818","Bacitracin/diperodon/neomycin/polymyxin b","51102818",992,992,992,"51102818"]
[null,{"$f":"IFERROR(INDEX($G$7:$H$13233,$L999,COLUMNS($B$6:B998)),\"\")","v":"51102811"},"Bacitracin/hydrocortisone/neomycin/polymyxin b",null,null,null,"51102811","Bacitracin/hydrocortisone/neomycin/polymyxin b","51102811",993,993,993,"51102811"]
[null,{"$f":"IFERROR(INDEX($G$7:$H$13233,$L1000,COLUMNS($B$6:B999)),\"\")","v":"51102821"},"Bacitracin/neomycin/polymyxin b",null,null,null,"51102821","Bacitracin/neomycin/polymyxin b","51102821",994,994,994,"51102821"]
[null,{"$f":"IFERROR(INDEX($G$7:$H$13233,$L1001,COLUMNS($B$6:B1000)),\"\")","v":"51102822"},"Bacitracin/polymyxin b",null,null,null,"51102822","Bacitracin/polymyxin b","51102822",995,995,995,"51102822"]
[null,{"$f":"IFERROR(INDEX($G$7:$H$13233,$L1002,COLUMNS($B$6:B1001)),\"\")","v":"51102823"},"Bacitracin/polymyxin b/pramoxine",null,null,null,"51102823","Bacitracin/polymyxin b/pramoxine","51102823",996,996,996,"51102823"]
[null,{"$f":"IFERROR(INDEX($G$7:$H$13233,$L1003,COLUMNS($B$6:B1002)),\"\")","v":"42241802"},"Back or lumbar or sacral orthopedic softgoods",null,null,null,"42241802","Back or lumbar or sacral orthopedic softgoods","42241802",997,997,997,"42241802"]
[null,{"$f":"IFERROR(INDEX($G$7:$H$13233,$L1004,COLUMNS($B$6:B1003)),\"\")","v":"83112500"},"Backbone capacities",null,null,null,"83112500","Backbone capacities","83112500",998,998,998,"83112500"]
[null,{"$f":"IFERROR(INDEX($G$7:$H$13233,$L1005,COLUMNS($B$6:B1004)),\"\")","v":"60121606"},"Background screens",null,null,null,"60121606","Background screens","60121606",999,999,999,"60121606"]
[null,{"$f":"IFERROR(INDEX($G$7:$H$13233,$L1006,COLUMNS($B$6:B1005)),\"\")","v":"22101509"},"Backhoes",null,null,null,"22101509","Backhoes","22101509",1000,1000,1000,"22101509"]
[null,{"$f":"IFERROR(INDEX($G$7:$H$13233,$L1007,COLUMNS($B$6:B1006)),\"\")","v":"46191612"},"Backpack water pump",null,null,null,"46191612","Backpack water pump","46191612",1001,1001,1001,"46191612"]
[null,{"$f":"IFERROR(INDEX($G$7:$H$13233,$L1008,COLUMNS($B$6:B1007)),\"\")","v":"53121603"},"Backpacks",null,null,null,"53121603","Backpacks","53121603",1002,1002,1002,"53121603"]
[null,{"$f":"IFERROR(INDEX($G$7:$H$13233,$L1009,COLUMNS($B$6:B1008)),\"\")","v":"43201610"},"Backplane or panels or assemblies",null,null,null,"43201610","Backplane or panels or assemblies","43201610",1003,1003,1003,"43201610"]
[null,{"$f":"IFERROR(INDEX($G$7:$H$13233,$L1010,COLUMNS($B$6:B1009)),\"\")","v":"43233415"},"Backup or archival software",null,null,null,"43233415","Backup or archival software","43233415",1004,1004,1004,"43233415"]
[null,{"$f":"IFERROR(INDEX($G$7:$H$13233,$L1011,COLUMNS($B$6:B1010)),\"\")","v":"85111703"},"Bacteria management or control services",null,null,null,"85111703","Bacteria management or control services","85111703",1005,1005,1005,"85111703"]
[null,{"$f":"IFERROR(INDEX($G$7:$H$13233,$L1012,COLUMNS($B$6:B1011)),\"\")","v":"41106203"},"Bacteria transformation kits",null,null,null,"41106203","Bacteria transformation kits","41106203",1006,1006,1006,"41106203"]
[null,{"$f":"IFERROR(INDEX($G$7:$H$13233,$L1013,COLUMNS($B$6:B1012)),\"\")","v":"85111506"},"Bacterial disease prevention or control services",null,null,null,"85111506","Bacterial disease prevention or control services","85111506",1007,1007,1007,"85111506"]
[null,{"$f":"IFERROR(INDEX($G$7:$H$13233,$L1014,COLUMNS($B$6:B1013)),\"\")","v":"41106501"},"Bacterial expression kits",null,null,null,"41106501","Bacterial expression kits","41106501",1008,1008,1008,"41106501"]
[null,{"$f":"IFERROR(INDEX($G$7:$H$13233,$L1015,COLUMNS($B$6:B1014)),\"\")","v":"47101605"},"Bacterial removal chemicals",null,null,null,"47101605","Bacterial removal chemicals","47101605",1009,1009,1009,"47101605"]
[null,{"$f":"IFERROR(INDEX($G$7:$H$13233,$L1016,COLUMNS($B$6:B1015)),\"\")","v":"47101504"},"Bacterial removal equipment",null,null,null,"47101504","Bacterial removal equipment","47101504",1010,1010,1010,"47101504"]
[null,{"$f":"IFERROR(INDEX($G$7:$H$13233,$L1017,COLUMNS($B$6:B1016)),\"\")","v":"85121802"},"Bacteriological laboratory services",null,null,null,"85121802","Bacteriological laboratory services","85121802",1011,1011,1011,"85121802"]
[null,{"$f":"IFERROR(INDEX($G$7:$H$13233,$L1018,COLUMNS($B$6:B1017)),\"\")","v":"55121804"},"Badges or badge holders",null,null,null,"55121804","Badges or badge holders","55121804",1012,1012,1012,"55121804"]
[null,{"$f":"IFERROR(INDEX($G$7:$H$13233,$L1019,COLUMNS($B$6:B1018)),\"\")","v":"49161602"},"Badminton rackets",null,null,null,"49161602","Badminton rackets","49161602",1013,1013,1013,"49161602"]
[null,{"$f":"IFERROR(INDEX($G$7:$H$13233,$L1020,COLUMNS($B$6:B1019)),\"\")","v":"44122116"},"Bag clips",null,null,null,"44122116","Bag clips","44122116",1014,1014,1014,"44122116"]
[null,{"$f":"IFERROR(INDEX($G$7:$H$13233,$L1021,COLUMNS($B$6:B1020)),\"\")","v":"43212109"},"Bag tag printer",null,null,null,"43212109","Bag tag printer","43212109",1015,1015,1015,"43212109"]
[null,{"$f":"IFERROR(INDEX($G$7:$H$13233,$L1022,COLUMNS($B$6:B1021)),\"\")","v":"25191534"},"Baggage And Cargo Handling Systems ",null,null,null,"25191534","Baggage And Cargo Handling Systems ","25191534",1016,1016,1016,"25191534"]
[null,{"$f":"IFERROR(INDEX($G$7:$H$13233,$L1023,COLUMNS($B$6:B1022)),\"\")","v":"24101751"},"Baggage Conveyor",null,null,null,"24101751","Baggage Conveyor","24101751",1017,1017,1017,"24101751"]
[null,{"$f":"IFERROR(INDEX($G$7:$H$13233,$L1024,COLUMNS($B$6:B1023)),\"\")","v":"25191537"},"Baggage Handling System (BHS) ",null,null,null,"25191537","Baggage Handling System (BHS) ","25191537",1018,1018,1018,"25191537"]
[null,{"$f":"IFERROR(INDEX($G$7:$H$13233,$L1025,COLUMNS($B$6:B1024)),\"\")","v":"25191537"},"Baggage Handling System (BHS) ",null,null,null,"25191537","Baggage Handling System (BHS) ","25191537",1019,1019,1019,"25191537"]
[null,{"$f":"IFERROR(INDEX($G$7:$H$13233,$L1026,COLUMNS($B$6:B1025)),\"\")","v":"25191537"},"Baggage Handling System (BHS) ",null,null,null,"25191537","Baggage Handling System (BHS) ","25191537",1020,1020,1020,"25191537"]
[null,{"$f":"IFERROR(INDEX($G$7:$H$13233,$L1027,COLUMNS($B$6:B1026)),\"\")","v":"25191539"},"Baggage Reconciliation System",null,null,null,"25191539","Baggage Reconciliation System","25191539",1021,{"$f":"IF(ISNUMBER(SEARCH($H$4,H1027)),J1027,\"\")","v":1021},{"$f":"IFERROR(SMALL($K$7:$K$13233,J1027),\"\")","v":1021},"25191539"]
[null,{"$f":"IFERROR(INDEX($G$7:$H$13233,$L1028,COLUMNS($B$6:B1027)),\"\")","v":"41111528"},"Baggage Scale, Cargo ",null,null,null,"41111528","Baggage Scale, Cargo ","41111528",1022,1022,1022,"41111528"]
[null,{"$f":"IFERROR(INDEX($G$7:$H$13233,$L1029,COLUMNS($B$6:B1028)),\"\")","v":"41111529"},"Baggage Scale, Check-In Counter ",null,null,null,"41111529","Baggage Scale, Check-In Counter ","41111529",1023,1023,1023,"41111529"]
[null,{"$f":"IFERROR(INDEX($G$7:$H$13233,$L1030,COLUMNS($B$6:B1029)),\"\")","v":"24111500"},"Bags",null,null,null,"24111500","Bags","24111500",1024,1024,1024,"24111500"]
[null,{"$f":"IFERROR(INDEX($G$7:$H$13233,$L1031,COLUMNS($B$6:B1030)),\"\")","v":"30241503"},"Bail ring",null,null,null,"30241503","Bail ring","30241503",1025,1025,1025,"30241503"]
[null,{"$f":"IFERROR(INDEX($G$7:$H$13233,$L1032,COLUMNS($B$6:B1031)),\"\")","v":"50181710"},"Bakers yeast",null,null,null,"50181710","Bakers yeast","50181710",1026,1026,1026,"50181710"]
[null,{"$f":"IFERROR(INDEX($G$7:$H$13233,$L1033,COLUMNS($B$6:B1032)),\"\")","v":"73152106"},"Baking and heating equipment maintenance and repair service",null,null,null,"73152106","Baking and heating equipment maintenance and repair service","73152106",1027,1027,1027,"73152106"]
[null,{"$f":"IFERROR(INDEX($G$7:$H$13233,$L1034,COLUMNS($B$6:B1033)),\"\")","v":"50181708"},"Baking mixes",null,null,null,"50181708","Baking mixes","50181708",1028,1028,1028,"50181708"]
[null,{"$f":"IFERROR(INDEX($G$7:$H$13233,$L1035,COLUMNS($B$6:B1034)),\"\")","v":"50181700"},"Baking mixes and supplies",null,null,null,"50181700","Baking mixes and supplies","50181700",1029,1029,1029,"50181700"]
[null,{"$f":"IFERROR(INDEX($G$7:$H$13233,$L1036,COLUMNS($B$6:B1035)),\"\")","v":"50181709"},"Baking supplies",null,null,null,"50181709","Baking supplies","50181709",1030,1030,1030,"50181709"]
[null,{"$f":"IFERROR(INDEX($G$7:$H$13233,$L1037,COLUMNS($B$6:B1036)),\"\")","v":"93171802"},"Balance of trade projections",null,null,null,"93171802","Balance of trade projections","93171802",1031,1031,1031,"93171802"]
[null,{"$f":"IFERROR(INDEX($G$7:$H$13233,$L1038,COLUMNS($B$6:B1037)),\"\")","v":"41111515"},"Balance weighing containers or bowls or boats or papers",null,null,null,"41111515","Balance weighing containers or bowls or boats or papers","41111515",1032,1032,1032,"41111515"]
[null,{"$f":"IFERROR(INDEX($G$7:$H$13233,$L1039,COLUMNS($B$6:B1038)),\"\")","v":"72154048"},"Balcony and external walkway service",null,null,null,"72154048","Balcony and external walkway service","72154048",1033,1033,1033,"72154048"]
[null,{"$f":"IFERROR(INDEX($G$7:$H$13233,$L1040,COLUMNS($B$6:B1039)),\"\")","v":"50301504"},"Baldwin apples",null,null,null,"50301504","Baldwin apples","50301504",1034,1034,1034,"50301504"]
[null,{"$f":"IFERROR(INDEX($G$7:$H$13233,$L1041,COLUMNS($B$6:B1040)),\"\")","v":"21101709"},"Baler",null,null,null,"21101709","Baler","21101709",1035,1035,1035,"21101709"]
[null,{"$f":"IFERROR(INDEX($G$7:$H$13233,$L1042,COLUMNS($B$6:B1041)),\"\")","v":"31171504"},"Ball bearings",null,null,null,"31171504","Ball bearings","31171504",1036,1036,1036,"31171504"]
[null,{"$f":"IFERROR(INDEX($G$7:$H$13233,$L1043,COLUMNS($B$6:B1042)),\"\")","v":"11111809"},"Ball clay",null,null,null,"11111809","Ball clay","11111809",1037,1037,1037,"11111809"]
[null,{"$f":"IFERROR(INDEX($G$7:$H$13233,$L1044,COLUMNS($B$6:B1043)),\"\")","v":"20101709"},"Ball mills",null,null,null,"20101709","Ball mills","20101709",1038,1038,1038,"20101709"]
[null,{"$f":"IFERROR(INDEX($G$7:$H$13233,$L1045,COLUMNS($B$6:B1044)),\"\")","v":"44121704"},"Ball point pens",null,null,null,"44121704","Ball point pens","44121704",1039,1039,1039,"44121704"]
[null,{"$f":"IFERROR(INDEX($G$7:$H$13233,$L1046,COLUMNS($B$6:B1045)),\"\")","v":"72153001"},"Ballistic resistant glazing installation service",null,null,null,"72153001","Ballistic resistant glazing installation service","72153001",1040,1040,1040,"72153001"]
[null,{"$f":"IFERROR(INDEX($G$7:$H$13233,$L1047,COLUMNS($B$6:B1046)),\"\")","v":"46151509"},"Ballistic/Fragmentation Equipment",null,null,null,"46151509","Ballistic/Fragmentation Equipment","46151509",1041,1041,1041,"46151509"]
[null,{"$f":"IFERROR(INDEX($G$7:$H$13233,$L1048,COLUMNS($B$6:B1047)),\"\")","v":"24113105"},"Ballot box",null,null,null,"24113105","Ballot box","24113105",1042,1042,1042,"24113105"]
[null,{"$f":"IFERROR(INDEX($G$7:$H$13233,$L1049,COLUMNS($B$6:B1048)),\"\")","v":"44121908"},"Ballpoint pen ink refill",null,null,null,"44121908","Ballpoint pen ink refill","44121908",1043,1043,1043,"44121908"]
[null,{"$f":"IFERROR(INDEX($G$7:$H$13233,$L1050,COLUMNS($B$6:B1049)),\"\")","v":"11121608"},"Bamboo",null,null,null,"11121608","Bamboo","11121608",1044,1044,1044,"11121608"]
[null,{"$f":"IFERROR(INDEX($G$7:$H$13233,$L1051,COLUMNS($B$6:B1050)),\"\")","v":"43212101"},"Band printers",null,null,null,"43212101","Band printers","43212101",1045,1045,1045,"43212101"]
[null,{"$f":"IFERROR(INDEX($G$7:$H$13233,$L1052,COLUMNS($B$6:B1051)),\"\")","v":"42311539"},"Bandage applicators",null,null,null,"42311539","Bandage applicators","42311539",1046,1046,1046,"42311539"]
[null,{"$f":"IFERROR(INDEX($G$7:$H$13233,$L1053,COLUMNS($B$6:B1052)),\"\")","v":"42311502"},"Bandage or dressing trays",null,null,null,"42311502","Bandage or dressing trays","42311502",1047,1047,1047,"42311502"]
[null,{"$f":"IFERROR(INDEX($G$7:$H$13233,$L1054,COLUMNS($B$6:B1053)),\"\")","v":"42311503"},"Bandage rollers",null,null,null,"42311503","Bandage rollers","42311503",1048,1048,1048,"42311503"]
[null,{"$f":"IFERROR(INDEX($G$7:$H$13233,$L1055,COLUMNS($B$6:B1054)),\"\")","v":"42311537"},"Bandage scissors or its supplies",null,null,null,"42311537","Bandage scissors or its supplies","42311537",1049,1049,1049,"42311537"]
[null,{"$f":"IFERROR(INDEX($G$7:$H$13233,$L1056,COLUMNS($B$6:B1055)),\"\")","v":"42311500"},"Bandages and dressings and related products",null,null,null,"42311500","Bandages and dressings and related products","42311500",1050,1050,1050,"42311500"]
[null,{"$f":"IFERROR(INDEX($G$7:$H$13233,$L1057,COLUMNS($B$6:B1056)),\"\")","v":"53102511"},"Bandannas",null,null,null,"53102511","Bandannas","53102511",1051,1051,1051,"53102511"]
[null,{"$f":"IFERROR(INDEX($G$7:$H$13233,$L1058,COLUMNS($B$6:B1057)),\"\")","v":"45101901"},"Banding machines",null,null,null,"45101901","Banding machines","45101901",1052,1052,1052,"45101901"]
[null,{"$f":"IFERROR(INDEX($G$7:$H$13233,$L1059,COLUMNS($B$6:B1058)),\"\")","v":"42152902"},"Bands for dental matrix",null,null,null,"42152902","Bands for dental matrix","42152902",1053,1053,1053,"42152902"]
[null,{"$f":"IFERROR(INDEX($G$7:$H$13233,$L1060,COLUMNS($B$6:B1059)),\"\")","v":"60131306"},"Banjoes",null,null,null,"60131306","Banjoes","60131306",1054,1054,1054,"60131306"]
[null,{"$f":"IFERROR(INDEX($G$7:$H$13233,$L1061,COLUMNS($B$6:B1060)),\"\")","v":"72121401"},"Bank building construction service",null,null,null,"72121401","Bank building construction service","72121401",1055,1055,1055,"72121401"]
[null,{"$f":"IFERROR(INDEX($G$7:$H$13233,$L1062,COLUMNS($B$6:B1061)),\"\")","v":"64100000"},"Bank offered products ",null,null,null,"64100000","Bank offered products ","64100000",1056,1056,1056,"64100000"]
[null,{"$f":"IFERROR(INDEX($G$7:$H$13233,$L1063,COLUMNS($B$6:B1062)),\"\")","v":"55101529"},"Bankbook or passbook",null,null,null,"55101529","Bankbook or passbook","55101529",1057,1057,1057,"55101529"]
[null,{"$f":"IFERROR(INDEX($G$7:$H$13233,$L1064,COLUMNS($B$6:B1063)),\"\")","v":"44101903"},"Bankbook or passbook update machine",null,null,null,"44101903","Bankbook or passbook update machine","44101903",1058,1058,1058,"44101903"]
[null,{"$f":"IFERROR(INDEX($G$7:$H$13233,$L1065,COLUMNS($B$6:B1064)),\"\")","v":"84120000"},"Banking and investment",null,null,null,"84120000","Banking and investment","84120000",1059,1059,1059,"84120000"]
[null,{"$f":"IFERROR(INDEX($G$7:$H$13233,$L1066,COLUMNS($B$6:B1065)),\"\")","v":"84121500"},"Banking institutions",null,null,null,"84121500","Banking institutions","84121500",1060,1060,1060,"84121500"]
[null,{"$f":"IFERROR(INDEX($G$7:$H$13233,$L1067,COLUMNS($B$6:B1066)),\"\")","v":"72151801"},"Banking machine installation and maintenance",null,null,null,"72151801","Banking machine installation and maintenance","72151801",1061,1061,1061,"72151801"]
[null,{"$f":"IFERROR(INDEX($G$7:$H$13233,$L1068,COLUMNS($B$6:B1067)),\"\")","v":"80121602"},"Bankruptcy law services",null,null,null,"80121602","Bankruptcy law services","80121602",1062,1062,1062,"80121602"]
[null,{"$f":"IFERROR(INDEX($G$7:$H$13233,$L1069,COLUMNS($B$6:B1068)),\"\")","v":"82101701"},"Banner advertising services",null,null,null,"82101701","Banner advertising services","82101701",1063,1063,1063,"82101701"]
[null,{"$f":"IFERROR(INDEX($G$7:$H$13233,$L1070,COLUMNS($B$6:B1069)),\"\")","v":"14111613"},"Banner paper",null,null,null,"14111613","Banner paper","14111613",1064,1064,1064,"14111613"]
[null,{"$f":"IFERROR(INDEX($G$7:$H$13233,$L1071,COLUMNS($B$6:B1070)),\"\")","v":"55121706"},"Banners",null,null,null,"55121706","Banners","55121706",1065,1065,1065,"55121706"]
[null,{"$f":"IFERROR(INDEX($G$7:$H$13233,$L1072,COLUMNS($B$6:B1071)),\"\")","v":"90101600"},"Banquet and catering services",null,null,null,"90101600","Banquet and catering services","90101600",1066,1066,1066,"90101600"]
[null,{"$f":"IFERROR(INDEX($G$7:$H$13233,$L1073,COLUMNS($B$6:B1072)),\"\")","v":"90101601"},"Banquet facilities",null,null,null,"90101601","Banquet facilities","90101601",1067,1067,1067,"90101601"]
[null,{"$f":"IFERROR(INDEX($G$7:$H$13233,$L1074,COLUMNS($B$6:B1073)),\"\")","v":"55121608"},"Bar code labels",null,null,null,"55121608","Bar code labels","55121608",1068,1068,1068,"55121608"]
[null,{"$f":"IFERROR(INDEX($G$7:$H$13233,$L1075,COLUMNS($B$6:B1074)),\"\")","v":"43212115"},"Bar code printer",null,null,null,"43212115","Bar code printer","43212115",1069,1069,1069,"43212115"]
[null,{"$f":"IFERROR(INDEX($G$7:$H$13233,$L1076,COLUMNS($B$6:B1075)),\"\")","v":"43211701"},"Bar code reader equipment",null,null,null,"43211701","Bar code reader equipment","43211701",1070,1070,1070,"43211701"]
[null,{"$f":"IFERROR(INDEX($G$7:$H$13233,$L1077,COLUMNS($B$6:B1076)),\"\")","v":"43231509"},"Bar coding software",null,null,null,"43231509","Bar coding software","43231509",1071,1071,1071,"43231509"]
[null,{"$f":"IFERROR(INDEX($G$7:$H$13233,$L1078,COLUMNS($B$6:B1077)),\"\")","v":"48102005"},"Bar stools",null,null,null,"48102005","Bar stools","48102005",1072,1072,1072,"48102005"]
[null,{"$f":"IFERROR(INDEX($G$7:$H$13233,$L1079,COLUMNS($B$6:B1078)),\"\")","v":"48101527"},"Barbecues",null,null,null,"48101527","Barbecues","48101527",1073,1073,1073,"48101527"]
[null,{"$f":"IFERROR(INDEX($G$7:$H$13233,$L1080,COLUMNS($B$6:B1079)),\"\")","v":"43211520"},"Barebone computer",null,null,null,"43211520","Barebone computer","43211520",1074,1074,1074,"43211520"]
[null,{"$f":"IFERROR(INDEX($G$7:$H$13233,$L1081,COLUMNS($B$6:B1080)),\"\")","v":"25111507"},"Barges",null,null,null,"25111507","Barges","25111507",1075,1075,1075,"25111507"]
[null,{"$f":"IFERROR(INDEX($G$7:$H$13233,$L1082,COLUMNS($B$6:B1081)),\"\")","v":"51112033"},"Baricitinib",null,null,null,"51112033","Baricitinib","51112033",1076,1076,1076,"51112033"]
[null,{"$f":"IFERROR(INDEX($G$7:$H$13233,$L1083,COLUMNS($B$6:B1082)),\"\")","v":"55121902"},"Barker stands or stalls",null,null,null,"55121902","Barker stands or stalls","55121902",1077,1077,1077,"55121902"]
[null,{"$f":"IFERROR(INDEX($G$7:$H$13233,$L1084,COLUMNS($B$6:B1083)),\"\")","v":"10151603"},"Barley seeds",null,null,null,"10151603","Barley seeds","10151603",1078,1078,1078,"10151603"]
[null,{"$f":"IFERROR(INDEX($G$7:$H$13233,$L1085,COLUMNS($B$6:B1084)),\"\")","v":"41114420"},"Barometer calibrator",null,null,null,"41114420","Barometer calibrator","41114420",1079,1079,1079,"41114420"]
[null,{"$f":"IFERROR(INDEX($G$7:$H$13233,$L1086,COLUMNS($B$6:B1085)),\"\")","v":"41114402"},"Barometers",null,null,null,"41114402","Barometers","41114402",1080,1080,1080,"41114402"]
[null,{"$f":"IFERROR(INDEX($G$7:$H$13233,$L1087,COLUMNS($B$6:B1086)),\"\")","v":"41114426"},"Baroswitch",null,null,null,"41114426","Baroswitch","41114426",1081,1081,1081,"41114426"]
[null,{"$f":"IFERROR(INDEX($G$7:$H$13233,$L1088,COLUMNS($B$6:B1087)),\"\")","v":"46151501"},"Barricades",null,null,null,"46151501","Barricades","46151501",1082,1082,1082,"46151501"]
[null,{"$f":"IFERROR(INDEX($G$7:$H$13233,$L1089,COLUMNS($B$6:B1088)),\"\")","v":"46151505"},"Barriers",null,null,null,"46151505","Barriers","46151505",1083,1083,1083,"46151505"]
[null,{"$f":"IFERROR(INDEX($G$7:$H$13233,$L1090,COLUMNS($B$6:B1089)),\"\")","v":"90101502"},"Bars",null,null,null,"90101502","Bars","90101502",1084,1084,1084,"90101502"]
[null,{"$f":"IFERROR(INDEX($G$7:$H$13233,$L1091,COLUMNS($B$6:B1090)),\"\")","v":"42181907"},"Basal metabolism apparatus",null,null,null,"42181907","Basal metabolism apparatus","42181907",1085,1085,1085,"42181907"]
[null,{"$f":"IFERROR(INDEX($G$7:$H$13233,$L1092,COLUMNS($B$6:B1091)),\"\")","v":"11111609"},"Basalt",null,null,null,"11111609","Basalt","11111609",1086,1086,1086,"11111609"]
[null,{"$f":"IFERROR(INDEX($G$7:$H$13233,$L1093,COLUMNS($B$6:B1092)),\"\")","v":"41104203"},"Base exchange equipment",null,null,null,"41104203","Base exchange equipment","41104203",1087,1087,1087,"41104203"]
[null,{"$f":"IFERROR(INDEX($G$7:$H$13233,$L1094,COLUMNS($B$6:B1093)),\"\")","v":"11101700"},"Base Metals",null,null,null,"11101700","Base Metals","11101700",1088,1088,1088,"11101700"]
[null,{"$f":"IFERROR(INDEX($G$7:$H$13233,$L1095,COLUMNS($B$6:B1094)),\"\")","v":"30241504"},"Base plate",null,null,null,"30241504","Base plate","30241504",1089,1089,1089,"30241504"]
[null,{"$f":"IFERROR(INDEX($G$7:$H$13233,$L1096,COLUMNS($B$6:B1095)),\"\")","v":"44101604"},"Base protection boards",null,null,null,"44101604","Base protection boards","44101604",1090,1090,1090,"44101604"]
[null,{"$f":"IFERROR(INDEX($G$7:$H$13233,$L1097,COLUMNS($B$6:B1096)),\"\")","v":"49161506"},"Baseball bats",null,null,null,"49161506","Baseball bats","49161506",1091,1091,1091,"49161506"]
[null,{"$f":"IFERROR(INDEX($G$7:$H$13233,$L1098,COLUMNS($B$6:B1097)),\"\")","v":"49161503"},"Baseballs",null,null,null,"49161503","Baseballs","49161503",1092,1092,1092,"49161503"]
[null,{"$f":"IFERROR(INDEX($G$7:$H$13233,$L1099,COLUMNS($B$6:B1098)),\"\")","v":"60105302"},"Basic job skills instructional materials",null,null,null,"60105302","Basic job skills instructional materials","60105302",1093,1093,1093,"60105302"]
[null,{"$f":"IFERROR(INDEX($G$7:$H$13233,$L1100,COLUMNS($B$6:B1099)),\"\")","v":"11171500"},"Basic steels",null,null,null,"11171500","Basic steels","11171500",1094,1094,1094,"11171500"]
[null,{"$f":"IFERROR(INDEX($G$7:$H$13233,$L1101,COLUMNS($B$6:B1100)),\"\")","v":"51202402"},"Basiliximab",null,null,null,"51202402","Basiliximab","51202402",1095,1095,1095,"51202402"]
[null,{"$f":"IFERROR(INDEX($G$7:$H$13233,$L1102,COLUMNS($B$6:B1101)),\"\")","v":"42295101"},"Basin or pail stands for surgical use",null,null,null,"42295101","Basin or pail stands for surgical use","42295101",1096,1096,1096,"42295101"]
[null,{"$f":"IFERROR(INDEX($G$7:$H$13233,$L1103,COLUMNS($B$6:B1102)),\"\")","v":"42141600"},"Basins and bedpans and urinals and admission kits",null,null,null,"42141600","Basins and bedpans and urinals and admission kits","42141600",1097,1097,1097,"42141600"]
[null,{"$f":"IFERROR(INDEX($G$7:$H$13233,$L1104,COLUMNS($B$6:B1103)),\"\")","v":"49161603"},"Basketballs",null,null,null,"49161603","Basketballs","49161603",1098,1098,1098,"49161603"]
[null,{"$f":"IFERROR(INDEX($G$7:$H$13233,$L1105,COLUMNS($B$6:B1104)),\"\")","v":"23191000"},"Batch mixers",null,null,null,"23191000","Batch mixers","23191000",1099,1099,1099,"23191000"]
[null,{"$f":"IFERROR(INDEX($G$7:$H$13233,$L1106,COLUMNS($B$6:B1105)),\"\")","v":"53131600"},"Bath and body",null,null,null,"53131600","Bath and body","53131600",1100,1100,1100,"53131600"]
[null,{"$f":"IFERROR(INDEX($G$7:$H$13233,$L1107,COLUMNS($B$6:B1106)),\"\")","v":"53131649"},"Bath and body powder",null,null,null,"53131649","Bath and body powder","53131649",1101,1101,1101,"53131649"]
[null,{"$f":"IFERROR(INDEX($G$7:$H$13233,$L1108,COLUMNS($B$6:B1107)),\"\")","v":"53131612"},"Bath gels",null,null,null,"53131612","Bath gels","53131612",1102,1102,1102,"53131612"]
[null,{"$f":"IFERROR(INDEX($G$7:$H$13233,$L1109,COLUMNS($B$6:B1108)),\"\")","v":"42132201"},"Bathophenanthroline, Colorimetry, Iron (Non-Heme)",null,null,null,"42132201","Bathophenanthroline, Colorimetry, Iron (Non-Heme)","42132201",1103,1103,1103,"42132201"]
[null,{"$f":"IFERROR(INDEX($G$7:$H$13233,$L1110,COLUMNS($B$6:B1109)),\"\")","v":"42211600"},"Bathroom and bathing aids for the physically challenged",null,null,null,"42211600","Bathroom and bathing aids for the physically challenged","42211600",1104,1104,1104,"42211600"]
[null,{"$f":"IFERROR(INDEX($G$7:$H$13233,$L1111,COLUMNS($B$6:B1110)),\"\")","v":"30181507"},"Bathtub or shower enclosures",null,null,null,"30181507","Bathtub or shower enclosures","30181507",1105,1105,1105,"30181507"]
[null,{"$f":"IFERROR(INDEX($G$7:$H$13233,$L1112,COLUMNS($B$6:B1111)),\"\")","v":"30181613"},"Bathtub or whirlpool apron or skirt",null,null,null,"30181613","Bathtub or whirlpool apron or skirt","30181613",1106,1106,1106,"30181613"]
[null,{"$f":"IFERROR(INDEX($G$7:$H$13233,$L1113,COLUMNS($B$6:B1112)),\"\")","v":"72153601"},"Bathtub refinishing and repair service",null,null,null,"72153601","Bathtub refinishing and repair service","72153601",1107,1107,1107,"72153601"]
[null,{"$f":"IFERROR(INDEX($G$7:$H$13233,$L1114,COLUMNS($B$6:B1113)),\"\")","v":"30181501"},"Bathtubs",null,null,null,"30181501","Bathtubs","30181501",1108,1108,1108,"30181501"]
[null,{"$f":"IFERROR(INDEX($G$7:$H$13233,$L1115,COLUMNS($B$6:B1114)),\"\")","v":"81151805"},"Bathymetric surveys",null,null,null,"81151805","Bathymetric surveys","81151805",1109,1109,1109,"81151805"]
[null,{"$f":"IFERROR(INDEX($G$7:$H$13233,$L1116,COLUMNS($B$6:B1115)),\"\")","v":"26111700"},"Batteries and cells and accessories",null,null,null,"26111700","Batteries and cells and accessories","26111700",1110,1110,1110,"26111700"]
[null,{"$f":"IFERROR(INDEX($G$7:$H$13233,$L1117,COLUMNS($B$6:B1116)),\"\")","v":"26110000"},"Batteries and generators and kinetic power transmission",null,null,null,"26110000","Batteries and generators and kinetic power transmission","26110000",1111,1111,1111,"26110000"]
[null,{"$f":"IFERROR(INDEX($G$7:$H$13233,$L1118,COLUMNS($B$6:B1117)),\"\")","v":"41103302"},"Battery acid hydrometers",null,null,null,"41103302","Battery acid hydrometers","41103302",1112,1112,1112,"41103302"]
[null,{"$f":"IFERROR(INDEX($G$7:$H$13233,$L1119,COLUMNS($B$6:B1118)),\"\")","v":"26111722"},"Battery adapter or accessories",null,null,null,"26111722","Battery adapter or accessories","26111722",1113,1113,1113,"26111722"]
[null,{"$f":"IFERROR(INDEX($G$7:$H$13233,$L1120,COLUMNS($B$6:B1119)),\"\")","v":"26111723"},"Battery cabinets or covers or doors",null,null,null,"26111723","Battery cabinets or covers or doors","26111723",1114,1114,1114,"26111723"]
[null,{"$f":"IFERROR(INDEX($G$7:$H$13233,$L1121,COLUMNS($B$6:B1120)),\"\")","v":"26111704"},"Battery chargers",null,null,null,"26111704","Battery chargers","26111704",1115,1115,1115,"26111704"]
[null,{"$f":"IFERROR(INDEX($G$7:$H$13233,$L1122,COLUMNS($B$6:B1121)),\"\")","v":"26111727"},"Battery discharger",null,null,null,"26111727","Battery discharger","26111727",1116,1116,1116,"26111727"]
[null,{"$f":"IFERROR(INDEX($G$7:$H$13233,$L1123,COLUMNS($B$6:B1122)),\"\")","v":"44111913"},"Battery driven whiteboard eraser",null,null,null,"44111913","Battery driven whiteboard eraser","44111913",1117,1117,1117,"44111913"]
[null,{"$f":"IFERROR(INDEX($G$7:$H$13233,$L1124,COLUMNS($B$6:B1123)),\"\")","v":"26111720"},"Battery holders",null,null,null,"26111720","Battery holders","26111720",1118,1118,1118,"26111720"]
[null,{"$f":"IFERROR(INDEX($G$7:$H$13233,$L1125,COLUMNS($B$6:B1124)),\"\")","v":"42295401"},"Battery operated surgical cautery pencils",null,null,null,"42295401","Battery operated surgical cautery pencils","42295401",1119,1119,1119,"42295401"]
[null,{"$f":"IFERROR(INDEX($G$7:$H$13233,$L1126,COLUMNS($B$6:B1125)),\"\")","v":"26111719"},"Battery testers",null,null,null,"26111719","Battery testers","26111719",1120,1120,1120,"26111719"]
[null,{"$f":"IFERROR(INDEX($G$7:$H$13233,$L1127,COLUMNS($B$6:B1126)),\"\")","v":"11162400"},"Batting",null,null,null,"11162400","Batting","11162400",1121,1121,1121,"11162400"]
[null,{"$f":"IFERROR(INDEX($G$7:$H$13233,$L1128,COLUMNS($B$6:B1127)),\"\")","v":"92111607"},"Battle area clearance BAC service",null,null,null,"92111607","Battle area clearance BAC service","92111607",1122,1122,1122,"92111607"]
[null,{"$f":"IFERROR(INDEX($G$7:$H$13233,$L1129,COLUMNS($B$6:B1128)),\"\")","v":"41114637"},"Beam test apparatus",null,null,null,"41114637","Beam test apparatus","41114637",1123,1123,1123,"41114637"]
[null,{"$f":"IFERROR(INDEX($G$7:$H$13233,$L1130,COLUMNS($B$6:B1129)),\"\")","v":"30101700"},"Beams",null,null,null,"30101700","Beams","30101700",1124,1124,1124,"30101700"]
[null,{"$f":"IFERROR(INDEX($G$7:$H$13233,$L1131,COLUMNS($B$6:B1130)),\"\")","v":"10152301"},"Bean seeds or seedlings",null,null,null,"10152301","Bean seeds or seedlings","10152301",1125,1125,1125,"10152301"]
[null,{"$f":"IFERROR(INDEX($G$7:$H$13233,$L1132,COLUMNS($B$6:B1131)),\"\")","v":"31171500"},"Bearings",null,null,null,"31171500","Bearings","31171500",1126,1126,1126,"31171500"]
[null,{"$f":"IFERROR(INDEX($G$7:$H$13233,$L1133,COLUMNS($B$6:B1132)),\"\")","v":"31170000"},"Bearings and bushings and wheels and gears",null,null,null,"31170000","Bearings and bushings and wheels and gears","31170000",1127,1127,1127,"31170000"]
[null,{"$f":"IFERROR(INDEX($G$7:$H$13233,$L1134,COLUMNS($B$6:B1133)),\"\")","v":"51162041"},"Beclometasone dipropionate/formoterol fumarate",null,null,null,"51162041","Beclometasone dipropionate/formoterol fumarate","51162041",1128,1128,1128,"51162041"]
[null,{"$f":"IFERROR(INDEX($G$7:$H$13233,$L1135,COLUMNS($B$6:B1134)),\"\")","v":"51162040"},"Beclometasone dipropionate/Formoterol fumarate/Glycopyrronium bromide",null,null,null,"51162040","Beclometasone dipropionate/Formoterol fumarate/Glycopyrronium bromide","51162040",1129,1129,1129,"51162040"]
[null,{"$f":"IFERROR(INDEX($G$7:$H$13233,$L1136,COLUMNS($B$6:B1135)),\"\")","v":"51422302"},"Beclometasone or Beclomethasone",null,null,null,"51422302","Beclometasone or Beclomethasone","51422302",1130,1130,1130,"51422302"]
[null,{"$f":"IFERROR(INDEX($G$7:$H$13233,$L1137,COLUMNS($B$6:B1136)),\"\")","v":"51162042"},"Beclomethasone dipropionate/formoterol fumarate/glycopyrronium bromide",null,null,null,"51162042","Beclomethasone dipropionate/formoterol fumarate/glycopyrronium bromide","51162042",1131,1131,1131,"51162042"]
[null,{"$f":"IFERROR(INDEX($G$7:$H$13233,$L1138,COLUMNS($B$6:B1137)),\"\")","v":"90111503"},"Bed and breakfast inns",null,null,null,"90111503","Bed and breakfast inns","90111503",1132,1132,1132,"90111503"]
[null,{"$f":"IFERROR(INDEX($G$7:$H$13233,$L1139,COLUMNS($B$6:B1138)),\"\")","v":"51281518"},"Bedaquiline",null,null,null,"51281518","Bedaquiline","51281518",1133,1133,1133,"51281518"]
[null,{"$f":"IFERROR(INDEX($G$7:$H$13233,$L1140,COLUMNS($B$6:B1139)),\"\")","v":"52121500"},"Bedclothes",null,null,null,"52121500","Bedclothes","52121500",1134,1134,1134,"52121500"]
[null,{"$f":"IFERROR(INDEX($G$7:$H$13233,$L1141,COLUMNS($B$6:B1140)),\"\")","v":"52120000"},"Bedclothes and table and kitchen linen and towels",null,null,null,"52120000","Bedclothes and table and kitchen linen and towels","52120000",1135,1135,1135,"52120000"]
[null,{"$f":"IFERROR(INDEX($G$7:$H$13233,$L1142,COLUMNS($B$6:B1141)),\"\")","v":"56101539"},"Bedframes or parts or accessories",null,null,null,"56101539","Bedframes or parts or accessories","56101539",1136,1136,1136,"56101539"]
[null,{"$f":"IFERROR(INDEX($G$7:$H$13233,$L1143,COLUMNS($B$6:B1142)),\"\")","v":"42141608"},"Bedpan liners or bags",null,null,null,"42141608","Bedpan liners or bags","42141608",1137,1137,1137,"42141608"]
[null,{"$f":"IFERROR(INDEX($G$7:$H$13233,$L1144,COLUMNS($B$6:B1143)),\"\")","v":"42141602"},"Bedpans",null,null,null,"42141602","Bedpans","42141602",1138,1138,1138,"42141602"]
[null,{"$f":"IFERROR(INDEX($G$7:$H$13233,$L1145,COLUMNS($B$6:B1144)),\"\")","v":"56101515"},"Beds",null,null,null,"56101515","Beds","56101515",1139,1139,1139,"56101515"]
[null,{"$f":"IFERROR(INDEX($G$7:$H$13233,$L1146,COLUMNS($B$6:B1145)),\"\")","v":"42191901"},"Bedside clinical cabinets",null,null,null,"42191901","Bedside clinical cabinets","42191901",1140,1140,1140,"42191901"]
[null,{"$f":"IFERROR(INDEX($G$7:$H$13233,$L1147,COLUMNS($B$6:B1146)),\"\")","v":"50111513"},"Beef, minimally processed without additions",null,null,null,"50111513","Beef, minimally processed without additions","50111513",1141,1141,1141,"50111513"]
[null,{"$f":"IFERROR(INDEX($G$7:$H$13233,$L1148,COLUMNS($B$6:B1147)),\"\")","v":"21102401"},"Beekeeping equipment",null,null,null,"21102401","Beekeeping equipment","21102401",1142,1142,1142,"21102401"]
[null,{"$f":"IFERROR(INDEX($G$7:$H$13233,$L1149,COLUMNS($B$6:B1148)),\"\")","v":"10101903"},"Bees",null,null,null,"10101903","Bees","10101903",1143,1143,1143,"10101903"]
[null,{"$f":"IFERROR(INDEX($G$7:$H$13233,$L1150,COLUMNS($B$6:B1149)),\"\")","v":"10151522"},"Beet seeds or seedlings",null,null,null,"10151522","Beet seeds or seedlings","10151522",1144,1144,1144,"10151522"]
[null,{"$f":"IFERROR(INDEX($G$7:$H$13233,$L1151,COLUMNS($B$6:B1150)),\"\")","v":"51202403"},"Belimumab",null,null,null,"51202403","Belimumab","51202403",1145,1145,1145,"51202403"]
[null,{"$f":"IFERROR(INDEX($G$7:$H$13233,$L1152,COLUMNS($B$6:B1151)),\"\")","v":"60131402"},"Bells",null,null,null,"60131402","Bells","60131402",1146,1146,1146,"60131402"]
[null,{"$f":"IFERROR(INDEX($G$7:$H$13233,$L1153,COLUMNS($B$6:B1152)),\"\")","v":"46191508"},"Belt monitoring system",null,null,null,"46191508","Belt monitoring system","46191508",1147,1147,1147,"46191508"]
[null,{"$f":"IFERROR(INDEX($G$7:$H$13233,$L1154,COLUMNS($B$6:B1153)),\"\")","v":"41114527"},"Belt tester",null,null,null,"41114527","Belt tester","41114527",1148,1148,1148,"41114527"]
[null,{"$f":"IFERROR(INDEX($G$7:$H$13233,$L1155,COLUMNS($B$6:B1154)),\"\")","v":"53102501"},"Belts or suspenders",null,null,null,"53102501","Belts or suspenders","53102501",1149,1149,1149,"53102501"]
[null,{"$f":"IFERROR(INDEX($G$7:$H$13233,$L1156,COLUMNS($B$6:B1155)),\"\")","v":"23241401"},"Bench grinder",null,null,null,"23241401","Bench grinder","23241401",1150,1150,1150,"23241401"]
[null,{"$f":"IFERROR(INDEX($G$7:$H$13233,$L1157,COLUMNS($B$6:B1156)),\"\")","v":"41122301"},"Bench protectors or liners",null,null,null,"41122301","Bench protectors or liners","41122301",1151,1151,1151,"41122301"]
[null,{"$f":"IFERROR(INDEX($G$7:$H$13233,$L1158,COLUMNS($B$6:B1157)),\"\")","v":"41115312"},"Bench refractometers or polarimeters",null,null,null,"41115312","Bench refractometers or polarimeters","41115312",1152,1152,1152,"41115312"]
[null,{"$f":"IFERROR(INDEX($G$7:$H$13233,$L1159,COLUMNS($B$6:B1158)),\"\")","v":"41111507"},"Bench scales",null,null,null,"41111507","Bench scales","41111507",1153,1153,1153,"41111507"]
[null,{"$f":"IFERROR(INDEX($G$7:$H$13233,$L1160,COLUMNS($B$6:B1159)),\"\")","v":"56112109"},"Benches",null,null,null,"56112109","Benches","56112109",1154,1154,1154,"56112109"]
[null,{"$f":"IFERROR(INDEX($G$7:$H$13233,$L1161,COLUMNS($B$6:B1160)),\"\")","v":"41103903"},"Benchtop centrifuges",null,null,null,"41103903","Benchtop centrifuges","41103903",1155,1155,1155,"41103903"]
[null,{"$f":"IFERROR(INDEX($G$7:$H$13233,$L1162,COLUMNS($B$6:B1161)),\"\")","v":"41103026"},"Benchtop ice bucket or chilling container",null,null,null,"41103026","Benchtop ice bucket or chilling container","41103026",1156,1156,1156,"41103026"]
[null,{"$f":"IFERROR(INDEX($G$7:$H$13233,$L1163,COLUMNS($B$6:B1162)),\"\")","v":"41122810"},"Benchtop reagent storage rack",null,null,null,"41122810","Benchtop reagent storage rack","41122810",1157,1157,1157,"41122810"]
[null,{"$f":"IFERROR(INDEX($G$7:$H$13233,$L1164,COLUMNS($B$6:B1163)),\"\")","v":"51112503"},"Bendamustine",null,null,null,"51112503","Bendamustine","51112503",1158,1158,1158,"51112503"]
[null,{"$f":"IFERROR(INDEX($G$7:$H$13233,$L1165,COLUMNS($B$6:B1164)),\"\")","v":"51112508"},"Bendamustine hydrochloride",null,null,null,"51112508","Bendamustine hydrochloride","51112508",1159,1159,1159,"51112508"]
[null,{"$f":"IFERROR(INDEX($G$7:$H$13233,$L1166,COLUMNS($B$6:B1165)),\"\")","v":"42272007"},"Bender tools",null,null,null,"42272007","Bender tools","42272007",1160,1160,1160,"42272007"]
[null,{"$f":"IFERROR(INDEX($G$7:$H$13233,$L1167,COLUMNS($B$6:B1166)),\"\")","v":"51101915"},"Benflumetol or lumefantrine",null,null,null,"51101915","Benflumetol or lumefantrine","51101915",1161,1161,1161,"51101915"]
[null,{"$f":"IFERROR(INDEX($G$7:$H$13233,$L1168,COLUMNS($B$6:B1167)),\"\")","v":"11111804"},"Bentonite",null,null,null,"11111804","Bentonite","11111804",1162,1162,1162,"11111804"]
[null,{"$f":"IFERROR(INDEX($G$7:$H$13233,$L1169,COLUMNS($B$6:B1168)),\"\")","v":"51473001"},"Benzalkonium Chloride",null,null,null,"51473001","Benzalkonium Chloride","51473001",1163,1163,1163,"51473001"]
[null,{"$f":"IFERROR(INDEX($G$7:$H$13233,$L1170,COLUMNS($B$6:B1169)),\"\")","v":"15101507"},"Benzene",null,null,null,"15101507","Benzene","15101507",1164,1164,1164,"15101507"]
[null,{"$f":"IFERROR(INDEX($G$7:$H$13233,$L1171,COLUMNS($B$6:B1170)),\"\")","v":"51303611"},"Benzoic acid/salicylic acid",null,null,null,"51303611","Benzoic acid/salicylic acid","51303611",1165,1165,1165,"51303611"]
[null,{"$f":"IFERROR(INDEX($G$7:$H$13233,$L1172,COLUMNS($B$6:B1171)),\"\")","v":"51162603"},"Benzonatate",null,null,null,"51162603","Benzonatate","51162603",1166,1166,1166,"51162603"]
[null,{"$f":"IFERROR(INDEX($G$7:$H$13233,$L1173,COLUMNS($B$6:B1172)),\"\")","v":"51241237"},"Benzoyl peroxide",null,null,null,"51241237","Benzoyl peroxide","51241237",1167,1167,1167,"51241237"]
[null,{"$f":"IFERROR(INDEX($G$7:$H$13233,$L1174,COLUMNS($B$6:B1173)),\"\")","v":"51452202"},"Benzyl benzoate",null,null,null,"51452202","Benzyl benzoate","51452202",1168,1168,1168,"51452202"]
[null,{"$f":"IFERROR(INDEX($G$7:$H$13233,$L1175,COLUMNS($B$6:B1174)),\"\")","v":"51283405"},"Benzylpenicillin or penicillin g",null,null,null,"51283405","Benzylpenicillin or penicillin g","51283405",1169,1169,1169,"51283405"]
[null,{"$f":"IFERROR(INDEX($G$7:$H$13233,$L1176,COLUMNS($B$6:B1175)),\"\")","v":"51283414"},"Benzylpenicillin potassium",null,null,null,"51283414","Benzylpenicillin potassium","51283414",1170,1170,1170,"51283414"]
[null,{"$f":"IFERROR(INDEX($G$7:$H$13233,$L1177,COLUMNS($B$6:B1176)),\"\")","v":"51283416"},"Benzylpenicillin sodium",null,null,null,"51283416","Benzylpenicillin sodium","51283416",1171,1171,1171,"51283416"]
[null,{"$f":"IFERROR(INDEX($G$7:$H$13233,$L1178,COLUMNS($B$6:B1177)),\"\")","v":"51283424"},"Benzylpenicillin sodium/Procaine benzylpenicillin or procaine penicillin G",null,null,null,"51283424","Benzylpenicillin sodium/Procaine benzylpenicillin or procaine penicillin G","51283424",1172,1172,1172,"51283424"]
[null,{"$f":"IFERROR(INDEX($G$7:$H$13233,$L1179,COLUMNS($B$6:B1178)),\"\")","v":"51161702"},"Beractant",null,null,null,"51161702","Beractant","51161702",1173,1173,1173,"51161702"]
[null,{"$f":"IFERROR(INDEX($G$7:$H$13233,$L1180,COLUMNS($B$6:B1179)),\"\")","v":"42201851"},"Beta or gamma counters for clinical use",null,null,null,"42201851","Beta or gamma counters for clinical use","42201851",1174,1174,1174,"42201851"]
[null,{"$f":"IFERROR(INDEX($G$7:$H$13233,$L1181,COLUMNS($B$6:B1180)),\"\")","v":"12142204"},"Beta sources",null,null,null,"12142204","Beta sources","12142204",1175,1175,1175,"12142204"]
[null,{"$f":"IFERROR(INDEX($G$7:$H$13233,$L1182,COLUMNS($B$6:B1181)),\"\")","v":"51313415"},"Betahistine dihydrochloride",null,null,null,"51313415","Betahistine dihydrochloride","51313415",1176,1176,1176,"51313415"]
[null,{"$f":"IFERROR(INDEX($G$7:$H$13233,$L1183,COLUMNS($B$6:B1182)),\"\")","v":"51282100"},"Beta-lactams",null,null,null,"51282100","Beta-lactams","51282100",1177,1177,1177,"51282100"]
[null,{"$f":"IFERROR(INDEX($G$7:$H$13233,$L1184,COLUMNS($B$6:B1183)),\"\")","v":"51422303"},"Betamethasone",null,null,null,"51422303","Betamethasone","51422303",1178,1178,1178,"51422303"]
[null,{"$f":"IFERROR(INDEX($G$7:$H$13233,$L1185,COLUMNS($B$6:B1184)),\"\")","v":"51422327"},"Betamethasone dipropionate",null,null,null,"51422327","Betamethasone dipropionate","51422327",1179,1179,1179,"51422327"]
[null,{"$f":"IFERROR(INDEX($G$7:$H$13233,$L1186,COLUMNS($B$6:B1185)),\"\")","v":"51422331"},"Betamethasone valerate",null,null,null,"51422331","Betamethasone valerate","51422331",1180,1180,1180,"51422331"]
[null,{"$f":"IFERROR(INDEX($G$7:$H$13233,$L1187,COLUMNS($B$6:B1186)),\"\")","v":"51241605"},"Betamethasone/calcipotriene",null,null,null,"51241605","Betamethasone/calcipotriene","51241605",1181,1181,1181,"51241605"]
[null,{"$f":"IFERROR(INDEX($G$7:$H$13233,$L1188,COLUMNS($B$6:B1187)),\"\")","v":"51111731"},"Bevacizumab",null,null,null,"51111731","Bevacizumab","51111731",1182,1182,1182,"51111731"]
[null,{"$f":"IFERROR(INDEX($G$7:$H$13233,$L1189,COLUMNS($B$6:B1188)),\"\")","v":"30171703"},"Beveled glass",null,null,null,"30171703","Beveled glass","30171703",1183,1183,1183,"30171703"]
[null,{"$f":"IFERROR(INDEX($G$7:$H$13233,$L1190,COLUMNS($B$6:B1189)),\"\")","v":"73131500"},"Beverage processing",null,null,null,"73131500","Beverage processing","73131500",1184,1184,1184,"73131500"]
[null,{"$f":"IFERROR(INDEX($G$7:$H$13233,$L1191,COLUMNS($B$6:B1190)),\"\")","v":"50200000"},"Beverages",null,null,null,"50200000","Beverages","50200000",1185,1185,1185,"50200000"]
[null,{"$f":"IFERROR(INDEX($G$7:$H$13233,$L1192,COLUMNS($B$6:B1191)),\"\")","v":"51321901"},"Bezafibrate",null,null,null,"51321901","Bezafibrate","51321901",1186,1186,1186,"51321901"]
[null,{"$f":"IFERROR(INDEX($G$7:$H$13233,$L1193,COLUMNS($B$6:B1192)),\"\")","v":"41104802"},"Bi distillation units",null,null,null,"41104802","Bi distillation units","41104802",1187,1187,1187,"41104802"]
[null,{"$f":"IFERROR(INDEX($G$7:$H$13233,$L1194,COLUMNS($B$6:B1193)),\"\")","v":"84101602"},"Bi lateral or multi lateral aid",null,null,null,"84101602","Bi lateral or multi lateral aid","84101602",1188,1188,1188,"84101602"]
[null,{"$f":"IFERROR(INDEX($G$7:$H$13233,$L1195,COLUMNS($B$6:B1194)),\"\")","v":"42272225"},"Bi level positive airway pressure Bi PAP accessories",null,null,null,"42272225","Bi level positive airway pressure Bi PAP accessories","42272225",1189,1189,1189,"42272225"]
[null,{"$f":"IFERROR(INDEX($G$7:$H$13233,$L1196,COLUMNS($B$6:B1195)),\"\")","v":"41111915"},"Bi metallic sensors",null,null,null,"41111915","Bi metallic sensors","41111915",1190,1190,1190,"41111915"]
[null,{"$f":"IFERROR(INDEX($G$7:$H$13233,$L1197,COLUMNS($B$6:B1196)),\"\")","v":"13111212"},"Biaxially orientated polypropylene",null,null,null,"13111212","Biaxially orientated polypropylene","13111212",1191,1191,1191,"13111212"]
[null,{"$f":"IFERROR(INDEX($G$7:$H$13233,$L1198,COLUMNS($B$6:B1197)),\"\")","v":"41102428"},"Bibulous paper",null,null,null,"41102428","Bibulous paper","41102428",1192,1192,1192,"41102428"]
[null,{"$f":"IFERROR(INDEX($G$7:$H$13233,$L1199,COLUMNS($B$6:B1198)),\"\")","v":"51111802"},"Bicalutamide",null,null,null,"51111802","Bicalutamide","51111802",1193,1193,1193,"51111802"]
[null,{"$f":"IFERROR(INDEX($G$7:$H$13233,$L1200,COLUMNS($B$6:B1199)),\"\")","v":"84131518"},"Bicycle insurance",null,null,null,"84131518","Bicycle insurance","84131518",1194,1194,1194,"84131518"]
[null,{"$f":"IFERROR(INDEX($G$7:$H$13233,$L1201,COLUMNS($B$6:B1200)),\"\")","v":"78102206"},"Bicycle or scooter messenger services",null,null,null,"78102206","Bicycle or scooter messenger services","78102206",1195,1195,1195,"78102206"]
[null,{"$f":"IFERROR(INDEX($G$7:$H$13233,$L1202,COLUMNS($B$6:B1201)),\"\")","v":"25172506"},"Bicycle tires",null,null,null,"25172506","Bicycle tires","25172506",1196,1196,1196,"25172506"]
[null,{"$f":"IFERROR(INDEX($G$7:$H$13233,$L1203,COLUMNS($B$6:B1202)),\"\")","v":"25172505"},"Bicycle tubes",null,null,null,"25172505","Bicycle tubes","25172505",1197,1197,1197,"25172505"]
[null,{"$f":"IFERROR(INDEX($G$7:$H$13233,$L1204,COLUMNS($B$6:B1203)),\"\")","v":"25161507"},"Bicycles",null,null,null,"25161507","Bicycles","25161507",1198,1198,1198,"25161507"]
[null,{"$f":"IFERROR(INDEX($G$7:$H$13233,$L1205,COLUMNS($B$6:B1204)),\"\")","v":"30181502"},"Bidets",null,null,null,"30181502","Bidets","30181502",1199,1199,1199,"30181502"]
[null,{"$f":"IFERROR(INDEX($G$7:$H$13233,$L1206,COLUMNS($B$6:B1205)),\"\")","v":"93171604"},"Bilateral trade agreements",null,null,null,"93171604","Bilateral trade agreements","93171604",1200,1200,1200,"93171604"]
[null,{"$f":"IFERROR(INDEX($G$7:$H$13233,$L1207,COLUMNS($B$6:B1206)),\"\")","v":"42295910"},"Biliary stents",null,null,null,"42295910","Biliary stents","42295910",1201,1201,1201,"42295910"]
[null,{"$f":"IFERROR(INDEX($G$7:$H$13233,$L1208,COLUMNS($B$6:B1207)),\"\")","v":"42295484"},"Biliary stone dislodgers",null,null,null,"42295484","Biliary stone dislodgers","42295484",1202,1202,1202,"42295484"]
[null,{"$f":"IFERROR(INDEX($G$7:$H$13233,$L1209,COLUMNS($B$6:B1208)),\"\")","v":"93101703"},"Bill drafting services",null,null,null,"93101703","Bill drafting services","93101703",1203,1203,1203,"93101703"]
[null,{"$f":"IFERROR(INDEX($G$7:$H$13233,$L1210,COLUMNS($B$6:B1209)),\"\")","v":"14111809"},"Bill of lading forms or bill of lading books",null,null,null,"14111809","Bill of lading forms or bill of lading books","14111809",1204,1204,1204,"14111809"]
[null,{"$f":"IFERROR(INDEX($G$7:$H$13233,$L1211,COLUMNS($B$6:B1210)),\"\")","v":"64101701"},"Bill paying application",null,null,null,"64101701","Bill paying application","64101701",1205,1205,1205,"64101701"]
[null,{"$f":"IFERROR(INDEX($G$7:$H$13233,$L1212,COLUMNS($B$6:B1211)),\"\")","v":"44111614"},"Bill strap racks",null,null,null,"44111614","Bill strap racks","44111614",1206,1206,1206,"44111614"]
[null,{"$f":"IFERROR(INDEX($G$7:$H$13233,$L1213,COLUMNS($B$6:B1212)),\"\")","v":"55121904"},"Billboards",null,null,null,"55121904","Billboards","55121904",1207,1207,1207,"55121904"]
[null,{"$f":"IFERROR(INDEX($G$7:$H$13233,$L1214,COLUMNS($B$6:B1213)),\"\")","v":"49181501"},"Billiard tables",null,null,null,"49181501","Billiard tables","49181501",1208,1208,1208,"49181501"]
[null,{"$f":"IFERROR(INDEX($G$7:$H$13233,$L1215,COLUMNS($B$6:B1214)),\"\")","v":"43231606"},"Billing and Invoicing Software",null,null,null,"43231606","Billing and Invoicing Software","43231606",1209,1209,1209,"43231606"]
[null,{"$f":"IFERROR(INDEX($G$7:$H$13233,$L1216,COLUMNS($B$6:B1215)),\"\")","v":"84111506"},"Billing services",null,null,null,"84111506","Billing services","84111506",1210,1210,1210,"84111506"]
[null,{"$f":"IFERROR(INDEX($G$7:$H$13233,$L1217,COLUMNS($B$6:B1216)),\"\")","v":"14111804"},"Bills or bill books",null,null,null,"14111804","Bills or bill books","14111804",1211,1211,1211,"14111804"]
[null,{"$f":"IFERROR(INDEX($G$7:$H$13233,$L1218,COLUMNS($B$6:B1217)),\"\")","v":"51241103"},"Bimatoprost",null,null,null,"51241103","Bimatoprost","51241103",1212,1212,1212,"51241103"]
[null,{"$f":"IFERROR(INDEX($G$7:$H$13233,$L1219,COLUMNS($B$6:B1218)),\"\")","v":"41111971"},"Binary counter",null,null,null,"41111971","Binary counter","41111971",1213,1213,1213,"41111971"]
[null,{"$f":"IFERROR(INDEX($G$7:$H$13233,$L1220,COLUMNS($B$6:B1219)),\"\")","v":"44122024"},"Binder handles",null,null,null,"44122024","Binder handles","44122024",1214,1214,1214,"44122024"]
[null,{"$f":"IFERROR(INDEX($G$7:$H$13233,$L1221,COLUMNS($B$6:B1220)),\"\")","v":"44122028"},"Binder mounting channels",null,null,null,"44122028","Binder mounting channels","44122028",1215,1215,1215,"44122028"]
[null,{"$f":"IFERROR(INDEX($G$7:$H$13233,$L1222,COLUMNS($B$6:B1221)),\"\")","v":"44122105"},"Binder or bulldog clips",null,null,null,"44122105","Binder or bulldog clips","44122105",1216,1216,1216,"44122105"]
[null,{"$f":"IFERROR(INDEX($G$7:$H$13233,$L1223,COLUMNS($B$6:B1222)),\"\")","v":"44122025"},"Binder pockets or accessories",null,null,null,"44122025","Binder pockets or accessories","44122025",1217,1217,1217,"44122025"]
[null,{"$f":"IFERROR(INDEX($G$7:$H$13233,$L1224,COLUMNS($B$6:B1223)),\"\")","v":"44122120"},"Binder posts",null,null,null,"44122120","Binder posts","44122120",1218,1218,1218,"44122120"]
[null,{"$f":"IFERROR(INDEX($G$7:$H$13233,$L1225,COLUMNS($B$6:B1224)),\"\")","v":"44122003"},"Binders",null,null,null,"44122003","Binders","44122003",1219,1219,1219,"44122003"]
[null,{"$f":"IFERROR(INDEX($G$7:$H$13233,$L1226,COLUMNS($B$6:B1225)),\"\")","v":"44102800"},"Binding and lamination machines",null,null,null,"44102800","Binding and lamination machines","44102800",1220,1220,1220,"44102800"]
[null,{"$f":"IFERROR(INDEX($G$7:$H$13233,$L1227,COLUMNS($B$6:B1226)),\"\")","v":"44103504"},"Binding coils or wire loops",null,null,null,"44103504","Binding coils or wire loops","44103504",1221,1221,1221,"44103504"]
[null,{"$f":"IFERROR(INDEX($G$7:$H$13233,$L1228,COLUMNS($B$6:B1227)),\"\")","v":"44103505"},"Binding combs or strips",null,null,null,"44103505","Binding combs or strips","44103505",1222,1222,1222,"44103505"]
[null,{"$f":"IFERROR(INDEX($G$7:$H$13233,$L1229,COLUMNS($B$6:B1228)),\"\")","v":"44103502"},"Binding covers",null,null,null,"44103502","Binding covers","44103502",1223,1223,1223,"44103502"]
[null,{"$f":"IFERROR(INDEX($G$7:$H$13233,$L1230,COLUMNS($B$6:B1229)),\"\")","v":"44103508"},"Binding die punch",null,null,null,"44103508","Binding die punch","44103508",1224,1224,1224,"44103508"]
[null,{"$f":"IFERROR(INDEX($G$7:$H$13233,$L1231,COLUMNS($B$6:B1230)),\"\")","v":"11162122"},"Binding fabrics",null,null,null,"11162122","Binding fabrics","11162122",1225,1225,1225,"11162122"]
[null,{"$f":"IFERROR(INDEX($G$7:$H$13233,$L1232,COLUMNS($B$6:B1231)),\"\")","v":"44103507"},"Binding Kits",null,null,null,"44103507","Binding Kits","44103507",1226,1226,1226,"44103507"]
[null,{"$f":"IFERROR(INDEX($G$7:$H$13233,$L1233,COLUMNS($B$6:B1232)),\"\")","v":"44103500"},"Binding machine supplies",null,null,null,"44103500","Binding machine supplies","44103500",1227,1227,1227,"44103500"]
[null,{"$f":"IFERROR(INDEX($G$7:$H$13233,$L1234,COLUMNS($B$6:B1233)),\"\")","v":"44102805"},"Binding punch machine",null,null,null,"44102805","Binding punch machine","44102805",1228,1228,1228,"44102805"]
[null,{"$f":"IFERROR(INDEX($G$7:$H$13233,$L1235,COLUMNS($B$6:B1234)),\"\")","v":"82121905"},"Binding restoration or repair",null,null,null,"82121905","Binding restoration or repair","82121905",1229,1229,1229,"82121905"]
[null,{"$f":"IFERROR(INDEX($G$7:$H$13233,$L1236,COLUMNS($B$6:B1235)),\"\")","v":"44103503"},"Binding spines or snaps",null,null,null,"44103503","Binding spines or snaps","44103503",1230,1230,1230,"44103503"]
[null,{"$f":"IFERROR(INDEX($G$7:$H$13233,$L1237,COLUMNS($B$6:B1236)),\"\")","v":"44103506"},"Binding tape",null,null,null,"44103506","Binding tape","44103506",1231,1231,1231,"44103506"]
[null,{"$f":"IFERROR(INDEX($G$7:$H$13233,$L1238,COLUMNS($B$6:B1237)),\"\")","v":"41111709"},"Binocular light compound microscopes",null,null,null,"41111709","Binocular light compound microscopes","41111709",1232,1232,1232,"41111709"]
[null,{"$f":"IFERROR(INDEX($G$7:$H$13233,$L1239,COLUMNS($B$6:B1238)),\"\")","v":"41111717"},"Binoculars",null,null,null,"41111717","Binoculars","41111717",1233,1233,1233,"41111717"]
[null,{"$f":"IFERROR(INDEX($G$7:$H$13233,$L1240,COLUMNS($B$6:B1239)),\"\")","v":"24112000"},"Bins and baskets",null,null,null,"24112000","Bins and baskets","24112000",1234,1234,1234,"24112000"]
[null,{"$f":"IFERROR(INDEX($G$7:$H$13233,$L1241,COLUMNS($B$6:B1240)),\"\")","v":"12352200"},"Biochemicals",null,null,null,"12352200","Biochemicals","12352200",1235,1235,1235,"12352200"]
[null,{"$f":"IFERROR(INDEX($G$7:$H$13233,$L1242,COLUMNS($B$6:B1241)),\"\")","v":"15101801"},"Biodiesel",null,null,null,"15101801","Biodiesel","15101801",1236,1236,1236,"15101801"]
[null,{"$f":"IFERROR(INDEX($G$7:$H$13233,$L1243,COLUMNS($B$6:B1242)),\"\")","v":"42182314"},"Biofeedback devices",null,null,null,"42182314","Biofeedback devices","42182314",1237,1237,1237,"42182314"]
[null,{"$f":"IFERROR(INDEX($G$7:$H$13233,$L1244,COLUMNS($B$6:B1243)),\"\")","v":"41103704"},"Biological baths",null,null,null,"41103704","Biological baths","41103704",1238,1238,1238,"41103704"]
[null,{"$f":"IFERROR(INDEX($G$7:$H$13233,$L1245,COLUMNS($B$6:B1244)),\"\")","v":"70141602"},"Biological control services",null,null,null,"70141602","Biological control services","70141602",1239,1239,1239,"70141602"]
[null,{"$f":"IFERROR(INDEX($G$7:$H$13233,$L1246,COLUMNS($B$6:B1245)),\"\")","v":"42311541"},"Biological dressings",null,null,null,"42311541","Biological dressings","42311541",1240,1240,1240,"42311541"]
[null,{"$f":"IFERROR(INDEX($G$7:$H$13233,$L1247,COLUMNS($B$6:B1246)),\"\")","v":"85121803"},"Biological laboratory services",null,null,null,"85121803","Biological laboratory services","85121803",1241,1241,1241,"85121803"]
[null,{"$f":"IFERROR(INDEX($G$7:$H$13233,$L1248,COLUMNS($B$6:B1247)),\"\")","v":"41103517"},"Biological safety cabinet",null,null,null,"41103517","Biological safety cabinet","41103517",1242,1242,1242,"41103517"]
[null,{"$f":"IFERROR(INDEX($G$7:$H$13233,$L1249,COLUMNS($B$6:B1248)),\"\")","v":"81170000"},"Biological science services",null,null,null,"81170000","Biological science services","81170000",1243,1243,1243,"81170000"]
[null,{"$f":"IFERROR(INDEX($G$7:$H$13233,$L1250,COLUMNS($B$6:B1249)),\"\")","v":"86101604"},"Biology vocational training services",null,null,null,"86101604","Biology vocational training services","86101604",1244,1244,1244,"86101604"]
[null,{"$f":"IFERROR(INDEX($G$7:$H$13233,$L1251,COLUMNS($B$6:B1250)),\"\")","v":"41115866"},"Biomagnetic separation analyzer",null,null,null,"41115866","Biomagnetic separation analyzer","41115866",1245,1245,1245,"41115866"]
[null,{"$f":"IFERROR(INDEX($G$7:$H$13233,$L1252,COLUMNS($B$6:B1251)),\"\")","v":"41115867"},"Biomagnetic separation analyzer accessories",null,null,null,"41115867","Biomagnetic separation analyzer accessories","41115867",1246,1246,1246,"41115867"]
[null,{"$f":"IFERROR(INDEX($G$7:$H$13233,$L1253,COLUMNS($B$6:B1252)),\"\")","v":"43211714"},"Biometric identification equipment",null,null,null,"43211714","Biometric identification equipment","43211714",1247,1247,1247,"43211714"]
[null,{"$f":"IFERROR(INDEX($G$7:$H$13233,$L1254,COLUMNS($B$6:B1253)),\"\")","v":"92121708"},"Biometric Security Systems",null,null,null,"92121708","Biometric Security Systems","92121708",1248,1248,1248,"92121708"]
[null,{"$f":"IFERROR(INDEX($G$7:$H$13233,$L1255,COLUMNS($B$6:B1254)),\"\")","v":"41123312"},"Bioprocess container or bag for molecular biology platform",null,null,null,"41123312","Bioprocess container or bag for molecular biology platform","41123312",1249,1249,1249,"41123312"]
[null,{"$f":"IFERROR(INDEX($G$7:$H$13233,$L1256,COLUMNS($B$6:B1255)),\"\")","v":"42142518"},"Biopsy aspirator products ",null,null,null,"42142518","Biopsy aspirator products ","42142518",1250,1250,1250,"42142518"]
[null,{"$f":"IFERROR(INDEX($G$7:$H$13233,$L1257,COLUMNS($B$6:B1256)),\"\")","v":"42142504"},"Biopsy needles",null,null,null,"42142504","Biopsy needles","42142504",1251,1251,1251,"42142504"]
[null,{"$f":"IFERROR(INDEX($G$7:$H$13233,$L1258,COLUMNS($B$6:B1257)),\"\")","v":"42292803"},"Biopsy sealing and marking devices",null,null,null,"42292803","Biopsy sealing and marking devices","42292803",1252,1252,1252,"42292803"]
[null,{"$f":"IFERROR(INDEX($G$7:$H$13233,$L1259,COLUMNS($B$6:B1258)),\"\")","v":"41104913"},"Bioseparation filters",null,null,null,"41104913","Bioseparation filters","41104913",1253,1253,1253,"41104913"]
[null,{"$f":"IFERROR(INDEX($G$7:$H$13233,$L1260,COLUMNS($B$6:B1259)),\"\")","v":"60106202"},"Biotechnology teaching aids or materials",null,null,null,"60106202","Biotechnology teaching aids or materials","60106202",1254,1254,1254,"60106202"]
[null,{"$f":"IFERROR(INDEX($G$7:$H$13233,$L1261,COLUMNS($B$6:B1260)),\"\")","v":"51151617"},"Biperiden",null,null,null,"51151617","Biperiden","51151617",1255,1255,1255,"51151617"]
[null,{"$f":"IFERROR(INDEX($G$7:$H$13233,$L1262,COLUMNS($B$6:B1261)),\"\")","v":"10121600"},"Bird and fowl food",null,null,null,"10121600","Bird and fowl food","10121600",1256,1256,1256,"10121600"]
[null,{"$f":"IFERROR(INDEX($G$7:$H$13233,$L1263,COLUMNS($B$6:B1262)),\"\")","v":"72102101"},"Bird proofing services",null,null,null,"72102101","Bird proofing services","72102101",1257,1257,1257,"72102101"]
[null,{"$f":"IFERROR(INDEX($G$7:$H$13233,$L1264,COLUMNS($B$6:B1263)),\"\")","v":"10191507"},"Bird repellents",null,null,null,"10191507","Bird repellents","10191507",1258,1258,1258,"10191507"]
[null,{"$f":"IFERROR(INDEX($G$7:$H$13233,$L1265,COLUMNS($B$6:B1264)),\"\")","v":"10101600"},"Birds and fowl",null,null,null,"10101600","Birds and fowl","10101600",1259,1259,1259,"10101600"]
[null,{"$f":"IFERROR(INDEX($G$7:$H$13233,$L1266,COLUMNS($B$6:B1265)),\"\")","v":"10102100"},"Birds and fowl hatching eggs",null,null,null,"10102100","Birds and fowl hatching eggs","10102100",1260,1260,1260,"10102100"]
[null,{"$f":"IFERROR(INDEX($G$7:$H$13233,$L1267,COLUMNS($B$6:B1266)),\"\")","v":"14111826"},"Birth certificate",null,null,null,"14111826","Birth certificate","14111826",1261,1261,1261,"14111826"]
[null,{"$f":"IFERROR(INDEX($G$7:$H$13233,$L1268,COLUMNS($B$6:B1267)),\"\")","v":"93141603"},"Birth reporting or control services",null,null,null,"93141603","Birth reporting or control services","93141603",1262,1262,1262,"93141603"]
[null,{"$f":"IFERROR(INDEX($G$7:$H$13233,$L1269,COLUMNS($B$6:B1268)),\"\")","v":"51171614"},"Bisacodyl",null,null,null,"51171614","Bisacodyl","51171614",1263,1263,1263,"51171614"]
[null,{"$f":"IFERROR(INDEX($G$7:$H$13233,$L1270,COLUMNS($B$6:B1269)),\"\")","v":"11162102"},"Bismalemide fabric or cloth",null,null,null,"11162102","Bismalemide fabric or cloth","11162102",1264,1264,1264,"11162102"]
[null,{"$f":"IFERROR(INDEX($G$7:$H$13233,$L1271,COLUMNS($B$6:B1270)),\"\")","v":"51143104"},"Bismuth subsalicylate",null,null,null,"51143104","Bismuth subsalicylate","51143104",1265,1265,1265,"51143104"]
[null,{"$f":"IFERROR(INDEX($G$7:$H$13233,$L1272,COLUMNS($B$6:B1271)),\"\")","v":"51263105"},"Bisoprolol",null,null,null,"51263105","Bisoprolol","51263105",1266,1266,1266,"51263105"]
[null,{"$f":"IFERROR(INDEX($G$7:$H$13233,$L1273,COLUMNS($B$6:B1272)),\"\")","v":"51263151"},"Bisoprolol fumarate",null,null,null,"51263151","Bisoprolol fumarate","51263151",1267,1267,1267,"51263151"]
[null,{"$f":"IFERROR(INDEX($G$7:$H$13233,$L1274,COLUMNS($B$6:B1273)),\"\")","v":"42272003"},"Bite blocks",null,null,null,"42272003","Bite blocks","42272003",1268,1268,1268,"42272003"]
[null,{"$f":"IFERROR(INDEX($G$7:$H$13233,$L1275,COLUMNS($B$6:B1274)),\"\")","v":"30121504"},"Bitumen",null,null,null,"30121504","Bitumen","30121504",1269,1269,1269,"30121504"]
[null,{"$f":"IFERROR(INDEX($G$7:$H$13233,$L1276,COLUMNS($B$6:B1275)),\"\")","v":"30121500"},"Bituminous derivatives",null,null,null,"30121500","Bituminous derivatives","30121500",1270,1270,1270,"30121500"]
[null,{"$f":"IFERROR(INDEX($G$7:$H$13233,$L1277,COLUMNS($B$6:B1276)),\"\")","v":"82121701"},"Black and white copy or collating services",null,null,null,"82121701","Black and white copy or collating services","82121701",1271,1271,1271,"82121701"]
[null,{"$f":"IFERROR(INDEX($G$7:$H$13233,$L1278,COLUMNS($B$6:B1277)),\"\")","v":"45131502"},"Black and white film",null,null,null,"45131502","Black and white film","45131502",1272,1272,1272,"45131502"]
[null,{"$f":"IFERROR(INDEX($G$7:$H$13233,$L1279,COLUMNS($B$6:B1278)),\"\")","v":"43202009"},"Blank audio tape",null,null,null,"43202009","Blank audio tape","43202009",1273,1273,1273,"43202009"]
[null,{"$f":"IFERROR(INDEX($G$7:$H$13233,$L1280,COLUMNS($B$6:B1279)),\"\")","v":"43202002"},"Blank tapes",null,null,null,"43202002","Blank tapes","43202002",1274,1274,1274,"43202002"]
[null,{"$f":"IFERROR(INDEX($G$7:$H$13233,$L1281,COLUMNS($B$6:B1280)),\"\")","v":"45131604"},"Blank video tapes",null,null,null,"45131604","Blank video tapes","45131604",1275,1275,1275,"45131604"]
[null,{"$f":"IFERROR(INDEX($G$7:$H$13233,$L1282,COLUMNS($B$6:B1281)),\"\")","v":"52121508"},"Blankets",null,null,null,"52121508","Blankets","52121508",1276,{"$f":"IF(ISNUMBER(SEARCH($H$4,H1282)),J1282,\"\")","v":1276},{"$f":"IFERROR(SMALL($K$7:$K$13233,J1282),\"\")","v":1276},"52121508"]
[null,{"$f":"IFERROR(INDEX($G$7:$H$13233,$L1283,COLUMNS($B$6:B1282)),\"\")","v":"24131607"},"Blast freezers",null,null,null,"24131607","Blast freezers","24131607",1277,1277,1277,"24131607"]
[null,{"$f":"IFERROR(INDEX($G$7:$H$13233,$L1284,COLUMNS($B$6:B1283)),\"\")","v":"46151801"},"Blast guard container",null,null,null,"46151801","Blast guard container","46151801",1278,1278,1278,"46151801"]
[null,{"$f":"IFERROR(INDEX($G$7:$H$13233,$L1285,COLUMNS($B$6:B1284)),\"\")","v":"30171519"},"Blast proof door",null,null,null,"30171519","Blast proof door","30171519",1279,1279,1279,"30171519"]
[null,{"$f":"IFERROR(INDEX($G$7:$H$13233,$L1286,COLUMNS($B$6:B1285)),\"\")","v":"41113674"},"Blasting machine tester",null,null,null,"41113674","Blasting machine tester","41113674",1280,1280,1280,"41113674"]
[null,{"$f":"IFERROR(INDEX($G$7:$H$13233,$L1287,COLUMNS($B$6:B1286)),\"\")","v":"72141508"},"Blasting service except building demolition",null,null,null,"72141508","Blasting service except building demolition","72141508",1281,1281,1281,"72141508"]
[null,{"$f":"IFERROR(INDEX($G$7:$H$13233,$L1288,COLUMNS($B$6:B1287)),\"\")","v":"14121501"},"Bleached paperboard",null,null,null,"14121501","Bleached paperboard","14121501",1282,1282,1282,"14121501"]
[null,{"$f":"IFERROR(INDEX($G$7:$H$13233,$L1289,COLUMNS($B$6:B1288)),\"\")","v":"47131807"},"Bleaches",null,null,null,"47131807","Bleaches","47131807",1283,1283,1283,"47131807"]
[null,{"$f":"IFERROR(INDEX($G$7:$H$13233,$L1290,COLUMNS($B$6:B1289)),\"\")","v":"30171518"},"Blem door",null,null,null,"30171518","Blem door","30171518",1284,1284,1284,"30171518"]
[null,{"$f":"IFERROR(INDEX($G$7:$H$13233,$L1291,COLUMNS($B$6:B1290)),\"\")","v":"51111733"},"Bleomycin",null,null,null,"51111733","Bleomycin","51111733",1285,1285,1285,"51111733"]
[null,{"$f":"IFERROR(INDEX($G$7:$H$13233,$L1292,COLUMNS($B$6:B1291)),\"\")","v":"51201571"},"Blinatumomab",null,null,null,"51201571","Blinatumomab","51201571",1286,1286,1286,"51201571"]
[null,{"$f":"IFERROR(INDEX($G$7:$H$13233,$L1293,COLUMNS($B$6:B1292)),\"\")","v":"51201571"},"Blinatumomab",null,null,null,"51201571","Blinatumomab","51201571",1287,1287,1287,"51201571"]
[null,{"$f":"IFERROR(INDEX($G$7:$H$13233,$L1294,COLUMNS($B$6:B1293)),\"\")","v":"52131600"},"Blinds and shades",null,null,null,"52131600","Blinds and shades","52131600",1288,1288,1288,"52131600"]
[null,{"$f":"IFERROR(INDEX($G$7:$H$13233,$L1295,COLUMNS($B$6:B1294)),\"\")","v":"41105329"},"Blocking agents",null,null,null,"41105329","Blocking agents","41105329",1289,1289,1289,"41105329"]
[null,{"$f":"IFERROR(INDEX($G$7:$H$13233,$L1296,COLUMNS($B$6:B1295)),\"\")","v":"30131500"},"Blocks",null,null,null,"30131500","Blocks","30131500",1290,1290,1290,"30131500"]
[null,{"$f":"IFERROR(INDEX($G$7:$H$13233,$L1297,COLUMNS($B$6:B1296)),\"\")","v":"24101613"},"Blocks or pulleys",null,null,null,"24101613","Blocks or pulleys","24101613",1291,1291,1291,"24101613"]
[null,{"$f":"IFERROR(INDEX($G$7:$H$13233,$L1298,COLUMNS($B$6:B1297)),\"\")","v":"42222300"},"Blood administration and transfusion products",null,null,null,"42222300","Blood administration and transfusion products","42222300",1292,1292,1292,"42222300"]
[null,{"$f":"IFERROR(INDEX($G$7:$H$13233,$L1299,COLUMNS($B$6:B1298)),\"\")","v":"42222303"},"Blood administration or transfusion identification systems",null,null,null,"42222303","Blood administration or transfusion identification systems","42222303",1293,1293,1293,"42222303"]
[null,{"$f":"IFERROR(INDEX($G$7:$H$13233,$L1300,COLUMNS($B$6:B1299)),\"\")","v":"42222304"},"Blood administration or transfusion tubing",null,null,null,"42222304","Blood administration or transfusion tubing","42222304",1294,1294,1294,"42222304"]
[null,{"$f":"IFERROR(INDEX($G$7:$H$13233,$L1301,COLUMNS($B$6:B1300)),\"\")","v":"42222305"},"Blood administration or transfusion tubing clamps",null,null,null,"42222305","Blood administration or transfusion tubing clamps","42222305",1295,1295,1295,"42222305"]
[null,{"$f":"IFERROR(INDEX($G$7:$H$13233,$L1302,COLUMNS($B$6:B1301)),\"\")","v":"85121801"},"Blood analysis laboratory services",null,null,null,"85121801","Blood analysis laboratory services","85121801",1296,1296,1296,"85121801"]
[null,{"$f":"IFERROR(INDEX($G$7:$H$13233,$L1303,COLUMNS($B$6:B1302)),\"\")","v":"41115804"},"Blood bank analyzer accessories or supplies",null,null,null,"41115804","Blood bank analyzer accessories or supplies","41115804",1297,1297,1297,"41115804"]
[null,{"$f":"IFERROR(INDEX($G$7:$H$13233,$L1304,COLUMNS($B$6:B1303)),\"\")","v":"41116002"},"Blood bank analyzer reagents",null,null,null,"41116002","Blood bank analyzer reagents","41116002",1298,1298,1298,"41116002"]
[null,{"$f":"IFERROR(INDEX($G$7:$H$13233,$L1305,COLUMNS($B$6:B1304)),\"\")","v":"41115803"},"Blood bank analyzers",null,null,null,"41115803","Blood bank analyzers","41115803",1299,1299,1299,"41115803"]
[null,{"$f":"IFERROR(INDEX($G$7:$H$13233,$L1306,COLUMNS($B$6:B1305)),\"\")","v":"41115839"},"Blood bank apheresis and donor unit processing analyzer",null,null,null,"41115839","Blood bank apheresis and donor unit processing analyzer","41115839",1300,1300,1300,"41115839"]
[null,{"$f":"IFERROR(INDEX($G$7:$H$13233,$L1307,COLUMNS($B$6:B1306)),\"\")","v":"41115840"},"Blood bank apheresis and donor unit processing analyzer accessories and supplies",null,null,null,"41115840","Blood bank apheresis and donor unit processing analyzer accessories and supplies","41115840",1301,1301,1301,"41115840"]
[null,{"$f":"IFERROR(INDEX($G$7:$H$13233,$L1308,COLUMNS($B$6:B1307)),\"\")","v":"41103208"},"Blood bank cell washers",null,null,null,"41103208","Blood bank cell washers","41103208",1302,1302,1302,"41103208"]
[null,{"$f":"IFERROR(INDEX($G$7:$H$13233,$L1309,COLUMNS($B$6:B1308)),\"\")","v":"41103015"},"Blood bank freezers",null,null,null,"41103015","Blood bank freezers","41103015",1303,1303,1303,"41103015"]
[null,{"$f":"IFERROR(INDEX($G$7:$H$13233,$L1310,COLUMNS($B$6:B1309)),\"\")","v":"41103716"},"Blood bank plasma thawing bath",null,null,null,"41103716","Blood bank plasma thawing bath","41103716",1304,1304,1304,"41103716"]
[null,{"$f":"IFERROR(INDEX($G$7:$H$13233,$L1311,COLUMNS($B$6:B1310)),\"\")","v":"41116103"},"Blood bank quality controls or calibrators or standards",null,null,null,"41116103","Blood bank quality controls or calibrators or standards","41116103",1305,1305,1305,"41116103"]
[null,{"$f":"IFERROR(INDEX($G$7:$H$13233,$L1312,COLUMNS($B$6:B1311)),\"\")","v":"41116102"},"Blood bank reagents or solutions",null,null,null,"41116102","Blood bank reagents or solutions","41116102",1306,1306,1306,"41116102"]
[null,{"$f":"IFERROR(INDEX($G$7:$H$13233,$L1313,COLUMNS($B$6:B1312)),\"\")","v":"41103010"},"Blood bank refrigerators",null,null,null,"41103010","Blood bank refrigerators","41103010",1307,1307,1307,"41103010"]
[null,{"$f":"IFERROR(INDEX($G$7:$H$13233,$L1314,COLUMNS($B$6:B1313)),\"\")","v":"41116101"},"Blood bank test kits or supplies",null,null,null,"41116101","Blood bank test kits or supplies","41116101",1308,1308,1308,"41116101"]
[null,{"$f":"IFERROR(INDEX($G$7:$H$13233,$L1315,COLUMNS($B$6:B1314)),\"\")","v":"41116222"},"Blood bilirubin test monitor or meter",null,null,null,"41116222","Blood bilirubin test monitor or meter","41116222",1309,1309,1309,"41116222"]
[null,{"$f":"IFERROR(INDEX($G$7:$H$13233,$L1316,COLUMNS($B$6:B1315)),\"\")","v":"41116223"},"Blood bilirubin test monitor or meter accessories",null,null,null,"41116223","Blood bilirubin test monitor or meter accessories","41116223",1310,1310,1310,"41116223"]
[null,{"$f":"IFERROR(INDEX($G$7:$H$13233,$L1317,COLUMNS($B$6:B1316)),\"\")","v":"41116208"},"Blood chemistry multiple parameter monitor or meter",null,null,null,"41116208","Blood chemistry multiple parameter monitor or meter","41116208",1311,1311,1311,"41116208"]
[null,{"$f":"IFERROR(INDEX($G$7:$H$13233,$L1318,COLUMNS($B$6:B1317)),\"\")","v":"41116209"},"Blood coagulation multiple parameter monitor or meter",null,null,null,"41116209","Blood coagulation multiple parameter monitor or meter","41116209",1312,1312,1312,"41116209"]
[null,{"$f":"IFERROR(INDEX($G$7:$H$13233,$L1319,COLUMNS($B$6:B1318)),\"\")","v":"41104138"},"Blood collection needle holders",null,null,null,"41104138","Blood collection needle holders","41104138",1313,1313,1313,"41104138"]
[null,{"$f":"IFERROR(INDEX($G$7:$H$13233,$L1320,COLUMNS($B$6:B1319)),\"\")","v":"42142521"},"Blood collection needles",null,null,null,"42142521","Blood collection needles","42142521",1314,1314,1314,"42142521"]
[null,{"$f":"IFERROR(INDEX($G$7:$H$13233,$L1321,COLUMNS($B$6:B1320)),\"\")","v":"42142616"},"Blood collection syringes",null,null,null,"42142616","Blood collection syringes","42142616",1315,1315,1315,"42142616"]
[null,{"$f":"IFERROR(INDEX($G$7:$H$13233,$L1322,COLUMNS($B$6:B1321)),\"\")","v":"41123310"},"Blood collection tube dispenser",null,null,null,"41123310","Blood collection tube dispenser","41123310",1316,1316,1316,"41123310"]
[null,{"$f":"IFERROR(INDEX($G$7:$H$13233,$L1323,COLUMNS($B$6:B1322)),\"\")","v":"41104110"},"Blood culture bottles",null,null,null,"41104110","Blood culture bottles","41104110",1317,1317,1317,"41104110"]
[null,{"$f":"IFERROR(INDEX($G$7:$H$13233,$L1324,COLUMNS($B$6:B1323)),\"\")","v":"41104130"},"Blood culture collection kit",null,null,null,"41104130","Blood culture collection kit","41104130",1318,1318,1318,"41104130"]
[null,{"$f":"IFERROR(INDEX($G$7:$H$13233,$L1325,COLUMNS($B$6:B1324)),\"\")","v":"42192101"},"Blood drawing or phlebotomy chairs",null,null,null,"42192101","Blood drawing or phlebotomy chairs","42192101",1319,1319,1319,"42192101"]
[null,{"$f":"IFERROR(INDEX($G$7:$H$13233,$L1326,COLUMNS($B$6:B1325)),\"\")","v":"41122417"},"Blood drop dispenser device",null,null,null,"41122417","Blood drop dispenser device","41122417",1320,1320,1320,"41122417"]
[null,{"$f":"IFERROR(INDEX($G$7:$H$13233,$L1327,COLUMNS($B$6:B1326)),\"\")","v":"42142618"},"Blood gas analysis syringe kits",null,null,null,"42142618","Blood gas analysis syringe kits","42142618",1321,1321,1321,"42142618"]
[null,{"$f":"IFERROR(INDEX($G$7:$H$13233,$L1328,COLUMNS($B$6:B1327)),\"\")","v":"41115806"},"Blood gas analyzer accessories or supplies",null,null,null,"41115806","Blood gas analyzer accessories or supplies","41115806",1322,1322,1322,"41115806"]
[null,{"$f":"IFERROR(INDEX($G$7:$H$13233,$L1329,COLUMNS($B$6:B1328)),\"\")","v":"41116003"},"Blood gas analyzer reagents",null,null,null,"41116003","Blood gas analyzer reagents","41116003",1323,1323,1323,"41116003"]
[null,{"$f":"IFERROR(INDEX($G$7:$H$13233,$L1330,COLUMNS($B$6:B1329)),\"\")","v":"41115805"},"Blood gas analyzers",null,null,null,"41115805","Blood gas analyzers","41115805",1324,1324,1324,"41115805"]
[null,{"$f":"IFERROR(INDEX($G$7:$H$13233,$L1331,COLUMNS($B$6:B1330)),\"\")","v":"41116216"},"Blood lead test monitor or meter",null,null,null,"41116216","Blood lead test monitor or meter","41116216",1325,1325,1325,"41116216"]
[null,{"$f":"IFERROR(INDEX($G$7:$H$13233,$L1332,COLUMNS($B$6:B1331)),\"\")","v":"41116217"},"Blood lead test monitor or meter accessories",null,null,null,"41116217","Blood lead test monitor or meter accessories","41116217",1326,1326,1326,"41116217"]
[null,{"$f":"IFERROR(INDEX($G$7:$H$13233,$L1333,COLUMNS($B$6:B1332)),\"\")","v":"85121809"},"Blood or sperm or transplant organ banks services",null,null,null,"85121809","Blood or sperm or transplant organ banks services","85121809",1327,1327,1327,"85121809"]
[null,{"$f":"IFERROR(INDEX($G$7:$H$13233,$L1334,COLUMNS($B$6:B1333)),\"\")","v":"51131900"},"Blood plasma substitutes and extenders and expanders",null,null,null,"51131900","Blood plasma substitutes and extenders and expanders","51131900",1328,1328,1328,"51131900"]
[null,{"$f":"IFERROR(INDEX($G$7:$H$13233,$L1335,COLUMNS($B$6:B1334)),\"\")","v":"42181604"},"Blood pressure air release valves or inflation bulbs",null,null,null,"42181604","Blood pressure air release valves or inflation bulbs","42181604",1329,1329,1329,"42181604"]
[null,{"$f":"IFERROR(INDEX($G$7:$H$13233,$L1336,COLUMNS($B$6:B1335)),\"\")","v":"42181610"},"Blood pressure cuff kits",null,null,null,"42181610","Blood pressure cuff kits","42181610",1330,1330,1330,"42181610"]
[null,{"$f":"IFERROR(INDEX($G$7:$H$13233,$L1337,COLUMNS($B$6:B1336)),\"\")","v":"42181605"},"Blood pressure cuffs or bladders",null,null,null,"42181605","Blood pressure cuffs or bladders","42181605",1331,1331,1331,"42181605"]
[null,{"$f":"IFERROR(INDEX($G$7:$H$13233,$L1338,COLUMNS($B$6:B1337)),\"\")","v":"42181606"},"Blood pressure inflation hoses or pneumatic hoses or adapters",null,null,null,"42181606","Blood pressure inflation hoses or pneumatic hoses or adapters","42181606",1332,1332,1332,"42181606"]
[null,{"$f":"IFERROR(INDEX($G$7:$H$13233,$L1339,COLUMNS($B$6:B1338)),\"\")","v":"42181608"},"Blood pressure measuring instruments accessories",null,null,null,"42181608","Blood pressure measuring instruments accessories","42181608",1333,1333,1333,"42181608"]
[null,{"$f":"IFERROR(INDEX($G$7:$H$13233,$L1340,COLUMNS($B$6:B1339)),\"\")","v":"42191911"},"Blood pressure mobile stands",null,null,null,"42191911","Blood pressure mobile stands","42191911",1334,1334,1334,"42191911"]
[null,{"$f":"IFERROR(INDEX($G$7:$H$13233,$L1341,COLUMNS($B$6:B1340)),\"\")","v":"42181609"},"Blood pressure monitor dome kits",null,null,null,"42181609","Blood pressure monitor dome kits","42181609",1335,1335,1335,"42181609"]
[null,{"$f":"IFERROR(INDEX($G$7:$H$13233,$L1342,COLUMNS($B$6:B1341)),\"\")","v":"42181607"},"Blood pressure recording units",null,null,null,"42181607","Blood pressure recording units","42181607",1336,1336,1336,"42181607"]
[null,{"$f":"IFERROR(INDEX($G$7:$H$13233,$L1343,COLUMNS($B$6:B1342)),\"\")","v":"42181600"},"Blood pressure units and related products",null,null,null,"42181600","Blood pressure units and related products","42181600",1337,1337,1337,"42181600"]
[null,{"$f":"IFERROR(INDEX($G$7:$H$13233,$L1344,COLUMNS($B$6:B1343)),\"\")","v":"42222301"},"Blood transfusion administration kits",null,null,null,"42222301","Blood transfusion administration kits","42222301",1338,1338,1338,"42222301"]
[null,{"$f":"IFERROR(INDEX($G$7:$H$13233,$L1345,COLUMNS($B$6:B1344)),\"\")","v":"42222302"},"Blood transfusion filters or screens",null,null,null,"42222302","Blood transfusion filters or screens","42222302",1339,1339,1339,"42222302"]
[null,{"$f":"IFERROR(INDEX($G$7:$H$13233,$L1346,COLUMNS($B$6:B1345)),\"\")","v":"41104109"},"Blood unit collection bags",null,null,null,"41104109","Blood unit collection bags","41104109",1340,1340,1340,"41104109"]
[null,{"$f":"IFERROR(INDEX($G$7:$H$13233,$L1347,COLUMNS($B$6:B1346)),\"\")","v":"41103027"},"Blood unit storage boot",null,null,null,"41103027","Blood unit storage boot","41103027",1341,1341,1341,"41103027"]
[null,{"$f":"IFERROR(INDEX($G$7:$H$13233,$L1348,COLUMNS($B$6:B1347)),\"\")","v":"41112240"},"Blood unit temperature verification strip",null,null,null,"41112240","Blood unit temperature verification strip","41112240",1342,1342,1342,"41112240"]
[null,{"$f":"IFERROR(INDEX($G$7:$H$13233,$L1349,COLUMNS($B$6:B1348)),\"\")","v":"41102429"},"Blood unit tubing heat sealer",null,null,null,"41102429","Blood unit tubing heat sealer","41102429",1343,1343,1343,"41102429"]
[null,{"$f":"IFERROR(INDEX($G$7:$H$13233,$L1350,COLUMNS($B$6:B1349)),\"\")","v":"41111981"},"Blood utilization management system",null,null,null,"41111981","Blood utilization management system","41111981",1344,1344,1344,"41111981"]
[null,{"$f":"IFERROR(INDEX($G$7:$H$13233,$L1351,COLUMNS($B$6:B1350)),\"\")","v":"42222307"},"Blood warming or transfusion systems",null,null,null,"42222307","Blood warming or transfusion systems","42222307",1345,1345,1345,"42222307"]
[null,{"$f":"IFERROR(INDEX($G$7:$H$13233,$L1352,COLUMNS($B$6:B1351)),\"\")","v":"25101938"},"Bloodmobile",null,null,null,"25101938","Bloodmobile","25101938",1346,1346,1346,"25101938"]
[null,{"$f":"IFERROR(INDEX($G$7:$H$13233,$L1353,COLUMNS($B$6:B1352)),\"\")","v":"14111520"},"Blotter paper",null,null,null,"14111520","Blotter paper","14111520",1347,1347,1347,"14111520"]
[null,{"$f":"IFERROR(INDEX($G$7:$H$13233,$L1354,COLUMNS($B$6:B1353)),\"\")","v":"41105339"},"Blotting membranes",null,null,null,"41105339","Blotting membranes","41105339",1348,1348,1348,"41105339"]
[null,{"$f":"IFERROR(INDEX($G$7:$H$13233,$L1355,COLUMNS($B$6:B1354)),\"\")","v":"41105310"},"Blotting or transfer accessories",null,null,null,"41105310","Blotting or transfer accessories","41105310",1349,1349,1349,"41105310"]
[null,{"$f":"IFERROR(INDEX($G$7:$H$13233,$L1356,COLUMNS($B$6:B1355)),\"\")","v":"41105311"},"Blotting or transfer apparatus",null,null,null,"41105311","Blotting or transfer apparatus","41105311",1350,1350,1350,"41105311"]
[null,{"$f":"IFERROR(INDEX($G$7:$H$13233,$L1357,COLUMNS($B$6:B1356)),\"\")","v":"40101601"},"Blowers",null,null,null,"40101601","Blowers","40101601",1351,1351,1351,"40101601"]
[null,{"$f":"IFERROR(INDEX($G$7:$H$13233,$L1358,COLUMNS($B$6:B1357)),\"\")","v":"52161553"},"Blu ray video disc player or recorder",null,null,null,"52161553","Blu ray video disc player or recorder","52161553",1352,1352,1352,"52161553"]
[null,{"$f":"IFERROR(INDEX($G$7:$H$13233,$L1359,COLUMNS($B$6:B1358)),\"\")","v":"43211614"},"Bluetooth universal serial bus USB adapter",null,null,null,"43211614","Bluetooth universal serial bus USB adapter","43211614",1353,1353,1353,"43211614"]
[null,{"$f":"IFERROR(INDEX($G$7:$H$13233,$L1360,COLUMNS($B$6:B1359)),\"\")","v":"42142506"},"Blunt needles",null,null,null,"42142506","Blunt needles","42142506",1354,1354,1354,"42142506"]
[null,{"$f":"IFERROR(INDEX($G$7:$H$13233,$L1361,COLUMNS($B$6:B1360)),\"\")","v":"44111909"},"Board cleaning kits or accessories",null,null,null,"44111909","Board cleaning kits or accessories","44111909",1355,1355,1355,"44111909"]
[null,{"$f":"IFERROR(INDEX($G$7:$H$13233,$L1362,COLUMNS($B$6:B1361)),\"\")","v":"60141102"},"Board games",null,null,null,"60141102","Board games","60141102",1356,1356,1356,"60141102"]
[null,{"$f":"IFERROR(INDEX($G$7:$H$13233,$L1363,COLUMNS($B$6:B1362)),\"\")","v":"44111900"},"Boards",null,null,null,"44111900","Boards","44111900",1357,1357,1357,"44111900"]
[null,{"$f":"IFERROR(INDEX($G$7:$H$13233,$L1364,COLUMNS($B$6:B1363)),\"\")","v":"46151504"},"Body armour",null,null,null,"46151504","Body armour","46151504",1358,1358,1358,"46151504"]
[null,{"$f":"IFERROR(INDEX($G$7:$H$13233,$L1365,COLUMNS($B$6:B1364)),\"\")","v":"42182705"},"Body composition analyzers",null,null,null,"42182705","Body composition analyzers","42182705",1359,1359,1359,"42182705"]
[null,{"$f":"IFERROR(INDEX($G$7:$H$13233,$L1366,COLUMNS($B$6:B1365)),\"\")","v":"49211809"},"Body measurement tool",null,null,null,"49211809","Body measurement tool","49211809",1360,1360,1360,"49211809"]
[null,{"$f":"IFERROR(INDEX($G$7:$H$13233,$L1367,COLUMNS($B$6:B1366)),\"\")","v":"30181812"},"Body spray head",null,null,null,"30181812","Body spray head","30181812",1361,1361,1361,"30181812"]
[null,{"$f":"IFERROR(INDEX($G$7:$H$13233,$L1368,COLUMNS($B$6:B1367)),\"\")","v":"60104100"},"Body systems and related materials",null,null,null,"60104100","Body systems and related materials","60104100",1362,1362,1362,"60104100"]
[null,{"$f":"IFERROR(INDEX($G$7:$H$13233,$L1369,COLUMNS($B$6:B1368)),\"\")","v":"27141000"},"Body tools",null,null,null,"27141000","Body tools","27141000",1363,1363,1363,"27141000"]
[null,{"$f":"IFERROR(INDEX($G$7:$H$13233,$L1370,COLUMNS($B$6:B1369)),\"\")","v":"42261810"},"Body transport containers",null,null,null,"42261810","Body transport containers","42261810",1364,1364,1364,"42261810"]
[null,{"$f":"IFERROR(INDEX($G$7:$H$13233,$L1371,COLUMNS($B$6:B1370)),\"\")","v":"41111508"},"Bodyweight measuring scales",null,null,null,"41111508","Bodyweight measuring scales","41111508",1365,1365,1365,"41111508"]
[null,{"$f":"IFERROR(INDEX($G$7:$H$13233,$L1372,COLUMNS($B$6:B1371)),\"\")","v":"72151000"},"Boiler and furnace construction and maintenance services",null,null,null,"72151000","Boiler and furnace construction and maintenance services","72151000",1366,1366,1366,"72151000"]
[null,{"$f":"IFERROR(INDEX($G$7:$H$13233,$L1373,COLUMNS($B$6:B1372)),\"\")","v":"72151002"},"Boiler installation and setup service",null,null,null,"72151002","Boiler installation and setup service","72151002",1367,1367,1367,"72151002"]
[null,{"$f":"IFERROR(INDEX($G$7:$H$13233,$L1374,COLUMNS($B$6:B1373)),\"\")","v":"72151001"},"Boiler maintenance service",null,null,null,"72151001","Boiler maintenance service","72151001",1368,1368,1368,"72151001"]
[null,{"$f":"IFERROR(INDEX($G$7:$H$13233,$L1375,COLUMNS($B$6:B1374)),\"\")","v":"72151005"},"Boiler pressure controller installation",null,null,null,"72151005","Boiler pressure controller installation","72151005",1369,1369,1369,"72151005"]
[null,{"$f":"IFERROR(INDEX($G$7:$H$13233,$L1376,COLUMNS($B$6:B1375)),\"\")","v":"72151006"},"Boiler pressure controller maintenance or repair or operation",null,null,null,"72151006","Boiler pressure controller maintenance or repair or operation","72151006",1370,1370,1370,"72151006"]
[null,{"$f":"IFERROR(INDEX($G$7:$H$13233,$L1377,COLUMNS($B$6:B1376)),\"\")","v":"40102000"},"Boilers",null,null,null,"40102000","Boilers","40102000",1371,1371,1371,"40102000"]
[null,{"$f":"IFERROR(INDEX($G$7:$H$13233,$L1378,COLUMNS($B$6:B1377)),\"\")","v":"11162120"},"Bolting cloth",null,null,null,"11162120","Bolting cloth","11162120",1372,1372,1372,"11162120"]
[null,{"$f":"IFERROR(INDEX($G$7:$H$13233,$L1379,COLUMNS($B$6:B1378)),\"\")","v":"31161600"},"Bolts",null,null,null,"31161600","Bolts","31161600",1373,1373,1373,"31161600"]
[null,{"$f":"IFERROR(INDEX($G$7:$H$13233,$L1380,COLUMNS($B$6:B1379)),\"\")","v":"46151608"},"Bomb protection devices and supplies",null,null,null,"46151608","Bomb protection devices and supplies","46151608",1374,1374,1374,"46151608"]
[null,{"$f":"IFERROR(INDEX($G$7:$H$13233,$L1381,COLUMNS($B$6:B1380)),\"\")","v":"46111500"},"Bombs and grenades",null,null,null,"46111500","Bombs and grenades","46111500",1375,1375,1375,"46111500"]
[null,{"$f":"IFERROR(INDEX($G$7:$H$13233,$L1382,COLUMNS($B$6:B1381)),\"\")","v":"41114530"},"Bonding stress tester",null,null,null,"41114530","Bonding stress tester","41114530",1376,1376,1376,"41114530"]
[null,{"$f":"IFERROR(INDEX($G$7:$H$13233,$L1383,COLUMNS($B$6:B1382)),\"\")","v":"85111601"},"Bone disease prevention or control services",null,null,null,"85111601","Bone disease prevention or control services","85111601",1377,1377,1377,"85111601"]
[null,{"$f":"IFERROR(INDEX($G$7:$H$13233,$L1384,COLUMNS($B$6:B1383)),\"\")","v":"42261601"},"Bone dust collectors",null,null,null,"42261601","Bone dust collectors","42261601",1378,1378,1378,"42261601"]
[null,{"$f":"IFERROR(INDEX($G$7:$H$13233,$L1385,COLUMNS($B$6:B1384)),\"\")","v":"42295471"},"Bone marrow aspiration systems",null,null,null,"42295471","Bone marrow aspiration systems","42295471",1379,1379,1379,"42295471"]
[null,{"$f":"IFERROR(INDEX($G$7:$H$13233,$L1386,COLUMNS($B$6:B1385)),\"\")","v":"41104119"},"Bone tissue collection containers",null,null,null,"41104119","Bone tissue collection containers","41104119",1380,1380,1380,"41104119"]
[null,{"$f":"IFERROR(INDEX($G$7:$H$13233,$L1387,COLUMNS($B$6:B1386)),\"\")","v":"56121700"},"Book and general storage units for classrooms",null,null,null,"56121700","Book and general storage units for classrooms","56121700",1381,1381,1381,"56121700"]
[null,{"$f":"IFERROR(INDEX($G$7:$H$13233,$L1388,COLUMNS($B$6:B1387)),\"\")","v":"82111702"},"Book authors services",null,null,null,"82111702","Book authors services","82111702",1382,1382,1382,"82111702"]
[null,{"$f":"IFERROR(INDEX($G$7:$H$13233,$L1389,COLUMNS($B$6:B1388)),\"\")","v":"45101800"},"Book binding and sewing equipment and accessories",null,null,null,"45101800","Book binding and sewing equipment and accessories","45101800",1383,1383,1383,"45101800"]
[null,{"$f":"IFERROR(INDEX($G$7:$H$13233,$L1390,COLUMNS($B$6:B1389)),\"\")","v":"45101801"},"Book creasing machines",null,null,null,"45101801","Book creasing machines","45101801",1384,1384,1384,"45101801"]
[null,{"$f":"IFERROR(INDEX($G$7:$H$13233,$L1391,COLUMNS($B$6:B1390)),\"\")","v":"45101802"},"Book cutting machines",null,null,null,"45101802","Book cutting machines","45101802",1385,1385,1385,"45101802"]
[null,{"$f":"IFERROR(INDEX($G$7:$H$13233,$L1392,COLUMNS($B$6:B1391)),\"\")","v":"44111507"},"Book ends",null,null,null,"44111507","Book ends","44111507",1386,1386,1386,"44111507"]
[null,{"$f":"IFERROR(INDEX($G$7:$H$13233,$L1393,COLUMNS($B$6:B1392)),\"\")","v":"45101807"},"Book folding machines",null,null,null,"45101807","Book folding machines","45101807",1387,1387,1387,"45101807"]
[null,{"$f":"IFERROR(INDEX($G$7:$H$13233,$L1394,COLUMNS($B$6:B1393)),\"\")","v":"45101806"},"Book gathering machines",null,null,null,"45101806","Book gathering machines","45101806",1388,1388,1388,"45101806"]
[null,{"$f":"IFERROR(INDEX($G$7:$H$13233,$L1395,COLUMNS($B$6:B1394)),\"\")","v":"44111522"},"Book holder",null,null,null,"44111522","Book holder","44111522",1389,1389,1389,"44111522"]
[null,{"$f":"IFERROR(INDEX($G$7:$H$13233,$L1396,COLUMNS($B$6:B1395)),\"\")","v":"45101805"},"Book jogging machines",null,null,null,"45101805","Book jogging machines","45101805",1390,1390,1390,"45101805"]
[null,{"$f":"IFERROR(INDEX($G$7:$H$13233,$L1397,COLUMNS($B$6:B1396)),\"\")","v":"44122034"},"Book page separator",null,null,null,"44122034","Book page separator","44122034",1391,1391,1391,"44122034"]
[null,{"$f":"IFERROR(INDEX($G$7:$H$13233,$L1398,COLUMNS($B$6:B1397)),\"\")","v":"45101803"},"Book punching machines",null,null,null,"45101803","Book punching machines","45101803",1392,1392,1392,"45101803"]
[null,{"$f":"IFERROR(INDEX($G$7:$H$13233,$L1399,COLUMNS($B$6:B1398)),\"\")","v":"44122117"},"Book rings",null,null,null,"44122117","Book rings","44122117",1393,1393,1393,"44122117"]
[null,{"$f":"IFERROR(INDEX($G$7:$H$13233,$L1400,COLUMNS($B$6:B1399)),\"\")","v":"45101804"},"Book stitching machines",null,null,null,"45101804","Book stitching machines","45101804",1394,1394,1394,"45101804"]
[null,{"$f":"IFERROR(INDEX($G$7:$H$13233,$L1401,COLUMNS($B$6:B1400)),\"\")","v":"82121900"},"Bookbinding",null,null,null,"82121900","Bookbinding","82121900",1395,1395,1395,"82121900"]
[null,{"$f":"IFERROR(INDEX($G$7:$H$13233,$L1402,COLUMNS($B$6:B1401)),\"\")","v":"56101507"},"Bookcases",null,null,null,"56101507","Bookcases","56101507",1396,1396,1396,"56101507"]
[null,{"$f":"IFERROR(INDEX($G$7:$H$13233,$L1403,COLUMNS($B$6:B1402)),\"\")","v":"14111819"},"Booking forms or reservation books",null,null,null,"14111819","Booking forms or reservation books","14111819",1397,1397,1397,"14111819"]
[null,{"$f":"IFERROR(INDEX($G$7:$H$13233,$L1404,COLUMNS($B$6:B1403)),\"\")","v":"84111504"},"Bookkeeping services",null,null,null,"84111504","Bookkeeping services","84111504",1398,1398,1398,"84111504"]
[null,{"$f":"IFERROR(INDEX($G$7:$H$13233,$L1405,COLUMNS($B$6:B1404)),\"\")","v":"44121627"},"Bookmarks",null,null,null,"44121627","Bookmarks","44121627",1399,1399,1399,"44121627"]
[null,{"$f":"IFERROR(INDEX($G$7:$H$13233,$L1406,COLUMNS($B$6:B1405)),\"\")","v":"60131701"},"Boomwhackers",null,null,null,"60131701","Boomwhackers","60131701",1400,1400,1400,"60131701"]
[null,{"$f":"IFERROR(INDEX($G$7:$H$13233,$L1407,COLUMNS($B$6:B1406)),\"\")","v":"48102002"},"Booths",null,null,null,"48102002","Booths","48102002",1401,1401,1401,"48102002"]
[null,{"$f":"IFERROR(INDEX($G$7:$H$13233,$L1408,COLUMNS($B$6:B1407)),\"\")","v":"53111500"},"Boots",null,null,null,"53111500","Boots","53111500",1402,1402,1402,"53111500"]
[null,{"$f":"IFERROR(INDEX($G$7:$H$13233,$L1409,COLUMNS($B$6:B1408)),\"\")","v":"41113901"},"Bore measuring instruments",null,null,null,"41113901","Bore measuring instruments","41113901",1403,1403,1403,"41113901"]
[null,{"$f":"IFERROR(INDEX($G$7:$H$13233,$L1410,COLUMNS($B$6:B1409)),\"\")","v":"41111716"},"Borescope inspection equipment",null,null,null,"41111716","Borescope inspection equipment","41111716",1404,1404,1404,"41111716"]
[null,{"$f":"IFERROR(INDEX($G$7:$H$13233,$L1411,COLUMNS($B$6:B1410)),\"\")","v":"51111838"},"Bortezomib",null,null,null,"51111838","Bortezomib","51111838",1405,1405,1405,"51111838"]
[null,{"$f":"IFERROR(INDEX($G$7:$H$13233,$L1412,COLUMNS($B$6:B1411)),\"\")","v":"51313702"},"Bosentan",null,null,null,"51313702","Bosentan","51313702",1406,1406,1406,"51313702"]
[null,{"$f":"IFERROR(INDEX($G$7:$H$13233,$L1413,COLUMNS($B$6:B1412)),\"\")","v":"81171700"},"Botanical science services",null,null,null,"81171700","Botanical science services","81171700",1407,1407,1407,"81171700"]
[null,{"$f":"IFERROR(INDEX($G$7:$H$13233,$L1414,COLUMNS($B$6:B1413)),\"\")","v":"41121516"},"Bottle top dispensers",null,null,null,"41121516","Bottle top dispensers","41121516",1408,1408,1408,"41121516"]
[null,{"$f":"IFERROR(INDEX($G$7:$H$13233,$L1415,COLUMNS($B$6:B1414)),\"\")","v":"41106204"},"Bottled agar media or stabs for bacteria",null,null,null,"41106204","Bottled agar media or stabs for bacteria","41106204",1409,1409,1409,"41106204"]
[null,{"$f":"IFERROR(INDEX($G$7:$H$13233,$L1416,COLUMNS($B$6:B1415)),\"\")","v":"48101711"},"Bottled water dispensers or accessories",null,null,null,"48101711","Bottled water dispensers or accessories","48101711",1410,1410,1410,"48101711"]
[null,{"$f":"IFERROR(INDEX($G$7:$H$13233,$L1417,COLUMNS($B$6:B1416)),\"\")","v":"24122000"},"Bottles",null,null,null,"24122000","Bottles","24122000",1411,1411,1411,"24122000"]
[null,{"$f":"IFERROR(INDEX($G$7:$H$13233,$L1418,COLUMNS($B$6:B1417)),\"\")","v":"41104914"},"Bottletops or filtration cups",null,null,null,"41104914","Bottletops or filtration cups","41104914",1412,1412,1412,"41104914"]
[null,{"$f":"IFERROR(INDEX($G$7:$H$13233,$L1419,COLUMNS($B$6:B1418)),\"\")","v":"51152005"},"Botulinum toxin",null,null,null,"51152005","Botulinum toxin","51152005",1413,1413,1413,"51152005"]
[null,{"$f":"IFERROR(INDEX($G$7:$H$13233,$L1420,COLUMNS($B$6:B1419)),\"\")","v":"49141501"},"Bouyancy compensators",null,null,null,"49141501","Bouyancy compensators","49141501",1414,1414,1414,"49141501"]
[null,{"$f":"IFERROR(INDEX($G$7:$H$13233,$L1421,COLUMNS($B$6:B1420)),\"\")","v":"70121608"},"Bovine production services",null,null,null,"70121608","Bovine production services","70121608",1415,1415,1415,"70121608"]
[null,{"$f":"IFERROR(INDEX($G$7:$H$13233,$L1422,COLUMNS($B$6:B1421)),\"\")","v":"11131609"},"Bovine semen",null,null,null,"11131609","Bovine semen","11131609",1416,1416,1416,"11131609"]
[null,{"$f":"IFERROR(INDEX($G$7:$H$13233,$L1423,COLUMNS($B$6:B1422)),\"\")","v":"72153101"},"Bowling alley installation service",null,null,null,"72153101","Bowling alley installation service","72153101",1417,1417,1417,"72153101"]
[null,{"$f":"IFERROR(INDEX($G$7:$H$13233,$L1424,COLUMNS($B$6:B1423)),\"\")","v":"44122036"},"Box file",null,null,null,"44122036","Box file","44122036",1418,1418,1418,"44122036"]
[null,{"$f":"IFERROR(INDEX($G$7:$H$13233,$L1425,COLUMNS($B$6:B1424)),\"\")","v":"24113103"},"Box lid",null,null,null,"24113103","Box lid","24113103",1419,1419,1419,"24113103"]
[null,{"$f":"IFERROR(INDEX($G$7:$H$13233,$L1426,COLUMNS($B$6:B1425)),\"\")","v":"24113107"},"Box partition",null,null,null,"24113107","Box partition","24113107",1420,1420,1420,"24113107"]
[null,{"$f":"IFERROR(INDEX($G$7:$H$13233,$L1427,COLUMNS($B$6:B1426)),\"\")","v":"78101601"},"Boxcar transport services",null,null,null,"78101601","Boxcar transport services","78101601",1421,1421,1421,"78101601"]
[null,{"$f":"IFERROR(INDEX($G$7:$H$13233,$L1428,COLUMNS($B$6:B1427)),\"\")","v":"24113100"},"Boxes",null,null,null,"24113100","Boxes","24113100",1422,1422,1422,"24113100"]
[null,{"$f":"IFERROR(INDEX($G$7:$H$13233,$L1429,COLUMNS($B$6:B1428)),\"\")","v":"49171600"},"Boxing equipment",null,null,null,"49171600","Boxing equipment","49171600",1423,1423,1423,"49171600"]
[null,{"$f":"IFERROR(INDEX($G$7:$H$13233,$L1430,COLUMNS($B$6:B1429)),\"\")","v":"49171601"},"Boxing rings",null,null,null,"49171601","Boxing rings","49171601",1424,1424,1424,"49171601"]
[null,{"$f":"IFERROR(INDEX($G$7:$H$13233,$L1431,COLUMNS($B$6:B1430)),\"\")","v":"53111503"},"Boys boots",null,null,null,"53111503","Boys boots","53111503",1425,1425,1425,"53111503"]
[null,{"$f":"IFERROR(INDEX($G$7:$H$13233,$L1432,COLUMNS($B$6:B1431)),\"\")","v":"42202102"},"Brachytherapy catheters or syringes or inserters or applicators",null,null,null,"42202102","Brachytherapy catheters or syringes or inserters or applicators","42202102",1426,1426,1426,"42202102"]
[null,{"$f":"IFERROR(INDEX($G$7:$H$13233,$L1433,COLUMNS($B$6:B1432)),\"\")","v":"42202101"},"Brachytherapy intracavity containers or seeds",null,null,null,"42202101","Brachytherapy intracavity containers or seeds","42202101",1427,1427,1427,"42202101"]
[null,{"$f":"IFERROR(INDEX($G$7:$H$13233,$L1434,COLUMNS($B$6:B1433)),\"\")","v":"42202100"},"Brachytherapy products",null,null,null,"42202100","Brachytherapy products","42202100",1428,1428,1428,"42202100"]
[null,{"$f":"IFERROR(INDEX($G$7:$H$13233,$L1435,COLUMNS($B$6:B1434)),\"\")","v":"42202104"},"Brachytherapy seed capture kits",null,null,null,"42202104","Brachytherapy seed capture kits","42202104",1429,1429,1429,"42202104"]
[null,{"$f":"IFERROR(INDEX($G$7:$H$13233,$L1436,COLUMNS($B$6:B1435)),\"\")","v":"42202103"},"Brachytherapy seed storage containers",null,null,null,"42202103","Brachytherapy seed storage containers","42202103",1430,1430,1430,"42202103"]
[null,{"$f":"IFERROR(INDEX($G$7:$H$13233,$L1437,COLUMNS($B$6:B1436)),\"\")","v":"42202105"},"Brachytherapy units",null,null,null,"42202105","Brachytherapy units","42202105",1431,1431,1431,"42202105"]
[null,{"$f":"IFERROR(INDEX($G$7:$H$13233,$L1438,COLUMNS($B$6:B1437)),\"\")","v":"70111504"},"Bracing services",null,null,null,"70111504","Bracing services","70111504",1432,1432,1432,"70111504"]
[null,{"$f":"IFERROR(INDEX($G$7:$H$13233,$L1439,COLUMNS($B$6:B1438)),\"\")","v":"31162500"},"Brackets and braces",null,null,null,"31162500","Brackets and braces","31162500",1433,1433,1433,"31162500"]
[null,{"$f":"IFERROR(INDEX($G$7:$H$13233,$L1440,COLUMNS($B$6:B1439)),\"\")","v":"50301505"},"Braeburn apples",null,null,null,"50301505","Braeburn apples","50301505",1434,1434,1434,"50301505"]
[null,{"$f":"IFERROR(INDEX($G$7:$H$13233,$L1441,COLUMNS($B$6:B1440)),\"\")","v":"30103700"},"Braid",null,null,null,"30103700","Braid","30103700",1435,1435,1435,"30103700"]
[null,{"$f":"IFERROR(INDEX($G$7:$H$13233,$L1442,COLUMNS($B$6:B1441)),\"\")","v":"30131516"},"Braille block",null,null,null,"30131516","Braille block","30131516",1436,1436,1436,"30131516"]
[null,{"$f":"IFERROR(INDEX($G$7:$H$13233,$L1443,COLUMNS($B$6:B1442)),\"\")","v":"42211702"},"Braille devices for the physically challenged",null,null,null,"42211702","Braille devices for the physically challenged","42211702",1437,1437,1437,"42211702"]
[null,{"$f":"IFERROR(INDEX($G$7:$H$13233,$L1444,COLUMNS($B$6:B1443)),\"\")","v":"42211703"},"Braille writing paper or plastic for physically challenged",null,null,null,"42211703","Braille writing paper or plastic for physically challenged","42211703",1438,1438,1438,"42211703"]
[null,{"$f":"IFERROR(INDEX($G$7:$H$13233,$L1445,COLUMNS($B$6:B1444)),\"\")","v":"41113687"},"Brake testing machine",null,null,null,"41113687","Brake testing machine","41113687",1439,1439,1439,"41113687"]
[null,{"$f":"IFERROR(INDEX($G$7:$H$13233,$L1446,COLUMNS($B$6:B1445)),\"\")","v":"41111962"},"Brake wear sensor",null,null,null,"41111962","Brake wear sensor","41111962",1440,1440,1440,"41111962"]
[null,{"$f":"IFERROR(INDEX($G$7:$H$13233,$L1447,COLUMNS($B$6:B1446)),\"\")","v":"25171700"},"Braking systems and components",null,null,null,"25171700","Braking systems and components","25171700",1441,1441,1441,"25171700"]
[null,{"$f":"IFERROR(INDEX($G$7:$H$13233,$L1448,COLUMNS($B$6:B1447)),\"\")","v":"50301506"},"Bramley apples",null,null,null,"50301506","Bramley apples","50301506",1442,1442,1442,"50301506"]
[null,{"$f":"IFERROR(INDEX($G$7:$H$13233,$L1449,COLUMNS($B$6:B1448)),\"\")","v":"50301507"},"Bramley seedling apples",null,null,null,"50301507","Bramley seedling apples","50301507",1443,1443,1443,"50301507"]
[null,{"$f":"IFERROR(INDEX($G$7:$H$13233,$L1450,COLUMNS($B$6:B1449)),\"\")","v":"80141401"},"Brand measurement",null,null,null,"80141401","Brand measurement","80141401",1444,1444,1444,"80141401"]
[null,{"$f":"IFERROR(INDEX($G$7:$H$13233,$L1451,COLUMNS($B$6:B1450)),\"\")","v":"80141604"},"Branding of product naming services",null,null,null,"80141604","Branding of product naming services","80141604",1445,1445,1445,"80141604"]
[null,{"$f":"IFERROR(INDEX($G$7:$H$13233,$L1452,COLUMNS($B$6:B1451)),\"\")","v":"60131100"},"Brass instruments",null,null,null,"60131100","Brass instruments","60131100",1446,1446,1446,"60131100"]
[null,{"$f":"IFERROR(INDEX($G$7:$H$13233,$L1453,COLUMNS($B$6:B1452)),\"\")","v":"23271500"},"Brazing machinery",null,null,null,"23271500","Brazing machinery","23271500",1447,1447,1447,"23271500"]
[null,{"$f":"IFERROR(INDEX($G$7:$H$13233,$L1454,COLUMNS($B$6:B1453)),\"\")","v":"50180000"},"Bread and bakery products",null,null,null,"50180000","Bread and bakery products","50180000",1448,1448,1448,"50180000"]
[null,{"$f":"IFERROR(INDEX($G$7:$H$13233,$L1455,COLUMNS($B$6:B1454)),\"\")","v":"50181900"},"Bread and biscuits and cookies",null,null,null,"50181900","Bread and biscuits and cookies","50181900",1449,1449,1449,"50181900"]
[null,{"$f":"IFERROR(INDEX($G$7:$H$13233,$L1456,COLUMNS($B$6:B1455)),\"\")","v":"95121620"},"Breakwater",null,null,null,"95121620","Breakwater","95121620",1450,1450,1450,"95121620"]
[null,{"$f":"IFERROR(INDEX($G$7:$H$13233,$L1457,COLUMNS($B$6:B1456)),\"\")","v":"42231900"},"Breast feeding equipment and accessories and supplies",null,null,null,"42231900","Breast feeding equipment and accessories and supplies","42231900",1451,1451,1451,"42231900"]
[null,{"$f":"IFERROR(INDEX($G$7:$H$13233,$L1458,COLUMNS($B$6:B1457)),\"\")","v":"42231904"},"Breast feeding pillows",null,null,null,"42231904","Breast feeding pillows","42231904",1452,1452,1452,"42231904"]
[null,{"$f":"IFERROR(INDEX($G$7:$H$13233,$L1459,COLUMNS($B$6:B1458)),\"\")","v":"42231903"},"Breast pump kits",null,null,null,"42231903","Breast pump kits","42231903",1453,1453,1453,"42231903"]
[null,{"$f":"IFERROR(INDEX($G$7:$H$13233,$L1460,COLUMNS($B$6:B1459)),\"\")","v":"42231901"},"Breast pumps",null,null,null,"42231901","Breast pumps","42231901",1454,1454,1454,"42231901"]
[null,{"$f":"IFERROR(INDEX($G$7:$H$13233,$L1461,COLUMNS($B$6:B1460)),\"\")","v":"42231902"},"Breast shells or shields",null,null,null,"42231902","Breast shells or shields","42231902",1455,1455,1455,"42231902"]
[null,{"$f":"IFERROR(INDEX($G$7:$H$13233,$L1462,COLUMNS($B$6:B1461)),\"\")","v":"42272223"},"Breathing apparatus accessories or supplies",null,null,null,"42272223","Breathing apparatus accessories or supplies","42272223",1456,1456,1456,"42272223"]
[null,{"$f":"IFERROR(INDEX($G$7:$H$13233,$L1463,COLUMNS($B$6:B1462)),\"\")","v":"51111783"},"Brentuximab vedotin",null,null,null,"51111783","Brentuximab vedotin","51111783",1457,1457,1457,"51111783"]
[null,{"$f":"IFERROR(INDEX($G$7:$H$13233,$L1464,COLUMNS($B$6:B1463)),\"\")","v":"30151512"},"Brick roofing tile",null,null,null,"30151512","Brick roofing tile","30151512",1458,1458,1458,"30151512"]
[null,{"$f":"IFERROR(INDEX($G$7:$H$13233,$L1465,COLUMNS($B$6:B1464)),\"\")","v":"30121708"},"Brick tile",null,null,null,"30121708","Brick tile","30121708",1459,1459,1459,"30121708"]
[null,{"$f":"IFERROR(INDEX($G$7:$H$13233,$L1466,COLUMNS($B$6:B1465)),\"\")","v":"72151903"},"Bricklaying service",null,null,null,"72151903","Bricklaying service","72151903",1460,1460,1460,"72151903"]
[null,{"$f":"IFERROR(INDEX($G$7:$H$13233,$L1467,COLUMNS($B$6:B1466)),\"\")","v":"30131600"},"Bricks",null,null,null,"30131600","Bricks","30131600",1461,1461,1461,"30131600"]
[null,{"$f":"IFERROR(INDEX($G$7:$H$13233,$L1468,COLUMNS($B$6:B1467)),\"\")","v":"72141107"},"Bridge construction and repair service",null,null,null,"72141107","Bridge construction and repair service","72141107",1462,1462,1462,"72141107"]
[null,{"$f":"IFERROR(INDEX($G$7:$H$13233,$L1469,COLUMNS($B$6:B1468)),\"\")","v":"30121715"},"Bridge expansion joint",null,null,null,"30121715","Bridge expansion joint","30121715",1463,1463,1463,"30121715"]
[null,{"$f":"IFERROR(INDEX($G$7:$H$13233,$L1470,COLUMNS($B$6:B1469)),\"\")","v":"72151305"},"Bridge painting service",null,null,null,"72151305","Bridge painting service","72151305",1464,1464,1464,"72151305"]
[null,{"$f":"IFERROR(INDEX($G$7:$H$13233,$L1471,COLUMNS($B$6:B1470)),\"\")","v":"30121703"},"Bridge rail",null,null,null,"30121703","Bridge rail","30121703",1465,1465,1465,"30121703"]
[null,{"$f":"IFERROR(INDEX($G$7:$H$13233,$L1472,COLUMNS($B$6:B1471)),\"\")","v":"30121716"},"Bridge seat mounting",null,null,null,"30121716","Bridge seat mounting","30121716",1466,1466,1466,"30121716"]
[null,{"$f":"IFERROR(INDEX($G$7:$H$13233,$L1473,COLUMNS($B$6:B1472)),\"\")","v":"43232913"},"Bridge software",null,null,null,"43232913","Bridge software","43232913",1467,1467,1467,"43232913"]
[null,{"$f":"IFERROR(INDEX($G$7:$H$13233,$L1474,COLUMNS($B$6:B1473)),\"\")","v":"53121701"},"Briefcases",null,null,null,"53121701","Briefcases","53121701",1468,1468,1468,"53121701"]
[null,{"$f":"IFERROR(INDEX($G$7:$H$13233,$L1475,COLUMNS($B$6:B1474)),\"\")","v":"51241131"},"Brimonidine tartrate",null,null,null,"51241131","Brimonidine tartrate","51241131",1469,1469,1469,"51241131"]
[null,{"$f":"IFERROR(INDEX($G$7:$H$13233,$L1476,COLUMNS($B$6:B1475)),\"\")","v":"51241513"},"Brimonidine/timolol",null,null,null,"51241513","Brimonidine/timolol","51241513",1470,1470,1470,"51241513"]
[null,{"$f":"IFERROR(INDEX($G$7:$H$13233,$L1477,COLUMNS($B$6:B1476)),\"\")","v":"50401501"},"Brittany artichokes",null,null,null,"50401501","Brittany artichokes","50401501",1471,1471,1471,"50401501"]
[null,{"$f":"IFERROR(INDEX($G$7:$H$13233,$L1478,COLUMNS($B$6:B1477)),\"\")","v":"43222632"},"Broadband aggregators",null,null,null,"43222632","Broadband aggregators","43222632",1472,1472,1472,"43222632"]
[null,{"$f":"IFERROR(INDEX($G$7:$H$13233,$L1479,COLUMNS($B$6:B1478)),\"\")","v":"43222801"},"Broadband or narrowband digital cross connect DCX equipment",null,null,null,"43222801","Broadband or narrowband digital cross connect DCX equipment","43222801",1473,1473,1473,"43222801"]
[null,{"$f":"IFERROR(INDEX($G$7:$H$13233,$L1480,COLUMNS($B$6:B1479)),\"\")","v":"82101600"},"Broadcast advertising",null,null,null,"82101600","Broadcast advertising","82101600",1474,1474,1474,"82101600"]
[null,{"$f":"IFERROR(INDEX($G$7:$H$13233,$L1481,COLUMNS($B$6:B1480)),\"\")","v":"45111708"},"Broadcast domain controller",null,null,null,"45111708","Broadcast domain controller","45111708",1475,1475,1475,"45111708"]
[null,{"$f":"IFERROR(INDEX($G$7:$H$13233,$L1482,COLUMNS($B$6:B1481)),\"\")","v":"72154053"},"Broadcasting station repair service",null,null,null,"72154053","Broadcasting station repair service","72154053",1476,1476,1476,"72154053"]
[null,{"$f":"IFERROR(INDEX($G$7:$H$13233,$L1483,COLUMNS($B$6:B1482)),\"\")","v":"10151525"},"Broccoli seeds or seedlings",null,null,null,"10151525","Broccoli seeds or seedlings","10151525",1477,1477,1477,"10151525"]
[null,{"$f":"IFERROR(INDEX($G$7:$H$13233,$L1484,COLUMNS($B$6:B1483)),\"\")","v":"51401501"},"Bromazepam",null,null,null,"51401501","Bromazepam","51401501",1478,1478,1478,"51401501"]
[null,{"$f":"IFERROR(INDEX($G$7:$H$13233,$L1485,COLUMNS($B$6:B1484)),\"\")","v":"51162704"},"Bromhexine",null,null,null,"51162704","Bromhexine","51162704",1479,1479,1479,"51162704"]
[null,{"$f":"IFERROR(INDEX($G$7:$H$13233,$L1486,COLUMNS($B$6:B1485)),\"\")","v":"51142501"},"Bromocriptine",null,null,null,"51142501","Bromocriptine","51142501",1480,1480,1480,"51142501"]
[null,{"$f":"IFERROR(INDEX($G$7:$H$13233,$L1487,COLUMNS($B$6:B1486)),\"\")","v":"42296305"},"Bronchoscopes",null,null,null,"42296305","Bronchoscopes","42296305",1481,1481,1481,"42296305"]
[null,{"$f":"IFERROR(INDEX($G$7:$H$13233,$L1488,COLUMNS($B$6:B1487)),\"\")","v":"82121906"},"Bronzing or gilding or edging or deckling",null,null,null,"82121906","Bronzing or gilding or edging or deckling","82121906",1482,1482,1482,"82121906"]
[null,{"$f":"IFERROR(INDEX($G$7:$H$13233,$L1489,COLUMNS($B$6:B1488)),\"\")","v":"47131604"},"Brooms",null,null,null,"47131604","Brooms","47131604",1483,1483,1483,"47131604"]
[null,{"$f":"IFERROR(INDEX($G$7:$H$13233,$L1490,COLUMNS($B$6:B1489)),\"\")","v":"47131600"},"Brooms and mops and brushes and accessories",null,null,null,"47131600","Brooms and mops and brushes and accessories","47131600",1484,1484,1484,"47131600"]
[null,{"$f":"IFERROR(INDEX($G$7:$H$13233,$L1491,COLUMNS($B$6:B1490)),\"\")","v":"27113000"},"Brushes",null,null,null,"27113000","Brushes","27113000",1485,1485,1485,"27113000"]
[null,{"$f":"IFERROR(INDEX($G$7:$H$13233,$L1492,COLUMNS($B$6:B1491)),\"\")","v":"10151531"},"Brussel sprout seeds or seedlings",null,null,null,"10151531","Brussel sprout seeds or seedlings","10151531",1486,1486,1486,"10151531"]
[null,{"$f":"IFERROR(INDEX($G$7:$H$13233,$L1493,COLUMNS($B$6:B1492)),\"\")","v":"48101921"},"Bucket, Food proof plastic",null,null,null,"48101921","Bucket, Food proof plastic","48101921",1487,1487,1487,"48101921"]
[null,{"$f":"IFERROR(INDEX($G$7:$H$13233,$L1494,COLUMNS($B$6:B1493)),\"\")","v":"50221111"},"Buckwheat (WFP food convention)",null,null,null,"50221111","Buckwheat (WFP food convention)","50221111",1488,1488,1488,"50221111"]
[null,{"$f":"IFERROR(INDEX($G$7:$H$13233,$L1495,COLUMNS($B$6:B1494)),\"\")","v":"50221111"},"Buckwheat (WFP food convention)",null,null,null,"50221111","Buckwheat (WFP food convention)","50221111",1489,1489,1489,"50221111"]
[null,{"$f":"IFERROR(INDEX($G$7:$H$13233,$L1496,COLUMNS($B$6:B1495)),\"\")","v":"51421802"},"Budesonide",null,null,null,"51421802","Budesonide","51421802",1490,1490,1490,"51421802"]
[null,{"$f":"IFERROR(INDEX($G$7:$H$13233,$L1497,COLUMNS($B$6:B1496)),\"\")","v":"51162012"},"Budesonide/formoterol",null,null,null,"51162012","Budesonide/formoterol","51162012",1491,1491,1491,"51162012"]
[null,{"$f":"IFERROR(INDEX($G$7:$H$13233,$L1498,COLUMNS($B$6:B1497)),\"\")","v":"93151603"},"Budget or public investment management",null,null,null,"93151603","Budget or public investment management","93151603",1492,1492,1492,"93151603"]
[null,{"$f":"IFERROR(INDEX($G$7:$H$13233,$L1499,COLUMNS($B$6:B1498)),\"\")","v":"84111703"},"Budget preparation or review services",null,null,null,"84111703","Budget preparation or review services","84111703",1493,1493,1493,"84111703"]
[null,{"$f":"IFERROR(INDEX($G$7:$H$13233,$L1500,COLUMNS($B$6:B1499)),\"\")","v":"12161700"},"Buffers",null,null,null,"12161700","Buffers","12161700",1494,1494,1494,"12161700"]
[null,{"$f":"IFERROR(INDEX($G$7:$H$13233,$L1501,COLUMNS($B$6:B1500)),\"\")","v":"22000000"},"Building and Construction Machinery and Accessories",null,null,null,"22000000","Building and Construction Machinery and Accessories","22000000",1495,1495,1495,"22000000"]
[null,{"$f":"IFERROR(INDEX($G$7:$H$13233,$L1502,COLUMNS($B$6:B1501)),\"\")","v":"72000000"},"Building and Facility Construction and Maintenance Services ",null,null,null,"72000000","Building and Facility Construction and Maintenance Services ","72000000",1496,1496,1496,"72000000"]
[null,{"$f":"IFERROR(INDEX($G$7:$H$13233,$L1503,COLUMNS($B$6:B1502)),\"\")","v":"72100000"},"Building and facility maintenance and repair services",null,null,null,"72100000","Building and facility maintenance and repair services","72100000",1497,1497,1497,"72100000"]
[null,{"$f":"IFERROR(INDEX($G$7:$H$13233,$L1504,COLUMNS($B$6:B1503)),\"\")","v":"72154039"},"Building board up service",null,null,null,"72154039","Building board up service","72154039",1498,1498,1498,"72154039"]
[null,{"$f":"IFERROR(INDEX($G$7:$H$13233,$L1505,COLUMNS($B$6:B1504)),\"\")","v":"76111501"},"Building cleaning services",null,null,null,"76111501","Building cleaning services","76111501",1499,1499,1499,"76111501"]
[null,{"$f":"IFERROR(INDEX($G$7:$H$13233,$L1506,COLUMNS($B$6:B1505)),\"\")","v":"76111600"},"Building component cleaning services",null,null,null,"76111600","Building component cleaning services","76111600",1500,1500,1500,"76111600"]
[null,{"$f":"IFERROR(INDEX($G$7:$H$13233,$L1507,COLUMNS($B$6:B1506)),\"\")","v":"81102502"},"Building consent and permit engineering peer review service",null,null,null,"81102502","Building consent and permit engineering peer review service","81102502",1501,1501,1501,"81102502"]
[null,{"$f":"IFERROR(INDEX($G$7:$H$13233,$L1508,COLUMNS($B$6:B1507)),\"\")","v":"81102503"},"Building consent processing and support service",null,null,null,"81102503","Building consent processing and support service","81102503",1502,1502,1502,"81102503"]
[null,{"$f":"IFERROR(INDEX($G$7:$H$13233,$L1509,COLUMNS($B$6:B1508)),\"\")","v":"22101900"},"Building construction machinery and accessories",null,null,null,"22101900","Building construction machinery and accessories","22101900",1503,1503,1503,"22101900"]
[null,{"$f":"IFERROR(INDEX($G$7:$H$13233,$L1510,COLUMNS($B$6:B1509)),\"\")","v":"81101513"},"Building construction management",null,null,null,"81101513","Building construction management","81101513",1504,1504,1504,"81101513"]
[null,{"$f":"IFERROR(INDEX($G$7:$H$13233,$L1511,COLUMNS($B$6:B1510)),\"\")","v":"22102000"},"Building demolition machinery and equipment",null,null,null,"22102000","Building demolition machinery and equipment","22102000",1505,1505,1505,"22102000"]
[null,{"$f":"IFERROR(INDEX($G$7:$H$13233,$L1512,COLUMNS($B$6:B1511)),\"\")","v":"39121803"},"Building environmental control system",null,null,null,"39121803","Building environmental control system","39121803",1506,1506,1506,"39121803"]
[null,{"$f":"IFERROR(INDEX($G$7:$H$13233,$L1513,COLUMNS($B$6:B1512)),\"\")","v":"72153501"},"Building exterior cleaning service",null,null,null,"72153501","Building exterior cleaning service","72153501",1507,1507,1507,"72153501"]
[null,{"$f":"IFERROR(INDEX($G$7:$H$13233,$L1514,COLUMNS($B$6:B1513)),\"\")","v":"72153502"},"Building exterior sandblasting service",null,null,null,"72153502","Building exterior sandblasting service","72153502",1508,1508,1508,"72153502"]
[null,{"$f":"IFERROR(INDEX($G$7:$H$13233,$L1515,COLUMNS($B$6:B1514)),\"\")","v":"72153503"},"Building exterior steam cleaning service",null,null,null,"72153503","Building exterior steam cleaning service","72153503",1509,1509,1509,"72153503"]
[null,{"$f":"IFERROR(INDEX($G$7:$H$13233,$L1516,COLUMNS($B$6:B1515)),\"\")","v":"72153206"},"Building fireproofing service",null,null,null,"72153206","Building fireproofing service","72153206",1510,1510,1510,"72153206"]
[null,{"$f":"IFERROR(INDEX($G$7:$H$13233,$L1517,COLUMNS($B$6:B1516)),\"\")","v":"72101521"},"Building framing service",null,null,null,"72101521","Building framing service","72101521",1511,1511,1511,"72101521"]
[null,{"$f":"IFERROR(INDEX($G$7:$H$13233,$L1518,COLUMNS($B$6:B1517)),\"\")","v":"81141805"},"Building inspection service",null,null,null,"81141805","Building inspection service","81141805",1512,1512,1512,"81141805"]
[null,{"$f":"IFERROR(INDEX($G$7:$H$13233,$L1519,COLUMNS($B$6:B1518)),\"\")","v":"72152103"},"Building insulation service",null,null,null,"72152103","Building insulation service","72152103",1513,1513,1513,"72152103"]
[null,{"$f":"IFERROR(INDEX($G$7:$H$13233,$L1520,COLUMNS($B$6:B1519)),\"\")","v":"72101500"},"Building maintenance and repair services",null,null,null,"72101500","Building maintenance and repair services","72101500",1514,1514,1514,"72101500"]
[null,{"$f":"IFERROR(INDEX($G$7:$H$13233,$L1521,COLUMNS($B$6:B1520)),\"\")","v":"72101507"},"Building maintenance service",null,null,null,"72101507","Building maintenance service","72101507",1515,1515,1515,"72101507"]
[null,{"$f":"IFERROR(INDEX($G$7:$H$13233,$L1522,COLUMNS($B$6:B1521)),\"\")","v":"72154004"},"Building mover service",null,null,null,"72154004","Building mover service","72154004",1516,1516,1516,"72154004"]
[null,{"$f":"IFERROR(INDEX($G$7:$H$13233,$L1523,COLUMNS($B$6:B1522)),\"\")","v":"84131501"},"Building or building contents insurance",null,null,null,"84131501","Building or building contents insurance","84131501",1517,1517,1517,"84131501"]
[null,{"$f":"IFERROR(INDEX($G$7:$H$13233,$L1524,COLUMNS($B$6:B1523)),\"\")","v":"93151516"},"Building permit",null,null,null,"93151516","Building permit","93151516",1518,1518,1518,"93151516"]
[null,{"$f":"IFERROR(INDEX($G$7:$H$13233,$L1525,COLUMNS($B$6:B1524)),\"\")","v":"72153900"},"Building site preparation services",null,null,null,"72153900","Building site preparation services","72153900",1519,1519,1519,"72153900"]
[null,{"$f":"IFERROR(INDEX($G$7:$H$13233,$L1526,COLUMNS($B$6:B1525)),\"\")","v":"50221112"},"Bulgur Wheat (WFP food convention)",null,null,null,"50221112","Bulgur Wheat (WFP food convention)","50221112",1520,1520,1520,"50221112"]
[null,{"$f":"IFERROR(INDEX($G$7:$H$13233,$L1527,COLUMNS($B$6:B1526)),\"\")","v":"78101602"},"Bulk cargo rail transport services",null,null,null,"78101602","Bulk cargo rail transport services","78101602",1521,1521,1521,"78101602"]
[null,{"$f":"IFERROR(INDEX($G$7:$H$13233,$L1528,COLUMNS($B$6:B1527)),\"\")","v":"25111524"},"Bulk carrier",null,null,null,"25111524","Bulk carrier","25111524",1522,1522,1522,"25111524"]
[null,{"$f":"IFERROR(INDEX($G$7:$H$13233,$L1529,COLUMNS($B$6:B1528)),\"\")","v":"20102304"},"Bulk material carriers",null,null,null,"20102304","Bulk material carriers","20102304",1523,1523,1523,"20102304"]
[null,{"$f":"IFERROR(INDEX($G$7:$H$13233,$L1530,COLUMNS($B$6:B1529)),\"\")","v":"78131700"},"Bulk storage",null,null,null,"78131700","Bulk storage","78131700",1524,1524,1524,"78131700"]
[null,{"$f":"IFERROR(INDEX($G$7:$H$13233,$L1531,COLUMNS($B$6:B1530)),\"\")","v":"24101502"},"Bulk transporters",null,null,null,"24101502","Bulk transporters","24101502",1525,1525,1525,"24101502"]
[null,{"$f":"IFERROR(INDEX($G$7:$H$13233,$L1532,COLUMNS($B$6:B1531)),\"\")","v":"46181502"},"Bullet proof vests",null,null,null,"46181502","Bullet proof vests","46181502",1526,1526,1526,"46181502"]
[null,{"$f":"IFERROR(INDEX($G$7:$H$13233,$L1533,COLUMNS($B$6:B1532)),\"\")","v":"44111907"},"Bulletin boards or accessories",null,null,null,"44111907","Bulletin boards or accessories","44111907",1527,1527,1527,"44111907"]
[null,{"$f":"IFERROR(INDEX($G$7:$H$13233,$L1534,COLUMNS($B$6:B1533)),\"\")","v":"51191504"},"Bumetanide",null,null,null,"51191504","Bumetanide","51191504",1528,1528,1528,"51191504"]
[null,{"$f":"IFERROR(INDEX($G$7:$H$13233,$L1535,COLUMNS($B$6:B1534)),\"\")","v":"44102301"},"Bundling machines",null,null,null,"44102301","Bundling machines","44102301",1529,1529,1529,"44102301"]
[null,{"$f":"IFERROR(INDEX($G$7:$H$13233,$L1536,COLUMNS($B$6:B1535)),\"\")","v":"25111520"},"Buoy",null,null,null,"25111520","Buoy","25111520",1530,1530,1530,"25111520"]
[null,{"$f":"IFERROR(INDEX($G$7:$H$13233,$L1537,COLUMNS($B$6:B1536)),\"\")","v":"51271622"},"Bupivacaine hydrochloride",null,null,null,"51271622","Bupivacaine hydrochloride","51271622",1531,{"$f":"IF(ISNUMBER(SEARCH($H$4,H1537)),J1537,\"\")","v":1531},{"$f":"IFERROR(SMALL($K$7:$K$13233,J1537),\"\")","v":1531},"51271622"]
[null,{"$f":"IFERROR(INDEX($G$7:$H$13233,$L1538,COLUMNS($B$6:B1537)),\"\")","v":"51271623"},"Bupivacaine hydrochloride monohydrate",null,null,null,"51271623","Bupivacaine hydrochloride monohydrate","51271623",1532,1532,1532,"51271623"]
[null,{"$f":"IFERROR(INDEX($G$7:$H$13233,$L1539,COLUMNS($B$6:B1538)),\"\")","v":"51273921"},"Bupivacaine/dextrose",null,null,null,"51273921","Bupivacaine/dextrose","51273921",1533,1533,1533,"51273921"]
[null,{"$f":"IFERROR(INDEX($G$7:$H$13233,$L1540,COLUMNS($B$6:B1539)),\"\")","v":"51372003"},"Buprenorphine",null,null,null,"51372003","Buprenorphine","51372003",1534,1534,1534,"51372003"]
[null,{"$f":"IFERROR(INDEX($G$7:$H$13233,$L1541,COLUMNS($B$6:B1540)),\"\")","v":"51372022"},"Buprenorphine hydrochloride",null,null,null,"51372022","Buprenorphine hydrochloride","51372022",1535,1535,1535,"51372022"]
[null,{"$f":"IFERROR(INDEX($G$7:$H$13233,$L1542,COLUMNS($B$6:B1541)),\"\")","v":"51293402"},"Bupropion",null,null,null,"51293402","Bupropion","51293402",1536,1536,1536,"51293402"]
[null,{"$f":"IFERROR(INDEX($G$7:$H$13233,$L1543,COLUMNS($B$6:B1542)),\"\")","v":"92121502"},"Burglary protection services",null,null,null,"92121502","Burglary protection services","92121502",1537,1537,1537,"92121502"]
[null,{"$f":"IFERROR(INDEX($G$7:$H$13233,$L1544,COLUMNS($B$6:B1543)),\"\")","v":"48131500"},"Burial or grave products",null,null,null,"48131500","Burial or grave products","48131500",1538,1538,1538,"48131500"]
[null,{"$f":"IFERROR(INDEX($G$7:$H$13233,$L1545,COLUMNS($B$6:B1544)),\"\")","v":"11162116"},"Burlap cloth",null,null,null,"11162116","Burlap cloth","11162116",1539,1539,1539,"11162116"]
[null,{"$f":"IFERROR(INDEX($G$7:$H$13233,$L1546,COLUMNS($B$6:B1545)),\"\")","v":"41112416"},"Bursting pressure tester",null,null,null,"41112416","Bursting pressure tester","41112416",1540,1540,1540,"41112416"]
[null,{"$f":"IFERROR(INDEX($G$7:$H$13233,$L1547,COLUMNS($B$6:B1546)),\"\")","v":"95121604"},"Bus garage",null,null,null,"95121604","Bus garage","95121604",1541,1541,1541,"95121604"]
[null,{"$f":"IFERROR(INDEX($G$7:$H$13233,$L1548,COLUMNS($B$6:B1547)),\"\")","v":"95121603"},"Bus station",null,null,null,"95121603","Bus station","95121603",1542,1542,1542,"95121603"]
[null,{"$f":"IFERROR(INDEX($G$7:$H$13233,$L1549,COLUMNS($B$6:B1548)),\"\")","v":"70161705"},"Bush and forest ecology and conservation service",null,null,null,"70161705","Bush and forest ecology and conservation service","70161705",1543,1543,1543,"70161705"]
[null,{"$f":"IFERROR(INDEX($G$7:$H$13233,$L1550,COLUMNS($B$6:B1549)),\"\")","v":"31171600"},"Bushings",null,null,null,"31171600","Bushings","31171600",1544,1544,1544,"31171600"]
[null,{"$f":"IFERROR(INDEX($G$7:$H$13233,$L1551,COLUMNS($B$6:B1550)),\"\")","v":"80160000"},"Business administration services",null,null,null,"80160000","Business administration services","80160000",1545,1545,1545,"80160000"]
[null,{"$f":"IFERROR(INDEX($G$7:$H$13233,$L1552,COLUMNS($B$6:B1551)),\"\")","v":"80101500"},"Business and corporate management consultation services",null,null,null,"80101500","Business and corporate management consultation services","80101500",1546,1546,1546,"80101500"]
[null,{"$f":"IFERROR(INDEX($G$7:$H$13233,$L1553,COLUMNS($B$6:B1552)),\"\")","v":"80171909"},"Business and utility provider relations consultation and engagement",null,null,null,"80171909","Business and utility provider relations consultation and engagement","80171909",1547,1547,1547,"80171909"]
[null,{"$f":"IFERROR(INDEX($G$7:$H$13233,$L1554,COLUMNS($B$6:B1553)),\"\")","v":"44111518"},"Business card holders",null,null,null,"44111518","Business card holders","44111518",1548,1548,1548,"44111518"]
[null,{"$f":"IFERROR(INDEX($G$7:$H$13233,$L1555,COLUMNS($B$6:B1554)),\"\")","v":"43211722"},"Business card scanner",null,null,null,"43211722","Business card scanner","43211722",1549,1549,1549,"43211722"]
[null,{"$f":"IFERROR(INDEX($G$7:$H$13233,$L1556,COLUMNS($B$6:B1555)),\"\")","v":"14111604"},"Business cards",null,null,null,"14111604","Business cards","14111604",1550,1550,1550,"14111604"]
[null,{"$f":"IFERROR(INDEX($G$7:$H$13233,$L1557,COLUMNS($B$6:B1556)),\"\")","v":"53121700"},"Business cases",null,null,null,"53121700","Business cases","53121700",1551,1551,1551,"53121700"]
[null,{"$f":"IFERROR(INDEX($G$7:$H$13233,$L1558,COLUMNS($B$6:B1557)),\"\")","v":"84141700"},"Business credit agencies",null,null,null,"84141700","Business credit agencies","84141700",1552,1552,1552,"84141700"]
[null,{"$f":"IFERROR(INDEX($G$7:$H$13233,$L1559,COLUMNS($B$6:B1558)),\"\")","v":"84141701"},"Business credit gathering or reporting services",null,null,null,"84141701","Business credit gathering or reporting services","84141701",1553,1553,1553,"84141701"]
[null,{"$f":"IFERROR(INDEX($G$7:$H$13233,$L1560,COLUMNS($B$6:B1559)),\"\")","v":"60105309"},"Business etiquette instructional materials",null,null,null,"60105309","Business etiquette instructional materials","60105309",1554,1554,1554,"60105309"]
[null,{"$f":"IFERROR(INDEX($G$7:$H$13233,$L1561,COLUMNS($B$6:B1560)),\"\")","v":"80161600"},"Business facilities oversight",null,null,null,"80161600","Business facilities oversight","80161600",1555,1555,1555,"80161600"]
[null,{"$f":"IFERROR(INDEX($G$7:$H$13233,$L1562,COLUMNS($B$6:B1561)),\"\")","v":"14111806"},"Business forms or questionnaires",null,null,null,"14111806","Business forms or questionnaires","14111806",1556,1556,1556,"14111806"]
[null,{"$f":"IFERROR(INDEX($G$7:$H$13233,$L1563,COLUMNS($B$6:B1562)),\"\")","v":"43231500"},"Business function specific software",null,null,null,"43231500","Business function specific software","43231500",1557,1557,1557,"43231500"]
[null,{"$f":"IFERROR(INDEX($G$7:$H$13233,$L1564,COLUMNS($B$6:B1563)),\"\")","v":"43232314"},"Business intelligence and data analysis software",null,null,null,"43232314","Business intelligence and data analysis software","43232314",1558,1558,1558,"43232314"]
[null,{"$f":"IFERROR(INDEX($G$7:$H$13233,$L1565,COLUMNS($B$6:B1564)),\"\")","v":"80101508"},"Business intelligence consulting services",null,null,null,"80101508","Business intelligence consulting services","80101508",1559,1559,1559,"80101508"]
[null,{"$f":"IFERROR(INDEX($G$7:$H$13233,$L1566,COLUMNS($B$6:B1565)),\"\")","v":"84131507"},"Business interruption insurance",null,null,null,"84131507","Business interruption insurance","84131507",1560,1560,1560,"84131507"]
[null,{"$f":"IFERROR(INDEX($G$7:$H$13233,$L1567,COLUMNS($B$6:B1566)),\"\")","v":"80121600"},"Business law services",null,null,null,"80121600","Business law services","80121600",1561,1561,1561,"80121600"]
[null,{"$f":"IFERROR(INDEX($G$7:$H$13233,$L1568,COLUMNS($B$6:B1567)),\"\")","v":"14111828"},"Business letterhead paper",null,null,null,"14111828","Business letterhead paper","14111828",1562,1562,1562,"14111828"]
[null,{"$f":"IFERROR(INDEX($G$7:$H$13233,$L1569,COLUMNS($B$6:B1568)),\"\")","v":"14111800"},"Business use papers",null,null,null,"14111800","Business use papers","14111800",1563,1563,1563,"14111800"]
[null,{"$f":"IFERROR(INDEX($G$7:$H$13233,$L1570,COLUMNS($B$6:B1569)),\"\")","v":"G"},"Business, Communication & Technology Equipment & Supplies",null,null,null,"G","Business, Communication & Technology Equipment & Supplies","G",1564,1564,1564,"G"]
[null,{"$f":"IFERROR(INDEX($G$7:$H$13233,$L1571,COLUMNS($B$6:B1570)),\"\")","v":"25101502"},"Busses",null,null,null,"25101502","Busses","25101502",1565,1565,1565,"25101502"]
[null,{"$f":"IFERROR(INDEX($G$7:$H$13233,$L1572,COLUMNS($B$6:B1571)),\"\")","v":"51112301"},"Busulfan",null,null,null,"51112301","Busulfan","51112301",1566,1566,1566,"51112301"]
[null,{"$f":"IFERROR(INDEX($G$7:$H$13233,$L1573,COLUMNS($B$6:B1572)),\"\")","v":"15111505"},"Butane",null,null,null,"15111505","Butane","15111505",1567,1567,1567,"15111505"]
[null,{"$f":"IFERROR(INDEX($G$7:$H$13233,$L1574,COLUMNS($B$6:B1573)),\"\")","v":"14121807"},"Butcher papers",null,null,null,"14121807","Butcher papers","14121807",1568,1568,1568,"14121807"]
[null,{"$f":"IFERROR(INDEX($G$7:$H$13233,$L1575,COLUMNS($B$6:B1574)),\"\")","v":"51301802"},"Butenafine hydrochloride",null,null,null,"51301802","Butenafine hydrochloride","51301802",1569,1569,1569,"51301802"]
[null,{"$f":"IFERROR(INDEX($G$7:$H$13233,$L1576,COLUMNS($B$6:B1575)),\"\")","v":"51151625"},"Butylscopolamine",null,null,null,"51151625","Butylscopolamine","51151625",1570,1570,1570,"51151625"]
[null,{"$f":"IFERROR(INDEX($G$7:$H$13233,$L1577,COLUMNS($B$6:B1576)),\"\")","v":"51151675"},"Butylscopolamine/metamizole sodium (dipyrone)",null,null,null,"51151675","Butylscopolamine/metamizole sodium (dipyrone)","51151675",1571,1571,1571,"51151675"]
[null,{"$f":"IFERROR(INDEX($G$7:$H$13233,$L1578,COLUMNS($B$6:B1577)),\"\")","v":"46171607"},"Buzzers",null,null,null,"46171607","Buzzers","46171607",1572,1572,1572,"46171607"]
[null,{"$f":"IFERROR(INDEX($G$7:$H$13233,$L1579,COLUMNS($B$6:B1578)),\"\")","v":"80161701"},"Byproduct disposal or sale service",null,null,null,"80161701","Byproduct disposal or sale service","80161701",1573,1573,1573,"80161701"]
[null,{"$f":"IFERROR(INDEX($G$7:$H$13233,$L1580,COLUMNS($B$6:B1579)),\"\")","v":"25102104"},"Cab over engine tractors with sleeper",null,null,null,"25102104","Cab over engine tractors with sleeper","25102104",1574,1574,1574,"25102104"]
[null,{"$f":"IFERROR(INDEX($G$7:$H$13233,$L1581,COLUMNS($B$6:B1580)),\"\")","v":"25102105"},"Cab over engine tractors without sleeper",null,null,null,"25102105","Cab over engine tractors without sleeper","25102105",1575,1575,1575,"25102105"]
[null,{"$f":"IFERROR(INDEX($G$7:$H$13233,$L1582,COLUMNS($B$6:B1581)),\"\")","v":"51111728"},"Cabazitaxel",null,null,null,"51111728","Cabazitaxel","51111728",1576,1576,1576,"51111728"]
[null,{"$f":"IFERROR(INDEX($G$7:$H$13233,$L1583,COLUMNS($B$6:B1582)),\"\")","v":"10151526"},"Cabbage seeds or seedlings",null,null,null,"10151526","Cabbage seeds or seedlings","10151526",1577,1577,1577,"10151526"]
[null,{"$f":"IFERROR(INDEX($G$7:$H$13233,$L1584,COLUMNS($B$6:B1583)),\"\")","v":"23131700"},"Cabbing equipment",null,null,null,"23131700","Cabbing equipment","23131700",1578,1578,1578,"23131700"]
[null,{"$f":"IFERROR(INDEX($G$7:$H$13233,$L1585,COLUMNS($B$6:B1584)),\"\")","v":"51141535"},"Cabergoline",null,null,null,"51141535","Cabergoline","51141535",1579,1579,1579,"51141535"]
[null,{"$f":"IFERROR(INDEX($G$7:$H$13233,$L1586,COLUMNS($B$6:B1585)),\"\")","v":"95141603"},"Cabin",null,null,null,"95141603","Cabin","95141603",1580,1580,1580,"95141603"]
[null,{"$f":"IFERROR(INDEX($G$7:$H$13233,$L1587,COLUMNS($B$6:B1586)),\"\")","v":"30162300"},"Cabinet accessories",null,null,null,"30162300","Cabinet accessories","30162300",1581,1581,1581,"30162300"]
[null,{"$f":"IFERROR(INDEX($G$7:$H$13233,$L1588,COLUMNS($B$6:B1587)),\"\")","v":"72152303"},"Cabinet building and installation service",null,null,null,"72152303","Cabinet building and installation service","72152303",1582,1582,1582,"72152303"]
[null,{"$f":"IFERROR(INDEX($G$7:$H$13233,$L1589,COLUMNS($B$6:B1588)),\"\")","v":"41123002"},"Cabinet desiccators",null,null,null,"41123002","Cabinet desiccators","41123002",1583,1583,1583,"41123002"]
[null,{"$f":"IFERROR(INDEX($G$7:$H$13233,$L1590,COLUMNS($B$6:B1589)),\"\")","v":"93101601"},"Cabinet officers services",null,null,null,"93101601","Cabinet officers services","93101601",1584,1584,1584,"93101601"]
[null,{"$f":"IFERROR(INDEX($G$7:$H$13233,$L1591,COLUMNS($B$6:B1590)),\"\")","v":"30161800"},"Cabinetry",null,null,null,"30161800","Cabinetry","30161800",1585,1585,1585,"30161800"]
[null,{"$f":"IFERROR(INDEX($G$7:$H$13233,$L1592,COLUMNS($B$6:B1591)),\"\")","v":"43222602"},"Cable head end equipment",null,null,null,"43222602","Cable head end equipment","43222602",1586,1586,1586,"43222602"]
[null,{"$f":"IFERROR(INDEX($G$7:$H$13233,$L1593,COLUMNS($B$6:B1592)),\"\")","v":"43222626"},"Cable modems",null,null,null,"43222626","Cable modems","43222626",1587,1587,1587,"43222626"]
[null,{"$f":"IFERROR(INDEX($G$7:$H$13233,$L1594,COLUMNS($B$6:B1593)),\"\")","v":"43222643"},"Cable network tester",null,null,null,"43222643","Cable network tester","43222643",1588,1588,1588,"43222643"]
[null,{"$f":"IFERROR(INDEX($G$7:$H$13233,$L1595,COLUMNS($B$6:B1594)),\"\")","v":"41111629"},"Cable or wire extension linear position sensor",null,null,null,"41111629","Cable or wire extension linear position sensor","41111629",1589,1589,1589,"41111629"]
[null,{"$f":"IFERROR(INDEX($G$7:$H$13233,$L1596,COLUMNS($B$6:B1595)),\"\")","v":"24141510"},"Cable protectors",null,null,null,"24141510","Cable protectors","24141510",1590,1590,1590,"24141510"]
[null,{"$f":"IFERROR(INDEX($G$7:$H$13233,$L1597,COLUMNS($B$6:B1596)),\"\")","v":"72154005"},"Cable splicingservice",null,null,null,"72154005","Cable splicingservice","72154005",1591,1591,1591,"72154005"]
[null,{"$f":"IFERROR(INDEX($G$7:$H$13233,$L1598,COLUMNS($B$6:B1597)),\"\")","v":"72151601"},"Cable television installation service",null,null,null,"72151601","Cable television installation service","72151601",1592,1592,1592,"72151601"]
[null,{"$f":"IFERROR(INDEX($G$7:$H$13233,$L1599,COLUMNS($B$6:B1598)),\"\")","v":"83111801"},"Cable television services",null,null,null,"83111801","Cable television services","83111801",1593,1593,1593,"83111801"]
[null,{"$f":"IFERROR(INDEX($G$7:$H$13233,$L1600,COLUMNS($B$6:B1599)),\"\")","v":"51112026"},"Cabozantinib",null,null,null,"51112026","Cabozantinib","51112026",1594,1594,1594,"51112026"]
[null,{"$f":"IFERROR(INDEX($G$7:$H$13233,$L1601,COLUMNS($B$6:B1600)),\"\")","v":"43222607"},"Cache engine equipment",null,null,null,"43222607","Cache engine equipment","43222607",1595,1595,1595,"43222607"]
[null,{"$f":"IFERROR(INDEX($G$7:$H$13233,$L1602,COLUMNS($B$6:B1601)),\"\")","v":"42261802"},"Cadaver carriers",null,null,null,"42261802","Cadaver carriers","42261802",1596,1596,1596,"42261802"]
[null,{"$f":"IFERROR(INDEX($G$7:$H$13233,$L1603,COLUMNS($B$6:B1602)),\"\")","v":"42261809"},"Cadaver lifter or transfer devices",null,null,null,"42261809","Cadaver lifter or transfer devices","42261809",1597,1597,1597,"42261809"]
[null,{"$f":"IFERROR(INDEX($G$7:$H$13233,$L1604,COLUMNS($B$6:B1603)),\"\")","v":"42261803"},"Cadaver scissor lift trolleys",null,null,null,"42261803","Cadaver scissor lift trolleys","42261803",1598,1598,1598,"42261803"]
[null,{"$f":"IFERROR(INDEX($G$7:$H$13233,$L1605,COLUMNS($B$6:B1604)),\"\")","v":"42261801"},"Cadaver storage racks",null,null,null,"42261801","Cadaver storage racks","42261801",1599,1599,1599,"42261801"]
[null,{"$f":"IFERROR(INDEX($G$7:$H$13233,$L1606,COLUMNS($B$6:B1605)),\"\")","v":"42261613"},"Cadaver tissue builder kits",null,null,null,"42261613","Cadaver tissue builder kits","42261613",1600,1600,1600,"42261613"]
[null,{"$f":"IFERROR(INDEX($G$7:$H$13233,$L1607,COLUMNS($B$6:B1606)),\"\")","v":"42261800"},"Cadaver transport and storage equipment and supplies",null,null,null,"42261800","Cadaver transport and storage equipment and supplies","42261800",1601,1601,1601,"42261800"]
[null,{"$f":"IFERROR(INDEX($G$7:$H$13233,$L1608,COLUMNS($B$6:B1607)),\"\")","v":"42261808"},"Cadaver trays",null,null,null,"42261808","Cadaver trays","42261808",1602,1602,1602,"42261808"]
[null,{"$f":"IFERROR(INDEX($G$7:$H$13233,$L1609,COLUMNS($B$6:B1608)),\"\")","v":"56121400"},"Cafeteria and lunchroom furnishings",null,null,null,"56121400","Cafeteria and lunchroom furnishings","56121400",1603,1603,1603,"56121400"]
[null,{"$f":"IFERROR(INDEX($G$7:$H$13233,$L1610,COLUMNS($B$6:B1609)),\"\")","v":"90101700"},"Cafeteria services",null,null,null,"90101700","Cafeteria services","90101700",1604,1604,1604,"90101700"]
[null,{"$f":"IFERROR(INDEX($G$7:$H$13233,$L1611,COLUMNS($B$6:B1610)),\"\")","v":"51144601"},"Caffeine or trimethylxanthine",null,null,null,"51144601","Caffeine or trimethylxanthine","51144601",1605,1605,1605,"51144601"]
[null,{"$f":"IFERROR(INDEX($G$7:$H$13233,$L1612,COLUMNS($B$6:B1611)),\"\")","v":"51143409"},"Caffeine/Dihydroergotamine/Paracetamol",null,null,null,"51143409","Caffeine/Dihydroergotamine/Paracetamol","51143409",1606,1606,1606,"51143409"]
[null,{"$f":"IFERROR(INDEX($G$7:$H$13233,$L1613,COLUMNS($B$6:B1612)),\"\")","v":"51143406"},"Caffeine/ergotamine",null,null,null,"51143406","Caffeine/ergotamine","51143406",1607,1607,1607,"51143406"]
[null,{"$f":"IFERROR(INDEX($G$7:$H$13233,$L1614,COLUMNS($B$6:B1613)),\"\")","v":"10131601"},"Cages or its accessories",null,null,null,"10131601","Cages or its accessories","10131601",1608,1608,1608,"10131601"]
[null,{"$f":"IFERROR(INDEX($G$7:$H$13233,$L1615,COLUMNS($B$6:B1614)),\"\")","v":"10151536"},"Caigua seeds or seedlings",null,null,null,"10151536","Caigua seeds or seedlings","10151536",1609,1609,1609,"10151536"]
[null,{"$f":"IFERROR(INDEX($G$7:$H$13233,$L1616,COLUMNS($B$6:B1615)),\"\")","v":"72141201"},"Caisson drilling service",null,null,null,"72141201","Caisson drilling service","72141201",1610,1610,1610,"72141201"]
[null,{"$f":"IFERROR(INDEX($G$7:$H$13233,$L1617,COLUMNS($B$6:B1616)),\"\")","v":"48101817"},"Cake decorating equipment or moulds",null,null,null,"48101817","Cake decorating equipment or moulds","48101817",1611,1611,1611,"48101817"]
[null,{"$f":"IFERROR(INDEX($G$7:$H$13233,$L1618,COLUMNS($B$6:B1617)),\"\")","v":"51241205"},"Calamine",null,null,null,"51241205","Calamine","51241205",1612,1612,1612,"51241205"]
[null,{"$f":"IFERROR(INDEX($G$7:$H$13233,$L1619,COLUMNS($B$6:B1618)),\"\")","v":"41104020"},"Calcine element flow tray",null,null,null,"41104020","Calcine element flow tray","41104020",1613,1613,1613,"41104020"]
[null,{"$f":"IFERROR(INDEX($G$7:$H$13233,$L1620,COLUMNS($B$6:B1619)),\"\")","v":"51181613"},"Calcitonin",null,null,null,"51181613","Calcitonin","51181613",1614,1614,1614,"51181613"]
[null,{"$f":"IFERROR(INDEX($G$7:$H$13233,$L1621,COLUMNS($B$6:B1620)),\"\")","v":"51181625"},"Calcitonin salmon",null,null,null,"51181625","Calcitonin salmon","51181625",1615,1615,1615,"51181625"]
[null,{"$f":"IFERROR(INDEX($G$7:$H$13233,$L1622,COLUMNS($B$6:B1621)),\"\")","v":"51241235"},"Calcitriol",null,null,null,"51241235","Calcitriol","51241235",1616,1616,1616,"51241235"]
[null,{"$f":"IFERROR(INDEX($G$7:$H$13233,$L1623,COLUMNS($B$6:B1622)),\"\")","v":"42312401"},"Calcium alginate wound packing",null,null,null,"42312401","Calcium alginate wound packing","42312401",1617,1617,1617,"42312401"]
[null,{"$f":"IFERROR(INDEX($G$7:$H$13233,$L1624,COLUMNS($B$6:B1623)),\"\")","v":"51192458"},"Calcium carbonate/calcium gluconate  lactate",null,null,null,"51192458","Calcium carbonate/calcium gluconate  lactate","51192458",1618,1618,1618,"51192458"]
[null,{"$f":"IFERROR(INDEX($G$7:$H$13233,$L1625,COLUMNS($B$6:B1624)),\"\")","v":"51192429"},"Calcium carbonate/vitamin d",null,null,null,"51192429","Calcium carbonate/vitamin d","51192429",1619,1619,1619,"51192429"]
[null,{"$f":"IFERROR(INDEX($G$7:$H$13233,$L1626,COLUMNS($B$6:B1625)),\"\")","v":"10171611"},"Calcium fertilizer",null,null,null,"10171611","Calcium fertilizer","10171611",1620,1620,1620,"10171611"]
[null,{"$f":"IFERROR(INDEX($G$7:$H$13233,$L1627,COLUMNS($B$6:B1626)),\"\")","v":"51172338"},"Calcium folinate",null,null,null,"51172338","Calcium folinate","51172338",1621,1621,1621,"51172338"]
[null,{"$f":"IFERROR(INDEX($G$7:$H$13233,$L1628,COLUMNS($B$6:B1627)),\"\")","v":"51172340"},"Calcium folinate",null,null,null,"51172340","Calcium folinate","51172340",1622,1622,1622,"51172340"]
[null,{"$f":"IFERROR(INDEX($G$7:$H$13233,$L1629,COLUMNS($B$6:B1628)),\"\")","v":"51191915"},"Calcium gluconate",null,null,null,"51191915","Calcium gluconate","51191915",1623,1623,1623,"51191915"]
[null,{"$f":"IFERROR(INDEX($G$7:$H$13233,$L1630,COLUMNS($B$6:B1629)),\"\")","v":"12352324"},"Calcium HC, chemical pool product",null,null,null,"12352324","Calcium HC, chemical pool product","12352324",1624,1624,1624,"12352324"]
[null,{"$f":"IFERROR(INDEX($G$7:$H$13233,$L1631,COLUMNS($B$6:B1630)),\"\")","v":"51101607"},"Calcium oxide",null,null,null,"51101607","Calcium oxide","51101607",1625,1625,1625,"51101607"]
[null,{"$f":"IFERROR(INDEX($G$7:$H$13233,$L1632,COLUMNS($B$6:B1631)),\"\")","v":"51182400"},"Calcium regulators and calcium salts",null,null,null,"51182400","Calcium regulators and calcium salts","51182400",1626,1626,1626,"51182400"]
[null,{"$f":"IFERROR(INDEX($G$7:$H$13233,$L1633,COLUMNS($B$6:B1632)),\"\")","v":"44101800"},"Calculating machines and accessories",null,null,null,"44101800","Calculating machines and accessories","44101800",1627,1627,1627,"44101800"]
[null,{"$f":"IFERROR(INDEX($G$7:$H$13233,$L1634,COLUMNS($B$6:B1633)),\"\")","v":"14111515"},"Calculator or cash register paper",null,null,null,"14111515","Calculator or cash register paper","14111515",1628,1628,1628,"14111515"]
[null,{"$f":"IFERROR(INDEX($G$7:$H$13233,$L1635,COLUMNS($B$6:B1634)),\"\")","v":"44101805"},"Calculator ribbons",null,null,null,"44101805","Calculator ribbons","44101805",1629,1629,1629,"44101805"]
[null,{"$f":"IFERROR(INDEX($G$7:$H$13233,$L1636,COLUMNS($B$6:B1635)),\"\")","v":"43232108"},"Calendar and scheduling software",null,null,null,"43232108","Calendar and scheduling software","43232108",1630,1630,1630,"43232108"]
[null,{"$f":"IFERROR(INDEX($G$7:$H$13233,$L1637,COLUMNS($B$6:B1636)),\"\")","v":"44112002"},"Calendars",null,null,null,"44112002","Calendars","44112002",1631,1631,1631,"44112002"]
[null,{"$f":"IFERROR(INDEX($G$7:$H$13233,$L1638,COLUMNS($B$6:B1637)),\"\")","v":"41113622"},"Calibrated inductance coils or boxes",null,null,null,"41113622","Calibrated inductance coils or boxes","41113622",1632,1632,1632,"41113622"]
[null,{"$f":"IFERROR(INDEX($G$7:$H$13233,$L1639,COLUMNS($B$6:B1638)),\"\")","v":"41113635"},"Calibrated resistance measuring equipment",null,null,null,"41113635","Calibrated resistance measuring equipment","41113635",1633,1633,1633,"41113635"]
[null,{"$f":"IFERROR(INDEX($G$7:$H$13233,$L1640,COLUMNS($B$6:B1639)),\"\")","v":"24111804"},"Calibrating tanks",null,null,null,"24111804","Calibrating tanks","24111804",1634,1634,1634,"24111804"]
[null,{"$f":"IFERROR(INDEX($G$7:$H$13233,$L1641,COLUMNS($B$6:B1640)),\"\")","v":"41112521"},"Calibration column",null,null,null,"41112521","Calibration column","41112521",1635,1635,1635,"41112521"]
[null,{"$f":"IFERROR(INDEX($G$7:$H$13233,$L1642,COLUMNS($B$6:B1641)),\"\")","v":"41112244"},"Calibration reference thermometer",null,null,null,"41112244","Calibration reference thermometer","41112244",1636,1636,1636,"41112244"]
[null,{"$f":"IFERROR(INDEX($G$7:$H$13233,$L1643,COLUMNS($B$6:B1642)),\"\")","v":"12142208"},"Calibration sources",null,null,null,"12142208","Calibration sources","12142208",1637,1637,1637,"12142208"]
[null,{"$f":"IFERROR(INDEX($G$7:$H$13233,$L1644,COLUMNS($B$6:B1643)),\"\")","v":"41111505"},"Calibration weights or weight sets",null,null,null,"41111505","Calibration weights or weight sets","41111505",1638,1638,1638,"41111505"]
[null,{"$f":"IFERROR(INDEX($G$7:$H$13233,$L1645,COLUMNS($B$6:B1644)),\"\")","v":"41113822"},"California bearing ratio tester",null,null,null,"41113822","California bearing ratio tester","41113822",1639,1639,1639,"41113822"]
[null,{"$f":"IFERROR(INDEX($G$7:$H$13233,$L1646,COLUMNS($B$6:B1645)),\"\")","v":"41111621"},"Calipers",null,null,null,"41111621","Calipers","41111621",1640,1640,1640,"41111621"]
[null,{"$f":"IFERROR(INDEX($G$7:$H$13233,$L1647,COLUMNS($B$6:B1646)),\"\")","v":"44121614"},"Call bells",null,null,null,"44121614","Call bells","44121614",1641,1641,1641,"44121614"]
[null,{"$f":"IFERROR(INDEX($G$7:$H$13233,$L1648,COLUMNS($B$6:B1647)),\"\")","v":"83111507"},"Call centre bureau services",null,null,null,"83111507","Call centre bureau services","83111507",1642,1642,1642,"83111507"]
[null,{"$f":"IFERROR(INDEX($G$7:$H$13233,$L1649,COLUMNS($B$6:B1648)),\"\")","v":"43221500"},"Call management systems or accessories",null,null,null,"43221500","Call management systems or accessories","43221500",1643,1643,1643,"43221500"]
[null,{"$f":"IFERROR(INDEX($G$7:$H$13233,$L1650,COLUMNS($B$6:B1649)),\"\")","v":"43221529"},"Call meter",null,null,null,"43221529","Call meter","43221529",1644,1644,1644,"43221529"]
[null,{"$f":"IFERROR(INDEX($G$7:$H$13233,$L1651,COLUMNS($B$6:B1650)),\"\")","v":"41112201"},"Calorimeters",null,null,null,"41112201","Calorimeters","41112201",1645,1645,1645,"41112201"]
[null,{"$f":"IFERROR(INDEX($G$7:$H$13233,$L1652,COLUMNS($B$6:B1651)),\"\")","v":"50301508"},"Calville blanche d'hiver apples",null,null,null,"50301508","Calville blanche d'hiver apples","50301508",1646,1646,1646,"50301508"]
[null,{"$f":"IFERROR(INDEX($G$7:$H$13233,$L1653,COLUMNS($B$6:B1652)),\"\")","v":"10101517"},"Camels",null,null,null,"10101517","Camels","10101517",1647,1647,1647,"10101517"]
[null,{"$f":"IFERROR(INDEX($G$7:$H$13233,$L1654,COLUMNS($B$6:B1653)),\"\")","v":"50301509"},"Cameo apples",null,null,null,"50301509","Cameo apples","50301509",1648,1648,1648,"50301509"]
[null,{"$f":"IFERROR(INDEX($G$7:$H$13233,$L1655,COLUMNS($B$6:B1654)),\"\")","v":"45121600"},"Camera accessories",null,null,null,"45121600","Camera accessories","45121600",1649,1649,1649,"45121600"]
[null,{"$f":"IFERROR(INDEX($G$7:$H$13233,$L1656,COLUMNS($B$6:B1655)),\"\")","v":"45121608"},"Camera assemblies",null,null,null,"45121608","Camera assemblies","45121608",1650,1650,1650,"45121608"]
[null,{"$f":"IFERROR(INDEX($G$7:$H$13233,$L1657,COLUMNS($B$6:B1656)),\"\")","v":"45121617"},"Camera bags",null,null,null,"45121617","Camera bags","45121617",1651,1651,1651,"45121617"]
[null,{"$f":"IFERROR(INDEX($G$7:$H$13233,$L1658,COLUMNS($B$6:B1657)),\"\")","v":"43211718"},"Camera based vision systems for automated data collection",null,null,null,"43211718","Camera based vision systems for automated data collection","43211718",1652,1652,1652,"43211718"]
[null,{"$f":"IFERROR(INDEX($G$7:$H$13233,$L1659,COLUMNS($B$6:B1658)),\"\")","v":"45121607"},"Camera blocks or holders",null,null,null,"45121607","Camera blocks or holders","45121607",1653,1653,1653,"45121607"]
[null,{"$f":"IFERROR(INDEX($G$7:$H$13233,$L1660,COLUMNS($B$6:B1659)),\"\")","v":"45121609"},"Camera brackets",null,null,null,"45121609","Camera brackets","45121609",1654,1654,1654,"45121609"]
[null,{"$f":"IFERROR(INDEX($G$7:$H$13233,$L1661,COLUMNS($B$6:B1660)),\"\")","v":"45121610"},"Camera cables",null,null,null,"45121610","Camera cables","45121610",1655,1655,1655,"45121610"]
[null,{"$f":"IFERROR(INDEX($G$7:$H$13233,$L1662,COLUMNS($B$6:B1661)),\"\")","v":"45121623"},"Camera controllers",null,null,null,"45121623","Camera controllers","45121623",1656,1656,1656,"45121623"]
[null,{"$f":"IFERROR(INDEX($G$7:$H$13233,$L1663,COLUMNS($B$6:B1662)),\"\")","v":"45121613"},"Camera enclosures or covers",null,null,null,"45121613","Camera enclosures or covers","45121613",1657,1657,1657,"45121613"]
[null,{"$f":"IFERROR(INDEX($G$7:$H$13233,$L1664,COLUMNS($B$6:B1663)),\"\")","v":"45121627"},"Camera flash diffuser",null,null,null,"45121627","Camera flash diffuser","45121627",1658,1658,1658,"45121627"]
[null,{"$f":"IFERROR(INDEX($G$7:$H$13233,$L1665,COLUMNS($B$6:B1664)),\"\")","v":"45121601"},"Camera flashes or lighting",null,null,null,"45121601","Camera flashes or lighting","45121601",1659,1659,1659,"45121601"]
[null,{"$f":"IFERROR(INDEX($G$7:$H$13233,$L1666,COLUMNS($B$6:B1665)),\"\")","v":"45121606"},"Camera harnesses",null,null,null,"45121606","Camera harnesses","45121606",1660,1660,1660,"45121606"]
[null,{"$f":"IFERROR(INDEX($G$7:$H$13233,$L1667,COLUMNS($B$6:B1666)),\"\")","v":"45121518"},"Camera kits",null,null,null,"45121518","Camera kits","45121518",1661,1661,1661,"45121518"]
[null,{"$f":"IFERROR(INDEX($G$7:$H$13233,$L1668,COLUMNS($B$6:B1667)),\"\")","v":"45121603"},"Camera lens",null,null,null,"45121603","Camera lens","45121603",1662,1662,1662,"45121603"]
[null,{"$f":"IFERROR(INDEX($G$7:$H$13233,$L1669,COLUMNS($B$6:B1668)),\"\")","v":"45121618"},"Camera lens adapters",null,null,null,"45121618","Camera lens adapters","45121618",1663,1663,1663,"45121618"]
[null,{"$f":"IFERROR(INDEX($G$7:$H$13233,$L1670,COLUMNS($B$6:B1669)),\"\")","v":"45121622"},"Camera lens cleaners",null,null,null,"45121622","Camera lens cleaners","45121622",1664,1664,1664,"45121622"]
[null,{"$f":"IFERROR(INDEX($G$7:$H$13233,$L1671,COLUMNS($B$6:B1670)),\"\")","v":"45121628"},"Camera lens filter",null,null,null,"45121628","Camera lens filter","45121628",1665,1665,1665,"45121628"]
[null,{"$f":"IFERROR(INDEX($G$7:$H$13233,$L1672,COLUMNS($B$6:B1671)),\"\")","v":"45141607"},"Camera obscura",null,null,null,"45141607","Camera obscura","45141607",1666,1666,1666,"45141607"]
[null,{"$f":"IFERROR(INDEX($G$7:$H$13233,$L1673,COLUMNS($B$6:B1672)),\"\")","v":"45121630"},"Camera parasol reflector",null,null,null,"45121630","Camera parasol reflector","45121630",1667,1667,1667,"45121630"]
[null,{"$f":"IFERROR(INDEX($G$7:$H$13233,$L1674,COLUMNS($B$6:B1673)),\"\")","v":"45121620"},"Camera power adapters",null,null,null,"45121620","Camera power adapters","45121620",1668,1668,1668,"45121620"]
[null,{"$f":"IFERROR(INDEX($G$7:$H$13233,$L1675,COLUMNS($B$6:B1674)),\"\")","v":"45121615"},"Camera rings",null,null,null,"45121615","Camera rings","45121615",1669,1669,1669,"45121615"]
[null,{"$f":"IFERROR(INDEX($G$7:$H$13233,$L1676,COLUMNS($B$6:B1675)),\"\")","v":"45121604"},"Camera shutters",null,null,null,"45121604","Camera shutters","45121604",1670,1670,1670,"45121604"]
[null,{"$f":"IFERROR(INDEX($G$7:$H$13233,$L1677,COLUMNS($B$6:B1676)),\"\")","v":"45121612"},"Camera tables",null,null,null,"45121612","Camera tables","45121612",1671,1671,1671,"45121612"]
[null,{"$f":"IFERROR(INDEX($G$7:$H$13233,$L1678,COLUMNS($B$6:B1677)),\"\")","v":"45121629"},"Camera track motor",null,null,null,"45121629","Camera track motor","45121629",1672,1672,1672,"45121629"]
[null,{"$f":"IFERROR(INDEX($G$7:$H$13233,$L1679,COLUMNS($B$6:B1678)),\"\")","v":"45121602"},"Camera tripods",null,null,null,"45121602","Camera tripods","45121602",1673,1673,1673,"45121602"]
[null,{"$f":"IFERROR(INDEX($G$7:$H$13233,$L1680,COLUMNS($B$6:B1679)),\"\")","v":"45121500"},"Cameras",null,null,null,"45121500","Cameras","45121500",1674,1674,1674,"45121500"]
[null,{"$f":"IFERROR(INDEX($G$7:$H$13233,$L1681,COLUMNS($B$6:B1680)),\"\")","v":"11162127"},"Camouflage cloth",null,null,null,"11162127","Camouflage cloth","11162127",1675,1675,1675,"11162127"]
[null,{"$f":"IFERROR(INDEX($G$7:$H$13233,$L1682,COLUMNS($B$6:B1681)),\"\")","v":"49121500"},"Camping and outdoor equipment",null,null,null,"49121500","Camping and outdoor equipment","49121500",1676,1676,1676,"49121500"]
[null,{"$f":"IFERROR(INDEX($G$7:$H$13233,$L1683,COLUMNS($B$6:B1682)),\"\")","v":"49120000"},"Camping and outdoor equipment and accessories",null,null,null,"49120000","Camping and outdoor equipment and accessories","49120000",1677,1677,1677,"49120000"]
[null,{"$f":"IFERROR(INDEX($G$7:$H$13233,$L1684,COLUMNS($B$6:B1683)),\"\")","v":"90111700"},"Camping and wilderness facilities",null,null,null,"90111700","Camping and wilderness facilities","90111700",1678,1678,1678,"90111700"]
[null,{"$f":"IFERROR(INDEX($G$7:$H$13233,$L1685,COLUMNS($B$6:B1684)),\"\")","v":"49121601"},"Camping chairs or stools",null,null,null,"49121601","Camping chairs or stools","49121601",1679,1679,1679,"49121601"]
[null,{"$f":"IFERROR(INDEX($G$7:$H$13233,$L1686,COLUMNS($B$6:B1685)),\"\")","v":"49121603"},"Camping cots",null,null,null,"49121603","Camping cots","49121603",1680,1680,1680,"49121603"]
[null,{"$f":"IFERROR(INDEX($G$7:$H$13233,$L1687,COLUMNS($B$6:B1686)),\"\")","v":"49121600"},"Camping furniture",null,null,null,"49121600","Camping furniture","49121600",1681,1681,1681,"49121600"]
[null,{"$f":"IFERROR(INDEX($G$7:$H$13233,$L1688,COLUMNS($B$6:B1687)),\"\")","v":"49121509"},"Camping or outdoor stoves",null,null,null,"49121509","Camping or outdoor stoves","49121509",1682,1682,1682,"49121509"]
[null,{"$f":"IFERROR(INDEX($G$7:$H$13233,$L1689,COLUMNS($B$6:B1688)),\"\")","v":"49121602"},"Camping tables",null,null,null,"49121602","Camping tables","49121602",1683,1683,1683,"49121602"]
[null,{"$f":"IFERROR(INDEX($G$7:$H$13233,$L1690,COLUMNS($B$6:B1689)),\"\")","v":"90111701"},"Campsites",null,null,null,"90111701","Campsites","90111701",1684,1684,1684,"90111701"]
[null,{"$f":"IFERROR(INDEX($G$7:$H$13233,$L1691,COLUMNS($B$6:B1690)),\"\")","v":"42211903"},"Can openers for the physically challenged",null,null,null,"42211903","Can openers for the physically challenged","42211903",1685,1685,1685,"42211903"]
[null,{"$f":"IFERROR(INDEX($G$7:$H$13233,$L1692,COLUMNS($B$6:B1691)),\"\")","v":"72141202"},"Canal construction service",null,null,null,"72141202","Canal construction service","72141202",1686,1686,1686,"72141202"]
[null,{"$f":"IFERROR(INDEX($G$7:$H$13233,$L1693,COLUMNS($B$6:B1692)),\"\")","v":"70171701"},"Canal maintenance or management services",null,null,null,"70171701","Canal maintenance or management services","70171701",1687,1687,1687,"70171701"]
[null,{"$f":"IFERROR(INDEX($G$7:$H$13233,$L1694,COLUMNS($B$6:B1693)),\"\")","v":"85111602"},"Cancer or leukemia prevention or control services",null,null,null,"85111602","Cancer or leukemia prevention or control services","85111602",1688,1688,1688,"85111602"]
[null,{"$f":"IFERROR(INDEX($G$7:$H$13233,$L1695,COLUMNS($B$6:B1694)),\"\")","v":"42211501"},"Canes",null,null,null,"42211501","Canes","42211501",1689,1689,1689,"42211501"]
[null,{"$f":"IFERROR(INDEX($G$7:$H$13233,$L1696,COLUMNS($B$6:B1695)),\"\")","v":"81102811"},"Canine explosive detection team",null,null,null,"81102811","Canine explosive detection team","81102811",1690,1690,1690,"81102811"]
[null,{"$f":"IFERROR(INDEX($G$7:$H$13233,$L1697,COLUMNS($B$6:B1696)),\"\")","v":"50121541"},"Canned Fish (WFP food convention)",null,null,null,"50121541","Canned Fish (WFP food convention)","50121541",1691,1691,1691,"50121541"]
[null,{"$f":"IFERROR(INDEX($G$7:$H$13233,$L1698,COLUMNS($B$6:B1697)),\"\")","v":"50361501"},"Canned or jarred akane apples",null,null,null,"50361501","Canned or jarred akane apples","50361501",1692,1692,1692,"50361501"]
[null,{"$f":"IFERROR(INDEX($G$7:$H$13233,$L1699,COLUMNS($B$6:B1698)),\"\")","v":"50361500"},"Canned or jarred apples",null,null,null,"50361500","Canned or jarred apples","50361500",1693,1693,1693,"50361500"]
[null,{"$f":"IFERROR(INDEX($G$7:$H$13233,$L1700,COLUMNS($B$6:B1699)),\"\")","v":"50461500"},"Canned or jarred artichokes",null,null,null,"50461500","Canned or jarred artichokes","50461500",1694,1694,1694,"50461500"]
[null,{"$f":"IFERROR(INDEX($G$7:$H$13233,$L1701,COLUMNS($B$6:B1700)),\"\")","v":"50461501"},"Canned or jarred brittany artichokes",null,null,null,"50461501","Canned or jarred brittany artichokes","50461501",1695,1695,1695,"50461501"]
[null,{"$f":"IFERROR(INDEX($G$7:$H$13233,$L1702,COLUMNS($B$6:B1701)),\"\")","v":"50466818"},"Canned or jarred chickpeas",null,null,null,"50466818","Canned or jarred chickpeas","50466818",1696,1696,1696,"50466818"]
[null,{"$f":"IFERROR(INDEX($G$7:$H$13233,$L1703,COLUMNS($B$6:B1702)),\"\")","v":"50360000"},"Canned or jarred fruit",null,null,null,"50360000","Canned or jarred fruit","50360000",1697,1697,1697,"50360000"]
[null,{"$f":"IFERROR(INDEX($G$7:$H$13233,$L1704,COLUMNS($B$6:B1703)),\"\")","v":"50466800"},"Canned or jarred nominant vegetables",null,null,null,"50466800","Canned or jarred nominant vegetables","50466800",1698,1698,1698,"50466800"]
[null,{"$f":"IFERROR(INDEX($G$7:$H$13233,$L1705,COLUMNS($B$6:B1704)),\"\")","v":"50371501"},"Canned or jarred organic akane apples",null,null,null,"50371501","Canned or jarred organic akane apples","50371501",1699,1699,1699,"50371501"]
[null,{"$f":"IFERROR(INDEX($G$7:$H$13233,$L1706,COLUMNS($B$6:B1705)),\"\")","v":"50371500"},"Canned or jarred organic apples",null,null,null,"50371500","Canned or jarred organic apples","50371500",1700,1700,1700,"50371500"]
[null,{"$f":"IFERROR(INDEX($G$7:$H$13233,$L1707,COLUMNS($B$6:B1706)),\"\")","v":"50471500"},"Canned or jarred organic artichokes",null,null,null,"50471500","Canned or jarred organic artichokes","50471500",1701,1701,1701,"50471500"]
[null,{"$f":"IFERROR(INDEX($G$7:$H$13233,$L1708,COLUMNS($B$6:B1707)),\"\")","v":"50471501"},"Canned or jarred organic brittany artichokes",null,null,null,"50471501","Canned or jarred organic brittany artichokes","50471501",1702,1702,1702,"50471501"]
[null,{"$f":"IFERROR(INDEX($G$7:$H$13233,$L1709,COLUMNS($B$6:B1708)),\"\")","v":"50370000"},"Canned or jarred organic fruit",null,null,null,"50370000","Canned or jarred organic fruit","50370000",1703,1703,1703,"50370000"]
[null,{"$f":"IFERROR(INDEX($G$7:$H$13233,$L1710,COLUMNS($B$6:B1709)),\"\")","v":"50470000"},"Canned or jarred organic vegetables",null,null,null,"50470000","Canned or jarred organic vegetables","50470000",1704,1704,1704,"50470000"]
[null,{"$f":"IFERROR(INDEX($G$7:$H$13233,$L1711,COLUMNS($B$6:B1710)),\"\")","v":"50465307"},"Canned or jarred Peanut Butter (WFP food convention) ",null,null,null,"50465307","Canned or jarred Peanut Butter (WFP food convention) ","50465307",1705,1705,1705,"50465307"]
[null,{"$f":"IFERROR(INDEX($G$7:$H$13233,$L1712,COLUMNS($B$6:B1711)),\"\")","v":"50465300"},"Canned or jarred peanuts",null,null,null,"50465300","Canned or jarred peanuts","50465300",1706,1706,1706,"50465300"]
[null,{"$f":"IFERROR(INDEX($G$7:$H$13233,$L1713,COLUMNS($B$6:B1712)),\"\")","v":"50460000"},"Canned or jarred vegetables",null,null,null,"50460000","Canned or jarred vegetables","50460000",1707,1707,1707,"50460000"]
[null,{"$f":"IFERROR(INDEX($G$7:$H$13233,$L1714,COLUMNS($B$6:B1713)),\"\")","v":"55121604"},"Canning or bottling labels",null,null,null,"55121604","Canning or bottling labels","55121604",1708,1708,1708,"55121604"]
[null,{"$f":"IFERROR(INDEX($G$7:$H$13233,$L1715,COLUMNS($B$6:B1714)),\"\")","v":"25111804"},"Canoes or kayaks",null,null,null,"25111804","Canoes or kayaks","25111804",1709,1709,1709,"25111804"]
[null,{"$f":"IFERROR(INDEX($G$7:$H$13233,$L1716,COLUMNS($B$6:B1715)),\"\")","v":"50151517"},"Canola Oil (WFP food convention)",null,null,null,"50151517","Canola Oil (WFP food convention)","50151517",1710,1710,1710,"50151517"]
[null,{"$f":"IFERROR(INDEX($G$7:$H$13233,$L1717,COLUMNS($B$6:B1716)),\"\")","v":"24112200"},"Cans and pails",null,null,null,"24112200","Cans and pails","24112200",1711,1711,1711,"24112200"]
[null,{"$f":"IFERROR(INDEX($G$7:$H$13233,$L1718,COLUMNS($B$6:B1717)),\"\")","v":"10151534"},"Cantaloupe seeds or seedlings",null,null,null,"10151534","Cantaloupe seeds or seedlings","10151534",1712,1712,1712,"10151534"]
[null,{"$f":"IFERROR(INDEX($G$7:$H$13233,$L1719,COLUMNS($B$6:B1718)),\"\")","v":"24111501"},"Canvas bags",null,null,null,"24111501","Canvas bags","24111501",1713,1713,1713,"24111501"]
[null,{"$f":"IFERROR(INDEX($G$7:$H$13233,$L1720,COLUMNS($B$6:B1719)),\"\")","v":"41113604"},"Capacitance meters",null,null,null,"41113604","Capacitance meters","41113604",1714,1714,1714,"41113604"]
[null,{"$f":"IFERROR(INDEX($G$7:$H$13233,$L1721,COLUMNS($B$6:B1720)),\"\")","v":"41113668"},"Capacitor tester",null,null,null,"41113668","Capacitor tester","41113668",1715,1715,1715,"41113668"]
[null,{"$f":"IFERROR(INDEX($G$7:$H$13233,$L1722,COLUMNS($B$6:B1721)),\"\")","v":"78204009"},"Capacity Analysis (Aviation)",null,null,null,"78204009","Capacity Analysis (Aviation)","78204009",1716,1716,1716,"78204009"]
[null,{"$f":"IFERROR(INDEX($G$7:$H$13233,$L1723,COLUMNS($B$6:B1722)),\"\")","v":"51112001"},"Capecitabine",null,null,null,"51112001","Capecitabine","51112001",1717,1717,1717,"51112001"]
[null,{"$f":"IFERROR(INDEX($G$7:$H$13233,$L1724,COLUMNS($B$6:B1723)),\"\")","v":"41105308"},"Capillaries or cartridges",null,null,null,"41105308","Capillaries or cartridges","41105308",1718,1718,1718,"41105308"]
[null,{"$f":"IFERROR(INDEX($G$7:$H$13233,$L1725,COLUMNS($B$6:B1724)),\"\")","v":"41121709"},"Capillary or hematocrit tubes",null,null,null,"41121709","Capillary or hematocrit tubes","41121709",1719,1719,1719,"41121709"]
[null,{"$f":"IFERROR(INDEX($G$7:$H$13233,$L1726,COLUMNS($B$6:B1725)),\"\")","v":"41122113"},"Capillary pipette or tube puller",null,null,null,"41122113","Capillary pipette or tube puller","41122113",1720,1720,1720,"41122113"]
[null,{"$f":"IFERROR(INDEX($G$7:$H$13233,$L1727,COLUMNS($B$6:B1726)),\"\")","v":"41112418"},"Capillary pressure tester",null,null,null,"41112418","Capillary pressure tester","41112418",1721,1721,1721,"41112418"]
[null,{"$f":"IFERROR(INDEX($G$7:$H$13233,$L1728,COLUMNS($B$6:B1727)),\"\")","v":"11121623"},"Capirona wood",null,null,null,"11121623","Capirona wood","11121623",1722,1722,1722,"11121623"]
[null,{"$f":"IFERROR(INDEX($G$7:$H$13233,$L1729,COLUMNS($B$6:B1728)),\"\")","v":"80161702"},"Capital asset disposal or sale service",null,null,null,"80161702","Capital asset disposal or sale service","80161702",1723,1723,1723,"80161702"]
[null,{"$f":"IFERROR(INDEX($G$7:$H$13233,$L1730,COLUMNS($B$6:B1729)),\"\")","v":"93161503"},"Capital gains tax",null,null,null,"93161503","Capital gains tax","93161503",1724,1724,1724,"93161503"]
[null,{"$f":"IFERROR(INDEX($G$7:$H$13233,$L1731,COLUMNS($B$6:B1730)),\"\")","v":"48101705"},"Cappuccino or espresso machines",null,null,null,"48101705","Cappuccino or espresso machines","48101705",1725,1725,1725,"48101705"]
[null,{"$f":"IFERROR(INDEX($G$7:$H$13233,$L1732,COLUMNS($B$6:B1731)),\"\")","v":"53102516"},"Caps",null,null,null,"53102516","Caps","53102516",1726,1726,1726,"53102516"]
[null,{"$f":"IFERROR(INDEX($G$7:$H$13233,$L1733,COLUMNS($B$6:B1732)),\"\")","v":"41104915"},"Capsules filters",null,null,null,"41104915","Capsules filters","41104915",1727,1727,1727,"41104915"]
[null,{"$f":"IFERROR(INDEX($G$7:$H$13233,$L1734,COLUMNS($B$6:B1733)),\"\")","v":"51432401"},"Captopril",null,null,null,"51432401","Captopril","51432401",1728,1728,1728,"51432401"]
[null,{"$f":"IFERROR(INDEX($G$7:$H$13233,$L1735,COLUMNS($B$6:B1734)),\"\")","v":"76111801"},"Car or boat detailing",null,null,null,"76111801","Car or boat detailing","76111801",1729,1729,1729,"76111801"]
[null,{"$f":"IFERROR(INDEX($G$7:$H$13233,$L1736,COLUMNS($B$6:B1735)),\"\")","v":"84131503"},"Car or truck insurance",null,null,null,"84131503","Car or truck insurance","84131503",1730,1730,1730,"84131503"]
[null,{"$f":"IFERROR(INDEX($G$7:$H$13233,$L1737,COLUMNS($B$6:B1736)),\"\")","v":"55121801"},"Car tax discs",null,null,null,"55121801","Car tax discs","55121801",1731,1731,1731,"55121801"]
[null,{"$f":"IFERROR(INDEX($G$7:$H$13233,$L1738,COLUMNS($B$6:B1737)),\"\")","v":"51141513"},"Carbamazepine",null,null,null,"51141513","Carbamazepine","51141513",1732,1732,1732,"51141513"]
[null,{"$f":"IFERROR(INDEX($G$7:$H$13233,$L1739,COLUMNS($B$6:B1738)),\"\")","v":"51473503"},"Carbamide peroxide or hydrogen peroxide",null,null,null,"51473503","Carbamide peroxide or hydrogen peroxide","51473503",1733,1733,1733,"51473503"]
[null,{"$f":"IFERROR(INDEX($G$7:$H$13233,$L1740,COLUMNS($B$6:B1739)),\"\")","v":"51284600"},"Carbapenems",null,null,null,"51284600","Carbapenems","51284600",1734,1734,1734,"51284600"]
[null,{"$f":"IFERROR(INDEX($G$7:$H$13233,$L1741,COLUMNS($B$6:B1740)),\"\")","v":"51282404"},"Carbenicillin",null,null,null,"51282404","Carbenicillin","51282404",1735,1735,1735,"51282404"]
[null,{"$f":"IFERROR(INDEX($G$7:$H$13233,$L1742,COLUMNS($B$6:B1741)),\"\")","v":"51182207"},"Carbetocin",null,null,null,"51182207","Carbetocin","51182207",1736,1736,1736,"51182207"]
[null,{"$f":"IFERROR(INDEX($G$7:$H$13233,$L1743,COLUMNS($B$6:B1742)),\"\")","v":"51143501"},"Carbidopa/entacapone/levodopa",null,null,null,"51143501","Carbidopa/entacapone/levodopa","51143501",1737,1737,1737,"51143501"]
[null,{"$f":"IFERROR(INDEX($G$7:$H$13233,$L1744,COLUMNS($B$6:B1743)),\"\")","v":"51143502"},"Carbidopa/levodopa",null,null,null,"51143502","Carbidopa/levodopa","51143502",1738,1738,1738,"51143502"]
[null,{"$f":"IFERROR(INDEX($G$7:$H$13233,$L1745,COLUMNS($B$6:B1744)),\"\")","v":"51181614"},"Carbimazole",null,null,null,"51181614","Carbimazole","51181614",1739,1739,1739,"51181614"]
[null,{"$f":"IFERROR(INDEX($G$7:$H$13233,$L1746,COLUMNS($B$6:B1745)),\"\")","v":"64111705"},"Carbon credit permit or certificate",null,null,null,"64111705","Carbon credit permit or certificate","64111705",1740,1740,1740,"64111705"]
[null,{"$f":"IFERROR(INDEX($G$7:$H$13233,$L1747,COLUMNS($B$6:B1746)),\"\")","v":"41104425"},"Carbon dioxide incubator",null,null,null,"41104425","Carbon dioxide incubator","41104425",1741,1741,1741,"41104425"]
[null,{"$f":"IFERROR(INDEX($G$7:$H$13233,$L1748,COLUMNS($B$6:B1747)),\"\")","v":"41103508"},"Carbon filtered enclosures",null,null,null,"41103508","Carbon filtered enclosures","41103508",1742,1742,1742,"41103508"]
[null,{"$f":"IFERROR(INDEX($G$7:$H$13233,$L1749,COLUMNS($B$6:B1748)),\"\")","v":"47101503"},"Carbon filtration equipment",null,null,null,"47101503","Carbon filtration equipment","47101503",1743,1743,1743,"47101503"]
[null,{"$f":"IFERROR(INDEX($G$7:$H$13233,$L1750,COLUMNS($B$6:B1749)),\"\")","v":"14121810"},"Carbon papers",null,null,null,"14121810","Carbon papers","14121810",1744,1744,1744,"14121810"]
[null,{"$f":"IFERROR(INDEX($G$7:$H$13233,$L1751,COLUMNS($B$6:B1750)),\"\")","v":"48101701"},"Carbonated beverage dispenser",null,null,null,"48101701","Carbonated beverage dispenser","48101701",1745,1745,1745,"48101701"]
[null,{"$f":"IFERROR(INDEX($G$7:$H$13233,$L1752,COLUMNS($B$6:B1751)),\"\")","v":"14111527"},"Carbonless paper",null,null,null,"14111527","Carbonless paper","14111527",1746,1746,1746,"14111527"]
[null,{"$f":"IFERROR(INDEX($G$7:$H$13233,$L1753,COLUMNS($B$6:B1752)),\"\")","v":"51112701"},"Carboplatin",null,null,null,"51112701","Carboplatin","51112701",1747,1747,1747,"51112701"]
[null,{"$f":"IFERROR(INDEX($G$7:$H$13233,$L1754,COLUMNS($B$6:B1753)),\"\")","v":"24111811"},"Carboys",null,null,null,"24111811","Carboys","24111811",1748,1748,1748,"24111811"]
[null,{"$f":"IFERROR(INDEX($G$7:$H$13233,$L1755,COLUMNS($B$6:B1754)),\"\")","v":"43201617"},"Card cages",null,null,null,"43201617","Card cages","43201617",1749,1749,1749,"43201617"]
[null,{"$f":"IFERROR(INDEX($G$7:$H$13233,$L1756,COLUMNS($B$6:B1755)),\"\")","v":"44122020"},"Card pockets",null,null,null,"44122020","Card pockets","44122020",1750,1750,1750,"44122020"]
[null,{"$f":"IFERROR(INDEX($G$7:$H$13233,$L1757,COLUMNS($B$6:B1756)),\"\")","v":"14121503"},"Cardboard",null,null,null,"14121503","Cardboard","14121503",1751,1751,1751,"14121503"]
[null,{"$f":"IFERROR(INDEX($G$7:$H$13233,$L1758,COLUMNS($B$6:B1757)),\"\")","v":"42203416"},"Cardiac ablation catheters",null,null,null,"42203416","Cardiac ablation catheters","42203416",1752,1752,1752,"42203416"]
[null,{"$f":"IFERROR(INDEX($G$7:$H$13233,$L1759,COLUMNS($B$6:B1758)),\"\")","v":"42203415"},"Cardiac catheterization lab equipment",null,null,null,"42203415","Cardiac catheterization lab equipment","42203415",1753,1753,1753,"42203415"]
[null,{"$f":"IFERROR(INDEX($G$7:$H$13233,$L1760,COLUMNS($B$6:B1759)),\"\")","v":"41116218"},"Cardiac marker panel test monitor or meter",null,null,null,"41116218","Cardiac marker panel test monitor or meter","41116218",1754,1754,1754,"41116218"]
[null,{"$f":"IFERROR(INDEX($G$7:$H$13233,$L1761,COLUMNS($B$6:B1760)),\"\")","v":"41116219"},"Cardiac marker panel test monitor or meter accessories",null,null,null,"41116219","Cardiac marker panel test monitor or meter accessories","41116219",1755,1755,1755,"41116219"]
[null,{"$f":"IFERROR(INDEX($G$7:$H$13233,$L1762,COLUMNS($B$6:B1761)),\"\")","v":"42181903"},"Cardiac output CO monitoring units",null,null,null,"42181903","Cardiac output CO monitoring units","42181903",1756,1756,1756,"42181903"]
[null,{"$f":"IFERROR(INDEX($G$7:$H$13233,$L1763,COLUMNS($B$6:B1762)),\"\")","v":"42203501"},"Cardiac pacemaker generators or cardiac resynchronization therapy pacemakers CRT-P",null,null,null,"42203501","Cardiac pacemaker generators or cardiac resynchronization therapy pacemakers CRT-P","42203501",1757,1757,1757,"42203501"]
[null,{"$f":"IFERROR(INDEX($G$7:$H$13233,$L1764,COLUMNS($B$6:B1763)),\"\")","v":"42203500"},"Cardiac pacemakers and related products",null,null,null,"42203500","Cardiac pacemakers and related products","42203500",1758,1758,1758,"42203500"]
[null,{"$f":"IFERROR(INDEX($G$7:$H$13233,$L1765,COLUMNS($B$6:B1764)),\"\")","v":"42203503"},"Cardiac pacing lead introducers or sets",null,null,null,"42203503","Cardiac pacing lead introducers or sets","42203503",1759,1759,1759,"42203503"]
[null,{"$f":"IFERROR(INDEX($G$7:$H$13233,$L1766,COLUMNS($B$6:B1765)),\"\")","v":"42203502"},"Cardiac pacing leads or electrodes",null,null,null,"42203502","Cardiac pacing leads or electrodes","42203502",1760,1760,1760,"42203502"]
[null,{"$f":"IFERROR(INDEX($G$7:$H$13233,$L1767,COLUMNS($B$6:B1766)),\"\")","v":"42203504"},"Cardiac recorders",null,null,null,"42203504","Cardiac recorders","42203504",1761,1761,1761,"42203504"]
[null,{"$f":"IFERROR(INDEX($G$7:$H$13233,$L1768,COLUMNS($B$6:B1767)),\"\")","v":"42301503"},"Cardio pulmonary resuscitation CPR training aids",null,null,null,"42301503","Cardio pulmonary resuscitation CPR training aids","42301503",1762,1762,1762,"42301503"]
[null,{"$f":"IFERROR(INDEX($G$7:$H$13233,$L1769,COLUMNS($B$6:B1768)),\"\")","v":"60105915"},"Cardio pulmonary resusitation or basic life support instructional materials",null,null,null,"60105915","Cardio pulmonary resusitation or basic life support instructional materials","60105915",1763,1763,1763,"60105915"]
[null,{"$f":"IFERROR(INDEX($G$7:$H$13233,$L1770,COLUMNS($B$6:B1769)),\"\")","v":"42203410"},"Cardiovascular catheter sheathes",null,null,null,"42203410","Cardiovascular catheter sheathes","42203410",1764,1764,1764,"42203410"]
[null,{"$f":"IFERROR(INDEX($G$7:$H$13233,$L1771,COLUMNS($B$6:B1770)),\"\")","v":"42203447"},"Cardiovascular catheterization kits or sets",null,null,null,"42203447","Cardiovascular catheterization kits or sets","42203447",1765,1765,1765,"42203447"]
[null,{"$f":"IFERROR(INDEX($G$7:$H$13233,$L1772,COLUMNS($B$6:B1771)),\"\")","v":"42296000"},"Cardiovascular implants",null,null,null,"42296000","Cardiovascular implants","42296000",1766,1766,1766,"42296000"]
[null,{"$f":"IFERROR(INDEX($G$7:$H$13233,$L1773,COLUMNS($B$6:B1772)),\"\")","v":"42203408"},"Cardiovascular sheath kits",null,null,null,"42203408","Cardiovascular sheath kits","42203408",1767,1767,1767,"42203408"]
[null,{"$f":"IFERROR(INDEX($G$7:$H$13233,$L1774,COLUMNS($B$6:B1773)),\"\")","v":"14111519"},"Cardstock papers",null,null,null,"14111519","Cardstock papers","14111519",1768,1768,1768,"14111519"]
[null,{"$f":"IFERROR(INDEX($G$7:$H$13233,$L1775,COLUMNS($B$6:B1774)),\"\")","v":"93141810"},"Career development services",null,null,null,"93141810","Career development services","93141810",1769,1769,1769,"93141810"]
[null,{"$f":"IFERROR(INDEX($G$7:$H$13233,$L1776,COLUMNS($B$6:B1775)),\"\")","v":"60105300"},"Career education instructional materials",null,null,null,"60105300","Career education instructional materials","60105300",1770,1770,1770,"60105300"]
[null,{"$f":"IFERROR(INDEX($G$7:$H$13233,$L1777,COLUMNS($B$6:B1776)),\"\")","v":"60105301"},"Career education or planning or decision making skills instructional materials",null,null,null,"60105301","Career education or planning or decision making skills instructional materials","60105301",1771,1771,1771,"60105301"]
[null,{"$f":"IFERROR(INDEX($G$7:$H$13233,$L1778,COLUMNS($B$6:B1777)),\"\")","v":"51283404"},"Carfecillin",null,null,null,"51283404","Carfecillin","51283404",1772,1772,1772,"51283404"]
[null,{"$f":"IFERROR(INDEX($G$7:$H$13233,$L1779,COLUMNS($B$6:B1778)),\"\")","v":"51283417"},"Carfecillin sodium",null,null,null,"51283417","Carfecillin sodium","51283417",1773,1773,1773,"51283417"]
[null,{"$f":"IFERROR(INDEX($G$7:$H$13233,$L1780,COLUMNS($B$6:B1779)),\"\")","v":"51111779"},"Carfilzomib",null,null,null,"51111779","Carfilzomib","51111779",1774,1774,1774,"51111779"]
[null,{"$f":"IFERROR(INDEX($G$7:$H$13233,$L1781,COLUMNS($B$6:B1780)),\"\")","v":"24102101"},"Cargo handling equipment",null,null,null,"24102101","Cargo handling equipment","24102101",1775,1775,1775,"24102101"]
[null,{"$f":"IFERROR(INDEX($G$7:$H$13233,$L1782,COLUMNS($B$6:B1781)),\"\")","v":"84131504"},"Cargo insurance",null,null,null,"84131504","Cargo insurance","84131504",1776,1776,1776,"84131504"]
[null,{"$f":"IFERROR(INDEX($G$7:$H$13233,$L1783,COLUMNS($B$6:B1782)),\"\")","v":"25131505"},"Cargo jet aircraft",null,null,null,"25131505","Cargo jet aircraft","25131505",1777,1777,1777,"25131505"]
[null,{"$f":"IFERROR(INDEX($G$7:$H$13233,$L1784,COLUMNS($B$6:B1783)),\"\")","v":"25111503"},"Cargo or container ships",null,null,null,"25111503","Cargo or container ships","25111503",1778,1778,1778,"25111503"]
[null,{"$f":"IFERROR(INDEX($G$7:$H$13233,$L1785,COLUMNS($B$6:B1784)),\"\")","v":"41111531"},"Cargo scale",null,null,null,"41111531","Cargo scale","41111531",1779,1779,1779,"41111531"]
[null,{"$f":"IFERROR(INDEX($G$7:$H$13233,$L1786,COLUMNS($B$6:B1785)),\"\")","v":"78141602"},"Cargo survey services",null,null,null,"78141602","Cargo survey services","78141602",1780,1780,1780,"78141602"]
[null,{"$f":"IFERROR(INDEX($G$7:$H$13233,$L1787,COLUMNS($B$6:B1786)),\"\")","v":"25131602"},"Cargo transport helicopters",null,null,null,"25131602","Cargo transport helicopters","25131602",1781,1781,1781,"25131602"]
[null,{"$f":"IFERROR(INDEX($G$7:$H$13233,$L1788,COLUMNS($B$6:B1787)),\"\")","v":"25181604"},"Cargo truck body",null,null,null,"25181604","Cargo truck body","25181604",1782,1782,1782,"25181604"]
[null,{"$f":"IFERROR(INDEX($G$7:$H$13233,$L1789,COLUMNS($B$6:B1788)),\"\")","v":"25101611"},"Cargo trucks",null,null,null,"25101611","Cargo trucks","25101611",1783,1783,1783,"25101611"]
[null,{"$f":"IFERROR(INDEX($G$7:$H$13233,$L1790,COLUMNS($B$6:B1789)),\"\")","v":"51112601"},"Carmustine",null,null,null,"51112601","Carmustine","51112601",1784,1784,1784,"51112601"]
[null,{"$f":"IFERROR(INDEX($G$7:$H$13233,$L1791,COLUMNS($B$6:B1790)),\"\")","v":"27113403"},"Carpenter pencil",null,null,null,"27113403","Carpenter pencil","27113403",1785,1785,1785,"27113403"]
[null,{"$f":"IFERROR(INDEX($G$7:$H$13233,$L1792,COLUMNS($B$6:B1791)),\"\")","v":"72152300"},"Carpentry services",null,null,null,"72152300","Carpentry services","72152300",1786,{"$f":"IF(ISNUMBER(SEARCH($H$4,H1792)),J1792,\"\")","v":1786},{"$f":"IFERROR(SMALL($K$7:$K$13233,J1792),\"\")","v":1786},"72152300"]
[null,{"$f":"IFERROR(INDEX($G$7:$H$13233,$L1793,COLUMNS($B$6:B1792)),\"\")","v":"27113400"},"Carpentry Tools",null,null,null,"27113400","Carpentry Tools","27113400",1787,1787,1787,"27113400"]
[null,{"$f":"IFERROR(INDEX($G$7:$H$13233,$L1794,COLUMNS($B$6:B1793)),\"\")","v":"72152503"},"Carpet laying service",null,null,null,"72152503","Carpet laying service","72152503",1788,1788,1788,"72152503"]
[null,{"$f":"IFERROR(INDEX($G$7:$H$13233,$L1795,COLUMNS($B$6:B1794)),\"\")","v":"47121606"},"Carpet sweepers",null,null,null,"47121606","Carpet sweepers","47121606",1789,1789,1789,"47121606"]
[null,{"$f":"IFERROR(INDEX($G$7:$H$13233,$L1796,COLUMNS($B$6:B1795)),\"\")","v":"42241513"},"Carrier and storage cases for splints or precut splints or splint systems",null,null,null,"42241513","Carrier and storage cases for splints or precut splints or splint systems","42241513",1790,1790,1790,"42241513"]
[null,{"$f":"IFERROR(INDEX($G$7:$H$13233,$L1797,COLUMNS($B$6:B1796)),\"\")","v":"43222826"},"Carrier terminal",null,null,null,"43222826","Carrier terminal","43222826",1791,1791,1791,"43222826"]
[null,{"$f":"IFERROR(INDEX($G$7:$H$13233,$L1798,COLUMNS($B$6:B1797)),\"\")","v":"10152404"},"Carrot seeds or seedlings",null,null,null,"10152404","Carrot seeds or seedlings","10152404",1792,1792,1792,"10152404"]
[null,{"$f":"IFERROR(INDEX($G$7:$H$13233,$L1799,COLUMNS($B$6:B1798)),\"\")","v":"90101800"},"Carryout and takeaway services",null,null,null,"90101800","Carryout and takeaway services","90101800",1793,1793,1793,"90101800"]
[null,{"$f":"IFERROR(INDEX($G$7:$H$13233,$L1800,COLUMNS($B$6:B1799)),\"\")","v":"25191553"},"Cart, Baggage - Accessories",null,null,null,"25191553","Cart, Baggage - Accessories","25191553",1794,1794,1794,"25191553"]
[null,{"$f":"IFERROR(INDEX($G$7:$H$13233,$L1801,COLUMNS($B$6:B1800)),\"\")","v":"25191552"},"Cart, Baggage (Passenger)",null,null,null,"25191552","Cart, Baggage (Passenger)","25191552",1795,1795,1795,"25191552"]
[null,{"$f":"IFERROR(INDEX($G$7:$H$13233,$L1802,COLUMNS($B$6:B1801)),\"\")","v":"81151600"},"Cartography",null,null,null,"81151600","Cartography","81151600",1796,1796,1796,"81151600"]
[null,{"$f":"IFERROR(INDEX($G$7:$H$13233,$L1803,COLUMNS($B$6:B1802)),\"\")","v":"24102107"},"Cartoning machinery",null,null,null,"24102107","Cartoning machinery","24102107",1797,1797,1797,"24102107"]
[null,{"$f":"IFERROR(INDEX($G$7:$H$13233,$L1804,COLUMNS($B$6:B1803)),\"\")","v":"82151503"},"Cartoonists services",null,null,null,"82151503","Cartoonists services","82151503",1798,1798,1798,"82151503"]
[null,{"$f":"IFERROR(INDEX($G$7:$H$13233,$L1805,COLUMNS($B$6:B1804)),\"\")","v":"46101802"},"Cartridge belt",null,null,null,"46101802","Cartridge belt","46101802",1799,1799,1799,"46101802"]
[null,{"$f":"IFERROR(INDEX($G$7:$H$13233,$L1806,COLUMNS($B$6:B1805)),\"\")","v":"46191623"},"Cartridges For Extinguishers",null,null,null,"46191623","Cartridges For Extinguishers","46191623",1800,1800,1800,"46191623"]
[null,{"$f":"IFERROR(INDEX($G$7:$H$13233,$L1807,COLUMNS($B$6:B1806)),\"\")","v":"24101501"},"Carts",null,null,null,"24101501","Carts","24101501",1801,1801,1801,"24101501"]
[null,{"$f":"IFERROR(INDEX($G$7:$H$13233,$L1808,COLUMNS($B$6:B1807)),\"\")","v":"51262002"},"Carvedilol",null,null,null,"51262002","Carvedilol","51262002",1802,1802,1802,"51262002"]
[null,{"$f":"IFERROR(INDEX($G$7:$H$13233,$L1809,COLUMNS($B$6:B1808)),\"\")","v":"82121908"},"Case making services",null,null,null,"82121908","Case making services","82121908",1803,1803,1803,"82121908"]
[null,{"$f":"IFERROR(INDEX($G$7:$H$13233,$L1810,COLUMNS($B$6:B1809)),\"\")","v":"56111700"},"Casegood and non modular systems",null,null,null,"56111700","Casegood and non modular systems","56111700",1804,1804,1804,"56111700"]
[null,{"$f":"IFERROR(INDEX($G$7:$H$13233,$L1811,COLUMNS($B$6:B1810)),\"\")","v":"30171903"},"Casement window frames",null,null,null,"30171903","Casement window frames","30171903",1805,1805,1805,"30171903"]
[null,{"$f":"IFERROR(INDEX($G$7:$H$13233,$L1812,COLUMNS($B$6:B1811)),\"\")","v":"42211712"},"Cases for hearing aids",null,null,null,"42211712","Cases for hearing aids","42211712",1806,1806,1806,"42211712"]
[null,{"$f":"IFERROR(INDEX($G$7:$H$13233,$L1813,COLUMNS($B$6:B1812)),\"\")","v":"42293524"},"Cases for medical suction cannulae",null,null,null,"42293524","Cases for medical suction cannulae","42293524",1807,1807,1807,"42293524"]
[null,{"$f":"IFERROR(INDEX($G$7:$H$13233,$L1814,COLUMNS($B$6:B1813)),\"\")","v":"42271716"},"Cases for nasal insufflators",null,null,null,"42271716","Cases for nasal insufflators","42271716",1808,1808,1808,"42271716"]
[null,{"$f":"IFERROR(INDEX($G$7:$H$13233,$L1815,COLUMNS($B$6:B1814)),\"\")","v":"42192431"},"Cases for postmortem surgical instruments",null,null,null,"42192431","Cases for postmortem surgical instruments","42192431",1809,1809,1809,"42192431"]
[null,{"$f":"IFERROR(INDEX($G$7:$H$13233,$L1816,COLUMNS($B$6:B1815)),\"\")","v":"42171922"},"Cases for splints",null,null,null,"42171922","Cases for splints","42171922",1810,1810,1810,"42171922"]
[null,{"$f":"IFERROR(INDEX($G$7:$H$13233,$L1817,COLUMNS($B$6:B1816)),\"\")","v":"70142005"},"Cash grain crops market preparation services",null,null,null,"70142005","Cash grain crops market preparation services","70142005",1811,1811,1811,"70142005"]
[null,{"$f":"IFERROR(INDEX($G$7:$H$13233,$L1818,COLUMNS($B$6:B1817)),\"\")","v":"70141901"},"Cash grains harvesting services",null,null,null,"70141901","Cash grains harvesting services","70141901",1812,1812,1812,"70141901"]
[null,{"$f":"IFERROR(INDEX($G$7:$H$13233,$L1819,COLUMNS($B$6:B1818)),\"\")","v":"44111600"},"Cash handling supplies",null,null,null,"44111600","Cash handling supplies","44111600",1813,1813,1813,"44111600"]
[null,{"$f":"IFERROR(INDEX($G$7:$H$13233,$L1820,COLUMNS($B$6:B1819)),\"\")","v":"84131508"},"Cash in transit insurance",null,null,null,"84131508","Cash in transit insurance","84131508",1814,1814,1814,"84131508"]
[null,{"$f":"IFERROR(INDEX($G$7:$H$13233,$L1821,COLUMNS($B$6:B1820)),\"\")","v":"44111605"},"Cash or ticket boxes",null,null,null,"44111605","Cash or ticket boxes","44111605",1815,1815,1815,"44111605"]
[null,{"$f":"IFERROR(INDEX($G$7:$H$13233,$L1822,COLUMNS($B$6:B1821)),\"\")","v":"44101806"},"Cash register ribbons",null,null,null,"44101806","Cash register ribbons","44101806",1816,1816,1816,"44101806"]
[null,{"$f":"IFERROR(INDEX($G$7:$H$13233,$L1823,COLUMNS($B$6:B1822)),\"\")","v":"44101804"},"Cash registers",null,null,null,"44101804","Cash registers","44101804",1817,1817,1817,"44101804"]
[null,{"$f":"IFERROR(INDEX($G$7:$H$13233,$L1824,COLUMNS($B$6:B1823)),\"\")","v":"84122000"},"Cash vault services",null,null,null,"84122000","Cash vault services","84122000",1818,1818,1818,"84122000"]
[null,{"$f":"IFERROR(INDEX($G$7:$H$13233,$L1825,COLUMNS($B$6:B1824)),\"\")","v":"24112101"},"Casks",null,null,null,"24112101","Casks","24112101",1819,1819,1819,"24112101"]
[null,{"$f":"IFERROR(INDEX($G$7:$H$13233,$L1826,COLUMNS($B$6:B1825)),\"\")","v":"24112100"},"Casks and barrels and drums",null,null,null,"24112100","Casks and barrels and drums","24112100",1820,1820,1820,"24112100"]
[null,{"$f":"IFERROR(INDEX($G$7:$H$13233,$L1827,COLUMNS($B$6:B1826)),\"\")","v":"51283107"},"Caspofungin acetate",null,null,null,"51283107","Caspofungin acetate","51283107",1821,1821,1821,"51283107"]
[null,{"$f":"IFERROR(INDEX($G$7:$H$13233,$L1828,COLUMNS($B$6:B1827)),\"\")","v":"50221307"},"Cassava Flour",null,null,null,"50221307","Cassava Flour","50221307",1822,1822,1822,"50221307"]
[null,{"$f":"IFERROR(INDEX($G$7:$H$13233,$L1829,COLUMNS($B$6:B1828)),\"\")","v":"10152057"},"Cassava seed or cutting",null,null,null,"10152057","Cassava seed or cutting","10152057",1823,1823,1823,"10152057"]
[null,{"$f":"IFERROR(INDEX($G$7:$H$13233,$L1830,COLUMNS($B$6:B1829)),\"\")","v":"45111722"},"Cassette deck",null,null,null,"45111722","Cassette deck","45111722",1824,1824,1824,"45111722"]
[null,{"$f":"IFERROR(INDEX($G$7:$H$13233,$L1831,COLUMNS($B$6:B1830)),\"\")","v":"44103600"},"Cassette disposal equipment and accessories",null,null,null,"44103600","Cassette disposal equipment and accessories","44103600",1825,1825,1825,"44103600"]
[null,{"$f":"IFERROR(INDEX($G$7:$H$13233,$L1832,COLUMNS($B$6:B1831)),\"\")","v":"44103601"},"Cassette or tape shredders",null,null,null,"44103601","Cassette or tape shredders","44103601",1826,1826,1826,"44103601"]
[null,{"$f":"IFERROR(INDEX($G$7:$H$13233,$L1833,COLUMNS($B$6:B1832)),\"\")","v":"52161502"},"Cassette players or recorders",null,null,null,"52161502","Cassette players or recorders","52161502",1827,1827,1827,"52161502"]
[null,{"$f":"IFERROR(INDEX($G$7:$H$13233,$L1834,COLUMNS($B$6:B1833)),\"\")","v":"41105313"},"Cassettes or related detection accessories",null,null,null,"41105313","Cassettes or related detection accessories","41105313",1828,1828,1828,"41105313"]
[null,{"$f":"IFERROR(INDEX($G$7:$H$13233,$L1835,COLUMNS($B$6:B1834)),\"\")","v":"42241602"},"Cast cutters or saws",null,null,null,"42241602","Cast cutters or saws","42241602",1829,1829,1829,"42241602"]
[null,{"$f":"IFERROR(INDEX($G$7:$H$13233,$L1836,COLUMNS($B$6:B1835)),\"\")","v":"42241606"},"Cast impression trays",null,null,null,"42241606","Cast impression trays","42241606",1830,1830,1830,"42241606"]
[null,{"$f":"IFERROR(INDEX($G$7:$H$13233,$L1837,COLUMNS($B$6:B1836)),\"\")","v":"42241512"},"Cast or splint bonding materials",null,null,null,"42241512","Cast or splint bonding materials","42241512",1831,1831,1831,"42241512"]
[null,{"$f":"IFERROR(INDEX($G$7:$H$13233,$L1838,COLUMNS($B$6:B1837)),\"\")","v":"42192409"},"Cast or splint carts or stands",null,null,null,"42192409","Cast or splint carts or stands","42192409",1832,1832,1832,"42192409"]
[null,{"$f":"IFERROR(INDEX($G$7:$H$13233,$L1839,COLUMNS($B$6:B1838)),\"\")","v":"42241502"},"Cast or splint padding materials",null,null,null,"42241502","Cast or splint padding materials","42241502",1833,1833,1833,"42241502"]
[null,{"$f":"IFERROR(INDEX($G$7:$H$13233,$L1840,COLUMNS($B$6:B1839)),\"\")","v":"42241503"},"Cast or splint protectors",null,null,null,"42241503","Cast or splint protectors","42241503",1834,1834,1834,"42241503"]
[null,{"$f":"IFERROR(INDEX($G$7:$H$13233,$L1841,COLUMNS($B$6:B1840)),\"\")","v":"42241504"},"Cast or splint stockinet or liners",null,null,null,"42241504","Cast or splint stockinet or liners","42241504",1835,1835,1835,"42241504"]
[null,{"$f":"IFERROR(INDEX($G$7:$H$13233,$L1842,COLUMNS($B$6:B1841)),\"\")","v":"42241603"},"Cast removal systems",null,null,null,"42241603","Cast removal systems","42241603",1836,1836,1836,"42241603"]
[null,{"$f":"IFERROR(INDEX($G$7:$H$13233,$L1843,COLUMNS($B$6:B1842)),\"\")","v":"42241517"},"Cast spreaders",null,null,null,"42241517","Cast spreaders","42241517",1837,1837,1837,"42241517"]
[null,{"$f":"IFERROR(INDEX($G$7:$H$13233,$L1844,COLUMNS($B$6:B1843)),\"\")","v":"42241604"},"Cast vacuums",null,null,null,"42241604","Cast vacuums","42241604",1838,1838,1838,"42241604"]
[null,{"$f":"IFERROR(INDEX($G$7:$H$13233,$L1845,COLUMNS($B$6:B1844)),\"\")","v":"60131404"},"Castanets",null,null,null,"60131404","Castanets","60131404",1839,1839,1839,"60131404"]
[null,{"$f":"IFERROR(INDEX($G$7:$H$13233,$L1846,COLUMNS($B$6:B1845)),\"\")","v":"42241500"},"Casting and splinting supplies",null,null,null,"42241500","Casting and splinting supplies","42241500",1840,1840,1840,"42241500"]
[null,{"$f":"IFERROR(INDEX($G$7:$H$13233,$L1847,COLUMNS($B$6:B1846)),\"\")","v":"42241600"},"Casting equipment and parts and accessories",null,null,null,"42241600","Casting equipment and parts and accessories","42241600",1841,1841,1841,"42241600"]
[null,{"$f":"IFERROR(INDEX($G$7:$H$13233,$L1848,COLUMNS($B$6:B1847)),\"\")","v":"31100000"},"Castings and casting assemblies",null,null,null,"31100000","Castings and casting assemblies","31100000",1842,1842,1842,"31100000"]
[null,{"$f":"IFERROR(INDEX($G$7:$H$13233,$L1849,COLUMNS($B$6:B1848)),\"\")","v":"10152048"},"Castor oil bush seed or cutting",null,null,null,"10152048","Castor oil bush seed or cutting","10152048",1843,1843,1843,"10152048"]
[null,{"$f":"IFERROR(INDEX($G$7:$H$13233,$L1850,COLUMNS($B$6:B1849)),\"\")","v":"10151608"},"Castor oil seeds",null,null,null,"10151608","Castor oil seeds","10151608",1844,1844,1844,"10151608"]
[null,{"$f":"IFERROR(INDEX($G$7:$H$13233,$L1851,COLUMNS($B$6:B1850)),\"\")","v":"11121622"},"Catahua wood",null,null,null,"11121622","Catahua wood","11121622",1845,1845,1845,"11121622"]
[null,{"$f":"IFERROR(INDEX($G$7:$H$13233,$L1852,COLUMNS($B$6:B1851)),\"\")","v":"44121507"},"Catalog or clasp envelopes",null,null,null,"44121507","Catalog or clasp envelopes","44121507",1846,1846,1846,"44121507"]
[null,{"$f":"IFERROR(INDEX($G$7:$H$13233,$L1853,COLUMNS($B$6:B1852)),\"\")","v":"55101503"},"Catalogs",null,null,null,"55101503","Catalogs","55101503",1847,1847,1847,"55101503"]
[null,{"$f":"IFERROR(INDEX($G$7:$H$13233,$L1854,COLUMNS($B$6:B1853)),\"\")","v":"72154054"},"Catalyst loading or removal service",null,null,null,"72154054","Catalyst loading or removal service","72154054",1848,1848,1848,"72154054"]
[null,{"$f":"IFERROR(INDEX($G$7:$H$13233,$L1855,COLUMNS($B$6:B1854)),\"\")","v":"43232301"},"Categorization or classification software",null,null,null,"43232301","Categorization or classification software","43232301",1849,1849,1849,"43232301"]
[null,{"$f":"IFERROR(INDEX($G$7:$H$13233,$L1856,COLUMNS($B$6:B1855)),\"\")","v":"48102107"},"Catering gloves or glove dispensers",null,null,null,"48102107","Catering gloves or glove dispensers","48102107",1850,1850,1850,"48102107"]
[null,{"$f":"IFERROR(INDEX($G$7:$H$13233,$L1857,COLUMNS($B$6:B1856)),\"\")","v":"25191540"},"Catering Service Unit ",null,null,null,"25191540","Catering Service Unit ","25191540",1851,1851,1851,"25191540"]
[null,{"$f":"IFERROR(INDEX($G$7:$H$13233,$L1858,COLUMNS($B$6:B1857)),\"\")","v":"90101603"},"Catering services",null,null,null,"90101603","Catering services","90101603",1852,1852,1852,"90101603"]
[null,{"$f":"IFERROR(INDEX($G$7:$H$13233,$L1859,COLUMNS($B$6:B1858)),\"\")","v":"30171712"},"Cathedral glass",null,null,null,"30171712","Cathedral glass","30171712",1853,1853,1853,"30171712"]
[null,{"$f":"IFERROR(INDEX($G$7:$H$13233,$L1860,COLUMNS($B$6:B1859)),\"\")","v":"42192429"},"Catheter carts",null,null,null,"42192429","Catheter carts","42192429",1854,1854,1854,"42192429"]
[null,{"$f":"IFERROR(INDEX($G$7:$H$13233,$L1861,COLUMNS($B$6:B1860)),\"\")","v":"95122008"},"Catheter room",null,null,null,"95122008","Catheter room","95122008",1855,1855,1855,"95122008"]
[null,{"$f":"IFERROR(INDEX($G$7:$H$13233,$L1862,COLUMNS($B$6:B1861)),\"\")","v":"42221516"},"Catheter tip occluders",null,null,null,"42221516","Catheter tip occluders","42221516",1856,1856,1856,"42221516"]
[null,{"$f":"IFERROR(INDEX($G$7:$H$13233,$L1863,COLUMNS($B$6:B1862)),\"\")","v":"41111651"},"Cathetometer",null,null,null,"41111651","Cathetometer","41111651",1857,1857,1857,"41111651"]
[null,{"$f":"IFERROR(INDEX($G$7:$H$13233,$L1864,COLUMNS($B$6:B1863)),\"\")","v":"43211901"},"Cathode ray tube CRT monitors",null,null,null,"43211901","Cathode ray tube CRT monitors","43211901",1858,1858,1858,"43211901"]
[null,{"$f":"IFERROR(INDEX($G$7:$H$13233,$L1865,COLUMNS($B$6:B1864)),\"\")","v":"45111613"},"Cathode ray tube projector",null,null,null,"45111613","Cathode ray tube projector","45111613",1859,1859,1859,"45111613"]
[null,{"$f":"IFERROR(INDEX($G$7:$H$13233,$L1866,COLUMNS($B$6:B1865)),\"\")","v":"41113701"},"Cathode ray tube tester",null,null,null,"41113701","Cathode ray tube tester","41113701",1860,1860,1860,"41113701"]
[null,{"$f":"IFERROR(INDEX($G$7:$H$13233,$L1867,COLUMNS($B$6:B1866)),\"\")","v":"10101501"},"Cats",null,null,null,"10101501","Cats","10101501",1861,1861,1861,"10101501"]
[null,{"$f":"IFERROR(INDEX($G$7:$H$13233,$L1868,COLUMNS($B$6:B1867)),\"\")","v":"10101516"},"Cattle",null,null,null,"10101516","Cattle","10101516",1862,1862,1862,"10101516"]
[null,{"$f":"IFERROR(INDEX($G$7:$H$13233,$L1869,COLUMNS($B$6:B1868)),\"\")","v":"10151523"},"Cauliflower seeds or seedlings",null,null,null,"10151523","Cauliflower seeds or seedlings","10151523",1863,1863,1863,"10151523"]
[null,{"$f":"IFERROR(INDEX($G$7:$H$13233,$L1870,COLUMNS($B$6:B1869)),\"\")","v":"72153205"},"Caulking service",null,null,null,"72153205","Caulking service","72153205",1864,1864,1864,"72153205"]
[null,{"$f":"IFERROR(INDEX($G$7:$H$13233,$L1871,COLUMNS($B$6:B1870)),\"\")","v":"41113662"},"Cavity resonator",null,null,null,"41113662","Cavity resonator","41113662",1865,1865,1865,"41113662"]
[null,{"$f":"IFERROR(INDEX($G$7:$H$13233,$L1872,COLUMNS($B$6:B1871)),\"\")","v":"81112008"},"Cd rom mastering services",null,null,null,"81112008","Cd rom mastering services","81112008",1866,1866,1866,"81112008"]
[null,{"$f":"IFERROR(INDEX($G$7:$H$13233,$L1873,COLUMNS($B$6:B1872)),\"\")","v":"92111503"},"Cease fire agreements or truce supervision",null,null,null,"92111503","Cease fire agreements or truce supervision","92111503",1867,1867,1867,"92111503"]
[null,{"$f":"IFERROR(INDEX($G$7:$H$13233,$L1874,COLUMNS($B$6:B1873)),\"\")","v":"51283701"},"Cefaclor",null,null,null,"51283701","Cefaclor","51283701",1868,1868,1868,"51283701"]
[null,{"$f":"IFERROR(INDEX($G$7:$H$13233,$L1875,COLUMNS($B$6:B1874)),\"\")","v":"51282502"},"Cefadroxil",null,null,null,"51282502","Cefadroxil","51282502",1869,1869,1869,"51282502"]
[null,{"$f":"IFERROR(INDEX($G$7:$H$13233,$L1876,COLUMNS($B$6:B1875)),\"\")","v":"51282523"},"Cefalexin monohydrate",null,null,null,"51282523","Cefalexin monohydrate","51282523",1870,1870,1870,"51282523"]
[null,{"$f":"IFERROR(INDEX($G$7:$H$13233,$L1877,COLUMNS($B$6:B1876)),\"\")","v":"51282506"},"Cefalotin or cephalothin",null,null,null,"51282506","Cefalotin or cephalothin","51282506",1871,1871,1871,"51282506"]
[null,{"$f":"IFERROR(INDEX($G$7:$H$13233,$L1878,COLUMNS($B$6:B1877)),\"\")","v":"51283702"},"Cefamandole",null,null,null,"51283702","Cefamandole","51283702",1872,1872,1872,"51283702"]
[null,{"$f":"IFERROR(INDEX($G$7:$H$13233,$L1879,COLUMNS($B$6:B1878)),\"\")","v":"51282511"},"Cefazolin or cefazoline or cephazolin",null,null,null,"51282511","Cefazolin or cefazoline or cephazolin","51282511",1873,1873,1873,"51282511"]
[null,{"$f":"IFERROR(INDEX($G$7:$H$13233,$L1880,COLUMNS($B$6:B1879)),\"\")","v":"51284103"},"Cefdinir",null,null,null,"51284103","Cefdinir","51284103",1874,1874,1874,"51284103"]
[null,{"$f":"IFERROR(INDEX($G$7:$H$13233,$L1881,COLUMNS($B$6:B1880)),\"\")","v":"51284104"},"Cefditoren",null,null,null,"51284104","Cefditoren","51284104",1875,1875,1875,"51284104"]
[null,{"$f":"IFERROR(INDEX($G$7:$H$13233,$L1882,COLUMNS($B$6:B1881)),\"\")","v":"51282602"},"Cefepime",null,null,null,"51282602","Cefepime","51282602",1876,1876,1876,"51282602"]
[null,{"$f":"IFERROR(INDEX($G$7:$H$13233,$L1883,COLUMNS($B$6:B1882)),\"\")","v":"51282610"},"Cefepime hydrochloride",null,null,null,"51282610","Cefepime hydrochloride","51282610",1877,1877,1877,"51282610"]
[null,{"$f":"IFERROR(INDEX($G$7:$H$13233,$L1884,COLUMNS($B$6:B1883)),\"\")","v":"51284106"},"Cefixime",null,null,null,"51284106","Cefixime","51284106",1878,1878,1878,"51284106"]
[null,{"$f":"IFERROR(INDEX($G$7:$H$13233,$L1885,COLUMNS($B$6:B1884)),\"\")","v":"51283705"},"Cefminox",null,null,null,"51283705","Cefminox","51283705",1879,1879,1879,"51283705"]
[null,{"$f":"IFERROR(INDEX($G$7:$H$13233,$L1886,COLUMNS($B$6:B1885)),\"\")","v":"51283717"},"Cefminox sodium",null,null,null,"51283717","Cefminox sodium","51283717",1880,1880,1880,"51283717"]
[null,{"$f":"IFERROR(INDEX($G$7:$H$13233,$L1887,COLUMNS($B$6:B1886)),\"\")","v":"51283706"},"Cefonicid",null,null,null,"51283706","Cefonicid","51283706",1881,1881,1881,"51283706"]
[null,{"$f":"IFERROR(INDEX($G$7:$H$13233,$L1888,COLUMNS($B$6:B1887)),\"\")","v":"51283718"},"Cefonicid monosodium",null,null,null,"51283718","Cefonicid monosodium","51283718",1882,1882,1882,"51283718"]
[null,{"$f":"IFERROR(INDEX($G$7:$H$13233,$L1889,COLUMNS($B$6:B1888)),\"\")","v":"51283719"},"Cefonicid sodium",null,null,null,"51283719","Cefonicid sodium","51283719",1883,1883,1883,"51283719"]
[null,{"$f":"IFERROR(INDEX($G$7:$H$13233,$L1890,COLUMNS($B$6:B1889)),\"\")","v":"51284121"},"Cefoperazone",null,null,null,"51284121","Cefoperazone","51284121",1884,1884,1884,"51284121"]
[null,{"$f":"IFERROR(INDEX($G$7:$H$13233,$L1891,COLUMNS($B$6:B1890)),\"\")","v":"51284135"},"Cefoperazone sodium",null,null,null,"51284135","Cefoperazone sodium","51284135",1885,1885,1885,"51284135"]
[null,{"$f":"IFERROR(INDEX($G$7:$H$13233,$L1892,COLUMNS($B$6:B1891)),\"\")","v":"51284109"},"Cefotaxime",null,null,null,"51284109","Cefotaxime","51284109",1886,1886,1886,"51284109"]
[null,{"$f":"IFERROR(INDEX($G$7:$H$13233,$L1893,COLUMNS($B$6:B1892)),\"\")","v":"51284136"},"Cefotaxime sodium",null,null,null,"51284136","Cefotaxime sodium","51284136",1887,1887,1887,"51284136"]
[null,{"$f":"IFERROR(INDEX($G$7:$H$13233,$L1894,COLUMNS($B$6:B1893)),\"\")","v":"51282201"},"Cefotetan",null,null,null,"51282201","Cefotetan","51282201",1888,1888,1888,"51282201"]
[null,{"$f":"IFERROR(INDEX($G$7:$H$13233,$L1895,COLUMNS($B$6:B1894)),\"\")","v":"51282202"},"Cefoxitin",null,null,null,"51282202","Cefoxitin","51282202",1889,1889,1889,"51282202"]
[null,{"$f":"IFERROR(INDEX($G$7:$H$13233,$L1896,COLUMNS($B$6:B1895)),\"\")","v":"51282208"},"Cefoxitin sodium",null,null,null,"51282208","Cefoxitin sodium","51282208",1890,1890,1890,"51282208"]
[null,{"$f":"IFERROR(INDEX($G$7:$H$13233,$L1897,COLUMNS($B$6:B1896)),\"\")","v":"51283709"},"Cefprozil",null,null,null,"51283709","Cefprozil","51283709",1891,1891,1891,"51283709"]
[null,{"$f":"IFERROR(INDEX($G$7:$H$13233,$L1898,COLUMNS($B$6:B1897)),\"\")","v":"51282517"},"Cefradine or cephradine",null,null,null,"51282517","Cefradine or cephradine","51282517",1892,1892,1892,"51282517"]
[null,{"$f":"IFERROR(INDEX($G$7:$H$13233,$L1899,COLUMNS($B$6:B1898)),\"\")","v":"51284108"},"Ceftazidime",null,null,null,"51284108","Ceftazidime","51284108",1893,1893,1893,"51284108"]
[null,{"$f":"IFERROR(INDEX($G$7:$H$13233,$L1900,COLUMNS($B$6:B1899)),\"\")","v":"51284141"},"Ceftazidime pentahydrate",null,null,null,"51284141","Ceftazidime pentahydrate","51284141",1894,1894,1894,"51284141"]
[null,{"$f":"IFERROR(INDEX($G$7:$H$13233,$L1901,COLUMNS($B$6:B1900)),\"\")","v":"51284115"},"Ceftibuten",null,null,null,"51284115","Ceftibuten","51284115",1895,1895,1895,"51284115"]
[null,{"$f":"IFERROR(INDEX($G$7:$H$13233,$L1902,COLUMNS($B$6:B1901)),\"\")","v":"51285004"},"Ceftolozane/Tazobactam",null,null,null,"51285004","Ceftolozane/Tazobactam","51285004",1896,1896,1896,"51285004"]
[null,{"$f":"IFERROR(INDEX($G$7:$H$13233,$L1903,COLUMNS($B$6:B1902)),\"\")","v":"51284119"},"Ceftriaxone",null,null,null,"51284119","Ceftriaxone","51284119",1897,1897,1897,"51284119"]
[null,{"$f":"IFERROR(INDEX($G$7:$H$13233,$L1904,COLUMNS($B$6:B1903)),\"\")","v":"51284150"},"Ceftriaxone sodium",null,null,null,"51284150","Ceftriaxone sodium","51284150",1898,1898,1898,"51284150"]
[null,{"$f":"IFERROR(INDEX($G$7:$H$13233,$L1905,COLUMNS($B$6:B1904)),\"\")","v":"51283712"},"Cefuroxime",null,null,null,"51283712","Cefuroxime","51283712",1899,1899,1899,"51283712"]
[null,{"$f":"IFERROR(INDEX($G$7:$H$13233,$L1906,COLUMNS($B$6:B1905)),\"\")","v":"51283724"},"Cefuroxime axetil",null,null,null,"51283724","Cefuroxime axetil","51283724",1900,1900,1900,"51283724"]
[null,{"$f":"IFERROR(INDEX($G$7:$H$13233,$L1907,COLUMNS($B$6:B1906)),\"\")","v":"51283725"},"Cefuroxime pivoxetil",null,null,null,"51283725","Cefuroxime pivoxetil","51283725",1901,1901,1901,"51283725"]
[null,{"$f":"IFERROR(INDEX($G$7:$H$13233,$L1908,COLUMNS($B$6:B1907)),\"\")","v":"51283726"},"Cefuroxime sodium",null,null,null,"51283726","Cefuroxime sodium","51283726",1902,1902,1902,"51283726"]
[null,{"$f":"IFERROR(INDEX($G$7:$H$13233,$L1909,COLUMNS($B$6:B1908)),\"\")","v":"72152605"},"Ceiling erection and repair service",null,null,null,"72152605","Ceiling erection and repair service","72152605",1903,1903,1903,"72152605"]
[null,{"$f":"IFERROR(INDEX($G$7:$H$13233,$L1910,COLUMNS($B$6:B1909)),\"\")","v":"40101609"},"Ceiling fan",null,null,null,"40101609","Ceiling fan","40101609",1904,1904,1904,"40101609"]
[null,{"$f":"IFERROR(INDEX($G$7:$H$13233,$L1911,COLUMNS($B$6:B1910)),\"\")","v":"30161600"},"Ceiling materials",null,null,null,"30161600","Ceiling materials","30161600",1905,1905,1905,"30161600"]
[null,{"$f":"IFERROR(INDEX($G$7:$H$13233,$L1912,COLUMNS($B$6:B1911)),\"\")","v":"41114413"},"Ceilometer",null,null,null,"41114413","Ceilometer","41114413",1906,1906,1906,"41114413"]
[null,{"$f":"IFERROR(INDEX($G$7:$H$13233,$L1913,COLUMNS($B$6:B1912)),\"\")","v":"51384607"},"Celecoxib",null,null,null,"51384607","Celecoxib","51384607",1907,1907,1907,"51384607"]
[null,{"$f":"IFERROR(INDEX($G$7:$H$13233,$L1914,COLUMNS($B$6:B1913)),\"\")","v":"10151503"},"Celery seeds or seedlings",null,null,null,"10151503","Celery seeds or seedlings","10151503",1908,1908,1908,"10151503"]
[null,{"$f":"IFERROR(INDEX($G$7:$H$13233,$L1915,COLUMNS($B$6:B1914)),\"\")","v":"41122112"},"Cell culture glass capillary tube",null,null,null,"41122112","Cell culture glass capillary tube","41122112",1909,1909,1909,"41122112"]
[null,{"$f":"IFERROR(INDEX($G$7:$H$13233,$L1916,COLUMNS($B$6:B1915)),\"\")","v":"41104819"},"Cell harvester",null,null,null,"41104819","Cell harvester","41104819",1910,1910,1910,"41104819"]
[null,{"$f":"IFERROR(INDEX($G$7:$H$13233,$L1917,COLUMNS($B$6:B1916)),\"\")","v":"41115845"},"Cell metabolism analyzer",null,null,null,"41115845","Cell metabolism analyzer","41115845",1911,1911,1911,"41115845"]
[null,{"$f":"IFERROR(INDEX($G$7:$H$13233,$L1918,COLUMNS($B$6:B1917)),\"\")","v":"41115846"},"Cell metabolism analyzer accessories",null,null,null,"41115846","Cell metabolism analyzer accessories","41115846",1912,1912,1912,"41115846"]
[null,{"$f":"IFERROR(INDEX($G$7:$H$13233,$L1919,COLUMNS($B$6:B1918)),\"\")","v":"41122103"},"Cell scrapers",null,null,null,"41122103","Cell scrapers","41122103",1913,1913,1913,"41122103"]
[null,{"$f":"IFERROR(INDEX($G$7:$H$13233,$L1920,COLUMNS($B$6:B1919)),\"\")","v":"41104932"},"Cell strainer",null,null,null,"41104932","Cell strainer","41104932",1914,1914,1914,"41104932"]
[null,{"$f":"IFERROR(INDEX($G$7:$H$13233,$L1921,COLUMNS($B$6:B1920)),\"\")","v":"43221723"},"Cellular antenna",null,null,null,"43221723","Cellular antenna","43221723",1915,1915,1915,"43221723"]
[null,{"$f":"IFERROR(INDEX($G$7:$H$13233,$L1922,COLUMNS($B$6:B1921)),\"\")","v":"43221749"},"Cellular Equipment",null,null,null,"43221749","Cellular Equipment","43221749",1916,1916,1916,"43221749"]
[null,{"$f":"IFERROR(INDEX($G$7:$H$13233,$L1923,COLUMNS($B$6:B1922)),\"\")","v":"43221750"},"Cellular Radio-Mobile Systems And Terminals ",null,null,null,"43221750","Cellular Radio-Mobile Systems And Terminals ","43221750",1917,1917,1917,"43221750"]
[null,{"$f":"IFERROR(INDEX($G$7:$H$13233,$L1924,COLUMNS($B$6:B1923)),\"\")","v":"83111603"},"Cellular telephone services",null,null,null,"83111603","Cellular telephone services","83111603",1918,1918,1918,"83111603"]
[null,{"$f":"IFERROR(INDEX($G$7:$H$13233,$L1925,COLUMNS($B$6:B1924)),\"\")","v":"30111601"},"Cement",null,null,null,"30111601","Cement","30111601",1919,1919,1919,"30111601"]
[null,{"$f":"IFERROR(INDEX($G$7:$H$13233,$L1926,COLUMNS($B$6:B1925)),\"\")","v":"23151600"},"Cement and ceramics and glass industry machinery and equipment and supplies",null,null,null,"23151600","Cement and ceramics and glass industry machinery and equipment and supplies","23151600",1920,1920,1920,"23151600"]
[null,{"$f":"IFERROR(INDEX($G$7:$H$13233,$L1927,COLUMNS($B$6:B1926)),\"\")","v":"30111600"},"Cement and lime",null,null,null,"30111600","Cement and lime","30111600",1921,1921,1921,"30111600"]
[null,{"$f":"IFERROR(INDEX($G$7:$H$13233,$L1928,COLUMNS($B$6:B1927)),\"\")","v":"41114639"},"Cement flow tester",null,null,null,"41114639","Cement flow tester","41114639",1922,1922,1922,"41114639"]
[null,{"$f":"IFERROR(INDEX($G$7:$H$13233,$L1929,COLUMNS($B$6:B1928)),\"\")","v":"24111817"},"Cement silo",null,null,null,"24111817","Cement silo","24111817",1923,1923,1923,"24111817"]
[null,{"$f":"IFERROR(INDEX($G$7:$H$13233,$L1930,COLUMNS($B$6:B1929)),\"\")","v":"41114643"},"Cement soundness tester",null,null,null,"41114643","Cement soundness tester","41114643",1924,1924,1924,"41114643"]
[null,{"$f":"IFERROR(INDEX($G$7:$H$13233,$L1931,COLUMNS($B$6:B1930)),\"\")","v":"41112307"},"Cement water retentivity tester",null,null,null,"41112307","Cement water retentivity tester","41112307",1925,1925,1925,"41112307"]
[null,{"$f":"IFERROR(INDEX($G$7:$H$13233,$L1932,COLUMNS($B$6:B1931)),\"\")","v":"93151519"},"Censorship service",null,null,null,"93151519","Censorship service","93151519",1926,1926,1926,"93151519"]
[null,{"$f":"IFERROR(INDEX($G$7:$H$13233,$L1933,COLUMNS($B$6:B1932)),\"\")","v":"51140000"},"Central nervous system drugs",null,null,null,"51140000","Central nervous system drugs","51140000",1927,1927,1927,"51140000"]
[null,{"$f":"IFERROR(INDEX($G$7:$H$13233,$L1934,COLUMNS($B$6:B1933)),\"\")","v":"43201538"},"Central processing unit coolers",null,null,null,"43201538","Central processing unit coolers","43201538",1928,1928,1928,"43201538"]
[null,{"$f":"IFERROR(INDEX($G$7:$H$13233,$L1935,COLUMNS($B$6:B1934)),\"\")","v":"43201503"},"Central processing unit CPU processors",null,null,null,"43201503","Central processing unit CPU processors","43201503",1929,1929,1929,"43201503"]
[null,{"$f":"IFERROR(INDEX($G$7:$H$13233,$L1936,COLUMNS($B$6:B1935)),\"\")","v":"72154036"},"Central vacuum cleaning system installation service",null,null,null,"72154036","Central vacuum cleaning system installation service","72154036",1930,1930,1930,"72154036"]
[null,{"$f":"IFERROR(INDEX($G$7:$H$13233,$L1937,COLUMNS($B$6:B1936)),\"\")","v":"42221515"},"Central venous catheter repair kit or sets",null,null,null,"42221515","Central venous catheter repair kit or sets","42221515",1931,1931,1931,"42221515"]
[null,{"$f":"IFERROR(INDEX($G$7:$H$13233,$L1938,COLUMNS($B$6:B1937)),\"\")","v":"42221503"},"Central venous catheters",null,null,null,"42221503","Central venous catheters","42221503",1932,1932,1932,"42221503"]
[null,{"$f":"IFERROR(INDEX($G$7:$H$13233,$L1939,COLUMNS($B$6:B1938)),\"\")","v":"42181611"},"Central venous pressure CVP manometers",null,null,null,"42181611","Central venous pressure CVP manometers","42181611",1933,1933,1933,"42181611"]
[null,{"$f":"IFERROR(INDEX($G$7:$H$13233,$L1940,COLUMNS($B$6:B1939)),\"\")","v":"51151900"},"Centrally acting skeletal muscle relaxants",null,null,null,"51151900","Centrally acting skeletal muscle relaxants","51151900",1934,1934,1934,"51151900"]
[null,{"$f":"IFERROR(INDEX($G$7:$H$13233,$L1941,COLUMNS($B$6:B1940)),\"\")","v":"43191616"},"Centrex phone console",null,null,null,"43191616","Centrex phone console","43191616",1935,1935,1935,"43191616"]
[null,{"$f":"IFERROR(INDEX($G$7:$H$13233,$L1942,COLUMNS($B$6:B1941)),\"\")","v":"41122415"},"Centrifugal bioseparation crystals",null,null,null,"41122415","Centrifugal bioseparation crystals","41122415",1936,1936,1936,"41122415"]
[null,{"$f":"IFERROR(INDEX($G$7:$H$13233,$L1943,COLUMNS($B$6:B1942)),\"\")","v":"72154107"},"Centrifugal compressor rental and maintenance service",null,null,null,"72154107","Centrifugal compressor rental and maintenance service","72154107",1937,1937,1937,"72154107"]
[null,{"$f":"IFERROR(INDEX($G$7:$H$13233,$L1944,COLUMNS($B$6:B1943)),\"\")","v":"41104916"},"Centrifugal filters",null,null,null,"41104916","Centrifugal filters","41104916",1938,1938,1938,"41104916"]
[null,{"$f":"IFERROR(INDEX($G$7:$H$13233,$L1945,COLUMNS($B$6:B1944)),\"\")","v":"41114515"},"Centrifugal force tester",null,null,null,"41114515","Centrifugal force tester","41114515",1939,1939,1939,"41114515"]
[null,{"$f":"IFERROR(INDEX($G$7:$H$13233,$L1946,COLUMNS($B$6:B1945)),\"\")","v":"40101711"},"Centrifugal liquid chiller",null,null,null,"40101711","Centrifugal liquid chiller","40101711",1940,1940,1940,"40101711"]
[null,{"$f":"IFERROR(INDEX($G$7:$H$13233,$L1947,COLUMNS($B$6:B1946)),\"\")","v":"72154109"},"Centrifugal pump maintenance or repair service",null,null,null,"72154109","Centrifugal pump maintenance or repair service","72154109",1941,1941,1941,"72154109"]
[null,{"$f":"IFERROR(INDEX($G$7:$H$13233,$L1948,COLUMNS($B$6:B1947)),\"\")","v":"40151503"},"Centrifugal pumps",null,null,null,"40151503","Centrifugal pumps","40151503",1942,1942,1942,"40151503"]
[null,{"$f":"IFERROR(INDEX($G$7:$H$13233,$L1949,COLUMNS($B$6:B1948)),\"\")","v":"41103911"},"Centrifuge adapters",null,null,null,"41103911","Centrifuge adapters","41103911",1943,1943,1943,"41103911"]
[null,{"$f":"IFERROR(INDEX($G$7:$H$13233,$L1950,COLUMNS($B$6:B1949)),\"\")","v":"41103912"},"Centrifuge brushes",null,null,null,"41103912","Centrifuge brushes","41103912",1944,1944,1944,"41103912"]
[null,{"$f":"IFERROR(INDEX($G$7:$H$13233,$L1951,COLUMNS($B$6:B1950)),\"\")","v":"41103910"},"Centrifuge buckets",null,null,null,"41103910","Centrifuge buckets","41103910",1945,1945,1945,"41103910"]
[null,{"$f":"IFERROR(INDEX($G$7:$H$13233,$L1952,COLUMNS($B$6:B1951)),\"\")","v":"41103916"},"Centrifuge control board or printed circuit board",null,null,null,"41103916","Centrifuge control board or printed circuit board","41103916",1946,1946,1946,"41103916"]
[null,{"$f":"IFERROR(INDEX($G$7:$H$13233,$L1953,COLUMNS($B$6:B1952)),\"\")","v":"41103917"},"Centrifuge microplate carrier or sealing lid",null,null,null,"41103917","Centrifuge microplate carrier or sealing lid","41103917",1947,1947,1947,"41103917"]
[null,{"$f":"IFERROR(INDEX($G$7:$H$13233,$L1954,COLUMNS($B$6:B1953)),\"\")","v":"41103909"},"Centrifuge rotors",null,null,null,"41103909","Centrifuge rotors","41103909",1948,1948,1948,"41103909"]
[null,{"$f":"IFERROR(INDEX($G$7:$H$13233,$L1955,COLUMNS($B$6:B1954)),\"\")","v":"41121703"},"Centrifuge tubes",null,null,null,"41121703","Centrifuge tubes","41121703",1949,1949,1949,"41121703"]
[null,{"$f":"IFERROR(INDEX($G$7:$H$13233,$L1956,COLUMNS($B$6:B1955)),\"\")","v":"10151540"},"Centrocema or butterfly pea seed or seedlings",null,null,null,"10151540","Centrocema or butterfly pea seed or seedlings","10151540",1950,1950,1950,"10151540"]
[null,{"$f":"IFERROR(INDEX($G$7:$H$13233,$L1957,COLUMNS($B$6:B1956)),\"\")","v":"51282514"},"Cephalexin",null,null,null,"51282514","Cephalexin","51282514",1951,1951,1951,"51282514"]
[null,{"$f":"IFERROR(INDEX($G$7:$H$13233,$L1958,COLUMNS($B$6:B1957)),\"\")","v":"51282200"},"Cephamycins",null,null,null,"51282200","Cephamycins","51282200",1952,1952,1952,"51282200"]
[null,{"$f":"IFERROR(INDEX($G$7:$H$13233,$L1959,COLUMNS($B$6:B1958)),\"\")","v":"30131504"},"Ceramic blocks",null,null,null,"30131504","Ceramic blocks","30131504",1953,1953,1953,"30131504"]
[null,{"$f":"IFERROR(INDEX($G$7:$H$13233,$L1960,COLUMNS($B$6:B1959)),\"\")","v":"30131602"},"Ceramic bricks",null,null,null,"30131602","Ceramic bricks","30131602",1954,1954,1954,"30131602"]
[null,{"$f":"IFERROR(INDEX($G$7:$H$13233,$L1961,COLUMNS($B$6:B1960)),\"\")","v":"41122202"},"Ceramic crucibles",null,null,null,"41122202","Ceramic crucibles","41122202",1955,1955,1955,"41122202"]
[null,{"$f":"IFERROR(INDEX($G$7:$H$13233,$L1962,COLUMNS($B$6:B1961)),\"\")","v":"72152504"},"Ceramic floor tile installation service",null,null,null,"72152504","Ceramic floor tile installation service","72152504",1956,1956,1956,"72152504"]
[null,{"$f":"IFERROR(INDEX($G$7:$H$13233,$L1963,COLUMNS($B$6:B1962)),\"\")","v":"30151513"},"Ceramic roof tile",null,null,null,"30151513","Ceramic roof tile","30151513",1957,1957,1957,"30151513"]
[null,{"$f":"IFERROR(INDEX($G$7:$H$13233,$L1964,COLUMNS($B$6:B1963)),\"\")","v":"72152204"},"Ceramic tile installation service",null,null,null,"72152204","Ceramic tile installation service","72152204",1958,1958,1958,"72152204"]
[null,{"$f":"IFERROR(INDEX($G$7:$H$13233,$L1965,COLUMNS($B$6:B1964)),\"\")","v":"41114800"},"Ceramics and glass testing instruments",null,null,null,"41114800","Ceramics and glass testing instruments","41114800",1959,1959,1959,"41114800"]
[null,{"$f":"IFERROR(INDEX($G$7:$H$13233,$L1966,COLUMNS($B$6:B1965)),\"\")","v":"82151505"},"Ceramics makers services",null,null,null,"82151505","Ceramics makers services","82151505",1960,1960,1960,"82151505"]
[null,{"$f":"IFERROR(INDEX($G$7:$H$13233,$L1967,COLUMNS($B$6:B1966)),\"\")","v":"50220000"},"Cereal and pulse products",null,null,null,"50220000","Cereal and pulse products","50220000",1961,1961,1961,"50220000"]
[null,{"$f":"IFERROR(INDEX($G$7:$H$13233,$L1968,COLUMNS($B$6:B1967)),\"\")","v":"50221102"},"Cereal flour",null,null,null,"50221102","Cereal flour","50221102",1962,1962,1962,"50221102"]
[null,{"$f":"IFERROR(INDEX($G$7:$H$13233,$L1969,COLUMNS($B$6:B1968)),\"\")","v":"10151600"},"Cereal seeds",null,null,null,"10151600","Cereal seeds","10151600",1963,1963,1963,"10151600"]
[null,{"$f":"IFERROR(INDEX($G$7:$H$13233,$L1970,COLUMNS($B$6:B1969)),\"\")","v":"50221100"},"Cereals",null,null,null,"50221100","Cereals","50221100",1964,1964,1964,"50221100"]
[null,{"$f":"IFERROR(INDEX($G$7:$H$13233,$L1971,COLUMNS($B$6:B1970)),\"\")","v":"70141516"},"Cereals production",null,null,null,"70141516","Cereals production","70141516",1965,1965,1965,"70141516"]
[null,{"$f":"IFERROR(INDEX($G$7:$H$13233,$L1972,COLUMNS($B$6:B1971)),\"\")","v":"42295600"},"Cerebral spinal fluid CSF drainage products and accessories",null,null,null,"42295600","Cerebral spinal fluid CSF drainage products and accessories","42295600",1966,1966,1966,"42295600"]
[null,{"$f":"IFERROR(INDEX($G$7:$H$13233,$L1973,COLUMNS($B$6:B1972)),\"\")","v":"51112020"},"Ceritinib",null,null,null,"51112020","Ceritinib","51112020",1967,1967,1967,"51112020"]
[null,{"$f":"IFERROR(INDEX($G$7:$H$13233,$L1974,COLUMNS($B$6:B1973)),\"\")","v":"86111503"},"Certificated distance learning services",null,null,null,"86111503","Certificated distance learning services","86111503",1968,1968,1968,"86111503"]
[null,{"$f":"IFERROR(INDEX($G$7:$H$13233,$L1975,COLUMNS($B$6:B1974)),\"\")","v":"51202405"},"Certolizumab",null,null,null,"51202405","Certolizumab","51202405",1969,1969,1969,"51202405"]
[null,{"$f":"IFERROR(INDEX($G$7:$H$13233,$L1976,COLUMNS($B$6:B1975)),\"\")","v":"51202406"},"Certolizumab pegol",null,null,null,"51202406","Certolizumab pegol","51202406",1970,1970,1970,"51202406"]
[null,{"$f":"IFERROR(INDEX($G$7:$H$13233,$L1977,COLUMNS($B$6:B1976)),\"\")","v":"42241803"},"Cervical collars or neck braces",null,null,null,"42241803","Cervical collars or neck braces","42241803",1971,1971,1971,"42241803"]
[null,{"$f":"IFERROR(INDEX($G$7:$H$13233,$L1978,COLUMNS($B$6:B1977)),\"\")","v":"51313101"},"Cetirizine",null,null,null,"51313101","Cetirizine","51313101",1972,1972,1972,"51313101"]
[null,{"$f":"IFERROR(INDEX($G$7:$H$13233,$L1979,COLUMNS($B$6:B1978)),\"\")","v":"51313111"},"Cetirizine dihydrochloride",null,null,null,"51313111","Cetirizine dihydrochloride","51313111",1973,1973,1973,"51313111"]
[null,{"$f":"IFERROR(INDEX($G$7:$H$13233,$L1980,COLUMNS($B$6:B1979)),\"\")","v":"51313112"},"Cetirizine hydrochloride",null,null,null,"51313112","Cetirizine hydrochloride","51313112",1974,1974,1974,"51313112"]
[null,{"$f":"IFERROR(INDEX($G$7:$H$13233,$L1981,COLUMNS($B$6:B1980)),\"\")","v":"51473003"},"Cetrimonium",null,null,null,"51473003","Cetrimonium","51473003",1975,1975,1975,"51473003"]
[null,{"$f":"IFERROR(INDEX($G$7:$H$13233,$L1982,COLUMNS($B$6:B1981)),\"\")","v":"51473020"},"Cetrimonium bromide",null,null,null,"51473020","Cetrimonium bromide","51473020",1976,1976,1976,"51473020"]
[null,{"$f":"IFERROR(INDEX($G$7:$H$13233,$L1983,COLUMNS($B$6:B1982)),\"\")","v":"51111736"},"Cetuximab",null,null,null,"51111736","Cetuximab","51111736",1977,1977,1977,"51111736"]
[null,{"$f":"IFERROR(INDEX($G$7:$H$13233,$L1984,COLUMNS($B$6:B1983)),\"\")","v":"31151600"},"Chains",null,null,null,"31151600","Chains","31151600",1978,1978,1978,"31151600"]
[null,{"$f":"IFERROR(INDEX($G$7:$H$13233,$L1985,COLUMNS($B$6:B1984)),\"\")","v":"56101504"},"Chairs",null,null,null,"56101504","Chairs","56101504",1979,1979,1979,"56101504"]
[null,{"$f":"IFERROR(INDEX($G$7:$H$13233,$L1986,COLUMNS($B$6:B1985)),\"\")","v":"11101506"},"Chalk",null,null,null,"11101506","Chalk","11101506",1980,1980,1980,"11101506"]
[null,{"$f":"IFERROR(INDEX($G$7:$H$13233,$L1987,COLUMNS($B$6:B1986)),\"\")","v":"44111906"},"Chalk boards or accessories",null,null,null,"44111906","Chalk boards or accessories","44111906",1981,1981,1981,"44111906"]
[null,{"$f":"IFERROR(INDEX($G$7:$H$13233,$L1988,COLUMNS($B$6:B1987)),\"\")","v":"41113052"},"Chalking tester",null,null,null,"41113052","Chalking tester","41113052",1982,1982,1982,"41113052"]
[null,{"$f":"IFERROR(INDEX($G$7:$H$13233,$L1989,COLUMNS($B$6:B1988)),\"\")","v":"42281701"},"Chamber cleaners for autoclaves or sterilizers",null,null,null,"42281701","Chamber cleaners for autoclaves or sterilizers","42281701",1983,1983,1983,"42281701"]
[null,{"$f":"IFERROR(INDEX($G$7:$H$13233,$L1990,COLUMNS($B$6:B1989)),\"\")","v":"83121601"},"Chambers of Commerce",null,null,null,"83121601","Chambers of Commerce","83121601",1984,1984,1984,"83121601"]
[null,{"$f":"IFERROR(INDEX($G$7:$H$13233,$L1991,COLUMNS($B$6:B1990)),\"\")","v":"11111807"},"Chamotte",null,null,null,"11111807","Chamotte","11111807",1985,1985,1985,"11111807"]
[null,{"$f":"IFERROR(INDEX($G$7:$H$13233,$L1992,COLUMNS($B$6:B1991)),\"\")","v":"23191001"},"Change can mixers",null,null,null,"23191001","Change can mixers","23191001",1986,1986,1986,"23191001"]
[null,{"$f":"IFERROR(INDEX($G$7:$H$13233,$L1993,COLUMNS($B$6:B1992)),\"\")","v":"80172103"},"Change management communication and advisory service",null,null,null,"80172103","Change management communication and advisory service","80172103",1987,1987,1987,"80172103"]
[null,{"$f":"IFERROR(INDEX($G$7:$H$13233,$L1994,COLUMNS($B$6:B1993)),\"\")","v":"43201540"},"Channel converter",null,null,null,"43201540","Channel converter","43201540",1988,1988,1988,"43201540"]
[null,{"$f":"IFERROR(INDEX($G$7:$H$13233,$L1995,COLUMNS($B$6:B1994)),\"\")","v":"43201541"},"Channel to channel interface mainframe",null,null,null,"43201541","Channel to channel interface mainframe","43201541",1989,1989,1989,"43201541"]
[null,{"$f":"IFERROR(INDEX($G$7:$H$13233,$L1996,COLUMNS($B$6:B1995)),\"\")","v":"30101800"},"Channels",null,null,null,"30101800","Channels","30101800",1990,1990,1990,"30101800"]
[null,{"$f":"IFERROR(INDEX($G$7:$H$13233,$L1997,COLUMNS($B$6:B1996)),\"\")","v":"43211906"},"Character displays",null,null,null,"43211906","Character displays","43211906",1991,1991,1991,"43211906"]
[null,{"$f":"IFERROR(INDEX($G$7:$H$13233,$L1998,COLUMNS($B$6:B1997)),\"\")","v":"45111817"},"Character generator",null,null,null,"45111817","Character generator","45111817",1992,1992,1992,"45111817"]
[null,{"$f":"IFERROR(INDEX($G$7:$H$13233,$L1999,COLUMNS($B$6:B1998)),\"\")","v":"15101605"},"Charcoal",null,null,null,"15101605","Charcoal","15101605",1993,1993,1993,"15101605"]
[null,{"$f":"IFERROR(INDEX($G$7:$H$13233,$L2000,COLUMNS($B$6:B1999)),\"\")","v":"10151520"},"Chard seeds or seedlings",null,null,null,"10151520","Chard seeds or seedlings","10151520",1994,1994,1994,"10151520"]
[null,{"$f":"IFERROR(INDEX($G$7:$H$13233,$L2001,COLUMNS($B$6:B2000)),\"\")","v":"94131600"},"Charity organizations",null,null,null,"94131600","Charity organizations","94131600",1995,1995,1995,"94131600"]
[null,{"$f":"IFERROR(INDEX($G$7:$H$13233,$L2007,COLUMNS($B$6:B2006)),\"\")","v":"41111906"},"Chart recorders",null,null,null,"41111906","Chart recorders","41111906",2001,2001,2001,"41111906"]
[null,{"$f":"IFERROR(INDEX($G$7:$H$13233,$L2012,COLUMNS($B$6:B2011)),\"\")","v":"43201600"},"Chassis components",null,null,null,"43201600","Chassis components","43201600",2006,2006,2006,"43201600"]
[null,{"$f":"IFERROR(INDEX($G$7:$H$13233,$L2019,COLUMNS($B$6:B2018)),\"\")","v":"14111805"},"Checks or check books",null,null,null,"14111805","Checks or check books","14111805",2013,2013,2013,"14111805"]
[null,{"$f":"IFERROR(INDEX($G$7:$H$13233,$L2024,COLUMNS($B$6:B2023)),\"\")","v":"46171634"},"Chemical agent detector paper",null,null,null,"46171634","Chemical agent detector paper","46171634",2018,2018,2018,"46171634"]
[null,{"$f":"IFERROR(INDEX($G$7:$H$13233,$L2029,COLUMNS($B$6:B2028)),\"\")","v":"41103201"},"Chemical engineering washers",null,null,null,"41103201","Chemical engineering washers","41103201",2023,2023,2023,"41103201"]
[null,{"$f":"IFERROR(INDEX($G$7:$H$13233,$L2036,COLUMNS($B$6:B2035)),\"\")","v":"24111805"},"Chemical tanks",null,null,null,"24111805","Chemical tanks","24111805",2030,2030,2030,"24111805"]
[null,{"$f":"IFERROR(INDEX($G$7:$H$13233,$L2041,COLUMNS($B$6:B2040)),\"\")","v":"12165100"},"Chemicals for enhanced oil recovery",null,null,null,"12165100","Chemicals for enhanced oil recovery","12165100",2035,2035,2035,"12165100"]
[null,{"$f":"IFERROR(INDEX($G$7:$H$13233,$L2044,COLUMNS($B$6:B2043)),\"\")","v":"41115808"},"Chemistry analyzer accessories or supplies",null,null,null,"41115808","Chemistry analyzer accessories or supplies","41115808",2038,2038,2038,"41115808"]
[null,{"$f":"IFERROR(INDEX($G$7:$H$13233,$L2053,COLUMNS($B$6:B2052)),\"\")","v":"42143300"},"Chemotherapy equipment and supplies",null,null,null,"42143300","Chemotherapy equipment and supplies","42143300",2047,2047,2047,"42143300"]
[null,{"$f":"IFERROR(INDEX($G$7:$H$13233,$L2055,COLUMNS($B$6:B2054)),\"\")","v":"42143304"},"Chemotherapy preparation pads",null,null,null,"42143304","Chemotherapy preparation pads","42143304",2049,2049,2049,"42143304"]
[null,{"$f":"IFERROR(INDEX($G$7:$H$13233,$L2060,COLUMNS($B$6:B2059)),\"\")","v":"56101516"},"Chests",null,null,null,"56101516","Chests","56101516",2054,2054,2054,"56101516"]
[null,{"$f":"IFERROR(INDEX($G$7:$H$13233,$L2065,COLUMNS($B$6:B2064)),\"\")","v":"60105906"},"Childbirth education instructional materials",null,null,null,"60105906","Childbirth education instructional materials","60105906",2059,2059,2059,"60105906"]
[null,{"$f":"IFERROR(INDEX($G$7:$H$13233,$L2072,COLUMNS($B$6:B2071)),\"\")","v":"45111710"},"Chime and siren unit",null,null,null,"45111710","Chime and siren unit","45111710",2066,2066,2066,"45111710"]
[null,{"$f":"IFERROR(INDEX($G$7:$H$13233,$L2077,COLUMNS($B$6:B2076)),\"\")","v":"51282004"},"Chloramphenicol or chloramphenicolum",null,null,null,"51282004","Chloramphenicol or chloramphenicolum","51282004",2071,2071,2071,"51282004"]
[null,{"$f":"IFERROR(INDEX($G$7:$H$13233,$L2082,COLUMNS($B$6:B2081)),\"\")","v":"51472802"},"Chlorhexidine gluconate",null,null,null,"51472802","Chlorhexidine gluconate","51472802",2076,2076,2076,"51472802"]
[null,{"$f":"IFERROR(INDEX($G$7:$H$13233,$L2087,COLUMNS($B$6:B2086)),\"\")","v":"51312405"},"Chloropyramine hydrochloride",null,null,null,"51312405","Chloropyramine hydrochloride","51312405",2081,2081,2081,"51312405"]
[null,{"$f":"IFERROR(INDEX($G$7:$H$13233,$L2094,COLUMNS($B$6:B2093)),\"\")","v":"10191515"},"Chlorphyriphos",null,null,null,"10191515","Chlorphyriphos","10191515",2088,2088,2088,"10191515"]
[null,{"$f":"IFERROR(INDEX($G$7:$H$13233,$L2099,COLUMNS($B$6:B2098)),\"\")","v":"51284002"},"Chlortetracycline",null,null,null,"51284002","Chlortetracycline","51284002",2093,2093,2093,"51284002"]
[null,{"$f":"IFERROR(INDEX($G$7:$H$13233,$L2104,COLUMNS($B$6:B2103)),\"\")","v":"41116202"},"Cholesterol monitors or meters",null,null,null,"41116202","Cholesterol monitors or meters","41116202",2098,2098,2098,"41116202"]
[null,{"$f":"IFERROR(INDEX($G$7:$H$13233,$L2111,COLUMNS($B$6:B2110)),\"\")","v":"41115700"},"Chromatographic measuring instruments and accessories",null,null,null,"41115700","Chromatographic measuring instruments and accessories","41115700",2105,2105,2105,"41115700"]
[null,{"$f":"IFERROR(INDEX($G$7:$H$13233,$L2113,COLUMNS($B$6:B2112)),\"\")","v":"23151817"},"Chromatography media",null,null,null,"23151817","Chromatography media","23151817",2107,2107,2107,"23151817"]
[null,{"$f":"IFERROR(INDEX($G$7:$H$13233,$L2123,COLUMNS($B$6:B2122)),\"\")","v":"41111638"},"Cigarette circumference tester",null,null,null,"41111638","Cigarette circumference tester","41111638",2117,2117,2117,"41111638"]
[null,{"$f":"IFERROR(INDEX($G$7:$H$13233,$L2128,COLUMNS($B$6:B2127)),\"\")","v":"51182426"},"Cinacalcet",null,null,null,"51182426","Cinacalcet","51182426",2122,2122,2122,"51182426"]
[null,{"$f":"IFERROR(INDEX($G$7:$H$13233,$L2130,COLUMNS($B$6:B2129)),\"\")","v":"45121505"},"Cinematographic cameras",null,null,null,"45121505","Cinematographic cameras","45121505",2124,2124,2124,"45121505"]
[null,{"$f":"IFERROR(INDEX($G$7:$H$13233,$L2135,COLUMNS($B$6:B2134)),\"\")","v":"51321804"},"Ciprofibrate",null,null,null,"51321804","Ciprofibrate","51321804",2129,2129,2129,"51321804"]
[null,{"$f":"IFERROR(INDEX($G$7:$H$13233,$L2140,COLUMNS($B$6:B2139)),\"\")","v":"39121600"},"Circuit protection devices and accessories",null,null,null,"39121600","Circuit protection devices and accessories","39121600",2134,2134,2134,"39121600"]
[null,{"$f":"IFERROR(INDEX($G$7:$H$13233,$L2147,COLUMNS($B$6:B2146)),\"\")","v":"51152051"},"Cisatracurium besilate",null,null,null,"51152051","Cisatracurium besilate","51152051",2141,2141,2141,"51152051"]
[null,{"$f":"IFERROR(INDEX($G$7:$H$13233,$L2152,COLUMNS($B$6:B2151)),\"\")","v":"95121711"},"Civic center",null,null,null,"95121711","Civic center","95121711",2146,2146,2146,"95121711"]
[null,{"$f":"IFERROR(INDEX($G$7:$H$13233,$L2158,COLUMNS($B$6:B2157)),\"\")","v":"51203402"},"Cladribine",null,null,null,"51203402","Cladribine","51203402",2152,2152,2152,"51203402"]
[null,{"$f":"IFERROR(INDEX($G$7:$H$13233,$L2164,COLUMNS($B$6:B2163)),\"\")","v":"44122103"},"Clasp fasteners",null,null,null,"44122103","Clasp fasteners","44122103",2158,2158,2158,"44122103"]
[null,{"$f":"IFERROR(INDEX($G$7:$H$13233,$L2169,COLUMNS($B$6:B2168)),\"\")","v":"56121502"},"Classroom chairs",null,null,null,"56121502","Classroom chairs","56121502",2163,2163,2163,"56121502"]
[null,{"$f":"IFERROR(INDEX($G$7:$H$13233,$L2173,COLUMNS($B$6:B2172)),\"\")","v":"60131302"},"Clavichords",null,null,null,"60131302","Clavichords","60131302",2167,2167,2167,"60131302"]
[null,{"$f":"IFERROR(INDEX($G$7:$H$13233,$L2181,COLUMNS($B$6:B2180)),\"\")","v":"47121500"},"Cleaning and janitorial carts and accessories",null,null,null,"47121500","Cleaning and janitorial carts and accessories","47121500",2175,2175,2175,"47121500"]
[null,{"$f":"IFERROR(INDEX($G$7:$H$13233,$L2186,COLUMNS($B$6:B2185)),\"\")","v":"47121801"},"Cleaning dusters",null,null,null,"47121801","Cleaning dusters","47121801",2180,2180,2180,"47121801"]
[null,{"$f":"IFERROR(INDEX($G$7:$H$13233,$L2190,COLUMNS($B$6:B2189)),\"\")","v":"47132100"},"Cleaning kits",null,null,null,"47132100","Cleaning kits","47132100",2184,2184,2184,"47132100"]
[null,{"$f":"IFERROR(INDEX($G$7:$H$13233,$L2198,COLUMNS($B$6:B2197)),\"\")","v":"76111507"},"Cleaning services for parks and outdoor public venues",null,null,null,"76111507","Cleaning services for parks and outdoor public venues","76111507",2192,2192,2192,"76111507"]
[null,{"$f":"IFERROR(INDEX($G$7:$H$13233,$L2199,COLUMNS($B$6:B2198)),\"\")","v":"47121816"},"Cleaning solution dispenser and accessories",null,null,null,"47121816","Cleaning solution dispenser and accessories","47121816",2193,2193,2193,"47121816"]
[null,{"$f":"IFERROR(INDEX($G$7:$H$13233,$L2207,COLUMNS($B$6:B2206)),\"\")","v":"80161504"},"Clerical services",null,null,null,"80161504","Clerical services","80161504",2201,2201,2201,"80161504"]
[null,{"$f":"IFERROR(INDEX($G$7:$H$13233,$L2210,COLUMNS($B$6:B2209)),\"\")","v":"81151501"},"Climatology",null,null,null,"81151501","Climatology","81151501",2204,2204,2204,"81151501"]
[null,{"$f":"IFERROR(INDEX($G$7:$H$13233,$L2216,COLUMNS($B$6:B2215)),\"\")","v":"41115800"},"Clinical and diagnostic analyzers and accessories and supplies",null,null,null,"41115800","Clinical and diagnostic analyzers and accessories and supplies","41115800",2210,2210,2210,"41115800"]
[null,{"$f":"IFERROR(INDEX($G$7:$H$13233,$L2222,COLUMNS($B$6:B2221)),\"\")","v":"42192302"},"Clinical hydraulic lifts",null,null,null,"42192302","Clinical hydraulic lifts","42192302",2216,2216,2216,"42192302"]
[null,{"$f":"IFERROR(INDEX($G$7:$H$13233,$L2228,COLUMNS($B$6:B2227)),\"\")","v":"42230000"},"Clinical nutrition",null,null,null,"42230000","Clinical nutrition","42230000",2222,2222,2222,"42230000"]
[null,{"$f":"IFERROR(INDEX($G$7:$H$13233,$L2233,COLUMNS($B$6:B2232)),\"\")","v":"41114001"},"Clinometers",null,null,null,"41114001","Clinometers","41114001",2227,2227,2227,"41114001"]
[null,{"$f":"IFERROR(INDEX($G$7:$H$13233,$L2239,COLUMNS($B$6:B2238)),\"\")","v":"54111600"},"Clocks",null,null,null,"54111600","Clocks","54111600",2233,2233,2233,"54111600"]
[null,{"$f":"IFERROR(INDEX($G$7:$H$13233,$L2245,COLUMNS($B$6:B2244)),\"\")","v":"51131629"},"Clopidogrel",null,null,null,"51131629","Clopidogrel","51131629",2239,2239,2239,"51131629"]
[null,{"$f":"IFERROR(INDEX($G$7:$H$13233,$L2250,COLUMNS($B$6:B2249)),\"\")","v":"47111503"},"Clothes dryers",null,null,null,"47111503","Clothes dryers","47111503",2244,2244,2244,"47111503"]
[null,{"$f":"IFERROR(INDEX($G$7:$H$13233,$L2256,COLUMNS($B$6:B2255)),\"\")","v":"42192415"},"Clothing cases",null,null,null,"42192415","Clothing cases","42192415",2250,2250,2250,"42192415"]
[null,{"$f":"IFERROR(INDEX($G$7:$H$13233,$L2262,COLUMNS($B$6:B2261)),\"\")","v":"81162100"},"Cloud-based platform as a service",null,null,null,"81162100","Cloud-based platform as a service","81162100",2256,2256,2256,"81162100"]
[null,{"$f":"IFERROR(INDEX($G$7:$H$13233,$L2267,COLUMNS($B$6:B2266)),\"\")","v":"94120000"},"Clubs",null,null,null,"94120000","Clubs","94120000",2261,2261,2261,"94120000"]
[null,{"$f":"IFERROR(INDEX($G$7:$H$13233,$L2269,COLUMNS($B$6:B2268)),\"\")","v":"43232302"},"Clustering software",null,null,null,"43232302","Clustering software","43232302",2263,2263,2263,"43232302"]
[null,{"$f":"IFERROR(INDEX($G$7:$H$13233,$L2276,COLUMNS($B$6:B2275)),\"\")","v":"51131800"},"Coagulants and systemic hemostatic agents",null,null,null,"51131800","Coagulants and systemic hemostatic agents","51131800",2270,2270,2270,"51131800"]
[null,{"$f":"IFERROR(INDEX($G$7:$H$13233,$L2280,COLUMNS($B$6:B2279)),\"\")","v":"51131819"},"Coagulation factor ix",null,null,null,"51131819","Coagulation factor ix","51131819",2274,2274,2274,"51131819"]
[null,{"$f":"IFERROR(INDEX($G$7:$H$13233,$L2286,COLUMNS($B$6:B2285)),\"\")","v":"41116108"},"Coagulation test kits or supplies",null,null,null,"41116108","Coagulation test kits or supplies","41116108",2280,2280,2280,"41116108"]
[null,{"$f":"IFERROR(INDEX($G$7:$H$13233,$L2293,COLUMNS($B$6:B2292)),\"\")","v":"78111706"},"Coastal and transoceanic water transport of passengers by ferry",null,null,null,"78111706","Coastal and transoceanic water transport of passengers by ferry","78111706",2287,2287,2287,"78111706"]
[null,{"$f":"IFERROR(INDEX($G$7:$H$13233,$L2298,COLUMNS($B$6:B2297)),\"\")","v":"11162112"},"Coated fabrics",null,null,null,"11162112","Coated fabrics","11162112",2292,2292,2292,"11162112"]
[null,{"$f":"IFERROR(INDEX($G$7:$H$13233,$L2303,COLUMNS($B$6:B2302)),\"\")","v":"23153800"},"Coating systems",null,null,null,"23153800","Coating systems","23153800",2297,2297,2297,"23153800"]
[null,{"$f":"IFERROR(INDEX($G$7:$H$13233,$L2310,COLUMNS($B$6:B2309)),\"\")","v":"50301511"},"Codlin apples",null,null,null,"50301511","Codlin apples","50301511",2304,2304,2304,"50301511"]
[null,{"$f":"IFERROR(INDEX($G$7:$H$13233,$L2315,COLUMNS($B$6:B2314)),\"\")","v":"90101902"},"Coffee or hot drink vending machine rental and maintenance service",null,null,null,"90101902","Coffee or hot drink vending machine rental and maintenance service","90101902",2309,2309,2309,"90101902"]
[null,{"$f":"IFERROR(INDEX($G$7:$H$13233,$L2320,COLUMNS($B$6:B2319)),\"\")","v":"42251500"},"Cognitive and dexterity and perceptual and sensory evaluation and therapy products",null,null,null,"42251500","Cognitive and dexterity and perceptual and sensory evaluation and therapy products","42251500",2314,2314,2314,"42251500"]
[null,{"$f":"IFERROR(INDEX($G$7:$H$13233,$L2327,COLUMNS($B$6:B2326)),\"\")","v":"44102503"},"Coin wrapper machines",null,null,null,"44102503","Coin wrapper machines","44102503",2321,2321,2321,"44102503"]
[null,{"$f":"IFERROR(INDEX($G$7:$H$13233,$L2332,COLUMNS($B$6:B2331)),\"\")","v":"42281600"},"Cold sterilization and disinfectant solutions",null,null,null,"42281600","Cold sterilization and disinfectant solutions","42281600",2326,2326,2326,"42281600"]
[null,{"$f":"IFERROR(INDEX($G$7:$H$13233,$L2336,COLUMNS($B$6:B2335)),\"\")","v":"41103024"},"Cold traps",null,null,null,"41103024","Cold traps","41103024",2330,2330,2330,"41103024"]
[null,{"$f":"IFERROR(INDEX($G$7:$H$13233,$L2339,COLUMNS($B$6:B2338)),\"\")","v":"51386615"},"Collagen/polyvinylpyrrolidone",null,null,null,"51386615","Collagen/polyvinylpyrrolidone","51386615",2333,2333,2333,"51386615"]
[null,{"$f":"IFERROR(INDEX($G$7:$H$13233,$L2344,COLUMNS($B$6:B2343)),\"\")","v":"47101523"},"Collection tanks",null,null,null,"47101523","Collection tanks","47101523",2338,2338,2338,"47101523"]
[null,{"$f":"IFERROR(INDEX($G$7:$H$13233,$L2353,COLUMNS($B$6:B2352)),\"\")","v":"45131501"},"Color film",null,null,null,"45131501","Color film","45131501",2347,2347,2347,"45131501"]
[null,{"$f":"IFERROR(INDEX($G$7:$H$13233,$L2356,COLUMNS($B$6:B2355)),\"\")","v":"82131504"},"Color separation",null,null,null,"82131504","Color separation","82131504",2350,2350,2350,"82131504"]
[null,{"$f":"IFERROR(INDEX($G$7:$H$13233,$L2361,COLUMNS($B$6:B2360)),\"\")","v":"42271517"},"Colorimetric End Tidal CO2 detector",null,null,null,"42271517","Colorimetric End Tidal CO2 detector","42271517",2355,2355,2355,"42271517"]
[null,{"$f":"IFERROR(INDEX($G$7:$H$13233,$L2370,COLUMNS($B$6:B2369)),\"\")","v":"51172400"},"Combination antacid, antidiarrheal, anti-flatulence, digestive, and gastric preparations",null,null,null,"51172400","Combination antacid, antidiarrheal, anti-flatulence, digestive, and gastric preparations","51172400",2364,2364,2364,"51172400"]
[null,{"$f":"IFERROR(INDEX($G$7:$H$13233,$L2373,COLUMNS($B$6:B2372)),\"\")","v":"51241500"},"Combination antiglaucoma, ophthalmic, and eye-related agents and preparations",null,null,null,"51241500","Combination antiglaucoma, ophthalmic, and eye-related agents and preparations","51241500",2367,2367,2367,"51241500"]
[null,{"$f":"IFERROR(INDEX($G$7:$H$13233,$L2379,COLUMNS($B$6:B2378)),\"\")","v":"51284900"},"Combination antimicrobials",null,null,null,"51284900","Combination antimicrobials","51284900",2373,2373,2373,"51284900"]
[null,{"$f":"IFERROR(INDEX($G$7:$H$13233,$L2385,COLUMNS($B$6:B2384)),\"\")","v":"51162100"},"Combination antituberculars",null,null,null,"51162100","Combination antituberculars","51162100",2379,2379,2379,"51162100"]
[null,{"$f":"IFERROR(INDEX($G$7:$H$13233,$L2390,COLUMNS($B$6:B2389)),\"\")","v":"51162300"},"Combination cold remedies",null,null,null,"51162300","Combination cold remedies","51162300",2384,2384,2384,"51162300"]
[null,{"$f":"IFERROR(INDEX($G$7:$H$13233,$L2396,COLUMNS($B$6:B2395)),\"\")","v":"51285000"},"Combination extended spectrum penicillins",null,null,null,"51285000","Combination extended spectrum penicillins","51285000",2390,2390,2390,"51285000"]
[null,{"$f":"IFERROR(INDEX($G$7:$H$13233,$L2402,COLUMNS($B$6:B2401)),\"\")","v":"51192400"},"Combination nutritional therapy products",null,null,null,"51192400","Combination nutritional therapy products","51192400",2396,2396,2396,"51192400"]
[null,{"$f":"IFERROR(INDEX($G$7:$H$13233,$L2407,COLUMNS($B$6:B2406)),\"\")","v":"44121715"},"Combination pen or pencil",null,null,null,"44121715","Combination pen or pencil","44121715",2401,2401,2401,"44121715"]
[null,{"$f":"IFERROR(INDEX($G$7:$H$13233,$L2411,COLUMNS($B$6:B2410)),\"\")","v":"51132300"},"Combination volume expanders",null,null,null,"51132300","Combination volume expanders","51132300",2405,2405,2405,"51132300"]
[null,{"$f":"IFERROR(INDEX($G$7:$H$13233,$L2414,COLUMNS($B$6:B2413)),\"\")","v":"41105312"},"Combs or plates or spacers or trays",null,null,null,"41105312","Combs or plates or spacers or trays","41105312",2408,2408,2408,"41105312"]
[null,{"$f":"IFERROR(INDEX($G$7:$H$13233,$L2419,COLUMNS($B$6:B2418)),\"\")","v":"78111502"},"Commercial airplane travel",null,null,null,"78111502","Commercial airplane travel","78111502",2413,2413,2413,"78111502"]
[null,{"$f":"IFERROR(INDEX($G$7:$H$13233,$L2428,COLUMNS($B$6:B2427)),\"\")","v":"39111530"},"Commercial downlighting fixture",null,null,null,"39111530","Commercial downlighting fixture","39111530",2422,2422,2422,"39111530"]
[null,{"$f":"IFERROR(INDEX($G$7:$H$13233,$L2431,COLUMNS($B$6:B2430)),\"\")","v":"21111500"},"Commercial fishing equipment",null,null,null,"21111500","Commercial fishing equipment","21111500",2425,2425,2425,"21111500"]
[null,{"$f":"IFERROR(INDEX($G$7:$H$13233,$L2439,COLUMNS($B$6:B2438)),\"\")","v":"80131502"},"Commercial or industrial facility rental",null,null,null,"80131502","Commercial or industrial facility rental","80131502",2433,2433,2433,"80131502"]
[null,{"$f":"IFERROR(INDEX($G$7:$H$13233,$L2443,COLUMNS($B$6:B2442)),\"\")","v":"85121902"},"Commercial pharmaceutical services",null,null,null,"85121902","Commercial pharmaceutical services","85121902",2437,2437,2437,"85121902"]
[null,{"$f":"IFERROR(INDEX($G$7:$H$13233,$L2448,COLUMNS($B$6:B2447)),\"\")","v":"48101601"},"Commercial use blenders",null,null,null,"48101601","Commercial use blenders","48101601",2442,2442,2442,"48101601"]
[null,{"$f":"IFERROR(INDEX($G$7:$H$13233,$L2454,COLUMNS($B$6:B2453)),\"\")","v":"48101604"},"Commercial use coffee grinders",null,null,null,"48101604","Commercial use coffee grinders","48101604",2448,2448,2448,"48101604"]
[null,{"$f":"IFERROR(INDEX($G$7:$H$13233,$L2460,COLUMNS($B$6:B2459)),\"\")","v":"48101537"},"Commercial use conveyor oven",null,null,null,"48101537","Commercial use conveyor oven","48101537",2454,2454,2454,"48101537"]
[null,{"$f":"IFERROR(INDEX($G$7:$H$13233,$L2465,COLUMNS($B$6:B2464)),\"\")","v":"48101509"},"Commercial use deep fryers",null,null,null,"48101509","Commercial use deep fryers","48101509",2459,2459,2459,"48101509"]
[null,{"$f":"IFERROR(INDEX($G$7:$H$13233,$L2471,COLUMNS($B$6:B2470)),\"\")","v":"48101602"},"Commercial use electric can openers",null,null,null,"48101602","Commercial use electric can openers","48101602",2465,2465,2465,"48101602"]
[null,{"$f":"IFERROR(INDEX($G$7:$H$13233,$L2477,COLUMNS($B$6:B2476)),\"\")","v":"48101606"},"Commercial use graters",null,null,null,"48101606","Commercial use graters","48101606",2471,2471,2471,"48101606"]
[null,{"$f":"IFERROR(INDEX($G$7:$H$13233,$L2482,COLUMNS($B$6:B2481)),\"\")","v":"48101515"},"Commercial use hot dog grills",null,null,null,"48101515","Commercial use hot dog grills","48101515",2476,2476,2476,"48101515"]
[null,{"$f":"IFERROR(INDEX($G$7:$H$13233,$L2488,COLUMNS($B$6:B2487)),\"\")","v":"48101804"},"Commercial use measuring cups",null,null,null,"48101804","Commercial use measuring cups","48101804",2482,2482,2482,"48101804"]
[null,{"$f":"IFERROR(INDEX($G$7:$H$13233,$L2489,COLUMNS($B$6:B2488)),\"\")","v":"48101516"},"Commercial use microwave ovens",null,null,null,"48101516","Commercial use microwave ovens","48101516",2483,2483,2483,"48101516"]
[null,{"$f":"IFERROR(INDEX($G$7:$H$13233,$L2497,COLUMNS($B$6:B2496)),\"\")","v":"48101609"},"Commercial use pasta machines",null,null,null,"48101609","Commercial use pasta machines","48101609",2491,2491,2491,"48101609"]
[null,{"$f":"IFERROR(INDEX($G$7:$H$13233,$L2501,COLUMNS($B$6:B2500)),\"\")","v":"48101807"},"Commercial use pizza pans",null,null,null,"48101807","Commercial use pizza pans","48101807",2495,2495,2495,"48101807"]
[null,{"$f":"IFERROR(INDEX($G$7:$H$13233,$L2506,COLUMNS($B$6:B2505)),\"\")","v":"48101530"},"Commercial use rice cookers",null,null,null,"48101530","Commercial use rice cookers","48101530",2500,2500,2500,"48101530"]
[null,{"$f":"IFERROR(INDEX($G$7:$H$13233,$L2514,COLUMNS($B$6:B2513)),\"\")","v":"48101524"},"Commercial use steamers",null,null,null,"48101524","Commercial use steamers","48101524",2508,2508,2508,"48101524"]
[null,{"$f":"IFERROR(INDEX($G$7:$H$13233,$L2518,COLUMNS($B$6:B2517)),\"\")","v":"48101526"},"Commercial use waffle irons",null,null,null,"48101526","Commercial use waffle irons","48101526",2512,2512,2512,"48101526"]
[null,{"$f":"IFERROR(INDEX($G$7:$H$13233,$L2524,COLUMNS($B$6:B2523)),\"\")","v":"80151501"},"Commodity policy or projections services",null,null,null,"80151501","Commodity policy or projections services","80151501",2518,2518,2518,"80151501"]
[null,{"$f":"IFERROR(INDEX($G$7:$H$13233,$L2531,COLUMNS($B$6:B2530)),\"\")","v":"80171505"},"Communication planning",null,null,null,"80171505","Communication planning","80171505",2525,2525,2525,"80171505"]
[null,{"$f":"IFERROR(INDEX($G$7:$H$13233,$L2535,COLUMNS($B$6:B2534)),\"\")","v":"43232902"},"Communications server software",null,null,null,"43232902","Communications server software","43232902",2529,2529,2529,"43232902"]
[null,{"$f":"IFERROR(INDEX($G$7:$H$13233,$L2540,COLUMNS($B$6:B2539)),\"\")","v":"92101503"},"Community outreach programs",null,null,null,"92101503","Community outreach programs","92101503",2534,2534,2534,"92101503"]
[null,{"$f":"IFERROR(INDEX($G$7:$H$13233,$L2547,COLUMNS($B$6:B2546)),\"\")","v":"44102913"},"Compact disc destroyer",null,null,null,"44102913","Compact disc destroyer","44102913",2541,2541,2541,"44102913"]
[null,{"$f":"IFERROR(INDEX($G$7:$H$13233,$L2552,COLUMNS($B$6:B2551)),\"\")","v":"43202101"},"Compact disk cases",null,null,null,"43202101","Compact disk cases","43202101",2546,2546,2546,"43202101"]
[null,{"$f":"IFERROR(INDEX($G$7:$H$13233,$L2557,COLUMNS($B$6:B2556)),\"\")","v":"22101511"},"Compactors",null,null,null,"22101511","Compactors","22101511",2551,{"$f":"IF(ISNUMBER(SEARCH($H$4,H2557)),J2557,\"\")","v":2551},{"$f":"IFERROR(SMALL($K$7:$K$13233,J2557),\"\")","v":2551},"22101511"]
[null,{"$f":"IFERROR(INDEX($G$7:$H$13233,$L2559,COLUMNS($B$6:B2558)),\"\")","v":"44111803"},"Compasses",null,null,null,"44111803","Compasses","44111803",2553,2553,2553,"44111803"]
[null,{"$f":"IFERROR(INDEX($G$7:$H$13233,$L2565,COLUMNS($B$6:B2564)),\"\")","v":"41111936"},"Complementary metal oxide semiconductor CMOS image sensors",null,null,null,"41111936","Complementary metal oxide semiconductor CMOS image sensors","41111936",2559,2559,2559,"41111936"]
[null,{"$f":"IFERROR(INDEX($G$7:$H$13233,$L2574,COLUMNS($B$6:B2573)),\"\")","v":"21101806"},"Composter",null,null,null,"21101806","Composter","21101806",2568,2568,2568,"21101806"]
[null,{"$f":"IFERROR(INDEX($G$7:$H$13233,$L2576,COLUMNS($B$6:B2575)),\"\")","v":"12350000"},"Compounds and mixtures",null,null,null,"12350000","Compounds and mixtures","12350000",2570,2570,2570,"12350000"]
[null,{"$f":"IFERROR(INDEX($G$7:$H$13233,$L2582,COLUMNS($B$6:B2581)),\"\")","v":"41114602"},"Compression testers",null,null,null,"41114602","Compression testers","41114602",2576,2576,2576,"41114602"]
[null,{"$f":"IFERROR(INDEX($G$7:$H$13233,$L2585,COLUMNS($B$6:B2584)),\"\")","v":"40151600"},"Compressors",null,null,null,"40151600","Compressors","40151600",2579,2579,2579,"40151600"]
[null,{"$f":"IFERROR(INDEX($G$7:$H$13233,$L2594,COLUMNS($B$6:B2593)),\"\")","v":"43202222"},"Computer cable",null,null,null,"43202222","Computer cable","43202222",2588,2588,2588,"43202222"]
[null,{"$f":"IFERROR(INDEX($G$7:$H$13233,$L2600,COLUMNS($B$6:B2599)),\"\")","v":"43201611"},"Computer cradles",null,null,null,"43201611","Computer cradles","43201611",2594,2594,2594,"43201611"]
[null,{"$f":"IFERROR(INDEX($G$7:$H$13233,$L2605,COLUMNS($B$6:B2604)),\"\")","v":"43212000"},"Computer display accessories",null,null,null,"43212000","Computer display accessories","43212000",2599,2599,2599,"43212000"]
[null,{"$f":"IFERROR(INDEX($G$7:$H$13233,$L2611,COLUMNS($B$6:B2610)),\"\")","v":"43232000"},"Computer game or entertainment software",null,null,null,"43232000","Computer game or entertainment software","43232000",2605,2605,2605,"43232000"]
[null,{"$f":"IFERROR(INDEX($G$7:$H$13233,$L2617,COLUMNS($B$6:B2616)),\"\")","v":"81112401"},"Computer hardware rental",null,null,null,"81112401","Computer hardware rental","81112401",2611,2611,2611,"81112401"]
[null,{"$f":"IFERROR(INDEX($G$7:$H$13233,$L2622,COLUMNS($B$6:B2621)),\"\")","v":"43211613"},"Computer or notebook stands",null,null,null,"43211613","Computer or notebook stands","43211613",2616,2616,2616,"43211613"]
[null,{"$f":"IFERROR(INDEX($G$7:$H$13233,$L2623,COLUMNS($B$6:B2622)),\"\")","v":"44102906"},"Computer or office equipment cleaning kit",null,null,null,"44102906","Computer or office equipment cleaning kit","44102906",2617,2617,2617,"44102906"]
[null,{"$f":"IFERROR(INDEX($G$7:$H$13233,$L2628,COLUMNS($B$6:B2627)),\"\")","v":"86141703"},"Computer programmed instruction",null,null,null,"86141703","Computer programmed instruction","86141703",2622,2622,2622,"86141703"]
[null,{"$f":"IFERROR(INDEX($G$7:$H$13233,$L2635,COLUMNS($B$6:B2634)),\"\")","v":"81112501"},"Computer software licensing service",null,null,null,"81112501","Computer software licensing service","81112501",2629,2629,2629,"81112501"]
[null,{"$f":"IFERROR(INDEX($G$7:$H$13233,$L2640,COLUMNS($B$6:B2639)),\"\")","v":"27113203"},"Computer tool kits",null,null,null,"27113203","Computer tool kits","27113203",2634,2634,2634,"27113203"]
[null,{"$f":"IFERROR(INDEX($G$7:$H$13233,$L2645,COLUMNS($B$6:B2644)),\"\")","v":"43211500"},"Computers",null,null,null,"43211500","Computers","43211500",2639,2639,2639,"43211500"]
[null,{"$f":"IFERROR(INDEX($G$7:$H$13233,$L2652,COLUMNS($B$6:B2651)),\"\")","v":"30131510"},"Concrete block for revetment",null,null,null,"30131510","Concrete block for revetment","30131510",2646,2646,2646,"30131510"]
[null,{"$f":"IFERROR(INDEX($G$7:$H$13233,$L2660,COLUMNS($B$6:B2659)),\"\")","v":"22101901"},"Concrete mixers or plants",null,null,null,"22101901","Concrete mixers or plants","22101901",2654,2654,2654,"22101901"]
[null,{"$f":"IFERROR(INDEX($G$7:$H$13233,$L2663,COLUMNS($B$6:B2662)),\"\")","v":"72152711"},"Concrete patio construction service",null,null,null,"72152711","Concrete patio construction service","72152711",2657,2657,2657,"72152711"]
[null,{"$f":"IFERROR(INDEX($G$7:$H$13233,$L2669,COLUMNS($B$6:B2668)),\"\")","v":"30151511"},"Concrete roofing tile",null,null,null,"30151511","Concrete roofing tile","30151511",2663,2663,2663,"30151511"]
[null,{"$f":"IFERROR(INDEX($G$7:$H$13233,$L2671,COLUMNS($B$6:B2670)),\"\")","v":"30131703"},"Concrete tiles or flagstones",null,null,null,"30131703","Concrete tiles or flagstones","30131703",2665,2665,2665,"30131703"]
[null,{"$f":"IFERROR(INDEX($G$7:$H$13233,$L2681,COLUMNS($B$6:B2680)),\"\")","v":"50161800"},"Confectionary products",null,null,null,"50161800","Confectionary products","50161800",2675,2675,2675,"50161800"]
[null,{"$f":"IFERROR(INDEX($G$7:$H$13233,$L2686,COLUMNS($B$6:B2685)),\"\")","v":"56111513"},"Conference or non modular room packages",null,null,null,"56111513","Conference or non modular room packages","56111513",2680,2680,2680,"56111513"]
[null,{"$f":"IFERROR(INDEX($G$7:$H$13233,$L2688,COLUMNS($B$6:B2687)),\"\")","v":"43232401"},"Configuration management software",null,null,null,"43232401","Configuration management software","43232401",2682,2682,2682,"43232401"]
[null,{"$f":"IFERROR(INDEX($G$7:$H$13233,$L2693,COLUMNS($B$6:B2692)),\"\")","v":"42271728"},"Connector biconical",null,null,null,"42271728","Connector biconical","42271728",2687,2687,2687,"42271728"]
[null,{"$f":"IFERROR(INDEX($G$7:$H$13233,$L2703,COLUMNS($B$6:B2702)),\"\")","v":"72141701"},"Construction machinery rental or leasing service",null,null,null,"72141701","Construction machinery rental or leasing service","72141701",2697,2697,2697,"72141701"]
[null,{"$f":"IFERROR(INDEX($G$7:$H$13233,$L2705,COLUMNS($B$6:B2704)),\"\")","v":"72154601"},"Construction of zoo habitat and enclosure for birds and flying species",null,null,null,"72154601","Construction of zoo habitat and enclosure for birds and flying species","72154601",2699,2699,2699,"72154601"]
[null,{"$f":"IFERROR(INDEX($G$7:$H$13233,$L2710,COLUMNS($B$6:B2709)),\"\")","v":"14111610"},"Construction paper",null,null,null,"14111610","Construction paper","14111610",2704,2704,2704,"14111610"]
[null,{"$f":"IFERROR(INDEX($G$7:$H$13233,$L2714,COLUMNS($B$6:B2713)),\"\")","v":"60106102"},"Construction teaching aids or materials",null,null,null,"60106102","Construction teaching aids or materials","60106102",2708,2708,2708,"60106102"]
[null,{"$f":"IFERROR(INDEX($G$7:$H$13233,$L2722,COLUMNS($B$6:B2721)),\"\")","v":"45121716"},"Contact printer",null,null,null,"45121716","Contact printer","45121716",2716,2716,2716,"45121716"]
[null,{"$f":"IFERROR(INDEX($G$7:$H$13233,$L2727,COLUMNS($B$6:B2726)),\"\")","v":"25181701"},"Container trailers",null,null,null,"25181701","Container trailers","25181701",2721,2721,2721,"25181701"]
[null,{"$f":"IFERROR(INDEX($G$7:$H$13233,$L2731,COLUMNS($B$6:B2730)),\"\")","v":"24111812"},"Containment basin",null,null,null,"24111812","Containment basin","24111812",2725,2725,2725,"24111812"]
[null,{"$f":"IFERROR(INDEX($G$7:$H$13233,$L2739,COLUMNS($B$6:B2738)),\"\")","v":"81112007"},"Content or data standardization services",null,null,null,"81112007","Content or data standardization services","81112007",2733,2733,2733,"81112007"]
[null,{"$f":"IFERROR(INDEX($G$7:$H$13233,$L2744,COLUMNS($B$6:B2743)),\"\")","v":"41104302"},"Continuous culture apparatus",null,null,null,"41104302","Continuous culture apparatus","41104302",2738,2738,2738,"41104302"]
[null,{"$f":"IFERROR(INDEX($G$7:$H$13233,$L2746,COLUMNS($B$6:B2745)),\"\")","v":"23191100"},"Continuous mixers",null,null,null,"23191100","Continuous mixers","23191100",2740,2740,2740,"23191100"]
[null,{"$f":"IFERROR(INDEX($G$7:$H$13233,$L2756,COLUMNS($B$6:B2755)),\"\")","v":"72154105"},"Control valve maintenance and repair service",null,null,null,"72154105","Control valve maintenance and repair service","72154105",2750,2750,2750,"72154105"]
[null,{"$f":"IFERROR(INDEX($G$7:$H$13233,$L2757,COLUMNS($B$6:B2756)),\"\")","v":"92121710"},"Controlled Access Identification System ",null,null,null,"92121710","Controlled Access Identification System ","92121710",2751,2751,2751,"92121710"]
[null,{"$f":"IFERROR(INDEX($G$7:$H$13233,$L2763,COLUMNS($B$6:B2762)),\"\")","v":"51372300"},"Controlled substance analgesic piperidines",null,null,null,"51372300","Controlled substance analgesic piperidines","51372300",2757,2757,2757,"51372300"]
[null,{"$f":"IFERROR(INDEX($G$7:$H$13233,$L2768,COLUMNS($B$6:B2767)),\"\")","v":"92111602"},"Conventional arms disarmament",null,null,null,"92111602","Conventional arms disarmament","92111602",2762,2762,2762,"92111602"]
[null,{"$f":"IFERROR(INDEX($G$7:$H$13233,$L2778,COLUMNS($B$6:B2777)),\"\")","v":"41111520"},"Conveyor weighting scale",null,null,null,"41111520","Conveyor weighting scale","41111520",2772,2772,2772,"41111520"]
[null,{"$f":"IFERROR(INDEX($G$7:$H$13233,$L2780,COLUMNS($B$6:B2779)),\"\")","v":"48101500"},"Cooking and warming equipment",null,null,null,"48101500","Cooking and warming equipment","48101500",2774,2774,2774,"48101500"]
[null,{"$f":"IFERROR(INDEX($G$7:$H$13233,$L2785,COLUMNS($B$6:B2784)),\"\")","v":"41104404"},"Cooled biological oxygen demand BOD incubators",null,null,null,"41104404","Cooled biological oxygen demand BOD incubators","41104404",2779,2779,2779,"41104404"]
[null,{"$f":"IFERROR(INDEX($G$7:$H$13233,$L2789,COLUMNS($B$6:B2788)),\"\")","v":"40101716"},"Cooling tower",null,null,null,"40101716","Cooling tower","40101716",2783,2783,2783,"40101716"]
[null,{"$f":"IFERROR(INDEX($G$7:$H$13233,$L2797,COLUMNS($B$6:B2796)),\"\")","v":"44101713"},"Copy counters",null,null,null,"44101713","Copy counters","44101713",2791,2791,2791,"44101713"]
[null,{"$f":"IFERROR(INDEX($G$7:$H$13233,$L2802,COLUMNS($B$6:B2801)),\"\")","v":"72154006"},"Core drilling and cutting service",null,null,null,"72154006","Core drilling and cutting service","72154006",2796,2796,2796,"72154006"]
[null,{"$f":"IFERROR(INDEX($G$7:$H$13233,$L2806,COLUMNS($B$6:B2805)),\"\")","v":"50501710"},"Corn Soya Blend (WFP food convention)",null,null,null,"50501710","Corn Soya Blend (WFP food convention)","50501710",2800,2800,2800,"50501710"]
[null,{"$f":"IFERROR(INDEX($G$7:$H$13233,$L2814,COLUMNS($B$6:B2813)),\"\")","v":"80101502"},"Corporate mergers consultation services",null,null,null,"80101502","Corporate mergers consultation services","80101502",2808,2808,2808,"80101502"]
[null,{"$f":"IFERROR(INDEX($G$7:$H$13233,$L2821,COLUMNS($B$6:B2820)),\"\")","v":"44121806"},"Correction pen refills",null,null,null,"44121806","Correction pen refills","44121806",2815,2815,2815,"44121806"]
[null,{"$f":"IFERROR(INDEX($G$7:$H$13233,$L2826,COLUMNS($B$6:B2825)),\"\")","v":"72153203"},"Corrosion control service",null,null,null,"72153203","Corrosion control service","72153203",2820,2820,2820,"72153203"]
[null,{"$f":"IFERROR(INDEX($G$7:$H$13233,$L2831,COLUMNS($B$6:B2830)),\"\")","v":"14122107"},"Corrugated base paper",null,null,null,"14122107","Corrugated base paper","14122107",2825,2825,2825,"14122107"]
[null,{"$f":"IFERROR(INDEX($G$7:$H$13233,$L2832,COLUMNS($B$6:B2831)),\"\")","v":"14121506"},"Corrugated fiberboard or container board CCM",null,null,null,"14121506","Corrugated fiberboard or container board CCM","14121506",2826,2826,2826,"14121506"]
[null,{"$f":"IFERROR(INDEX($G$7:$H$13233,$L2838,COLUMNS($B$6:B2837)),\"\")","v":"51422300"},"Corticosteroid pregnadienetriols",null,null,null,"51422300","Corticosteroid pregnadienetriols","51422300",2832,2832,2832,"51422300"]
[null,{"$f":"IFERROR(INDEX($G$7:$H$13233,$L2843,COLUMNS($B$6:B2842)),\"\")","v":"42151500"},"Cosmetic dentistry equipment and supplies",null,null,null,"42151500","Cosmetic dentistry equipment and supplies","42151500",2837,2837,2837,"42151500"]
[null,{"$f":"IFERROR(INDEX($G$7:$H$13233,$L2849,COLUMNS($B$6:B2848)),\"\")","v":"50301513"},"Costard apples",null,null,null,"50301513","Costard apples","50301513",2843,2843,2843,"50301513"]
[null,{"$f":"IFERROR(INDEX($G$7:$H$13233,$L2855,COLUMNS($B$6:B2854)),\"\")","v":"10152201"},"Cotton seeds or seedlings",null,null,null,"10152201","Cotton seeds or seedlings","10152201",2849,2849,2849,"10152201"]
[null,{"$f":"IFERROR(INDEX($G$7:$H$13233,$L2864,COLUMNS($B$6:B2863)),\"\")","v":"30162200"},"Countertops ",null,null,null,"30162200","Countertops ","30162200",2858,2858,2858,"30162200"]
[null,{"$f":"IFERROR(INDEX($G$7:$H$13233,$L2867,COLUMNS($B$6:B2866)),\"\")","v":"10151505"},"Courgette seeds or seedlings",null,null,null,"10151505","Courgette seeds or seedlings","10151505",2861,2861,2861,"10151505"]
[null,{"$f":"IFERROR(INDEX($G$7:$H$13233,$L2872,COLUMNS($B$6:B2871)),\"\")","v":"14111609"},"Cover paper",null,null,null,"14111609","Cover paper","14111609",2866,2866,2866,"14111609"]
[null,{"$f":"IFERROR(INDEX($G$7:$H$13233,$L2875,COLUMNS($B$6:B2874)),\"\")","v":"51201659"},"COVID 19 - Unspecified",null,null,null,"51201659","COVID 19 - Unspecified","51201659",2869,2869,2869,"51201659"]
[null,{"$f":"IFERROR(INDEX($G$7:$H$13233,$L2884,COLUMNS($B$6:B2883)),\"\")","v":"72154502"},"Crane maintenance and repair service",null,null,null,"72154502","Crane maintenance and repair service","72154502",2878,2878,2878,"72154502"]
[null,{"$f":"IFERROR(INDEX($G$7:$H$13233,$L2890,COLUMNS($B$6:B2889)),\"\")","v":"43202210"},"Crash stops",null,null,null,"43202210","Crash stops","43202210",2884,2884,2884,"43202210"]
[null,{"$f":"IFERROR(INDEX($G$7:$H$13233,$L2892,COLUMNS($B$6:B2891)),\"\")","v":"24112900"},"Crates",null,null,null,"24112900","Crates","24112900",2886,2886,2886,"24112900"]
[null,{"$f":"IFERROR(INDEX($G$7:$H$13233,$L2901,COLUMNS($B$6:B2900)),\"\")","v":"44111613"},"Credit card holders",null,null,null,"44111613","Credit card holders","44111613",2895,2895,2895,"44111613"]
[null,{"$f":"IFERROR(INDEX($G$7:$H$13233,$L2902,COLUMNS($B$6:B2901)),\"\")","v":"84141602"},"Credit card service providers",null,null,null,"84141602","Credit card service providers","84141602",2896,2896,2896,"84141602"]
[null,{"$f":"IFERROR(INDEX($G$7:$H$13233,$L2909,COLUMNS($B$6:B2908)),\"\")","v":"80172102"},"Crisis planning and avoidance service",null,null,null,"80172102","Crisis planning and avoidance service","80172102",2903,2903,2903,"80172102"]
[null,{"$f":"IFERROR(INDEX($G$7:$H$13233,$L2913,COLUMNS($B$6:B2912)),\"\")","v":"51311901"},"Cromoglicic acid or cromolyn",null,null,null,"51311901","Cromoglicic acid or cromolyn","51311901",2907,2907,2907,"51311901"]
[null,{"$f":"IFERROR(INDEX($G$7:$H$13233,$L2918,COLUMNS($B$6:B2917)),\"\")","v":"70141800"},"Crop planting and cultivation",null,null,null,"70141800","Crop planting and cultivation","70141800",2912,2912,2912,"70141800"]
[null,{"$f":"IFERROR(INDEX($G$7:$H$13233,$L2925,COLUMNS($B$6:B2924)),\"\")","v":"41113611"},"Cross talk meters",null,null,null,"41113611","Cross talk meters","41113611",2919,2919,2919,"41113611"]
[null,{"$f":"IFERROR(INDEX($G$7:$H$13233,$L2931,COLUMNS($B$6:B2930)),\"\")","v":"41104605"},"Crucible furnaces",null,null,null,"41104605","Crucible furnaces","41104605",2925,2925,2925,"41104605"]
[null,{"$f":"IFERROR(INDEX($G$7:$H$13233,$L2935,COLUMNS($B$6:B2934)),\"\")","v":"20101700"},"Crushers and breakers and grinders",null,null,null,"20101700","Crushers and breakers and grinders","20101700",2929,2929,2929,"20101700"]
[null,{"$f":"IFERROR(INDEX($G$7:$H$13233,$L2942,COLUMNS($B$6:B2941)),\"\")","v":"41103029"},"Cryogenic storage cane",null,null,null,"41103029","Cryogenic storage cane","41103029",2936,2936,2936,"41103029"]
[null,{"$f":"IFERROR(INDEX($G$7:$H$13233,$L2948,COLUMNS($B$6:B2947)),\"\")","v":"41102701"},"Crystal lattice models",null,null,null,"41102701","Crystal lattice models","41102701",2942,2942,2942,"41102701"]
[null,{"$f":"IFERROR(INDEX($G$7:$H$13233,$L2952,COLUMNS($B$6:B2951)),\"\")","v":"10151507"},"Cucumber seeds or seedlings",null,null,null,"10151507","Cucumber seeds or seedlings","10151507",2946,2946,2946,"10151507"]
[null,{"$f":"IFERROR(INDEX($G$7:$H$13233,$L2959,COLUMNS($B$6:B2958)),\"\")","v":"93141709"},"Cultural policy services",null,null,null,"93141709","Cultural policy services","93141709",2953,2953,2953,"93141709"]
[null,{"$f":"IFERROR(INDEX($G$7:$H$13233,$L2965,COLUMNS($B$6:B2964)),\"\")","v":"48102010"},"Cup collection cart",null,null,null,"48102010","Cup collection cart","48102010",2959,2959,2959,"48102010"]
[null,{"$f":"IFERROR(INDEX($G$7:$H$13233,$L2969,COLUMNS($B$6:B2968)),\"\")","v":"42211905"},"Cups or mugs for the physically challenged",null,null,null,"42211905","Cups or mugs for the physically challenged","42211905",2963,2963,2963,"42211905"]
[null,{"$f":"IFERROR(INDEX($G$7:$H$13233,$L2972,COLUMNS($B$6:B2971)),\"\")","v":"12162300"},"Curing agents",null,null,null,"12162300","Curing agents","12162300",2966,2966,2966,"12162300"]
[null,{"$f":"IFERROR(INDEX($G$7:$H$13233,$L2978,COLUMNS($B$6:B2977)),\"\")","v":"81121607"},"Currency exchange markets",null,null,null,"81121607","Currency exchange markets","81121607",2972,2972,2972,"81121607"]
[null,{"$f":"IFERROR(INDEX($G$7:$H$13233,$L2983,COLUMNS($B$6:B2982)),\"\")","v":"41103327"},"Current meter",null,null,null,"41103327","Current meter","41103327",2977,2977,2977,"41103327"]
[null,{"$f":"IFERROR(INDEX($G$7:$H$13233,$L2989,COLUMNS($B$6:B2988)),\"\")","v":"41111625"},"Curvimeter",null,null,null,"41111625","Curvimeter","41111625",2983,2983,2983,"41111625"]
[null,{"$f":"IFERROR(INDEX($G$7:$H$13233,$L2995,COLUMNS($B$6:B2994)),\"\")","v":"81112212"},"Customer relationship management software maintenance",null,null,null,"81112212","Customer relationship management software maintenance","81112212",2989,2989,2989,"81112212"]
[null,{"$f":"IFERROR(INDEX($G$7:$H$13233,$L3001,COLUMNS($B$6:B3000)),\"\")","v":"53102702"},"Customs uniforms",null,null,null,"53102702","Customs uniforms","53102702",2995,2995,2995,"53102702"]
[null,{"$f":"IFERROR(INDEX($G$7:$H$13233,$L3006,COLUMNS($B$6:B3005)),\"\")","v":"20101500"},"Cutting equipment",null,null,null,"20101500","Cutting equipment","20101500",3000,3000,3000,"20101500"]
[null,{"$f":"IFERROR(INDEX($G$7:$H$13233,$L3012,COLUMNS($B$6:B3011)),\"\")","v":"51283301"},"Cycloserine",null,null,null,"51283301","Cycloserine","51283301",3006,3006,3006,"51283301"]
[null,{"$f":"IFERROR(INDEX($G$7:$H$13233,$L3018,COLUMNS($B$6:B3017)),\"\")","v":"51111828"},"Cyproterone",null,null,null,"51111828","Cyproterone","51111828",3012,3012,3012,"51111828"]
[null,{"$f":"IFERROR(INDEX($G$7:$H$13233,$L3021,COLUMNS($B$6:B3020)),\"\")","v":"42143801"},"Cystometry systems",null,null,null,"42143801","Cystometry systems","42143801",3015,3015,3015,"42143801"]
[null,{"$f":"IFERROR(INDEX($G$7:$H$13233,$L3029,COLUMNS($B$6:B3028)),\"\")","v":"41116112"},"Cytology quality controls or calibrators or standards",null,null,null,"41116112","Cytology quality controls or calibrators or standards","41116112",3023,3023,3023,"41116112"]
[null,{"$f":"IFERROR(INDEX($G$7:$H$13233,$L3035,COLUMNS($B$6:B3034)),\"\")","v":"51341807"},"Daclatasvir",null,null,null,"51341807","Daclatasvir","51341807",3029,3029,3029,"51341807"]
[null,{"$f":"IFERROR(INDEX($G$7:$H$13233,$L3038,COLUMNS($B$6:B3037)),\"\")","v":"73131800"},"Dairy and eggs processing",null,null,null,"73131800","Dairy and eggs processing","73131800",3032,3032,3032,"73131800"]
[null,{"$f":"IFERROR(INDEX($G$7:$H$13233,$L3042,COLUMNS($B$6:B3041)),\"\")","v":"86101502"},"Dairy industry vocational training",null,null,null,"86101502","Dairy industry vocational training","86101502",3036,3036,3036,"86101502"]
[null,{"$f":"IFERROR(INDEX($G$7:$H$13233,$L3047,COLUMNS($B$6:B3046)),\"\")","v":"51283801"},"Dalfopristin",null,null,null,"51283801","Dalfopristin","51283801",3041,3041,3041,"51283801"]
[null,{"$f":"IFERROR(INDEX($G$7:$H$13233,$L3055,COLUMNS($B$6:B3054)),\"\")","v":"51182024"},"Danazol",null,null,null,"51182024","Danazol","51182024",3049,3049,3049,"51182024"]
[null,{"$f":"IFERROR(INDEX($G$7:$H$13233,$L3059,COLUMNS($B$6:B3058)),\"\")","v":"51181578"},"Dapagliflozin",null,null,null,"51181578","Dapagliflozin","51181578",3053,3053,3053,"51181578"]
[null,{"$f":"IFERROR(INDEX($G$7:$H$13233,$L3064,COLUMNS($B$6:B3063)),\"\")","v":"41111719"},"Darkfield microscopes",null,null,null,"41111719","Darkfield microscopes","41111719",3058,3058,3058,"41111719"]
[null,{"$f":"IFERROR(INDEX($G$7:$H$13233,$L3070,COLUMNS($B$6:B3069)),\"\")","v":"51112002"},"Dasatinib",null,null,null,"51112002","Dasatinib","51112002",3064,3064,3064,"51112002"]
[null,{"$f":"IFERROR(INDEX($G$7:$H$13233,$L3076,COLUMNS($B$6:B3075)),\"\")","v":"43232306"},"Data base user interface and query software",null,null,null,"43232306","Data base user interface and query software","43232306",3070,3070,3070,"43232306"]
[null,{"$f":"IFERROR(INDEX($G$7:$H$13233,$L3081,COLUMNS($B$6:B3080)),\"\")","v":"43233402"},"Data conversion software",null,null,null,"43233402","Data conversion software","43233402",3075,3075,3075,"43233402"]
[null,{"$f":"IFERROR(INDEX($G$7:$H$13233,$L3088,COLUMNS($B$6:B3087)),\"\")","v":"81161800"},"Data voice or multimedia network equipment or platform rental or leasing services",null,null,null,"81161800","Data voice or multimedia network equipment or platform rental or leasing services","81161800",3082,3082,3082,"81161800"]
[null,{"$f":"IFERROR(INDEX($G$7:$H$13233,$L3093,COLUMNS($B$6:B3092)),\"\")","v":"81112223"},"Database Management Software Publishing",null,null,null,"81112223","Database Management Software Publishing","81112223",3087,3087,3087,"81112223"]
[null,{"$f":"IFERROR(INDEX($G$7:$H$13233,$L3098,COLUMNS($B$6:B3097)),\"\")","v":"43223303"},"Datacom patch cord",null,null,null,"43223303","Datacom patch cord","43223303",3092,3092,3092,"43223303"]
[null,{"$f":"IFERROR(INDEX($G$7:$H$13233,$L3105,COLUMNS($B$6:B3104)),\"\")","v":"95122104"},"Daycare center",null,null,null,"95122104","Daycare center","95122104",3099,3099,3099,"95122104"]
[null,{"$f":"IFERROR(INDEX($G$7:$H$13233,$L3110,COLUMNS($B$6:B3109)),\"\")","v":"42312302"},"Debridement sponges",null,null,null,"42312302","Debridement sponges","42312302",3104,3104,3104,"42312302"]
[null,{"$f":"IFERROR(INDEX($G$7:$H$13233,$L3113,COLUMNS($B$6:B3112)),\"\")","v":"84101700"},"Debt management",null,null,null,"84101700","Debt management","84101700",3107,3107,3107,"84101700"]
[null,{"$f":"IFERROR(INDEX($G$7:$H$13233,$L3117,COLUMNS($B$6:B3116)),\"\")","v":"55121607"},"Decals",null,null,null,"55121607","Decals","55121607",3111,3111,3111,"55121607"]
[null,{"$f":"IFERROR(INDEX($G$7:$H$13233,$L3122,COLUMNS($B$6:B3121)),\"\")","v":"46182401"},"Decontamination shower",null,null,null,"46182401","Decontamination shower","46182401",3116,3116,3116,"46182401"]
[null,{"$f":"IFERROR(INDEX($G$7:$H$13233,$L3130,COLUMNS($B$6:B3129)),\"\")","v":"H"},"Defense, Security & Safety Equipment & Supplies",null,null,null,"H","Defense, Security & Safety Equipment & Supplies","H",3124,3124,3124,"H"]
[null,{"$f":"IFERROR(INDEX($G$7:$H$13233,$L3134,COLUMNS($B$6:B3133)),\"\")","v":"51422408"},"Deflazacort",null,null,null,"51422408","Deflazacort","51422408",3128,3128,3128,"51422408"]
[null,{"$f":"IFERROR(INDEX($G$7:$H$13233,$L3141,COLUMNS($B$6:B3140)),\"\")","v":"41104202"},"Deionization or demineralization equipment",null,null,null,"41104202","Deionization or demineralization equipment","41104202",3135,3135,3135,"41104202"]
[null,{"$f":"IFERROR(INDEX($G$7:$H$13233,$L3146,COLUMNS($B$6:B3145)),\"\")","v":"42295150"},"Delivery room or cesarean section patient procedure table accessories",null,null,null,"42295150","Delivery room or cesarean section patient procedure table accessories","42295150",3140,3140,3140,"42295150"]
[null,{"$f":"IFERROR(INDEX($G$7:$H$13233,$L3151,COLUMNS($B$6:B3150)),\"\")","v":"81102801"},"Demining environmental impact assessment EIA service",null,null,null,"81102801","Demining environmental impact assessment EIA service","81102801",3145,3145,3145,"81102801"]
[null,{"$f":"IFERROR(INDEX($G$7:$H$13233,$L3156,COLUMNS($B$6:B3155)),\"\")","v":"46221507"},"Demining machine parts and accessories",null,null,null,"46221507","Demining machine parts and accessories","46221507",3150,3150,3150,"46221507"]
[null,{"$f":"IFERROR(INDEX($G$7:$H$13233,$L3163,COLUMNS($B$6:B3162)),\"\")","v":"93141610"},"Demographic studies",null,null,null,"93141610","Demographic studies","93141610",3157,3157,3157,"93141610"]
[null,{"$f":"IFERROR(INDEX($G$7:$H$13233,$L3168,COLUMNS($B$6:B3167)),\"\")","v":"51182428"},"Denosumab",null,null,null,"51182428","Denosumab","51182428",3162,3162,3162,"51182428"]
[null,{"$f":"IFERROR(INDEX($G$7:$H$13233,$L3173,COLUMNS($B$6:B3172)),\"\")","v":"53131500"},"Dental",null,null,null,"53131500","Dental","53131500",3167,3167,3167,"53131500"]
[null,{"$f":"IFERROR(INDEX($G$7:$H$13233,$L3180,COLUMNS($B$6:B3179)),\"\")","v":"42152446"},"Dental cavities lining or thinner materials or sets",null,null,null,"42152446","Dental cavities lining or thinner materials or sets","42152446",3174,3174,3174,"42152446"]
[null,{"$f":"IFERROR(INDEX($G$7:$H$13233,$L3181,COLUMNS($B$6:B3180)),\"\")","v":"42152424"},"Dental cements",null,null,null,"42152424","Dental cements","42152424",3175,3175,3175,"42152424"]
[null,{"$f":"IFERROR(INDEX($G$7:$H$13233,$L3190,COLUMNS($B$6:B3189)),\"\")","v":"42151900"},"Dental hygiene and preventive care equipment and supplies",null,null,null,"42151900","Dental hygiene and preventive care equipment and supplies","42151900",3184,3184,3184,"42151900"]
[null,{"$f":"IFERROR(INDEX($G$7:$H$13233,$L3192,COLUMNS($B$6:B3191)),\"\")","v":"42152000"},"Dental imaging equipment and supplies",null,null,null,"42152000","Dental imaging equipment and supplies","42152000",3186,3186,3186,"42152000"]
[null,{"$f":"IFERROR(INDEX($G$7:$H$13233,$L3199,COLUMNS($B$6:B3198)),\"\")","v":"42152513"},"Dental measuring cups",null,null,null,"42152513","Dental measuring cups","42152513",3193,3193,3193,"42152513"]
[null,{"$f":"IFERROR(INDEX($G$7:$H$13233,$L3204,COLUMNS($B$6:B3203)),\"\")","v":"42152507"},"Dental rolls",null,null,null,"42152507","Dental rolls","42152507",3198,3198,3198,"42152507"]
[null,{"$f":"IFERROR(INDEX($G$7:$H$13233,$L3209,COLUMNS($B$6:B3208)),\"\")","v":"42151504"},"Dental veneers",null,null,null,"42151504","Dental veneers","42151504",3203,3203,3203,"42151504"]
[null,{"$f":"IFERROR(INDEX($G$7:$H$13233,$L3216,COLUMNS($B$6:B3215)),\"\")","v":"42152425"},"Denture resins",null,null,null,"42152425","Denture resins","42152425",3210,3210,3210,"42152425"]
[null,{"$f":"IFERROR(INDEX($G$7:$H$13233,$L3221,COLUMNS($B$6:B3220)),\"\")","v":"41105521"},"Deoxyribonucleic acid DNA detection system",null,null,null,"41105521","Deoxyribonucleic acid DNA detection system","41105521",3215,3215,3215,"41105521"]
[null,{"$f":"IFERROR(INDEX($G$7:$H$13233,$L3227,COLUMNS($B$6:B3226)),\"\")","v":"41115812"},"Deoxyribonucleic sequence analyzer accessories or supplies",null,null,null,"41115812","Deoxyribonucleic sequence analyzer accessories or supplies","41115812",3221,3221,3221,"41115812"]
[null,{"$f":"IFERROR(INDEX($G$7:$H$13233,$L3233,COLUMNS($B$6:B3232)),\"\")","v":"14111817"},"Deposit verification form",null,null,null,"14111817","Deposit verification form","14111817",3227,3227,3227,"14111817"]
[null,{"$f":"IFERROR(INDEX($G$7:$H$13233,$L3238,COLUMNS($B$6:B3237)),\"\")","v":"51241200"},"Dermatologic agents",null,null,null,"51241200","Dermatologic agents","51241200",3232,3232,3232,"51241200"]
[null,{"$f":"IFERROR(INDEX($G$7:$H$13233,$L3242,COLUMNS($B$6:B3241)),\"\")","v":"46161701"},"Descending life line",null,null,null,"46161701","Descending life line","46161701",3236,3236,3236,"46161701"]
[null,{"$f":"IFERROR(INDEX($G$7:$H$13233,$L3250,COLUMNS($B$6:B3249)),\"\")","v":"44121600"},"Desk supplies",null,null,null,"44121600","Desk supplies","44121600",3244,3244,3244,"44121600"]
[null,{"$f":"IFERROR(INDEX($G$7:$H$13233,$L3255,COLUMNS($B$6:B3254)),\"\")","v":"43211507"},"Desktop computers",null,null,null,"43211507","Desktop computers","43211507",3249,3249,3249,"43211507"]
[null,{"$f":"IFERROR(INDEX($G$7:$H$13233,$L3259,COLUMNS($B$6:B3258)),\"\")","v":"51182101"},"Desmopressin",null,null,null,"51182101","Desmopressin","51182101",3253,3253,3253,"51182101"]
[null,{"$f":"IFERROR(INDEX($G$7:$H$13233,$L3262,COLUMNS($B$6:B3261)),\"\")","v":"51161708"},"Desoxyribonuclease or dornase alfa",null,null,null,"51161708","Desoxyribonuclease or dornase alfa","51161708",3256,3256,3256,"51161708"]
[null,{"$f":"IFERROR(INDEX($G$7:$H$13233,$L3268,COLUMNS($B$6:B3267)),\"\")","v":"72141401"},"Detention facility construction service",null,null,null,"72141401","Detention facility construction service","72141401",3262,3262,3262,"72141401"]
[null,{"$f":"IFERROR(INDEX($G$7:$H$13233,$L3276,COLUMNS($B$6:B3275)),\"\")","v":"45141606"},"Developing tank reel",null,null,null,"45141606","Developing tank reel","45141606",3270,3270,3270,"45141606"]
[null,{"$f":"IFERROR(INDEX($G$7:$H$13233,$L3279,COLUMNS($B$6:B3278)),\"\")","v":"45141601"},"Developing trays",null,null,null,"45141601","Developing trays","45141601",3273,3273,3273,"45141601"]
[null,{"$f":"IFERROR(INDEX($G$7:$H$13233,$L3285,COLUMNS($B$6:B3284)),\"\")","v":"93171504"},"Development of small scale industries",null,null,null,"93171504","Development of small scale industries","93171504",3279,3279,3279,"93171504"]
[null,{"$f":"IFERROR(INDEX($G$7:$H$13233,$L3293,COLUMNS($B$6:B3292)),\"\")","v":"51422306"},"Dexamethasone",null,null,null,"51422306","Dexamethasone","51422306",3287,3287,3287,"51422306"]
[null,{"$f":"IFERROR(INDEX($G$7:$H$13233,$L3297,COLUMNS($B$6:B3296)),\"\")","v":"51171935"},"Dexlansoprazole",null,null,null,"51171935","Dexlansoprazole","51171935",3291,3291,3291,"51171935"]
[null,{"$f":"IFERROR(INDEX($G$7:$H$13233,$L3302,COLUMNS($B$6:B3301)),\"\")","v":"51162626"},"Dextromethorphan",null,null,null,"51162626","Dextromethorphan","51162626",3296,3296,3296,"51162626"]
[null,{"$f":"IFERROR(INDEX($G$7:$H$13233,$L3308,COLUMNS($B$6:B3307)),\"\")","v":"85210000"},"Diagnoses of infectious and parasitic diseases-part a",null,null,null,"85210000","Diagnoses of infectious and parasitic diseases-part a","85210000",3302,3302,3302,"85210000"]
[null,{"$f":"IFERROR(INDEX($G$7:$H$13233,$L3314,COLUMNS($B$6:B3313)),\"\")","v":"42181500"},"Diagnostic assessment and exam products for general use",null,null,null,"42181500","Diagnostic assessment and exam products for general use","42181500",3308,3308,3308,"42181500"]
[null,{"$f":"IFERROR(INDEX($G$7:$H$13233,$L3319,COLUMNS($B$6:B3318)),\"\")","v":"42192402"},"Diagnostic or monitoring equipment specific carts or stands",null,null,null,"42192402","Diagnostic or monitoring equipment specific carts or stands","42192402",3313,3313,3313,"42192402"]
[null,{"$f":"IFERROR(INDEX($G$7:$H$13233,$L3325,COLUMNS($B$6:B3324)),\"\")","v":"41123103"},"Dialysis cassette",null,null,null,"41123103","Dialysis cassette","41123103",3319,3319,3319,"41123103"]
[null,{"$f":"IFERROR(INDEX($G$7:$H$13233,$L3326,COLUMNS($B$6:B3325)),\"\")","v":"41123105"},"Dialysis cassette holder",null,null,null,"41123105","Dialysis cassette holder","41123105",3320,3320,3320,"41123105"]
[null,{"$f":"IFERROR(INDEX($G$7:$H$13233,$L3336,COLUMNS($B$6:B3335)),\"\")","v":"57030112"},"Diarrheal disease kit",null,null,null,"57030112","Diarrheal disease kit","57030112",3330,3330,3330,"57030112"]
[null,{"$f":"IFERROR(INDEX($G$7:$H$13233,$L3338,COLUMNS($B$6:B3337)),\"\")","v":"42141808"},"Diathermy electrodes",null,null,null,"42141808","Diathermy electrodes","42141808",3332,3332,3332,"42141808"]
[null,{"$f":"IFERROR(INDEX($G$7:$H$13233,$L3343,COLUMNS($B$6:B3342)),\"\")","v":"51383315"},"Diclofenac sodium",null,null,null,"51383315","Diclofenac sodium","51383315",3337,3337,3337,"51383315"]
[null,{"$f":"IFERROR(INDEX($G$7:$H$13233,$L3347,COLUMNS($B$6:B3346)),\"\")","v":"55101526"},"Dictionaries",null,null,null,"55101526","Dictionaries","55101526",3341,3341,3341,"55101526"]
[null,{"$f":"IFERROR(INDEX($G$7:$H$13233,$L3355,COLUMNS($B$6:B3354)),\"\")","v":"26111601"},"Diesel generators",null,null,null,"26111601","Diesel generators","26111601",3349,3349,3349,"26111601"]
[null,{"$f":"IFERROR(INDEX($G$7:$H$13233,$L3362,COLUMNS($B$6:B3361)),\"\")","v":"25173135"},"Differential Global Positioning System (DGPS) - Ground Station",null,null,null,"25173135","Differential Global Positioning System (DGPS) - Ground Station","25173135",3356,3356,3356,"25173135"]
[null,{"$f":"IFERROR(INDEX($G$7:$H$13233,$L3367,COLUMNS($B$6:B3366)),\"\")","v":"85111610"},"Digestive system disease prevention or control services",null,null,null,"85111610","Digestive system disease prevention or control services","85111610",3361,3361,3361,"85111610"]
[null,{"$f":"IFERROR(INDEX($G$7:$H$13233,$L3372,COLUMNS($B$6:B3371)),\"\")","v":"45121626"},"Digital camera back",null,null,null,"45121626","Digital camera back","45121626",3366,3366,3366,"45121626"]
[null,{"$f":"IFERROR(INDEX($G$7:$H$13233,$L3379,COLUMNS($B$6:B3378)),\"\")","v":"25173112"},"Digital global navigation satellite system (DGNSS) Local Area Augmentation System (LAAS) ",null,null,null,"25173112","Digital global navigation satellite system (DGNSS) Local Area Augmentation System (LAAS) ","25173112",3373,3373,3373,"25173112"]
[null,{"$f":"IFERROR(INDEX($G$7:$H$13233,$L3384,COLUMNS($B$6:B3383)),\"\")","v":"80141404"},"Digital media buying services",null,null,null,"80141404","Digital media buying services","80141404",3378,3378,3378,"80141404"]
[null,{"$f":"IFERROR(INDEX($G$7:$H$13233,$L3389,COLUMNS($B$6:B3388)),\"\")","v":"82121503"},"Digital printing",null,null,null,"82121503","Digital printing","82121503",3383,3383,3383,"82121503"]
[null,{"$f":"IFERROR(INDEX($G$7:$H$13233,$L3390,COLUMNS($B$6:B3389)),\"\")","v":"41111907"},"Digital readout recorders",null,null,null,"41111907","Digital readout recorders","41111907",3384,3384,3384,"41111907"]
[null,{"$f":"IFERROR(INDEX($G$7:$H$13233,$L3396,COLUMNS($B$6:B3395)),\"\")","v":"43221604"},"Digital subscriber loop or line XDSL equipment",null,null,null,"43221604","Digital subscriber loop or line XDSL equipment","43221604",3390,3390,3390,"43221604"]
[null,{"$f":"IFERROR(INDEX($G$7:$H$13233,$L3405,COLUMNS($B$6:B3404)),\"\")","v":"52161516"},"Digital video disk players or recorders",null,null,null,"52161516","Digital video disk players or recorders","52161516",3399,3399,3399,"52161516"]
[null,{"$f":"IFERROR(INDEX($G$7:$H$13233,$L3408,COLUMNS($B$6:B3407)),\"\")","v":"25202904"},"Digital Voice Recording And Playback System ",null,null,null,"25202904","Digital Voice Recording And Playback System ","25202904",3402,3402,3402,"25202904"]
[null,{"$f":"IFERROR(INDEX($G$7:$H$13233,$L3413,COLUMNS($B$6:B3412)),\"\")","v":"51101614"},"Diloxanide furoate",null,null,null,"51101614","Diloxanide furoate","51101614",3407,3407,3407,"51101614"]
[null,{"$f":"IFERROR(INDEX($G$7:$H$13233,$L3422,COLUMNS($B$6:B3421)),\"\")","v":"51312309"},"Diphenhydramine hydrochloride",null,null,null,"51312309","Diphenhydramine hydrochloride","51312309",3416,3416,3416,"51312309"]
[null,{"$f":"IFERROR(INDEX($G$7:$H$13233,$L3425,COLUMNS($B$6:B3424)),\"\")","v":"93121500"},"Diplomacy",null,null,null,"93121500","Diplomacy","93121500",3419,3419,3419,"93121500"]
[null,{"$f":"IFERROR(INDEX($G$7:$H$13233,$L3430,COLUMNS($B$6:B3429)),\"\")","v":"51201631"},"Diptheria and tetanus toxoids and acellular pertussis vaccine",null,null,null,"51201631","Diptheria and tetanus toxoids and acellular pertussis vaccine","51201631",3424,3424,3424,"51201631"]
[null,{"$f":"IFERROR(INDEX($G$7:$H$13233,$L3433,COLUMNS($B$6:B3432)),\"\")","v":"80141630"},"Direct marketing print service",null,null,null,"80141630","Direct marketing print service","80141630",3427,3427,3427,"80141630"]
[null,{"$f":"IFERROR(INDEX($G$7:$H$13233,$L3442,COLUMNS($B$6:B3441)),\"\")","v":"41113703"},"Directional coupler",null,null,null,"41113703","Directional coupler","41113703",3436,3436,3436,"41113703"]
[null,{"$f":"IFERROR(INDEX($G$7:$H$13233,$L3447,COLUMNS($B$6:B3446)),\"\")","v":"83111505"},"Directory assistance services",null,null,null,"83111505","Directory assistance services","83111505",3441,3441,3441,"83111505"]
[null,{"$f":"IFERROR(INDEX($G$7:$H$13233,$L3454,COLUMNS($B$6:B3453)),\"\")","v":"93131800"},"Disaster preparedness and relief",null,null,null,"93131800","Disaster preparedness and relief","93131800",3448,3448,3448,"93131800"]
[null,{"$f":"IFERROR(INDEX($G$7:$H$13233,$L3459,COLUMNS($B$6:B3458)),\"\")","v":"25171713"},"Disc brake pads",null,null,null,"25171713","Disc brake pads","25171713",3453,3453,3453,"25171713"]
[null,{"$f":"IFERROR(INDEX($G$7:$H$13233,$L3465,COLUMNS($B$6:B3464)),\"\")","v":"85110000"},"Disease prevention and control",null,null,null,"85110000","Disease prevention and control","85110000",3459,3459,3459,"85110000"]
[null,{"$f":"IFERROR(INDEX($G$7:$H$13233,$L3466,COLUMNS($B$6:B3465)),\"\")","v":"93131704"},"Disease prevention or control services",null,null,null,"93131704","Disease prevention or control services","93131704",3460,3460,3460,"93131704"]
[null,{"$f":"IFERROR(INDEX($G$7:$H$13233,$L3471,COLUMNS($B$6:B3470)),\"\")","v":"42281801"},"Disinfectant test strips",null,null,null,"42281801","Disinfectant test strips","42281801",3465,3465,3465,"42281801"]
[null,{"$f":"IFERROR(INDEX($G$7:$H$13233,$L3480,COLUMNS($B$6:B3479)),\"\")","v":"93131507"},"Displaced persons assistance services",null,null,null,"93131507","Displaced persons assistance services","93131507",3474,3474,3474,"93131507"]
[null,{"$f":"IFERROR(INDEX($G$7:$H$13233,$L3483,COLUMNS($B$6:B3482)),\"\")","v":"48102101"},"Display cases",null,null,null,"48102101","Display cases","48102101",3477,3477,3477,"48102101"]
[null,{"$f":"IFERROR(INDEX($G$7:$H$13233,$L3488,COLUMNS($B$6:B3487)),\"\")","v":"53103200"},"Disposable clothes",null,null,null,"53103200","Disposable clothes","53103200",3482,3482,3482,"53103200"]
[null,{"$f":"IFERROR(INDEX($G$7:$H$13233,$L3497,COLUMNS($B$6:B3496)),\"\")","v":"45111612"},"Dissolve controls",null,null,null,"45111612","Dissolve controls","45111612",3491,3491,3491,"45111612"]
[null,{"$f":"IFERROR(INDEX($G$7:$H$13233,$L3500,COLUMNS($B$6:B3499)),\"\")","v":"86111505"},"Distance learning assessment services",null,null,null,"86111505","Distance learning assessment services","86111505",3494,3494,3494,"86111505"]
[null,{"$f":"IFERROR(INDEX($G$7:$H$13233,$L3505,COLUMNS($B$6:B3504)),\"\")","v":"41111613"},"Distance meters",null,null,null,"41111613","Distance meters","41111613",3499,3499,3499,"41111613"]
[null,{"$f":"IFERROR(INDEX($G$7:$H$13233,$L3508,COLUMNS($B$6:B3507)),\"\")","v":"41104213"},"Distilled or deionized water",null,null,null,"41104213","Distilled or deionized water","41104213",3502,3502,3502,"41104213"]
[null,{"$f":"IFERROR(INDEX($G$7:$H$13233,$L3517,COLUMNS($B$6:B3516)),\"\")","v":"83101903"},"District heating",null,null,null,"83101903","District heating","83101903",3511,3511,3511,"83101903"]
[null,{"$f":"IFERROR(INDEX($G$7:$H$13233,$L3523,COLUMNS($B$6:B3522)),\"\")","v":"49141508"},"Diving boot",null,null,null,"49141508","Diving boot","49141508",3517,3517,3517,"49141508"]
[null,{"$f":"IFERROR(INDEX($G$7:$H$13233,$L3529,COLUMNS($B$6:B3528)),\"\")","v":"24101800"},"Dock equipment",null,null,null,"24101800","Dock equipment","24101800",3523,3523,3523,"24101800"]
[null,{"$f":"IFERROR(INDEX($G$7:$H$13233,$L3534,COLUMNS($B$6:B3533)),\"\")","v":"80161508"},"Document destruction services",null,null,null,"80161508","Document destruction services","80161508",3528,3528,3528,"80161508"]
[null,{"$f":"IFERROR(INDEX($G$7:$H$13233,$L3540,COLUMNS($B$6:B3539)),\"\")","v":"10101502"},"Dogs",null,null,null,"10101502","Dogs","10101502",3534,3534,3534,"10101502"]
[null,{"$f":"IFERROR(INDEX($G$7:$H$13233,$L3541,COLUMNS($B$6:B3540)),\"\")","v":"24101503"},"Dollies",null,null,null,"24101503","Dollies","24101503",3535,3535,3535,"24101503"]
[null,{"$f":"IFERROR(INDEX($G$7:$H$13233,$L3547,COLUMNS($B$6:B3546)),\"\")","v":"52000000"},"Domestic Appliances and Supplies and Consumer Electronic Products",null,null,null,"52000000","Domestic Appliances and Supplies and Consumer Electronic Products","52000000",3541,3541,3541,"52000000"]
[null,{"$f":"IFERROR(INDEX($G$7:$H$13233,$L3551,COLUMNS($B$6:B3550)),\"\")","v":"52152101"},"Domestic coffee or tea cups",null,null,null,"52152101","Domestic coffee or tea cups","52152101",3545,3545,3545,"52152101"]
[null,{"$f":"IFERROR(INDEX($G$7:$H$13233,$L3558,COLUMNS($B$6:B3557)),\"\")","v":"52152100"},"Domestic drink ware",null,null,null,"52152100","Domestic drink ware","52152100",3552,3552,3552,"52152100"]
[null,{"$f":"IFERROR(INDEX($G$7:$H$13233,$L3566,COLUMNS($B$6:B3565)),\"\")","v":"83112602"},"Domestic leased lines",null,null,null,"83112602","Domestic leased lines","83112602",3560,3560,3560,"83112602"]
[null,{"$f":"IFERROR(INDEX($G$7:$H$13233,$L3570,COLUMNS($B$6:B3569)),\"\")","v":"52141501"},"Domestic refrigerators",null,null,null,"52141501","Domestic refrigerators","52141501",3564,3564,3564,"52141501"]
[null,{"$f":"IFERROR(INDEX($G$7:$H$13233,$L3575,COLUMNS($B$6:B3574)),\"\")","v":"51141590"},"Donepezil hydrochloride",null,null,null,"51141590","Donepezil hydrochloride","51141590",3569,3569,3569,"51141590"]
[null,{"$f":"IFERROR(INDEX($G$7:$H$13233,$L3583,COLUMNS($B$6:B3582)),\"\")","v":"30171514"},"Door closers",null,null,null,"30171514","Door closers","30171514",3577,3577,3577,"30171514"]
[null,{"$f":"IFERROR(INDEX($G$7:$H$13233,$L3587,COLUMNS($B$6:B3586)),\"\")","v":"42212001"},"Door openers for the physically challenged",null,null,null,"42212001","Door openers for the physically challenged","42212001",3581,3581,3581,"42212001"]
[null,{"$f":"IFERROR(INDEX($G$7:$H$13233,$L3593,COLUMNS($B$6:B3592)),\"\")","v":"25173131"},"Doppler Direction Finder ",null,null,null,"25173131","Doppler Direction Finder ","25173131",3587,3587,3587,"25173131"]
[null,{"$f":"IFERROR(INDEX($G$7:$H$13233,$L3594,COLUMNS($B$6:B3593)),\"\")","v":"25173118"},"Doppler VHF Omnidirectional Range (DVOR) And DVOR/DME Systems",null,null,null,"25173118","Doppler VHF Omnidirectional Range (DVOR) And DVOR/DME Systems","25173118",3588,3588,3588,"25173118"]
[null,{"$f":"IFERROR(INDEX($G$7:$H$13233,$L3604,COLUMNS($B$6:B3603)),\"\")","v":"41123402"},"Dosing spoons",null,null,null,"41123402","Dosing spoons","41123402",3598,3598,3598,"41123402"]
[null,{"$f":"IFERROR(INDEX($G$7:$H$13233,$L3605,COLUMNS($B$6:B3604)),\"\")","v":"11162130"},"Dossal",null,null,null,"11162130","Dossal","11162130",3599,3599,3599,"11162130"]
[null,{"$f":"IFERROR(INDEX($G$7:$H$13233,$L3611,COLUMNS($B$6:B3610)),\"\")","v":"41101516"},"Dounce homogenizers",null,null,null,"41101516","Dounce homogenizers","41101516",3605,3605,3605,"41101516"]
[null,{"$f":"IFERROR(INDEX($G$7:$H$13233,$L3616,COLUMNS($B$6:B3615)),\"\")","v":"51284027"},"Doxycycline hyclate",null,null,null,"51284027","Doxycycline hyclate","51284027",3610,3610,3610,"51284027"]
[null,{"$f":"IFERROR(INDEX($G$7:$H$13233,$L3626,COLUMNS($B$6:B3625)),\"\")","v":"22101513"},"Draglines",null,null,null,"22101513","Draglines","22101513",3620,3620,3620,"22101513"]
[null,{"$f":"IFERROR(INDEX($G$7:$H$13233,$L3628,COLUMNS($B$6:B3627)),\"\")","v":"72103305"},"Drain laying service",null,null,null,"72103305","Drain laying service","72103305",3622,3622,3622,"72103305"]
[null,{"$f":"IFERROR(INDEX($G$7:$H$13233,$L3634,COLUMNS($B$6:B3633)),\"\")","v":"70171800"},"Drainage services",null,null,null,"70171800","Drainage services","70171800",3628,3628,3628,"70171800"]
[null,{"$f":"IFERROR(INDEX($G$7:$H$13233,$L3637,COLUMNS($B$6:B3636)),\"\")","v":"72153604"},"Drapery track installation service",null,null,null,"72153604","Drapery track installation service","72153604",3631,3631,3631,"72153604"]
[null,{"$f":"IFERROR(INDEX($G$7:$H$13233,$L3645,COLUMNS($B$6:B3644)),\"\")","v":"42211800"},"Dressing and grooming aids for the physically challenged",null,null,null,"42211800","Dressing and grooming aids for the physically challenged","42211800",3639,3639,3639,"42211800"]
[null,{"$f":"IFERROR(INDEX($G$7:$H$13233,$L3651,COLUMNS($B$6:B3650)),\"\")","v":"50421500"},"Dried artichokes",null,null,null,"50421500","Dried artichokes","50421500",3645,3645,3645,"50421500"]
[null,{"$f":"IFERROR(INDEX($G$7:$H$13233,$L3654,COLUMNS($B$6:B3653)),\"\")","v":"50121542"},"Dried Fish (WFP food convention)",null,null,null,"50121542","Dried Fish (WFP food convention)","50121542",3648,3648,3648,"50121542"]
[null,{"$f":"IFERROR(INDEX($G$7:$H$13233,$L3663,COLUMNS($B$6:B3662)),\"\")","v":"50330000"},"Dried organic fruit",null,null,null,"50330000","Dried organic fruit","50330000",3657,3657,3657,"50330000"]
[null,{"$f":"IFERROR(INDEX($G$7:$H$13233,$L3668,COLUMNS($B$6:B3667)),\"\")","v":"41111650"},"Drill gauge",null,null,null,"41111650","Drill gauge","41111650",3662,3662,3662,"41111650"]
[null,{"$f":"IFERROR(INDEX($G$7:$H$13233,$L3671,COLUMNS($B$6:B3670)),\"\")","v":"20111600"},"Drilling and operation machinery",null,null,null,"20111600","Drilling and operation machinery","20111600",3665,3665,3665,"20111600"]
[null,{"$f":"IFERROR(INDEX($G$7:$H$13233,$L3675,COLUMNS($B$6:B3674)),\"\")","v":"42211909"},"Drink holders for the physically challenged",null,null,null,"42211909","Drink holders for the physically challenged","42211909",3669,3669,3669,"42211909"]
[null,{"$f":"IFERROR(INDEX($G$7:$H$13233,$L3680,COLUMNS($B$6:B3679)),\"\")","v":"72152706"},"Driveway construction service",null,null,null,"72152706","Driveway construction service","72152706",3674,3674,3674,"72152706"]
[null,{"$f":"IFERROR(INDEX($G$7:$H$13233,$L3686,COLUMNS($B$6:B3685)),\"\")","v":"93131705"},"Drug abuse prevention or control programs",null,null,null,"93131705","Drug abuse prevention or control programs","93131705",3680,3680,3680,"93131705"]
[null,{"$f":"IFERROR(INDEX($G$7:$H$13233,$L3692,COLUMNS($B$6:B3691)),\"\")","v":"51170000"},"Drugs affecting the gastrointestinal system",null,null,null,"51170000","Drugs affecting the gastrointestinal system","51170000",3686,3686,3686,"51170000"]
[null,{"$f":"IFERROR(INDEX($G$7:$H$13233,$L3697,COLUMNS($B$6:B3696)),\"\")","v":"51161700"},"Drugs used for respiratory tract disorders",null,null,null,"51161700","Drugs used for respiratory tract disorders","51161700",3691,3691,3691,"51161700"]
[null,{"$f":"IFERROR(INDEX($G$7:$H$13233,$L3704,COLUMNS($B$6:B3703)),\"\")","v":"47111700"},"Dry cleaning equipment",null,null,null,"47111700","Dry cleaning equipment","47111700",3698,3698,3698,"47111700"]
[null,{"$f":"IFERROR(INDEX($G$7:$H$13233,$L3709,COLUMNS($B$6:B3708)),\"\")","v":"10121801"},"Dry food for dogs",null,null,null,"10121801","Dry food for dogs","10121801",3703,3703,3703,"10121801"]
[null,{"$f":"IFERROR(INDEX($G$7:$H$13233,$L3714,COLUMNS($B$6:B3713)),\"\")","v":"41104420"},"Dry wall dual chamber three gas incubators",null,null,null,"41104420","Dry wall dual chamber three gas incubators","41104420",3708,3708,3708,"41104420"]
[null,{"$f":"IFERROR(INDEX($G$7:$H$13233,$L3721,COLUMNS($B$6:B3720)),\"\")","v":"49141507"},"Drysuits",null,null,null,"49141507","Drysuits","49141507",3715,3715,3715,"49141507"]
[null,{"$f":"IFERROR(INDEX($G$7:$H$13233,$L3723,COLUMNS($B$6:B3722)),\"\")","v":"83112406"},"DSL digital subscriber line",null,null,null,"83112406","DSL digital subscriber line","83112406",3717,3717,3717,"83112406"]
[null,{"$f":"IFERROR(INDEX($G$7:$H$13233,$L3732,COLUMNS($B$6:B3731)),\"\")","v":"49201601"},"Dumbbells",null,null,null,"49201601","Dumbbells","49201601",3726,3726,3726,"49201601"]
[null,{"$f":"IFERROR(INDEX($G$7:$H$13233,$L3738,COLUMNS($B$6:B3737)),\"\")","v":"44101500"},"Duplicating machines",null,null,null,"44101500","Duplicating machines","44101500",3732,3732,3732,"44101500"]
[null,{"$f":"IFERROR(INDEX($G$7:$H$13233,$L3740,COLUMNS($B$6:B3739)),\"\")","v":"51111780"},"Durvalumab",null,null,null,"51111780","Durvalumab","51111780",3734,3734,3734,"51111780"]
[null,{"$f":"IFERROR(INDEX($G$7:$H$13233,$L3745,COLUMNS($B$6:B3744)),\"\")","v":"21101802"},"Dusters",null,null,null,"21101802","Dusters","21101802",3739,3739,3739,"21101802"]
[null,{"$f":"IFERROR(INDEX($G$7:$H$13233,$L3750,COLUMNS($B$6:B3749)),\"\")","v":"70151604"},"Dyes production",null,null,null,"70151604","Dyes production","70151604",3744,3744,3744,"70151604"]
[null,{"$f":"IFERROR(INDEX($G$7:$H$13233,$L3757,COLUMNS($B$6:B3756)),\"\")","v":"42143516"},"Ear nose throat ENT examining unit accessories and related products",null,null,null,"42143516","Ear nose throat ENT examining unit accessories and related products","42143516",3751,3751,3751,"42143516"]
[null,{"$f":"IFERROR(INDEX($G$7:$H$13233,$L3762,COLUMNS($B$6:B3761)),\"\")","v":"57444300"},"Early childhood development",null,null,null,"57444300","Early childhood development","57444300",3756,3756,3756,"57444300"]
[null,{"$f":"IFERROR(INDEX($G$7:$H$13233,$L3767,COLUMNS($B$6:B3766)),\"\")","v":"41113645"},"Earth leakage devices",null,null,null,"41113645","Earth leakage devices","41113645",3761,3761,3761,"41113645"]
[null,{"$f":"IFERROR(INDEX($G$7:$H$13233,$L3772,COLUMNS($B$6:B3771)),\"\")","v":"22101539"},"Earthmoving machinery parts and accessories",null,null,null,"22101539","Earthmoving machinery parts and accessories","22101539",3766,3766,3766,"22101539"]
[null,{"$f":"IFERROR(INDEX($G$7:$H$13233,$L3779,COLUMNS($B$6:B3778)),\"\")","v":"90101500"},"Eating and drinking establishments",null,null,null,"90101500","Eating and drinking establishments","90101500",3773,3773,3773,"90101500"]
[null,{"$f":"IFERROR(INDEX($G$7:$H$13233,$L3783,COLUMNS($B$6:B3782)),\"\")","v":"11111603"},"Ecaussine or alabaster",null,null,null,"11111603","Ecaussine or alabaster","11111603",3777,3777,3777,"11111603"]
[null,{"$f":"IFERROR(INDEX($G$7:$H$13233,$L3791,COLUMNS($B$6:B3790)),\"\")","v":"81121500"},"Economic analysis",null,null,null,"81121500","Economic analysis","81121500",3785,3785,3785,"81121500"]
[null,{"$f":"IFERROR(INDEX($G$7:$H$13233,$L3796,COLUMNS($B$6:B3795)),\"\")","v":"93121703"},"Economic or social council services",null,null,null,"93121703","Economic or social council services","93121703",3790,3790,3790,"93121703"]
[null,{"$f":"IFERROR(INDEX($G$7:$H$13233,$L3800,COLUMNS($B$6:B3799)),\"\")","v":"27111913"},"Edge trimmer",null,null,null,"27111913","Edge trimmer","27111913",3794,3794,3794,"27111913"]
[null,{"$f":"IFERROR(INDEX($G$7:$H$13233,$L3808,COLUMNS($B$6:B3807)),\"\")","v":"82111801"},"Editing services",null,null,null,"82111801","Editing services","82111801",3802,3802,3802,"82111801"]
[null,{"$f":"IFERROR(INDEX($G$7:$H$13233,$L3813,COLUMNS($B$6:B3812)),\"\")","v":"82111401"},"Editorial Services - English",null,null,null,"82111401","Editorial Services - English","82111401",3807,3807,3807,"82111401"]
[null,{"$f":"IFERROR(INDEX($G$7:$H$13233,$L3815,COLUMNS($B$6:B3814)),\"\")","v":"82111404"},"Editorial Services - Russian",null,null,null,"82111404","Editorial Services - Russian","82111404",3809,3809,3809,"82111404"]
[null,{"$f":"IFERROR(INDEX($G$7:$H$13233,$L3820,COLUMNS($B$6:B3819)),\"\")","v":"86111800"},"Educational exchanges",null,null,null,"86111800","Educational exchanges","86111800",3814,3814,3814,"86111800"]
[null,{"$f":"IFERROR(INDEX($G$7:$H$13233,$L3825,COLUMNS($B$6:B3824)),\"\")","v":"86120000"},"Educational institutions",null,null,null,"86120000","Educational institutions","86120000",3819,3819,3819,"86120000"]
[null,{"$f":"IFERROR(INDEX($G$7:$H$13233,$L3832,COLUMNS($B$6:B3831)),\"\")","v":"86132200"},"Educational support services",null,null,null,"86132200","Educational support services","86132200",3826,{"$f":"IF(ISNUMBER(SEARCH($H$4,H3832)),J3832,\"\")","v":3826},{"$f":"IFERROR(SMALL($K$7:$K$13233,J3832),\"\")","v":3826},"86132200"]
[null,{"$f":"IFERROR(INDEX($G$7:$H$13233,$L3837,COLUMNS($B$6:B3836)),\"\")","v":"21101906"},"Egg inspection or collecting equipment",null,null,null,"21101906","Egg inspection or collecting equipment","21101906",3831,3831,3831,"21101906"]
[null,{"$f":"IFERROR(INDEX($G$7:$H$13233,$L3841,COLUMNS($B$6:B3840)),\"\")","v":"11162115"},"Elastic braid",null,null,null,"11162115","Elastic braid","11162115",3835,3835,3835,"11162115"]
[null,{"$f":"IFERROR(INDEX($G$7:$H$13233,$L3849,COLUMNS($B$6:B3848)),\"\")","v":"53131643"},"Electric hair clipper",null,null,null,"53131643","Electric hair clipper","53131643",3843,3843,3843,"53131643"]
[null,{"$f":"IFERROR(INDEX($G$7:$H$13233,$L3854,COLUMNS($B$6:B3853)),\"\")","v":"41113682"},"Electric power tester",null,null,null,"41113682","Electric power tester","41113682",3848,3848,3848,"41113682"]
[null,{"$f":"IFERROR(INDEX($G$7:$H$13233,$L3858,COLUMNS($B$6:B3857)),\"\")","v":"83101800"},"Electric utilities",null,null,null,"83101800","Electric utilities","83101800",3852,3852,3852,"83101800"]
[null,{"$f":"IFERROR(INDEX($G$7:$H$13233,$L3866,COLUMNS($B$6:B3865)),\"\")","v":"41111933"},"Electrical charge sensors",null,null,null,"41111933","Electrical charge sensors","41111933",3860,3860,3860,"41111933"]
[null,{"$f":"IFERROR(INDEX($G$7:$H$13233,$L3871,COLUMNS($B$6:B3870)),\"\")","v":"81101701"},"Electrical engineering services",null,null,null,"81101701","Electrical engineering services","81101701",3865,3865,3865,"81101701"]
[null,{"$f":"IFERROR(INDEX($G$7:$H$13233,$L3875,COLUMNS($B$6:B3874)),\"\")","v":"44121808"},"Electrical erasers",null,null,null,"44121808","Electrical erasers","44121808",3869,3869,3869,"44121808"]
[null,{"$f":"IFERROR(INDEX($G$7:$H$13233,$L3883,COLUMNS($B$6:B3882)),\"\")","v":"41113600"},"Electrical measuring and testing equipment and accessories",null,null,null,"41113600","Electrical measuring and testing equipment and accessories","41113600",3877,3877,3877,"41113600"]
[null,{"$f":"IFERROR(INDEX($G$7:$H$13233,$L3884,COLUMNS($B$6:B3883)),\"\")","v":"41111634"},"Electrical micrometer",null,null,null,"41111634","Electrical micrometer","41111634",3878,3878,3878,"41111634"]
[null,{"$f":"IFERROR(INDEX($G$7:$H$13233,$L3890,COLUMNS($B$6:B3889)),\"\")","v":"41111943"},"Electrical resistance or conductance sensors",null,null,null,"41111943","Electrical resistance or conductance sensors","41111943",3884,3884,3884,"41111943"]
[null,{"$f":"IFERROR(INDEX($G$7:$H$13233,$L3895,COLUMNS($B$6:B3894)),\"\")","v":"73171503"},"Electrical tools manufacture services",null,null,null,"73171503","Electrical tools manufacture services","73171503",3889,3889,3889,"73171503"]
[null,{"$f":"IFERROR(INDEX($G$7:$H$13233,$L3901,COLUMNS($B$6:B3900)),\"\")","v":"39130000"},"Electrical wire management devices and accessories and supplies",null,null,null,"39130000","Electrical wire management devices and accessories and supplies","39130000",3895,3895,3895,"39130000"]
[null,{"$f":"IFERROR(INDEX($G$7:$H$13233,$L3907,COLUMNS($B$6:B3906)),\"\")","v":"41115600"},"Electrochemical measuring instruments and accessories",null,null,null,"41115600","Electrochemical measuring instruments and accessories","41115600",3901,3901,3901,"41115600"]
[null,{"$f":"IFERROR(INDEX($G$7:$H$13233,$L3912,COLUMNS($B$6:B3911)),\"\")","v":"41115849"},"Electrolyte analyzer",null,null,null,"41115849","Electrolyte analyzer","41115849",3906,3906,3906,"41115849"]
[null,{"$f":"IFERROR(INDEX($G$7:$H$13233,$L3918,COLUMNS($B$6:B3917)),\"\")","v":"41113728"},"Electromagnetic shield environmental chamber",null,null,null,"41113728","Electromagnetic shield environmental chamber","41113728",3912,3912,3912,"41113728"]
[null,{"$f":"IFERROR(INDEX($G$7:$H$13233,$L3924,COLUMNS($B$6:B3923)),\"\")","v":"41111711"},"Electron microscopes",null,null,null,"41111711","Electron microscopes","41111711",3918,3918,3918,"41111711"]
[null,{"$f":"IFERROR(INDEX($G$7:$H$13233,$L3930,COLUMNS($B$6:B3929)),\"\")","v":"26111706"},"Electronic batteries",null,null,null,"26111706","Electronic batteries","26111706",3924,3924,3924,"26111706"]
[null,{"$f":"IFERROR(INDEX($G$7:$H$13233,$L3935,COLUMNS($B$6:B3934)),\"\")","v":"32131000"},"Electronic component parts and raw materials and accessories",null,null,null,"32131000","Electronic component parts and raw materials and accessories","32131000",3929,3929,3929,"32131000"]
[null,{"$f":"IFERROR(INDEX($G$7:$H$13233,$L3941,COLUMNS($B$6:B3940)),\"\")","v":"81111703"},"Electronic data interchange EDI design",null,null,null,"81111703","Electronic data interchange EDI design","81111703",3935,3935,3935,"81111703"]
[null,{"$f":"IFERROR(INDEX($G$7:$H$13233,$L3944,COLUMNS($B$6:B3943)),\"\")","v":"84131512"},"Electronic equipment insurance",null,null,null,"84131512","Electronic equipment insurance","84131512",3938,3938,3938,"84131512"]
[null,{"$f":"IFERROR(INDEX($G$7:$H$13233,$L3953,COLUMNS($B$6:B3952)),\"\")","v":"81101713"},"Electronic measurement and recording instrument engineering and design service",null,null,null,"81101713","Electronic measurement and recording instrument engineering and design service","81101713",3947,3947,3947,"81101713"]
[null,{"$f":"IFERROR(INDEX($G$7:$H$13233,$L3954,COLUMNS($B$6:B3953)),\"\")","v":"41111905"},"Electronic measuring probes",null,null,null,"41111905","Electronic measuring probes","41111905",3948,3948,3948,"41111905"]
[null,{"$f":"IFERROR(INDEX($G$7:$H$13233,$L3961,COLUMNS($B$6:B3960)),\"\")","v":"41121507"},"Electronic single channel pipetters",null,null,null,"41121507","Electronic single channel pipetters","41121507",3955,3955,3955,"41121507"]
[null,{"$f":"IFERROR(INDEX($G$7:$H$13233,$L3965,COLUMNS($B$6:B3964)),\"\")","v":"43211723"},"Electronic voting or vote-counting equipment",null,null,null,"43211723","Electronic voting or vote-counting equipment","43211723",3959,3959,3959,"43211723"]
[null,{"$f":"IFERROR(INDEX($G$7:$H$13233,$L3971,COLUMNS($B$6:B3970)),\"\")","v":"41105340"},"Electrophoresis system",null,null,null,"41105340","Electrophoresis system","41105340",3965,3965,3965,"41105340"]
[null,{"$f":"IFERROR(INDEX($G$7:$H$13233,$L3978,COLUMNS($B$6:B3977)),\"\")","v":"42141801"},"Electrotherapy combination units",null,null,null,"42141801","Electrotherapy combination units","42141801",3972,3972,3972,"42141801"]
[null,{"$f":"IFERROR(INDEX($G$7:$H$13233,$L3982,COLUMNS($B$6:B3981)),\"\")","v":"41113041"},"Elemental analyzer",null,null,null,"41113041","Elemental analyzer","41113041",3976,3976,3976,"41113041"]
[null,{"$f":"IFERROR(INDEX($G$7:$H$13233,$L3988,COLUMNS($B$6:B3987)),\"\")","v":"22101518"},"Elevating scrapers",null,null,null,"22101518","Elevating scrapers","22101518",3982,3982,3982,"22101518"]
[null,{"$f":"IFERROR(INDEX($G$7:$H$13233,$L3995,COLUMNS($B$6:B3994)),\"\")","v":"51131827"},"Eltrombopag olamine",null,null,null,"51131827","Eltrombopag olamine","51131827",3989,3989,3989,"51131827"]
[null,{"$f":"IFERROR(INDEX($G$7:$H$13233,$L4000,COLUMNS($B$6:B3999)),\"\")","v":"42203422"},"Embolization glues",null,null,null,"42203422","Embolization glues","42203422",3994,3994,3994,"42203422"]
[null,{"$f":"IFERROR(INDEX($G$7:$H$13233,$L4004,COLUMNS($B$6:B4003)),\"\")","v":"23121501"},"Embroidery making machines",null,null,null,"23121501","Embroidery making machines","23121501",3998,3998,3998,"23121501"]
[null,{"$f":"IFERROR(INDEX($G$7:$H$13233,$L4011,COLUMNS($B$6:B4010)),\"\")","v":"57030105"},"Emergency health kit",null,null,null,"57030105","Emergency health kit","57030105",4005,4005,4005,"57030105"]
[null,{"$f":"IFERROR(INDEX($G$7:$H$13233,$L4017,COLUMNS($B$6:B4016)),\"\")","v":"39111700"},"Emergency lighting and accessories",null,null,null,"39111700","Emergency lighting and accessories","39111700",4011,4011,4011,"39111700"]
[null,{"$f":"IFERROR(INDEX($G$7:$H$13233,$L4021,COLUMNS($B$6:B4020)),\"\")","v":"57080102"},"Emergency operations room equipment kit",null,null,null,"57080102","Emergency operations room equipment kit","57080102",4015,4015,4015,"57080102"]
[null,{"$f":"IFERROR(INDEX($G$7:$H$13233,$L4024,COLUMNS($B$6:B4023)),\"\")","v":"57050205"},"Emergency ration",null,null,null,"57050205","Emergency ration","57050205",4018,4018,4018,"57050205"]
[null,{"$f":"IFERROR(INDEX($G$7:$H$13233,$L4029,COLUMNS($B$6:B4028)),\"\")","v":"90121800"},"Emergency travel assistance services",null,null,null,"90121800","Emergency travel assistance services","90121800",4023,4023,4023,"90121800"]
[null,{"$f":"IFERROR(INDEX($G$7:$H$13233,$L4038,COLUMNS($B$6:B4037)),\"\")","v":"80111718"},"Employee skill testing and assessment service",null,null,null,"80111718","Employee skill testing and assessment service","80111718",4032,4032,4032,"80111718"]
[null,{"$f":"IFERROR(INDEX($G$7:$H$13233,$L4041,COLUMNS($B$6:B4040)),\"\")","v":"80121706"},"Employment law services",null,null,null,"80121706","Employment law services","80121706",4035,4035,4035,"80121706"]
[null,{"$f":"IFERROR(INDEX($G$7:$H$13233,$L4047,COLUMNS($B$6:B4046)),\"\")","v":"12161804"},"Emulsions",null,null,null,"12161804","Emulsions","12161804",4041,4041,4041,"12161804"]
[null,{"$f":"IFERROR(INDEX($G$7:$H$13233,$L4052,COLUMNS($B$6:B4051)),\"\")","v":"55101525"},"Encyclopedias",null,null,null,"55101525","Encyclopedias","55101525",4046,4046,4046,"55101525"]
[null,{"$f":"IFERROR(INDEX($G$7:$H$13233,$L4058,COLUMNS($B$6:B4057)),\"\")","v":"85111603"},"Endocrine disease prevention or control services",null,null,null,"85111603","Endocrine disease prevention or control services","85111603",4052,4052,4052,"85111603"]
[null,{"$f":"IFERROR(INDEX($G$7:$H$13233,$L4064,COLUMNS($B$6:B4063)),\"\")","v":"42295013"},"Endoscope tip protector or covers",null,null,null,"42295013","Endoscope tip protector or covers","42295013",4058,4058,4058,"42295013"]
[null,{"$f":"IFERROR(INDEX($G$7:$H$13233,$L4070,COLUMNS($B$6:B4069)),\"\")","v":"42294941"},"Endoscopic biliary drainage sets",null,null,null,"42294941","Endoscopic biliary drainage sets","42294941",4064,4064,4064,"42294941"]
[null,{"$f":"IFERROR(INDEX($G$7:$H$13233,$L4075,COLUMNS($B$6:B4074)),\"\")","v":"42296411"},"Endoscopic converters",null,null,null,"42296411","Endoscopic converters","42296411",4069,4069,4069,"42296411"]
[null,{"$f":"IFERROR(INDEX($G$7:$H$13233,$L4081,COLUMNS($B$6:B4080)),\"\")","v":"42296400"},"Endoscopic equipment",null,null,null,"42296400","Endoscopic equipment","42296400",4075,4075,4075,"42296400"]
[null,{"$f":"IFERROR(INDEX($G$7:$H$13233,$L4087,COLUMNS($B$6:B4086)),\"\")","v":"42294946"},"Endoscopic gages",null,null,null,"42294946","Endoscopic gages","42294946",4081,{"$f":"IF(ISNUMBER(SEARCH($H$4,H4087)),J4087,\"\")","v":4081},{"$f":"IFERROR(SMALL($K$7:$K$13233,J4087),\"\")","v":4081},"42294946"]
[null,{"$f":"IFERROR(INDEX($G$7:$H$13233,$L4092,COLUMNS($B$6:B4091)),\"\")","v":"42294913"},"Endoscopic hemostatic balloons or needles or tubes or accessories",null,null,null,"42294913","Endoscopic hemostatic balloons or needles or tubes or accessories","42294913",4086,4086,4086,"42294913"]
[null,{"$f":"IFERROR(INDEX($G$7:$H$13233,$L4098,COLUMNS($B$6:B4097)),\"\")","v":"42294914"},"Endoscopic instrument sets",null,null,null,"42294914","Endoscopic instrument sets","42294914",4092,4092,4092,"42294914"]
[null,{"$f":"IFERROR(INDEX($G$7:$H$13233,$L4099,COLUMNS($B$6:B4098)),\"\")","v":"42294915"},"Endoscopic instrument spreaders",null,null,null,"42294915","Endoscopic instrument spreaders","42294915",4093,4093,4093,"42294915"]
[null,{"$f":"IFERROR(INDEX($G$7:$H$13233,$L4107,COLUMNS($B$6:B4106)),\"\")","v":"42295015"},"Endoscopic lenses",null,null,null,"42295015","Endoscopic lenses","42295015",4101,4101,4101,"42295015"]
[null,{"$f":"IFERROR(INDEX($G$7:$H$13233,$L4111,COLUMNS($B$6:B4110)),\"\")","v":"42294924"},"Endoscopic monopolar or bipolar hand instruments",null,null,null,"42294924","Endoscopic monopolar or bipolar hand instruments","42294924",4105,4105,4105,"42294924"]
[null,{"$f":"IFERROR(INDEX($G$7:$H$13233,$L4116,COLUMNS($B$6:B4115)),\"\")","v":"42296407"},"Endoscopic printers or film or accessories",null,null,null,"42296407","Endoscopic printers or film or accessories","42296407",4110,4110,4110,"42296407"]
[null,{"$f":"IFERROR(INDEX($G$7:$H$13233,$L4124,COLUMNS($B$6:B4123)),\"\")","v":"42294959"},"Endoscopic sphincterotomes",null,null,null,"42294959","Endoscopic sphincterotomes","42294959",4118,4118,4118,"42294959"]
[null,{"$f":"IFERROR(INDEX($G$7:$H$13233,$L4128,COLUMNS($B$6:B4127)),\"\")","v":"42294978"},"Endoscopic trocars or sheathes or obturators or cannulae",null,null,null,"42294978","Endoscopic trocars or sheathes or obturators or cannulae","42294978",4122,4122,4122,"42294978"]
[null,{"$f":"IFERROR(INDEX($G$7:$H$13233,$L4133,COLUMNS($B$6:B4132)),\"\")","v":"42296409"},"Endoscopic water bottles or accessories",null,null,null,"42296409","Endoscopic water bottles or accessories","42296409",4127,4127,4127,"42296409"]
[null,{"$f":"IFERROR(INDEX($G$7:$H$13233,$L4139,COLUMNS($B$6:B4138)),\"\")","v":"42141905"},"Enema soaps",null,null,null,"42141905","Enema soaps","42141905",4133,4133,4133,"42141905"]
[null,{"$f":"IFERROR(INDEX($G$7:$H$13233,$L4145,COLUMNS($B$6:B4144)),\"\")","v":"81101516"},"Energy or utility consulting service",null,null,null,"81101516","Energy or utility consulting service","81101516",4139,4139,4139,"81101516"]
[null,{"$f":"IFERROR(INDEX($G$7:$H$13233,$L4150,COLUMNS($B$6:B4149)),\"\")","v":"25174000"},"Engine coolant system",null,null,null,"25174000","Engine coolant system","25174000",4144,4144,4144,"25174000"]
[null,{"$f":"IFERROR(INDEX($G$7:$H$13233,$L4156,COLUMNS($B$6:B4155)),\"\")","v":"81101703"},"Engineering testing services",null,null,null,"81101703","Engineering testing services","81101703",4150,4150,4150,"81101703"]
[null,{"$f":"IFERROR(INDEX($G$7:$H$13233,$L4162,COLUMNS($B$6:B4161)),\"\")","v":"83112200"},"Enhanced telecommunications services",null,null,null,"83112200","Enhanced telecommunications services","83112200",4156,4156,4156,"83112200"]
[null,{"$f":"IFERROR(INDEX($G$7:$H$13233,$L4167,COLUMNS($B$6:B4166)),\"\")","v":"15131505"},"Enriched plutonium",null,null,null,"15131505","Enriched plutonium","15131505",4161,4161,4161,"15131505"]
[null,{"$f":"IFERROR(INDEX($G$7:$H$13233,$L4169,COLUMNS($B$6:B4168)),\"\")","v":"51282916"},"Enrofloxacin",null,null,null,"51282916","Enrofloxacin","51282916",4163,4163,4163,"51282916"]
[null,{"$f":"IFERROR(INDEX($G$7:$H$13233,$L4174,COLUMNS($B$6:B4173)),\"\")","v":"42231501"},"Enteral feeding infusion pumps",null,null,null,"42231501","Enteral feeding infusion pumps","42231501",4168,4168,4168,"42231501"]
[null,{"$f":"IFERROR(INDEX($G$7:$H$13233,$L4182,COLUMNS($B$6:B4181)),\"\")","v":"41102508"},"Entomological aspirators",null,null,null,"41102508","Entomological aspirators","41102508",4176,4176,4176,"41102508"]
[null,{"$f":"IFERROR(INDEX($G$7:$H$13233,$L4186,COLUMNS($B$6:B4185)),\"\")","v":"41102510"},"Entomological monocups",null,null,null,"41102510","Entomological monocups","41102510",4180,4180,4180,"41102510"]
[null,{"$f":"IFERROR(INDEX($G$7:$H$13233,$L4191,COLUMNS($B$6:B4190)),\"\")","v":"72152403"},"Entryway and exit framing service",null,null,null,"72152403","Entryway and exit framing service","72152403",4185,4185,4185,"72152403"]
[null,{"$f":"IFERROR(INDEX($G$7:$H$13233,$L4199,COLUMNS($B$6:B4198)),\"\")","v":"77101500"},"Environmental impact assessment",null,null,null,"77101500","Environmental impact assessment","77101500",4193,4193,4193,"77101500"]
[null,{"$f":"IFERROR(INDEX($G$7:$H$13233,$L4203,COLUMNS($B$6:B4202)),\"\")","v":"77101801"},"Environmental information systems",null,null,null,"77101801","Environmental information systems","77101801",4197,4197,4197,"77101801"]
[null,{"$f":"IFERROR(INDEX($G$7:$H$13233,$L4208,COLUMNS($B$6:B4207)),\"\")","v":"64141700"},"Environmental mitigation banking products",null,null,null,"64141700","Environmental mitigation banking products","64141700",4202,4202,4202,"64141700"]
[null,{"$f":"IFERROR(INDEX($G$7:$H$13233,$L4216,COLUMNS($B$6:B4215)),\"\")","v":"77111600"},"Environmental rehabilitation",null,null,null,"77111600","Environmental rehabilitation","77111600",4210,4210,4210,"77111600"]
[null,{"$f":"IFERROR(INDEX($G$7:$H$13233,$L4220,COLUMNS($B$6:B4219)),\"\")","v":"77101806"},"Environmental security control services",null,null,null,"77101806","Environmental security control services","77101806",4214,4214,4214,"77101806"]
[null,{"$f":"IFERROR(INDEX($G$7:$H$13233,$L4225,COLUMNS($B$6:B4224)),\"\")","v":"77101704"},"Environmental technology advisory services",null,null,null,"77101704","Environmental technology advisory services","77101704",4219,4219,4219,"77101704"]
[null,{"$f":"IFERROR(INDEX($G$7:$H$13233,$L4232,COLUMNS($B$6:B4231)),\"\")","v":"41106516"},"Enzyme expression consumables",null,null,null,"41106516","Enzyme expression consumables","41106516",4226,4226,4226,"41106516"]
[null,{"$f":"IFERROR(INDEX($G$7:$H$13233,$L4237,COLUMNS($B$6:B4236)),\"\")","v":"85111514"},"Epidemic prevention or control services",null,null,null,"85111514","Epidemic prevention or control services","85111514",4231,4231,4231,"85111514"]
[null,{"$f":"IFERROR(INDEX($G$7:$H$13233,$L4242,COLUMNS($B$6:B4241)),\"\")","v":"51273937"},"Epinephrine/lidocaine",null,null,null,"51273937","Epinephrine/lidocaine","51273937",4236,4236,4236,"51273937"]
[null,{"$f":"IFERROR(INDEX($G$7:$H$13233,$L4244,COLUMNS($B$6:B4243)),\"\")","v":"51281819"},"Epirubicin hydrochloride",null,null,null,"51281819","Epirubicin hydrochloride","51281819",4238,4238,4238,"51281819"]
[null,{"$f":"IFERROR(INDEX($G$7:$H$13233,$L4250,COLUMNS($B$6:B4249)),\"\")","v":"81141804"},"Equipment inspection service",null,null,null,"81141804","Equipment inspection service","81141804",4244,4244,4244,"81141804"]
[null,{"$f":"IFERROR(INDEX($G$7:$H$13233,$L4259,COLUMNS($B$6:B4258)),\"\")","v":"46182200"},"Ergonomic support aids",null,null,null,"46182200","Ergonomic support aids","46182200",4253,4253,4253,"46182200"]
[null,{"$f":"IFERROR(INDEX($G$7:$H$13233,$L4261,COLUMNS($B$6:B4260)),\"\")","v":"41114634"},"Erichsen tester",null,null,null,"41114634","Erichsen tester","41114634",4255,4255,4255,"41114634"]
[null,{"$f":"IFERROR(INDEX($G$7:$H$13233,$L4268,COLUMNS($B$6:B4267)),\"\")","v":"51282317"},"Erythromycin ethyl succinate",null,null,null,"51282317","Erythromycin ethyl succinate","51282317",4262,4262,4262,"51282317"]
[null,{"$f":"IFERROR(INDEX($G$7:$H$13233,$L4273,COLUMNS($B$6:B4272)),\"\")","v":"24101626"},"Escalator or walkways",null,null,null,"24101626","Escalator or walkways","24101626",4267,4267,4267,"24101626"]
[null,{"$f":"IFERROR(INDEX($G$7:$H$13233,$L4278,COLUMNS($B$6:B4277)),\"\")","v":"51263162"},"Esmolol hydrochloride",null,null,null,"51263162","Esmolol hydrochloride","51263162",4272,4272,4272,"51263162"]
[null,{"$f":"IFERROR(INDEX($G$7:$H$13233,$L4285,COLUMNS($B$6:B4284)),\"\")","v":"51351605"},"Estradiol or oestradiol",null,null,null,"51351605","Estradiol or oestradiol","51351605",4279,4279,4279,"51351605"]
[null,{"$f":"IFERROR(INDEX($G$7:$H$13233,$L4290,COLUMNS($B$6:B4289)),\"\")","v":"51351608"},"Estriol",null,null,null,"51351608","Estriol","51351608",4284,4284,4284,"51351608"]
[null,{"$f":"IFERROR(INDEX($G$7:$H$13233,$L4296,COLUMNS($B$6:B4295)),\"\")","v":"51350000"},"Estrogens and progestins and internal contraceptives",null,null,null,"51350000","Estrogens and progestins and internal contraceptives","51350000",4290,4290,4290,"51350000"]
[null,{"$f":"IFERROR(INDEX($G$7:$H$13233,$L4302,COLUMNS($B$6:B4301)),\"\")","v":"51281513"},"Ethambutol hydrochloride",null,null,null,"51281513","Ethambutol hydrochloride","51281513",4296,4296,4296,"51281513"]
[null,{"$f":"IFERROR(INDEX($G$7:$H$13233,$L4307,COLUMNS($B$6:B4306)),\"\")","v":"43233406"},"Ethernet driver software",null,null,null,"43233406","Ethernet driver software","43233406",4301,4301,4301,"43233406"]
[null,{"$f":"IFERROR(INDEX($G$7:$H$13233,$L4308,COLUMNS($B$6:B4307)),\"\")","v":"51352413"},"Ethinyl estradiol/levonorgestrel",null,null,null,"51352413","Ethinyl estradiol/levonorgestrel","51352413",4302,4302,4302,"51352413"]
[null,{"$f":"IFERROR(INDEX($G$7:$H$13233,$L4313,COLUMNS($B$6:B4312)),\"\")","v":"15111504"},"Ethylene",null,null,null,"15111504","Ethylene","15111504",4307,4307,4307,"15111504"]
[null,{"$f":"IFERROR(INDEX($G$7:$H$13233,$L4320,COLUMNS($B$6:B4319)),\"\")","v":"51343704"},"Etravirine",null,null,null,"51343704","Etravirine","51343704",4314,4314,4314,"51343704"]
[null,{"$f":"IFERROR(INDEX($G$7:$H$13233,$L4328,COLUMNS($B$6:B4327)),\"\")","v":"80141607"},"Events management",null,null,null,"80141607","Events management","80141607",4322,4322,4322,"80141607"]
[null,{"$f":"IFERROR(INDEX($G$7:$H$13233,$L4331,COLUMNS($B$6:B4330)),\"\")","v":"42182316"},"Evoked response detectors",null,null,null,"42182316","Evoked response detectors","42182316",4325,4325,4325,"42182316"]
[null,{"$f":"IFERROR(INDEX($G$7:$H$13233,$L4337,COLUMNS($B$6:B4336)),\"\")","v":"43201534"},"Exchange component CODEC interfaces",null,null,null,"43201534","Exchange component CODEC interfaces","43201534",4331,4331,4331,"43201534"]
[null,{"$f":"IFERROR(INDEX($G$7:$H$13233,$L4345,COLUMNS($B$6:B4344)),\"\")","v":"26131600"},"Exhaust structures or screening equipment",null,null,null,"26131600","Exhaust structures or screening equipment","26131600",4339,4339,4339,"26131600"]
[null,{"$f":"IFERROR(INDEX($G$7:$H$13233,$L4348,COLUMNS($B$6:B4347)),\"\")","v":"24111807"},"Expansion tanks",null,null,null,"24111807","Expansion tanks","24111807",4342,4342,4342,"24111807"]
[null,{"$f":"IFERROR(INDEX($G$7:$H$13233,$L4354,COLUMNS($B$6:B4353)),\"\")","v":"41103013"},"Explosion proof refrigerators or refrigerator freezers",null,null,null,"41103013","Explosion proof refrigerators or refrigerator freezers","41103013",4348,4348,4348,"41103013"]
[null,{"$f":"IFERROR(INDEX($G$7:$H$13233,$L4356,COLUMNS($B$6:B4355)),\"\")","v":"12131504"},"Explosive charges",null,null,null,"12131504","Explosive charges","12131504",4350,4350,4350,"12131504"]
[null,{"$f":"IFERROR(INDEX($G$7:$H$13233,$L4366,COLUMNS($B$6:B4365)),\"\")","v":"46171643"},"Explosive Vapour Detector",null,null,null,"46171643","Explosive Vapour Detector","46171643",4360,4360,4360,"46171643"]
[null,{"$f":"IFERROR(INDEX($G$7:$H$13233,$L4371,COLUMNS($B$6:B4370)),\"\")","v":"80151601"},"Export development",null,null,null,"80151601","Export development","80151601",4365,4365,4365,"80151601"]
[null,{"$f":"IFERROR(INDEX($G$7:$H$13233,$L4373,COLUMNS($B$6:B4372)),\"\")","v":"80151603"},"Export projections",null,null,null,"80151603","Export projections","80151603",4367,4367,4367,"80151603"]
[null,{"$f":"IFERROR(INDEX($G$7:$H$13233,$L4378,COLUMNS($B$6:B4377)),\"\")","v":"72152701"},"Exterior concrete stucco service",null,null,null,"72152701","Exterior concrete stucco service","72152701",4372,4372,4372,"72152701"]
[null,{"$f":"IFERROR(INDEX($G$7:$H$13233,$L4388,COLUMNS($B$6:B4387)),\"\")","v":"42144000"},"External hearing device parts and accessories",null,null,null,"42144000","External hearing device parts and accessories","42144000",4382,4382,4382,"42144000"]
[null,{"$f":"IFERROR(INDEX($G$7:$H$13233,$L4389,COLUMNS($B$6:B4388)),\"\")","v":"83112605"},"External international lines",null,null,null,"83112605","External international lines","83112605",4383,4383,4383,"83112605"]
[null,{"$f":"IFERROR(INDEX($G$7:$H$13233,$L4395,COLUMNS($B$6:B4394)),\"\")","v":"41104817"},"Extraction thimbles",null,null,null,"41104817","Extraction thimbles","41104817",4389,4389,4389,"41104817"]
[null,{"$f":"IFERROR(INDEX($G$7:$H$13233,$L4399,COLUMNS($B$6:B4398)),\"\")","v":"31110000"},"Extrusions",null,null,null,"31110000","Extrusions","31110000",4393,4393,4393,"31110000"]
[null,{"$f":"IFERROR(INDEX($G$7:$H$13233,$L4407,COLUMNS($B$6:B4406)),\"\")","v":"51122603"},"Ezetimibe/simvastatin",null,null,null,"51122603","Ezetimibe/simvastatin","51122603",4401,4401,4401,"51122603"]
[null,{"$f":"IFERROR(INDEX($G$7:$H$13233,$L4412,COLUMNS($B$6:B4411)),\"\")","v":"31310000"},"Fabricated pipe assemblies",null,null,null,"31310000","Fabricated pipe assemblies","31310000",4406,4406,4406,"31310000"]
[null,{"$f":"IFERROR(INDEX($G$7:$H$13233,$L4416,COLUMNS($B$6:B4415)),\"\")","v":"31350000"},"Fabricated tube assemblies",null,null,null,"31350000","Fabricated tube assemblies","31350000",4410,4410,4410,"31350000"]
[null,{"$f":"IFERROR(INDEX($G$7:$H$13233,$L4424,COLUMNS($B$6:B4423)),\"\")","v":"46181702"},"Facial shields",null,null,null,"46181702","Facial shields","46181702",4418,4418,4418,"46181702"]
[null,{"$f":"IFERROR(INDEX($G$7:$H$13233,$L4431,COLUMNS($B$6:B4430)),\"\")","v":"41113831"},"Facing sand water measuring instrument",null,null,null,"41113831","Facing sand water measuring instrument","41113831",4425,4425,4425,"41113831"]
[null,{"$f":"IFERROR(INDEX($G$7:$H$13233,$L4436,COLUMNS($B$6:B4435)),\"\")","v":"83111701"},"Facsimile transmission services",null,null,null,"83111701","Facsimile transmission services","83111701",4430,4430,4430,"83111701"]
[null,{"$f":"IFERROR(INDEX($G$7:$H$13233,$L4441,COLUMNS($B$6:B4440)),\"\")","v":"85141500"},"Faith healers",null,null,null,"85141500","Faith healers","85141500",4435,4435,4435,"85141500"]
[null,{"$f":"IFERROR(INDEX($G$7:$H$13233,$L4442,COLUMNS($B$6:B4441)),\"\")","v":"46182300"},"Fall protection and rescue equipment",null,null,null,"46182300","Fall protection and rescue equipment","46182300",4436,4436,4436,"46182300"]
[null,{"$f":"IFERROR(INDEX($G$7:$H$13233,$L4448,COLUMNS($B$6:B4447)),\"\")","v":"43232004"},"Family software",null,null,null,"43232004","Family software","43232004",4442,4442,4442,"43232004"]
[null,{"$f":"IFERROR(INDEX($G$7:$H$13233,$L4453,COLUMNS($B$6:B4452)),\"\")","v":"78131500"},"Farm products warehousing",null,null,null,"78131500","Farm products warehousing","78131500",4447,4447,4447,"78131500"]
[null,{"$f":"IFERROR(INDEX($G$7:$H$13233,$L4459,COLUMNS($B$6:B4458)),\"\")","v":"90101503"},"Fast food establishments",null,null,null,"90101503","Fast food establishments","90101503",4453,4453,4453,"90101503"]
[null,{"$f":"IFERROR(INDEX($G$7:$H$13233,$L4465,COLUMNS($B$6:B4464)),\"\")","v":"30181800"},"Faucet and shower heads, jets and parts and accessories",null,null,null,"30181800","Faucet and shower heads, jets and parts and accessories","30181800",4459,4459,4459,"30181800"]
[null,{"$f":"IFERROR(INDEX($G$7:$H$13233,$L4470,COLUMNS($B$6:B4469)),\"\")","v":"30181700"},"Faucets or taps",null,null,null,"30181700","Faucets or taps","30181700",4464,4464,4464,"30181700"]
[null,{"$f":"IFERROR(INDEX($G$7:$H$13233,$L4474,COLUMNS($B$6:B4473)),\"\")","v":"81161701"},"Fax Administration Service",null,null,null,"81161701","Fax Administration Service","81161701",4468,4468,4468,"81161701"]
[null,{"$f":"IFERROR(INDEX($G$7:$H$13233,$L4482,COLUMNS($B$6:B4481)),\"\")","v":"42143901"},"Fecal incontinence collection bags",null,null,null,"42143901","Fecal incontinence collection bags","42143901",4476,4476,4476,"42143901"]
[null,{"$f":"IFERROR(INDEX($G$7:$H$13233,$L4485,COLUMNS($B$6:B4484)),\"\")","v":"41112704"},"Feed analyzers",null,null,null,"41112704","Feed analyzers","41112704",4479,4479,4479,"41112704"]
[null,{"$f":"IFERROR(INDEX($G$7:$H$13233,$L4494,COLUMNS($B$6:B4493)),\"\")","v":"53131615"},"Feminine hygiene products",null,null,null,"53131615","Feminine hygiene products","53131615",4488,4488,4488,"53131615"]
[null,{"$f":"IFERROR(INDEX($G$7:$H$13233,$L4499,COLUMNS($B$6:B4498)),\"\")","v":"72154069"},"Fencing and railing service",null,null,null,"72154069","Fencing and railing service","72154069",4493,4493,4493,"72154069"]
[null,{"$f":"IFERROR(INDEX($G$7:$H$13233,$L4502,COLUMNS($B$6:B4501)),\"\")","v":"51372305"},"Fentanyl",null,null,null,"51372305","Fentanyl","51372305",4496,4496,4496,"51372305"]
[null,{"$f":"IFERROR(INDEX($G$7:$H$13233,$L4511,COLUMNS($B$6:B4510)),\"\")","v":"70141702"},"Fertilizer services",null,null,null,"70141702","Fertilizer services","70141702",4505,4505,4505,"70141702"]
[null,{"$f":"IFERROR(INDEX($G$7:$H$13233,$L4516,COLUMNS($B$6:B4515)),\"\")","v":"42143123"},"Fetal electroencephalographic monitors",null,null,null,"42143123","Fetal electroencephalographic monitors","42143123",4510,4510,4510,"42143123"]
[null,{"$f":"IFERROR(INDEX($G$7:$H$13233,$L4517,COLUMNS($B$6:B4516)),\"\")","v":"42143129"},"Fetal monitoring transducers",null,null,null,"42143129","Fetal monitoring transducers","42143129",4511,4511,4511,"42143129"]
[null,{"$f":"IFERROR(INDEX($G$7:$H$13233,$L4523,COLUMNS($B$6:B4522)),\"\")","v":"43223311"},"Fiber optic attenuator",null,null,null,"43223311","Fiber optic attenuator","43223311",4517,4517,4517,"43223311"]
[null,{"$f":"IFERROR(INDEX($G$7:$H$13233,$L4528,COLUMNS($B$6:B4527)),\"\")","v":"43223310"},"Fiber optic connector",null,null,null,"43223310","Fiber optic connector","43223310",4522,4522,4522,"43223310"]
[null,{"$f":"IFERROR(INDEX($G$7:$H$13233,$L4534,COLUMNS($B$6:B4533)),\"\")","v":"43223339"},"Fiber optic distribution box",null,null,null,"43223339","Fiber optic distribution box","43223339",4528,4528,4528,"43223339"]
[null,{"$f":"IFERROR(INDEX($G$7:$H$13233,$L4540,COLUMNS($B$6:B4539)),\"\")","v":"43223331"},"Fiber optic insert",null,null,null,"43223331","Fiber optic insert","43223331",4534,4534,4534,"43223331"]
[null,{"$f":"IFERROR(INDEX($G$7:$H$13233,$L4549,COLUMNS($B$6:B4548)),\"\")","v":"43223316"},"Fiber optic scribe",null,null,null,"43223316","Fiber optic scribe","43223316",4543,4543,4543,"43223316"]
[null,{"$f":"IFERROR(INDEX($G$7:$H$13233,$L4552,COLUMNS($B$6:B4551)),\"\")","v":"41113717"},"Fiber optic test sources",null,null,null,"41113717","Fiber optic test sources","41113717",4546,4546,4546,"41113717"]
[null,{"$f":"IFERROR(INDEX($G$7:$H$13233,$L4557,COLUMNS($B$6:B4556)),\"\")","v":"41112103"},"Fiber sensors",null,null,null,"41112103","Fiber sensors","41112103",4551,4551,4551,"41112103"]
[null,{"$f":"IFERROR(INDEX($G$7:$H$13233,$L4560,COLUMNS($B$6:B4559)),\"\")","v":"14121505"},"Fiberboards",null,null,null,"14121505","Fiberboards","14121505",4554,4554,4554,"14121505"]
[null,{"$f":"IFERROR(INDEX($G$7:$H$13233,$L4569,COLUMNS($B$6:B4568)),\"\")","v":"51131828"},"Fibrinogen/Factor XIII+Aprotinin+Thrombin+Calcium chloride",null,null,null,"51131828","Fibrinogen/Factor XIII+Aprotinin+Thrombin+Calcium chloride","51131828",4563,4563,4563,"51131828"]
[null,{"$f":"IFERROR(INDEX($G$7:$H$13233,$L4574,COLUMNS($B$6:B4573)),\"\")","v":"70141903"},"Field crop harvesting services",null,null,null,"70141903","Field crop harvesting services","70141903",4568,4568,4568,"70141903"]
[null,{"$f":"IFERROR(INDEX($G$7:$H$13233,$L4577,COLUMNS($B$6:B4576)),\"\")","v":"49161500"},"Field sports equipment",null,null,null,"49161500","Field sports equipment","49161500",4571,4571,4571,"49161500"]
[null,{"$f":"IFERROR(INDEX($G$7:$H$13233,$L4586,COLUMNS($B$6:B4585)),\"\")","v":"51201802"},"Filgrastim",null,null,null,"51201802","Filgrastim","51201802",4580,4580,4580,"51201802"]
[null,{"$f":"IFERROR(INDEX($G$7:$H$13233,$L4592,COLUMNS($B$6:B4591)),\"\")","v":"45121718"},"Film densitometer",null,null,null,"45121718","Film densitometer","45121718",4586,4586,4586,"45121718"]
[null,{"$f":"IFERROR(INDEX($G$7:$H$13233,$L4593,COLUMNS($B$6:B4592)),\"\")","v":"45141609"},"Film developing machine worktable",null,null,null,"45141609","Film developing machine worktable","45141609",4587,4587,4587,"45141609"]
[null,{"$f":"IFERROR(INDEX($G$7:$H$13233,$L4598,COLUMNS($B$6:B4597)),\"\")","v":"45121713"},"Film inspection machine",null,null,null,"45121713","Film inspection machine","45121713",4592,4592,4592,"45121713"]
[null,{"$f":"IFERROR(INDEX($G$7:$H$13233,$L4603,COLUMNS($B$6:B4602)),\"\")","v":"45111608"},"Film projectors",null,null,null,"45111608","Film projectors","45111608",4597,4597,4597,"45111608"]
[null,{"$f":"IFERROR(INDEX($G$7:$H$13233,$L4610,COLUMNS($B$6:B4609)),\"\")","v":"40161800"},"Filter media",null,null,null,"40161800","Filter media","40161800",4604,4604,4604,"40161800"]
[null,{"$f":"IFERROR(INDEX($G$7:$H$13233,$L4616,COLUMNS($B$6:B4615)),\"\")","v":"72154110"},"Fin fan cooling tower maintenance and repair service",null,null,null,"72154110","Fin fan cooling tower maintenance and repair service","72154110",4610,4610,4610,"72154110"]
[null,{"$f":"IFERROR(INDEX($G$7:$H$13233,$L4620,COLUMNS($B$6:B4619)),\"\")","v":"84000000"},"Financial and Insurance Services",null,null,null,"84000000","Financial and Insurance Services","84000000",4614,4614,4614,"84000000"]
[null,{"$f":"IFERROR(INDEX($G$7:$H$13233,$L4627,COLUMNS($B$6:B4626)),\"\")","v":"46151702"},"Fingerprint applicators or brushes",null,null,null,"46151702","Fingerprint applicators or brushes","46151702",4621,4621,4621,"46151702"]
[null,{"$f":"IFERROR(INDEX($G$7:$H$13233,$L4633,COLUMNS($B$6:B4632)),\"\")","v":"46151709"},"Fingerprint marking pens",null,null,null,"46151709","Fingerprint marking pens","46151709",4627,4627,4627,"46151709"]
[null,{"$f":"IFERROR(INDEX($G$7:$H$13233,$L4637,COLUMNS($B$6:B4636)),\"\")","v":"44103206"},"Fingerprint time attendance and access control machine",null,null,null,"44103206","Fingerprint time attendance and access control machine","44103206",4631,4631,4631,"44103206"]
[null,{"$f":"IFERROR(INDEX($G$7:$H$13233,$L4644,COLUMNS($B$6:B4643)),\"\")","v":"46191505"},"Fire alarm systems",null,null,null,"46191505","Fire alarm systems","46191505",4638,4638,4638,"46191505"]
[null,{"$f":"IFERROR(INDEX($G$7:$H$13233,$L4646,COLUMNS($B$6:B4645)),\"\")","v":"46191607"},"Fire breathing apparatus",null,null,null,"46191607","Fire breathing apparatus","46191607",4640,4640,4640,"46191607"]
[null,{"$f":"IFERROR(INDEX($G$7:$H$13233,$L4656,COLUMNS($B$6:B4655)),\"\")","v":"46191613"},"Fire extinguishing agent",null,null,null,"46191613","Fire extinguishing agent","46191613",4650,4650,4650,"46191613"]
[null,{"$f":"IFERROR(INDEX($G$7:$H$13233,$L4657,COLUMNS($B$6:B4656)),\"\")","v":"25101706"},"Fire fighting chemical truck",null,null,null,"25101706","Fire fighting chemical truck","25101706",4651,4651,4651,"25101706"]
[null,{"$f":"IFERROR(INDEX($G$7:$H$13233,$L4663,COLUMNS($B$6:B4662)),\"\")","v":"25175202"},"Fire Fighting Vehicle Accessories",null,null,null,"25175202","Fire Fighting Vehicle Accessories","25175202",4657,4657,4657,"25175202"]
[null,{"$f":"IFERROR(INDEX($G$7:$H$13233,$L4668,COLUMNS($B$6:B4667)),\"\")","v":"46191617"},"Fire hose washer",null,null,null,"46191617","Fire hose washer","46191617",4662,4662,4662,"46191617"]
[null,{"$f":"IFERROR(INDEX($G$7:$H$13233,$L4674,COLUMNS($B$6:B4673)),\"\")","v":"46191500"},"Fire prevention",null,null,null,"46191500","Fire prevention","46191500",4668,4668,4668,"46191500"]
[null,{"$f":"IFERROR(INDEX($G$7:$H$13233,$L4680,COLUMNS($B$6:B4679)),\"\")","v":"46181508"},"Fire retardant apparel",null,null,null,"46181508","Fire retardant apparel","46181508",4674,4674,4674,"46181508"]
[null,{"$f":"IFERROR(INDEX($G$7:$H$13233,$L4685,COLUMNS($B$6:B4684)),\"\")","v":"46191602"},"Fire sprinkler systems",null,null,null,"46191602","Fire sprinkler systems","46191602",4679,4679,4679,"46191602"]
[null,{"$f":"IFERROR(INDEX($G$7:$H$13233,$L4691,COLUMNS($B$6:B4690)),\"\")","v":"46191619"},"Fire water monitor",null,null,null,"46191619","Fire water monitor","46191619",4685,4685,4685,"46191619"]
[null,{"$f":"IFERROR(INDEX($G$7:$H$13233,$L4697,COLUMNS($B$6:B4696)),\"\")","v":"43222501"},"Firewall network security equipment",null,null,null,"43222501","Firewall network security equipment","43222501",4691,4691,4691,"43222501"]
[null,{"$f":"IFERROR(INDEX($G$7:$H$13233,$L4703,COLUMNS($B$6:B4702)),\"\")","v":"41102605"},"Fish aeration systems",null,null,null,"41102605","Fish aeration systems","41102605",4697,4697,4697,"41102605"]
[null,{"$f":"IFERROR(INDEX($G$7:$H$13233,$L4706,COLUMNS($B$6:B4705)),\"\")","v":"70101803"},"Fish hatcheries",null,null,null,"70101803","Fish hatcheries","70101803",4700,4700,4700,"70101803"]
[null,{"$f":"IFERROR(INDEX($G$7:$H$13233,$L4714,COLUMNS($B$6:B4713)),\"\")","v":"70101600"},"Fisheries oversight",null,null,null,"70101600","Fisheries oversight","70101600",4708,4708,4708,"70101600"]
[null,{"$f":"IFERROR(INDEX($G$7:$H$13233,$L4720,COLUMNS($B$6:B4719)),\"\")","v":"70101700"},"Fishery industry and technology",null,null,null,"70101700","Fishery industry and technology","70101700",4714,4714,4714,"70101700"]
[null,{"$f":"IFERROR(INDEX($G$7:$H$13233,$L4723,COLUMNS($B$6:B4722)),\"\")","v":"25111725"},"Fishery research ship",null,null,null,"25111725","Fishery research ship","25111725",4717,4717,4717,"25111725"]
[null,{"$f":"IFERROR(INDEX($G$7:$H$13233,$L4727,COLUMNS($B$6:B4726)),\"\")","v":"21110000"},"Fishing and aquaculture equipment",null,null,null,"21110000","Fishing and aquaculture equipment","21110000",4721,4721,4721,"21110000"]
[null,{"$f":"IFERROR(INDEX($G$7:$H$13233,$L4732,COLUMNS($B$6:B4731)),\"\")","v":"70101502"},"Fishing port services",null,null,null,"70101502","Fishing port services","70101502",4726,4726,4726,"70101502"]
[null,{"$f":"IFERROR(INDEX($G$7:$H$13233,$L4740,COLUMNS($B$6:B4739)),\"\")","v":"12352500"},"Fixatives",null,null,null,"12352500","Fixatives","12352500",4734,4734,4734,"12352500"]
[null,{"$f":"IFERROR(INDEX($G$7:$H$13233,$L4744,COLUMNS($B$6:B4743)),\"\")","v":"43191504"},"Fixed phones",null,null,null,"43191504","Fixed phones","43191504",4738,4738,4738,"43191504"]
[null,{"$f":"IFERROR(INDEX($G$7:$H$13233,$L4749,COLUMNS($B$6:B4748)),\"\")","v":"55121906"},"Flag stands",null,null,null,"55121906","Flag stands","55121906",4743,4743,4743,"55121906"]
[null,{"$f":"IFERROR(INDEX($G$7:$H$13233,$L4755,COLUMNS($B$6:B4754)),\"\")","v":"41113004"},"Flame ionization analyzers",null,null,null,"41113004","Flame ionization analyzers","41113004",4749,4749,4749,"41113004"]
[null,{"$f":"IFERROR(INDEX($G$7:$H$13233,$L4761,COLUMNS($B$6:B4760)),\"\")","v":"41103017"},"Flammable material storage freezers",null,null,null,"41103017","Flammable material storage freezers","41103017",4755,4755,4755,"41103017"]
[null,{"$f":"IFERROR(INDEX($G$7:$H$13233,$L4766,COLUMNS($B$6:B4765)),\"\")","v":"39111610"},"Flashlight",null,null,null,"39111610","Flashlight","39111610",4760,4760,4760,"39111610"]
[null,{"$f":"IFERROR(INDEX($G$7:$H$13233,$L4773,COLUMNS($B$6:B4772)),\"\")","v":"13111215"},"Flexible polyvinyl chloride film",null,null,null,"13111215","Flexible polyvinyl chloride film","13111215",4767,4767,4767,"13111215"]
[null,{"$f":"IFERROR(INDEX($G$7:$H$13233,$L4778,COLUMNS($B$6:B4777)),\"\")","v":"25201700"},"Flight communications related systems",null,null,null,"25201700","Flight communications related systems","25201700",4772,4772,4772,"25201700"]
[null,{"$f":"IFERROR(INDEX($G$7:$H$13233,$L4783,COLUMNS($B$6:B4782)),\"\")","v":"46171650"},"Flight Inspection Equipment (Airborne and Ground Based)",null,null,null,"46171650","Flight Inspection Equipment (Airborne and Ground Based)","46171650",4777,4777,4777,"46171650"]
[null,{"$f":"IFERROR(INDEX($G$7:$H$13233,$L4790,COLUMNS($B$6:B4789)),\"\")","v":"72121510"},"Floating oil and gas production storage and offloading system construction service",null,null,null,"72121510","Floating oil and gas production storage and offloading system construction service","72121510",4784,4784,4784,"72121510"]
[null,{"$f":"IFERROR(INDEX($G$7:$H$13233,$L4795,COLUMNS($B$6:B4794)),\"\")","v":"70171603"},"Floodplain management",null,null,null,"70171603","Floodplain management","70171603",4789,4789,4789,"70171603"]
[null,{"$f":"IFERROR(INDEX($G$7:$H$13233,$L4798,COLUMNS($B$6:B4797)),\"\")","v":"72101508"},"Floor cleaning services",null,null,null,"72101508","Floor cleaning services","72101508",4792,4792,4792,"72101508"]
[null,{"$f":"IFERROR(INDEX($G$7:$H$13233,$L4802,COLUMNS($B$6:B4801)),\"\")","v":"47121608"},"Floor machine pads",null,null,null,"47121608","Floor machine pads","47121608",4796,4796,4796,"47121608"]
[null,{"$f":"IFERROR(INDEX($G$7:$H$13233,$L4809,COLUMNS($B$6:B4808)),\"\")","v":"43202102"},"Floppy disk cases",null,null,null,"43202102","Floppy disk cases","43202102",4803,4803,4803,"43202102"]
[null,{"$f":"IFERROR(INDEX($G$7:$H$13233,$L4814,COLUMNS($B$6:B4813)),\"\")","v":"10160000"},"Floriculture and silviculture products",null,null,null,"10160000","Floriculture and silviculture products","10160000",4808,4808,4808,"10160000"]
[null,{"$f":"IFERROR(INDEX($G$7:$H$13233,$L4819,COLUMNS($B$6:B4818)),\"\")","v":"41115834"},"Flow cytometer accessories or supplies",null,null,null,"41115834","Flow cytometer accessories or supplies","41115834",4813,4813,4813,"41115834"]
[null,{"$f":"IFERROR(INDEX($G$7:$H$13233,$L4826,COLUMNS($B$6:B4825)),\"\")","v":"42271707"},"Flow sensors or regulators or components",null,null,null,"42271707","Flow sensors or regulators or components","42271707",4820,4820,4820,"42271707"]
[null,{"$f":"IFERROR(INDEX($G$7:$H$13233,$L4831,COLUMNS($B$6:B4830)),\"\")","v":"51303402"},"Fluconazole",null,null,null,"51303402","Fluconazole","51303402",4825,4825,4825,"51303402"]
[null,{"$f":"IFERROR(INDEX($G$7:$H$13233,$L4836,COLUMNS($B$6:B4835)),\"\")","v":"40142200"},"Fluid and gas regulators",null,null,null,"40142200","Fluid and gas regulators","40142200",4830,4830,4830,"40142200"]
[null,{"$f":"IFERROR(INDEX($G$7:$H$13233,$L4841,COLUMNS($B$6:B4840)),\"\")","v":"23201203"},"Fluidbed dryers",null,null,null,"23201203","Fluidbed dryers","23201203",4835,4835,4835,"23201203"]
[null,{"$f":"IFERROR(INDEX($G$7:$H$13233,$L4848,COLUMNS($B$6:B4847)),\"\")","v":"26111726"},"Fluorescent ballast battery unit",null,null,null,"26111726","Fluorescent ballast battery unit","26111726",4842,4842,4842,"26111726"]
[null,{"$f":"IFERROR(INDEX($G$7:$H$13233,$L4853,COLUMNS($B$6:B4852)),\"\")","v":"42201852"},"Fluorescent screens",null,null,null,"42201852","Fluorescent screens","42201852",4847,4847,4847,"42201852"]
[null,{"$f":"IFERROR(INDEX($G$7:$H$13233,$L4858,COLUMNS($B$6:B4857)),\"\")","v":"51292011"},"Fluoxetine",null,null,null,"51292011","Fluoxetine","51292011",4852,4852,4852,"51292011"]
[null,{"$f":"IFERROR(INDEX($G$7:$H$13233,$L4865,COLUMNS($B$6:B4864)),\"\")","v":"51162030"},"Fluticasone/salmeterol",null,null,null,"51162030","Fluticasone/salmeterol","51162030",4859,4859,4859,"51162030"]
[null,{"$f":"IFERROR(INDEX($G$7:$H$13233,$L4869,COLUMNS($B$6:B4868)),\"\")","v":"42311510"},"Foam dressings",null,null,null,"42311510","Foam dressings","42311510",4863,4863,4863,"42311510"]
[null,{"$f":"IFERROR(INDEX($G$7:$H$13233,$L4872,COLUMNS($B$6:B4871)),\"\")","v":"80171502"},"Focus group and public feedback meeting facilitation and analysis",null,null,null,"80171502","Focus group and public feedback meeting facilitation and analysis","80171502",4866,4866,4866,"80171502"]
[null,{"$f":"IFERROR(INDEX($G$7:$H$13233,$L4877,COLUMNS($B$6:B4876)),\"\")","v":"44122030"},"Folder kit",null,null,null,"44122030","Folder kit","44122030",4871,4871,4871,"44122030"]
[null,{"$f":"IFERROR(INDEX($G$7:$H$13233,$L4884,COLUMNS($B$6:B4883)),\"\")","v":"51191918"},"Folic acid",null,null,null,"51191918","Folic acid","51191918",4878,4878,4878,"51191918"]
[null,{"$f":"IFERROR(INDEX($G$7:$H$13233,$L4889,COLUMNS($B$6:B4888)),\"\")","v":"51131615"},"Fondaparinux",null,null,null,"51131615","Fondaparinux","51131615",4883,4883,4883,"51131615"]
[null,{"$f":"IFERROR(INDEX($G$7:$H$13233,$L4894,COLUMNS($B$6:B4893)),\"\")","v":"90101900"},"Food and beverage equipment rental or leasing and maintenance services",null,null,null,"90101900","Food and beverage equipment rental or leasing and maintenance services","90101900",4888,4888,4888,"90101900"]
[null,{"$f":"IFERROR(INDEX($G$7:$H$13233,$L4901,COLUMNS($B$6:B4900)),\"\")","v":"85151502"},"Food contamination control services",null,null,null,"85151502","Food contamination control services","85151502",4895,4895,4895,"85151502"]
[null,{"$f":"IFERROR(INDEX($G$7:$H$13233,$L4906,COLUMNS($B$6:B4905)),\"\")","v":"57050300"},"Food emergency kits",null,null,null,"57050300","Food emergency kits","57050300",4900,4900,4900,"57050300"]
[null,{"$f":"IFERROR(INDEX($G$7:$H$13233,$L4910,COLUMNS($B$6:B4909)),\"\")","v":"85151501"},"Food hygiene control services",null,null,null,"85151501","Food hygiene control services","85151501",4904,4904,4904,"85151501"]
[null,{"$f":"IFERROR(INDEX($G$7:$H$13233,$L4918,COLUMNS($B$6:B4917)),\"\")","v":"77101910"},"Food processing plant site investigation",null,null,null,"77101910","Food processing plant site investigation","77101910",4912,4912,4912,"77101910"]
[null,{"$f":"IFERROR(INDEX($G$7:$H$13233,$L4923,COLUMNS($B$6:B4922)),\"\")","v":"48101909"},"Food service coffee or tea pots",null,null,null,"48101909","Food service coffee or tea pots","48101909",4917,4917,4917,"48101909"]
[null,{"$f":"IFERROR(INDEX($G$7:$H$13233,$L4927,COLUMNS($B$6:B4926)),\"\")","v":"72154017"},"Food service equipment installation service",null,null,null,"72154017","Food service equipment installation service","72154017",4921,4921,4921,"72154017"]
[null,{"$f":"IFERROR(INDEX($G$7:$H$13233,$L4935,COLUMNS($B$6:B4934)),\"\")","v":"48101907"},"Food service pitchers",null,null,null,"48101907","Food service pitchers","48101907",4929,4929,4929,"48101907"]
[null,{"$f":"IFERROR(INDEX($G$7:$H$13233,$L4940,COLUMNS($B$6:B4939)),\"\")","v":"48101918"},"Food service table covering rolls",null,null,null,"48101918","Food service table covering rolls","48101918",4934,4934,4934,"48101918"]
[null,{"$f":"IFERROR(INDEX($G$7:$H$13233,$L4944,COLUMNS($B$6:B4943)),\"\")","v":"85151701"},"Food standards",null,null,null,"85151701","Food standards","85151701",4938,4938,4938,"85151701"]
[null,{"$f":"IFERROR(INDEX($G$7:$H$13233,$L4947,COLUMNS($B$6:B4946)),\"\")","v":"41116119"},"Food test kits reagents or solutions or stains",null,null,null,"41116119","Food test kits reagents or solutions or stains","41116119",4941,4941,4941,"41116119"]
[null,{"$f":"IFERROR(INDEX($G$7:$H$13233,$L4953,COLUMNS($B$6:B4952)),\"\")","v":"49161501"},"Football blocking sleds",null,null,null,"49161501","Football blocking sleds","49161501",4947,4947,4947,"49161501"]
[null,{"$f":"IFERROR(INDEX($G$7:$H$13233,$L4961,COLUMNS($B$6:B4960)),\"\")","v":"42241806"},"Forearm or wrist or thumb orthopedic softgoods",null,null,null,"42241806","Forearm or wrist or thumb orthopedic softgoods","42241806",4955,4955,4955,"42241806"]
[null,{"$f":"IFERROR(INDEX($G$7:$H$13233,$L4964,COLUMNS($B$6:B4963)),\"\")","v":"43232501"},"Foreign language software",null,null,null,"43232501","Foreign language software","43232501",4958,4958,4958,"43232501"]
[null,{"$f":"IFERROR(INDEX($G$7:$H$13233,$L4970,COLUMNS($B$6:B4969)),\"\")","v":"60106301"},"Forensic science kits",null,null,null,"60106301","Forensic science kits","60106301",4964,4964,4964,"60106301"]
[null,{"$f":"IFERROR(INDEX($G$7:$H$13233,$L4976,COLUMNS($B$6:B4975)),\"\")","v":"70151505"},"Forest inventory",null,null,null,"70151505","Forest inventory","70151505",4970,4970,4970,"70151505"]
[null,{"$f":"IFERROR(INDEX($G$7:$H$13233,$L4981,COLUMNS($B$6:B4980)),\"\")","v":"70151901"},"Forest resources development",null,null,null,"70151901","Forest resources development","70151901",4975,4975,4975,"70151901"]
[null,{"$f":"IFERROR(INDEX($G$7:$H$13233,$L4987,COLUMNS($B$6:B4986)),\"\")","v":"70151800"},"Forestry conservation services",null,null,null,"70151800","Forestry conservation services","70151800",4981,4981,4981,"70151800"]
[null,{"$f":"IFERROR(INDEX($G$7:$H$13233,$L4993,COLUMNS($B$6:B4992)),\"\")","v":"70151807"},"Forestry torrent control",null,null,null,"70151807","Forestry torrent control","70151807",4987,4987,4987,"70151807"]
[null,{"$f":"IFERROR(INDEX($G$7:$H$13233,$L4999,COLUMNS($B$6:B4998)),\"\")","v":"24101629"},"Forklift or elevator accessories or supplies",null,null,null,"24101629","Forklift or elevator accessories or supplies","24101629",4993,4993,4993,"24101629"]
[null,{"$f":"IFERROR(INDEX($G$7:$H$13233,$L5004,COLUMNS($B$6:B5003)),\"\")","v":"93171503"},"Formulation of national commodity policies",null,null,null,"93171503","Formulation of national commodity policies","93171503",4998,4998,4998,"93171503"]
[null,{"$f":"IFERROR(INDEX($G$7:$H$13233,$L5010,COLUMNS($B$6:B5009)),\"\")","v":"23161500"},"Foundry machines and equipment",null,null,null,"23161500","Foundry machines and equipment","23161500",5004,5004,5004,"23161500"]
[null,{"$f":"IFERROR(INDEX($G$7:$H$13233,$L5011,COLUMNS($B$6:B5010)),\"\")","v":"23160000"},"Foundry machines and equipment and supplies",null,null,null,"23160000","Foundry machines and equipment and supplies","23160000",5005,5005,5005,"23160000"]
[null,{"$f":"IFERROR(INDEX($G$7:$H$13233,$L5021,COLUMNS($B$6:B5020)),\"\")","v":"41104810"},"Fractionation apparatus",null,null,null,"41104810","Fractionation apparatus","41104810",5015,5015,5015,"41104810"]
[null,{"$f":"IFERROR(INDEX($G$7:$H$13233,$L5023,COLUMNS($B$6:B5022)),\"\")","v":"83111511"},"Frame relay telecommunications service",null,null,null,"83111511","Frame relay telecommunications service","83111511",5017,5017,5017,"83111511"]
[null,{"$f":"IFERROR(INDEX($G$7:$H$13233,$L5030,COLUMNS($B$6:B5029)),\"\")","v":"45111501"},"Free standing lecterns",null,null,null,"45111501","Free standing lecterns","45111501",5024,5024,5024,"45111501"]
[null,{"$f":"IFERROR(INDEX($G$7:$H$13233,$L5034,COLUMNS($B$6:B5033)),\"\")","v":"41104702"},"Freeze dryer glassware",null,null,null,"41104702","Freeze dryer glassware","41104702",5028,5028,5028,"41104702"]
[null,{"$f":"IFERROR(INDEX($G$7:$H$13233,$L5040,COLUMNS($B$6:B5039)),\"\")","v":"41113331"},"Freezing and thawing tester",null,null,null,"41113331","Freezing and thawing tester","41113331",5034,5034,5034,"41113331"]
[null,{"$f":"IFERROR(INDEX($G$7:$H$13233,$L5047,COLUMNS($B$6:B5046)),\"\")","v":"41104114"},"Frepp Sepp collection containers",null,null,null,"41104114","Frepp Sepp collection containers","41104114",5041,5041,5041,"41104114"]
[null,{"$f":"IFERROR(INDEX($G$7:$H$13233,$L5051,COLUMNS($B$6:B5050)),\"\")","v":"41115304"},"Frequency counters or timer or dividers",null,null,null,"41115304","Frequency counters or timer or dividers","41115304",5045,5045,5045,"41115304"]
[null,{"$f":"IFERROR(INDEX($G$7:$H$13233,$L5057,COLUMNS($B$6:B5056)),\"\")","v":"50300000"},"Fresh fruits",null,null,null,"50300000","Fresh fruits","50300000",5051,5051,5051,"50300000"]
[null,{"$f":"IFERROR(INDEX($G$7:$H$13233,$L5064,COLUMNS($B$6:B5063)),\"\")","v":"22101501"},"Front end loaders",null,null,null,"22101501","Front end loaders","22101501",5058,5058,5058,"22101501"]
[null,{"$f":"IFERROR(INDEX($G$7:$H$13233,$L5069,COLUMNS($B$6:B5068)),\"\")","v":"50441501"},"Frozen brittany artichokes",null,null,null,"50441501","Frozen brittany artichokes","50441501",5063,5063,5063,"50441501"]
[null,{"$f":"IFERROR(INDEX($G$7:$H$13233,$L5073,COLUMNS($B$6:B5072)),\"\")","v":"50451501"},"Frozen organic brittany artichokes",null,null,null,"50451501","Frozen organic brittany artichokes","50451501",5067,5067,5067,"50451501"]
[null,{"$f":"IFERROR(INDEX($G$7:$H$13233,$L5080,COLUMNS($B$6:B5079)),\"\")","v":"50201715"},"Fruit tea",null,null,null,"50201715","Fruit tea","50201715",5074,5074,5074,"50201715"]
[null,{"$f":"IFERROR(INDEX($G$7:$H$13233,$L5081,COLUMNS($B$6:B5080)),\"\")","v":"10152001"},"Fruit tree seeds or cuttings",null,null,null,"10152001","Fruit tree seeds or cuttings","10152001",5075,5075,5075,"10152001"]
[null,{"$f":"IFERROR(INDEX($G$7:$H$13233,$L5090,COLUMNS($B$6:B5089)),\"\")","v":"15101700"},"Fuel Oils",null,null,null,"15101700","Fuel Oils","15101700",5084,5084,5084,"15101700"]
[null,{"$f":"IFERROR(INDEX($G$7:$H$13233,$L5093,COLUMNS($B$6:B5092)),\"\")","v":"25172406"},"Fuel tanks",null,null,null,"25172406","Fuel tanks","25172406",5087,5087,5087,"25172406"]
[null,{"$f":"IFERROR(INDEX($G$7:$H$13233,$L5098,COLUMNS($B$6:B5097)),\"\")","v":"15000000"},"Fuels and Fuel Additives and Lubricants and Anti corrosive Materials",null,null,null,"15000000","Fuels and Fuel Additives and Lubricants and Anti corrosive Materials","15000000",5092,5092,5092,"15000000"]
[null,{"$f":"IFERROR(INDEX($G$7:$H$13233,$L5107,COLUMNS($B$6:B5106)),\"\")","v":"41113650"},"Functional tester",null,null,null,"41113650","Functional tester","41113650",5101,{"$f":"IF(ISNUMBER(SEARCH($H$4,H5107)),J5107,\"\")","v":5101},{"$f":"IFERROR(SMALL($K$7:$K$13233,J5107),\"\")","v":5101},"41113650"]
[null,{"$f":"IFERROR(INDEX($G$7:$H$13233,$L5110,COLUMNS($B$6:B5109)),\"\")","v":"84121600"},"Funds transfer and clearance and exchange services",null,null,null,"84121600","Funds transfer and clearance and exchange services","84121600",5104,5104,5104,"84121600"]
[null,{"$f":"IFERROR(INDEX($G$7:$H$13233,$L5115,COLUMNS($B$6:B5114)),\"\")","v":"10171702"},"Fungicides",null,null,null,"10171702","Fungicides","10171702",5109,5109,5109,"10171702"]
[null,{"$f":"IFERROR(INDEX($G$7:$H$13233,$L5118,COLUMNS($B$6:B5117)),\"\")","v":"40101805"},"Furnaces",null,null,null,"40101805","Furnaces","40101805",5112,5112,5112,"40101805"]
[null,{"$f":"IFERROR(INDEX($G$7:$H$13233,$L5127,COLUMNS($B$6:B5126)),\"\")","v":"44103005"},"Fuser lamps or assemblies",null,null,null,"44103005","Fuser lamps or assemblies","44103005",5121,5121,5121,"44103005"]
[null,{"$f":"IFERROR(INDEX($G$7:$H$13233,$L5133,COLUMNS($B$6:B5132)),\"\")","v":"51362601"},"Gabapentin",null,null,null,"51362601","Gabapentin","51362601",5127,5127,5127,"51362601"]
[null,{"$f":"IFERROR(INDEX($G$7:$H$13233,$L5139,COLUMNS($B$6:B5138)),\"\")","v":"42251701"},"Gait belts for rehabilitation or therapy",null,null,null,"42251701","Gait belts for rehabilitation or therapy","42251701",5133,5133,5133,"42251701"]
[null,{"$f":"IFERROR(INDEX($G$7:$H$13233,$L5144,COLUMNS($B$6:B5143)),\"\")","v":"42141804"},"Galvanic or faradic stimulators",null,null,null,"42141804","Galvanic or faradic stimulators","42141804",5138,5138,5138,"42141804"]
[null,{"$f":"IFERROR(INDEX($G$7:$H$13233,$L5150,COLUMNS($B$6:B5149)),\"\")","v":"51201806"},"Gamma IGG or immunoglobulin",null,null,null,"51201806","Gamma IGG or immunoglobulin","51201806",5144,5144,5144,"51201806"]
[null,{"$f":"IFERROR(INDEX($G$7:$H$13233,$L5151,COLUMNS($B$6:B5150)),\"\")","v":"42202200"},"Gamma radiation therapy products",null,null,null,"42202200","Gamma radiation therapy products","42202200",5145,5145,5145,"42202200"]
[null,{"$f":"IFERROR(INDEX($G$7:$H$13233,$L5156,COLUMNS($B$6:B5155)),\"\")","v":"95141604"},"Garage",null,null,null,"95141604","Garage","95141604",5150,5150,5150,"95141604"]
[null,{"$f":"IFERROR(INDEX($G$7:$H$13233,$L5161,COLUMNS($B$6:B5160)),\"\")","v":"70111703"},"Garden planting or maintenance services",null,null,null,"70111703","Garden planting or maintenance services","70111703",5155,5155,5155,"70111703"]
[null,{"$f":"IFERROR(INDEX($G$7:$H$13233,$L5168,COLUMNS($B$6:B5167)),\"\")","v":"42192421"},"Gas casualty treatment set cases",null,null,null,"42192421","Gas casualty treatment set cases","42192421",5162,5162,5162,"42192421"]
[null,{"$f":"IFERROR(INDEX($G$7:$H$13233,$L5173,COLUMNS($B$6:B5172)),\"\")","v":"83101605"},"Gas facility charge",null,null,null,"83101605","Gas facility charge","83101605",5167,5167,5167,"83101605"]
[null,{"$f":"IFERROR(INDEX($G$7:$H$13233,$L5182,COLUMNS($B$6:B5181)),\"\")","v":"83101604"},"Gas pipeline services",null,null,null,"83101604","Gas pipeline services","83101604",5176,5176,5176,"83101604"]
[null,{"$f":"IFERROR(INDEX($G$7:$H$13233,$L5185,COLUMNS($B$6:B5184)),\"\")","v":"15111500"},"Gaseous fuels",null,null,null,"15111500","Gaseous fuels","15111500",5179,5179,5179,"15111500"]
[null,{"$f":"IFERROR(INDEX($G$7:$H$13233,$L5193,COLUMNS($B$6:B5192)),\"\")","v":"42231703"},"Gastric decompression tubes",null,null,null,"42231703","Gastric decompression tubes","42231703",5187,5187,5187,"42231703"]
[null,{"$f":"IFERROR(INDEX($G$7:$H$13233,$L5197,COLUMNS($B$6:B5196)),\"\")","v":"77101903"},"Gasworks site investigation",null,null,null,"77101903","Gasworks site investigation","77101903",5191,5191,5191,"77101903"]
[null,{"$f":"IFERROR(INDEX($G$7:$H$13233,$L5202,COLUMNS($B$6:B5201)),\"\")","v":"42311512"},"Gauze sponges",null,null,null,"42311512","Gauze sponges","42311512",5196,5196,5196,"42311512"]
[null,{"$f":"IFERROR(INDEX($G$7:$H$13233,$L5208,COLUMNS($B$6:B5207)),\"\")","v":"72154104"},"Gearbox maintenance and repair service",null,null,null,"72154104","Gearbox maintenance and repair service","72154104",5202,5202,5202,"72154104"]
[null,{"$f":"IFERROR(INDEX($G$7:$H$13233,$L5214,COLUMNS($B$6:B5213)),\"\")","v":"42311513"},"Gel dressings",null,null,null,"42311513","Gel dressings","42311513",5208,5208,5208,"42311513"]
[null,{"$f":"IFERROR(INDEX($G$7:$H$13233,$L5219,COLUMNS($B$6:B5218)),\"\")","v":"51111617"},"Gemcitabine",null,null,null,"51111617","Gemcitabine","51111617",5213,5213,5213,"51111617"]
[null,{"$f":"IFERROR(INDEX($G$7:$H$13233,$L5225,COLUMNS($B$6:B5224)),\"\")","v":"76111500"},"General building and office cleaning and maintenance services",null,null,null,"76111500","General building and office cleaning and maintenance services","76111500",5219,5219,5219,"76111500"]
[null,{"$f":"IFERROR(INDEX($G$7:$H$13233,$L5226,COLUMNS($B$6:B5225)),\"\")","v":"56121500"},"General classroom furnishings",null,null,null,"56121500","General classroom furnishings","56121500",5220,5220,5220,"56121500"]
[null,{"$f":"IFERROR(INDEX($G$7:$H$13233,$L5231,COLUMNS($B$6:B5230)),\"\")","v":"42222011"},"General hospital analytical sampling infusion pumps",null,null,null,"42222011","General hospital analytical sampling infusion pumps","42222011",5225,5225,5225,"42222011"]
[null,{"$f":"IFERROR(INDEX($G$7:$H$13233,$L5236,COLUMNS($B$6:B5235)),\"\")","v":"72154066"},"General office equipment maintenance ",null,null,null,"72154066","General office equipment maintenance ","72154066",5230,5230,5230,"72154066"]
[null,{"$f":"IFERROR(INDEX($G$7:$H$13233,$L5243,COLUMNS($B$6:B5242)),\"\")","v":"27113201"},"General tool kits",null,null,null,"27113201","General tool kits","27113201",5237,5237,5237,"27113201"]
[null,{"$f":"IFERROR(INDEX($G$7:$H$13233,$L5251,COLUMNS($B$6:B5250)),\"\")","v":"51281607"},"Gentamicin",null,null,null,"51281607","Gentamicin","51281607",5245,5245,5245,"51281607"]
[null,{"$f":"IFERROR(INDEX($G$7:$H$13233,$L5255,COLUMNS($B$6:B5254)),\"\")","v":"41113801"},"Geological compasses",null,null,null,"41113801","Geological compasses","41113801",5249,5249,5249,"41113801"]
[null,{"$f":"IFERROR(INDEX($G$7:$H$13233,$L5260,COLUMNS($B$6:B5259)),\"\")","v":"60104400"},"Geology and earth science",null,null,null,"60104400","Geology and earth science","60104400",5254,5254,5254,"60104400"]
[null,{"$f":"IFERROR(INDEX($G$7:$H$13233,$L5268,COLUMNS($B$6:B5267)),\"\")","v":"30121702"},"Geotextile",null,null,null,"30121702","Geotextile","30121702",5262,5262,5262,"30121702"]
[null,{"$f":"IFERROR(INDEX($G$7:$H$13233,$L5272,COLUMNS($B$6:B5271)),\"\")","v":"41113641"},"GFI circuit testers",null,null,null,"41113641","GFI circuit testers","41113641",5266,5266,5266,"41113641"]
[null,{"$f":"IFERROR(INDEX($G$7:$H$13233,$L5277,COLUMNS($B$6:B5276)),\"\")","v":"30241508"},"Gin pole and accessories",null,null,null,"30241508","Gin pole and accessories","30241508",5271,5271,5271,"30241508"]
[null,{"$f":"IFERROR(INDEX($G$7:$H$13233,$L5279,COLUMNS($B$6:B5278)),\"\")","v":"53111504"},"Girls boots",null,null,null,"53111504","Girls boots","53111504",5273,5273,5273,"53111504"]
[null,{"$f":"IFERROR(INDEX($G$7:$H$13233,$L5289,COLUMNS($B$6:B5288)),\"\")","v":"47131824"},"Glass or window cleaners",null,null,null,"47131824","Glass or window cleaners","47131824",5283,5283,5283,"47131824"]
[null,{"$f":"IFERROR(INDEX($G$7:$H$13233,$L5294,COLUMNS($B$6:B5293)),\"\")","v":"51201901"},"Glatiramer acetate",null,null,null,"51201901","Glatiramer acetate","51201901",5288,5288,5288,"51201901"]
[null,{"$f":"IFERROR(INDEX($G$7:$H$13233,$L5296,COLUMNS($B$6:B5295)),\"\")","v":"72153207"},"Glazing of concrete surfaces service",null,null,null,"72153207","Glazing of concrete surfaces service","72153207",5290,5290,5290,"72153207"]
[null,{"$f":"IFERROR(INDEX($G$7:$H$13233,$L5301,COLUMNS($B$6:B5300)),\"\")","v":"25173113"},"Global navigation satellite system (GNSS) Wide Area Augmentation System (WAAS) ",null,null,null,"25173113","Global navigation satellite system (GNSS) Wide Area Augmentation System (WAAS) ","25173113",5295,5295,5295,"25173113"]
[null,{"$f":"IFERROR(INDEX($G$7:$H$13233,$L5311,COLUMNS($B$6:B5310)),\"\")","v":"41116215"},"Glucose test monitor or meter accessories",null,null,null,"41116215","Glucose test monitor or meter accessories","41116215",5305,5305,5305,"41116215"]
[null,{"$f":"IFERROR(INDEX($G$7:$H$13233,$L5313,COLUMNS($B$6:B5312)),\"\")","v":"82121903"},"Glued binding",null,null,null,"82121903","Glued binding","82121903",5307,5307,5307,"82121903"]
[null,{"$f":"IFERROR(INDEX($G$7:$H$13233,$L5319,COLUMNS($B$6:B5318)),\"\")","v":"41116214"},"Glycosolated hemoglobin HBA1C test meter accessories",null,null,null,"41116214","Glycosolated hemoglobin HBA1C test meter accessories","41116214",5313,5313,5313,"41116214"]
[null,{"$f":"IFERROR(INDEX($G$7:$H$13233,$L5322,COLUMNS($B$6:B5321)),\"\")","v":"10101508"},"Goats",null,null,null,"10101508","Goats","10101508",5316,5316,5316,"10101508"]
[null,{"$f":"IFERROR(INDEX($G$7:$H$13233,$L5330,COLUMNS($B$6:B5329)),\"\")","v":"42182701"},"Goniometers or arthrometers",null,null,null,"42182701","Goniometers or arthrometers","42182701",5324,5324,5324,"42182701"]
[null,{"$f":"IFERROR(INDEX($G$7:$H$13233,$L5336,COLUMNS($B$6:B5335)),\"\")","v":"80121601"},"Government antitrust or regulations law services",null,null,null,"80121601","Government antitrust or regulations law services","80121601",5330,5330,5330,"80121601"]
[null,{"$f":"IFERROR(INDEX($G$7:$H$13233,$L5339,COLUMNS($B$6:B5338)),\"\")","v":"93151602"},"Government budgeting services",null,null,null,"93151602","Government budgeting services","93151602",5333,5333,5333,"93151602"]
[null,{"$f":"IFERROR(INDEX($G$7:$H$13233,$L5347,COLUMNS($B$6:B5346)),\"\")","v":"95101800"},"Governmental land parcels",null,null,null,"95101800","Governmental land parcels","95101800",5341,5341,5341,"95101800"]
[null,{"$f":"IFERROR(INDEX($G$7:$H$13233,$L5354,COLUMNS($B$6:B5353)),\"\")","v":"72154068"},"Graffiti removal and treatment service",null,null,null,"72154068","Graffiti removal and treatment service","72154068",5348,5348,5348,"72154068"]
[null,{"$f":"IFERROR(INDEX($G$7:$H$13233,$L5359,COLUMNS($B$6:B5358)),\"\")","v":"70141512"},"Grain or legume production",null,null,null,"70141512","Grain or legume production","70141512",5353,5353,5353,"70141512"]
[null,{"$f":"IFERROR(INDEX($G$7:$H$13233,$L5360,COLUMNS($B$6:B5359)),\"\")","v":"73131900"},"Grains and sugar and oils and fat processing",null,null,null,"73131900","Grains and sugar and oils and fat processing","73131900",5354,5354,5354,"73131900"]
[null,{"$f":"IFERROR(INDEX($G$7:$H$13233,$L5365,COLUMNS($B$6:B5364)),\"\")","v":"95131500"},"Grandstands and bleachers",null,null,null,"95131500","Grandstands and bleachers","95131500",5359,5359,5359,"95131500"]
[null,{"$f":"IFERROR(INDEX($G$7:$H$13233,$L5371,COLUMNS($B$6:B5370)),\"\")","v":"41111908"},"Graphic recorders",null,null,null,"41111908","Graphic recorders","41111908",5365,5365,5365,"41111908"]
[null,{"$f":"IFERROR(INDEX($G$7:$H$13233,$L5377,COLUMNS($B$6:B5376)),\"\")","v":"11162104"},"Graphite fabric or cloth",null,null,null,"11162104","Graphite fabric or cloth","11162104",5371,5371,5371,"11162104"]
[null,{"$f":"IFERROR(INDEX($G$7:$H$13233,$L5382,COLUMNS($B$6:B5381)),\"\")","v":"72154051"},"Grave relocation service",null,null,null,"72154051","Grave relocation service","72154051",5376,5376,5376,"72154051"]
[null,{"$f":"IFERROR(INDEX($G$7:$H$13233,$L5389,COLUMNS($B$6:B5388)),\"\")","v":"30265402"},"Gray iron hot rolled sheet",null,null,null,"30265402","Gray iron hot rolled sheet","30265402",5383,5383,5383,"30265402"]
[null,{"$f":"IFERROR(INDEX($G$7:$H$13233,$L5394,COLUMNS($B$6:B5393)),\"\")","v":"72121202"},"Greenhouse construction service",null,null,null,"72121202","Greenhouse construction service","72121202",5388,5388,5388,"72121202"]
[null,{"$f":"IFERROR(INDEX($G$7:$H$13233,$L5399,COLUMNS($B$6:B5398)),\"\")","v":"23131500"},"Grinding and sanding and polishing equipment and supplies",null,null,null,"23131500","Grinding and sanding and polishing equipment and supplies","23131500",5393,5393,5393,"23131500"]
[null,{"$f":"IFERROR(INDEX($G$7:$H$13233,$L5406,COLUMNS($B$6:B5405)),\"\")","v":"70171506"},"Ground or surface water modeling services",null,null,null,"70171506","Ground or surface water modeling services","70171506",5400,5400,5400,"70171506"]
[null,{"$f":"IFERROR(INDEX($G$7:$H$13233,$L5408,COLUMNS($B$6:B5407)),\"\")","v":"41113809"},"Ground penetrating radar",null,null,null,"41113809","Ground penetrating radar","41113809",5402,5402,5402,"41113809"]
[null,{"$f":"IFERROR(INDEX($G$7:$H$13233,$L5417,COLUMNS($B$6:B5416)),\"\")","v":"77121707"},"Groundwater pollution monitoring or control services",null,null,null,"77121707","Groundwater pollution monitoring or control services","77121707",5411,5411,5411,"77121707"]
[null,{"$f":"IFERROR(INDEX($G$7:$H$13233,$L5423,COLUMNS($B$6:B5422)),\"\")","v":"51162713"},"Guaiacol",null,null,null,"51162713","Guaiacol","51162713",5417,5417,5417,"51162713"]
[null,{"$f":"IFERROR(INDEX($G$7:$H$13233,$L5425,COLUMNS($B$6:B5424)),\"\")","v":"92121503"},"Guard dog rental",null,null,null,"92121503","Guard dog rental","92121503",5419,5419,5419,"92121503"]
[null,{"$f":"IFERROR(INDEX($G$7:$H$13233,$L5430,COLUMNS($B$6:B5429)),\"\")","v":"30121717"},"Guardrail",null,null,null,"30121717","Guardrail","30121717",5424,5424,5424,"30121717"]
[null,{"$f":"IFERROR(INDEX($G$7:$H$13233,$L5435,COLUMNS($B$6:B5434)),\"\")","v":"51201703"},"Gumboro vaccines",null,null,null,"51201703","Gumboro vaccines","51201703",5429,5429,5429,"51201703"]
[null,{"$f":"IFERROR(INDEX($G$7:$H$13233,$L5442,COLUMNS($B$6:B5441)),\"\")","v":"49171500"},"Gymnastics equipment",null,null,null,"49171500","Gymnastics equipment","49171500",5436,5436,5436,"49171500"]
[null,{"$f":"IFERROR(INDEX($G$7:$H$13233,$L5447,COLUMNS($B$6:B5446)),\"\")","v":"30111701"},"Gypsum plaster",null,null,null,"30111701","Gypsum plaster","30111701",5441,5441,5441,"30111701"]
[null,{"$f":"IFERROR(INDEX($G$7:$H$13233,$L5451,COLUMNS($B$6:B5450)),\"\")","v":"51201633"},"Haemophilus influenzae b with diptheria and tetanus and acellular pertussis",null,null,null,"51201633","Haemophilus influenzae b with diptheria and tetanus and acellular pertussis","51201633",5445,5445,5445,"51201633"]
[null,{"$f":"IFERROR(INDEX($G$7:$H$13233,$L5458,COLUMNS($B$6:B5457)),\"\")","v":"41113311"},"Halide detector lamp",null,null,null,"41113311","Halide detector lamp","41113311",5452,5452,5452,"41113311"]
[null,{"$f":"IFERROR(INDEX($G$7:$H$13233,$L5464,COLUMNS($B$6:B5463)),\"\")","v":"45121515"},"Hand held camcorders or video cameras",null,null,null,"45121515","Hand held camcorders or video cameras","45121515",5458,5458,5458,"45121515"]
[null,{"$f":"IFERROR(INDEX($G$7:$H$13233,$L5468,COLUMNS($B$6:B5467)),\"\")","v":"42241807"},"Hand or finger orthopedic softgoods",null,null,null,"42241807","Hand or finger orthopedic softgoods","42241807",5462,5462,5462,"42241807"]
[null,{"$f":"IFERROR(INDEX($G$7:$H$13233,$L5476,COLUMNS($B$6:B5475)),\"\")","v":"86101712"},"Handcrafts vocational training services",null,null,null,"86101712","Handcrafts vocational training services","86101712",5470,5470,5470,"86101712"]
[null,{"$f":"IFERROR(INDEX($G$7:$H$13233,$L5481,COLUMNS($B$6:B5480)),\"\")","v":"41112213"},"Handheld thermometer",null,null,null,"41112213","Handheld thermometer","41112213",5475,5475,5475,"41112213"]
[null,{"$f":"IFERROR(INDEX($G$7:$H$13233,$L5485,COLUMNS($B$6:B5484)),\"\")","v":"44122017"},"Hanging folders or accessories",null,null,null,"44122017","Hanging folders or accessories","44122017",5479,5479,5479,"44122017"]
[null,{"$f":"IFERROR(INDEX($G$7:$H$13233,$L5493,COLUMNS($B$6:B5492)),\"\")","v":"43201414"},"Hard disk protector",null,null,null,"43201414","Hard disk protector","43201414",5487,5487,5487,"43201414"]
[null,{"$f":"IFERROR(INDEX($G$7:$H$13233,$L5498,COLUMNS($B$6:B5497)),\"\")","v":"31160000"},"Hardware",null,null,null,"31160000","Hardware","31160000",5492,5492,5492,"31160000"]
[null,{"$f":"IFERROR(INDEX($G$7:$H$13233,$L5500,COLUMNS($B$6:B5499)),\"\")","v":"43201552"},"Hardware or telephony adapters",null,null,null,"43201552","Hardware or telephony adapters","43201552",5494,5494,5494,"43201552"]
[null,{"$f":"IFERROR(INDEX($G$7:$H$13233,$L5505,COLUMNS($B$6:B5504)),\"\")","v":"21101502"},"Harrows",null,null,null,"21101502","Harrows","21101502",5499,5499,5499,"21101502"]
[null,{"$f":"IFERROR(INDEX($G$7:$H$13233,$L5511,COLUMNS($B$6:B5510)),\"\")","v":"46181602"},"Hazardous material protective footwear",null,null,null,"46181602","Hazardous material protective footwear","46181602",5505,5505,5505,"46181602"]
[null,{"$f":"IFERROR(INDEX($G$7:$H$13233,$L5517,COLUMNS($B$6:B5516)),\"\")","v":"41115330"},"Haze meter",null,null,null,"41115330","Haze meter","41115330",5511,5511,5511,"41115330"]
[null,{"$f":"IFERROR(INDEX($G$7:$H$13233,$L5522,COLUMNS($B$6:B5521)),\"\")","v":"42211704"},"Headpointers or mouthsticks for the physically challenged",null,null,null,"42211704","Headpointers or mouthsticks for the physically challenged","42211704",5516,5516,5516,"42211704"]
[null,{"$f":"IFERROR(INDEX($G$7:$H$13233,$L5528,COLUMNS($B$6:B5527)),\"\")","v":"57333100"},"Health emergency kits",null,null,null,"57333100","Health emergency kits","57333100",5522,5522,5522,"57333100"]
[null,{"$f":"IFERROR(INDEX($G$7:$H$13233,$L5534,COLUMNS($B$6:B5533)),\"\")","v":"93131700"},"Health programs",null,null,null,"93131700","Health programs","93131700",5528,5528,5528,"93131700"]
[null,{"$f":"IFERROR(INDEX($G$7:$H$13233,$L5539,COLUMNS($B$6:B5538)),\"\")","v":"80121611"},"Healthcare claim law services",null,null,null,"80121611","Healthcare claim law services","80121611",5533,5533,5533,"80121611"]
[null,{"$f":"IFERROR(INDEX($G$7:$H$13233,$L5543,COLUMNS($B$6:B5542)),\"\")","v":"42211705"},"Hearing aids for the physically challenged",null,null,null,"42211705","Hearing aids for the physically challenged","42211705",5537,5537,5537,"42211705"]
[null,{"$f":"IFERROR(INDEX($G$7:$H$13233,$L5551,COLUMNS($B$6:B5550)),\"\")","v":"40101802"},"Heat exchangers",null,null,null,"40101802","Heat exchangers","40101802",5545,5545,5545,"40101802"]
[null,{"$f":"IFERROR(INDEX($G$7:$H$13233,$L5556,COLUMNS($B$6:B5555)),\"\")","v":"41113607"},"Heat stress monitors",null,null,null,"41113607","Heat stress monitors","41113607",5550,5550,5550,"41113607"]
[null,{"$f":"IFERROR(INDEX($G$7:$H$13233,$L5560,COLUMNS($B$6:B5559)),\"\")","v":"41103409"},"Heated reach in environmental or growth chambers",null,null,null,"41103409","Heated reach in environmental or growth chambers","41103409",5554,5554,5554,"41103409"]
[null,{"$f":"IFERROR(INDEX($G$7:$H$13233,$L5568,COLUMNS($B$6:B5567)),\"\")","v":"41111974"},"Heating sensor tester",null,null,null,"41111974","Heating sensor tester","41111974",5562,5562,5562,"41111974"]
[null,{"$f":"IFERROR(INDEX($G$7:$H$13233,$L5569,COLUMNS($B$6:B5568)),\"\")","v":"40101808"},"Heating stoves",null,null,null,"40101808","Heating stoves","40101808",5563,5563,5563,"40101808"]
[null,{"$f":"IFERROR(INDEX($G$7:$H$13233,$L5575,COLUMNS($B$6:B5574)),\"\")","v":"72154501"},"Heavy equipment maintenance and repair service",null,null,null,"72154501","Heavy equipment maintenance and repair service","72154501",5569,5569,5569,"72154501"]
[null,{"$f":"IFERROR(INDEX($G$7:$H$13233,$L5580,COLUMNS($B$6:B5579)),\"\")","v":"27112035"},"Hedge trimmer",null,null,null,"27112035","Hedge trimmer","27112035",5574,5574,5574,"27112035"]
[null,{"$f":"IFERROR(INDEX($G$7:$H$13233,$L5586,COLUMNS($B$6:B5585)),\"\")","v":"45101501"},"Heliographic printers",null,null,null,"45101501","Heliographic printers","45101501",5580,5580,5580,"45101501"]
[null,{"$f":"IFERROR(INDEX($G$7:$H$13233,$L5592,COLUMNS($B$6:B5591)),\"\")","v":"41116008"},"Hematology analyzer reagents",null,null,null,"41116008","Hematology analyzer reagents","41116008",5586,5586,5586,"41116008"]
[null,{"$f":"IFERROR(INDEX($G$7:$H$13233,$L5597,COLUMNS($B$6:B5596)),\"\")","v":"41105202"},"Hematology slide stainers",null,null,null,"41105202","Hematology slide stainers","41105202",5591,5591,5591,"41105202"]
[null,{"$f":"IFERROR(INDEX($G$7:$H$13233,$L5603,COLUMNS($B$6:B5602)),\"\")","v":"42161633"},"Hemodialysis apparatus dialyzer membranes",null,null,null,"42161633","Hemodialysis apparatus dialyzer membranes","42161633",5597,5597,5597,"42161633"]
[null,{"$f":"IFERROR(INDEX($G$7:$H$13233,$L5609,COLUMNS($B$6:B5608)),\"\")","v":"42161606"},"Hemodialysis dialysate level detectors",null,null,null,"42161606","Hemodialysis dialysate level detectors","42161606",5603,5603,5603,"42161606"]
[null,{"$f":"IFERROR(INDEX($G$7:$H$13233,$L5612,COLUMNS($B$6:B5611)),\"\")","v":"42161609"},"Hemodialysis dialysate tanks",null,null,null,"42161609","Hemodialysis dialysate tanks","42161609",5606,5606,5606,"42161609"]
[null,{"$f":"IFERROR(INDEX($G$7:$H$13233,$L5621,COLUMNS($B$6:B5620)),\"\")","v":"42161617"},"Hemodialysis unit arterial pressure monitors",null,null,null,"42161617","Hemodialysis unit arterial pressure monitors","42161617",5615,5615,5615,"42161617"]
[null,{"$f":"IFERROR(INDEX($G$7:$H$13233,$L5626,COLUMNS($B$6:B5625)),\"\")","v":"42161622"},"Hemodialysis unit disinfectants or cleansers",null,null,null,"42161622","Hemodialysis unit disinfectants or cleansers","42161622",5620,5620,5620,"42161622"]
[null,{"$f":"IFERROR(INDEX($G$7:$H$13233,$L5629,COLUMNS($B$6:B5628)),\"\")","v":"42161625"},"Hemodialysis unit single pass converters",null,null,null,"42161625","Hemodialysis unit single pass converters","42161625",5623,5623,5623,"42161625"]
[null,{"$f":"IFERROR(INDEX($G$7:$H$13233,$L5638,COLUMNS($B$6:B5637)),\"\")","v":"42161702"},"Hemofiltrate collection bags",null,null,null,"42161702","Hemofiltrate collection bags","42161702",5632,5632,5632,"42161702"]
[null,{"$f":"IFERROR(INDEX($G$7:$H$13233,$L5643,COLUMNS($B$6:B5642)),\"\")","v":"42181514"},"Hemoglobin photometers",null,null,null,"42181514","Hemoglobin photometers","42181514",5637,5637,5637,"42181514"]
[null,{"$f":"IFERROR(INDEX($G$7:$H$13233,$L5646,COLUMNS($B$6:B5645)),\"\")","v":"42311600"},"Hemostatic agents",null,null,null,"42311600","Hemostatic agents","42311600",5640,5640,5640,"42311600"]
[null,{"$f":"IFERROR(INDEX($G$7:$H$13233,$L5650,COLUMNS($B$6:B5649)),\"\")","v":"51201607"},"Hepatitis B virus vaccine",null,null,null,"51201607","Hepatitis B virus vaccine","51201607",5644,5644,5644,"51201607"]
[null,{"$f":"IFERROR(INDEX($G$7:$H$13233,$L5656,COLUMNS($B$6:B5655)),\"\")","v":"50171500"},"Herbs and spices and extracts",null,null,null,"50171500","Herbs and spices and extracts","50171500",5650,5650,5650,"50171500"]
[null,{"$f":"IFERROR(INDEX($G$7:$H$13233,$L5663,COLUMNS($B$6:B5662)),\"\")","v":"14121903"},"High brightness newsprint",null,null,null,"14121903","High brightness newsprint","14121903",5657,5657,5657,"14121903"]
[null,{"$f":"IFERROR(INDEX($G$7:$H$13233,$L5667,COLUMNS($B$6:B5666)),\"\")","v":"50501718"},"High Energy Biscuits (WFP food convention) ",null,null,null,"50501718","High Energy Biscuits (WFP food convention) ","50501718",5661,5661,5661,"50501718"]
[null,{"$f":"IFERROR(INDEX($G$7:$H$13233,$L5672,COLUMNS($B$6:B5671)),\"\")","v":"41115707"},"High pressure liquid chromatograph chromatography",null,null,null,"41115707","High pressure liquid chromatograph chromatography","41115707",5666,5666,5666,"41115707"]
[null,{"$f":"IFERROR(INDEX($G$7:$H$13233,$L5679,COLUMNS($B$6:B5678)),\"\")","v":"41114512"},"High speed rotational balance tester",null,null,null,"41114512","High speed rotational balance tester","41114512",5673,5673,5673,"41114512"]
[null,{"$f":"IFERROR(INDEX($G$7:$H$13233,$L5685,COLUMNS($B$6:B5684)),\"\")","v":"41113620"},"High voltage cable detection",null,null,null,"41113620","High voltage cable detection","41113620",5679,5679,5679,"41113620"]
[null,{"$f":"IFERROR(INDEX($G$7:$H$13233,$L5689,COLUMNS($B$6:B5688)),\"\")","v":"72141000"},"Highway and road construction services",null,null,null,"72141000","Highway and road construction services","72141000",5683,5683,5683,"72141000"]
[null,{"$f":"IFERROR(INDEX($G$7:$H$13233,$L5696,COLUMNS($B$6:B5695)),\"\")","v":"70111707"},"Highway lawn maintenance services",null,null,null,"70111707","Highway lawn maintenance services","70111707",5690,5690,5690,"70111707"]
[null,{"$f":"IFERROR(INDEX($G$7:$H$13233,$L5702,COLUMNS($B$6:B5701)),\"\")","v":"41102911"},"Histological knives or knife holders or blades",null,null,null,"41102911","Histological knives or knife holders or blades","41102911",5696,5696,5696,"41102911"]
[null,{"$f":"IFERROR(INDEX($G$7:$H$13233,$L5706,COLUMNS($B$6:B5705)),\"\")","v":"41115817"},"Histology analyzers",null,null,null,"41115817","Histology analyzers","41115817",5700,5700,5700,"41115817"]
[null,{"$f":"IFERROR(INDEX($G$7:$H$13233,$L5713,COLUMNS($B$6:B5712)),\"\")","v":"41116124"},"Histology reagents or solutions or stains",null,null,null,"41116124","Histology reagents or solutions or stains","41116124",5707,5707,5707,"41116124"]
[null,{"$f":"IFERROR(INDEX($G$7:$H$13233,$L5714,COLUMNS($B$6:B5713)),\"\")","v":"41102915"},"Histology sampling and dissecting stations",null,null,null,"41102915","Histology sampling and dissecting stations","41102915",5708,5708,5708,"41102915"]
[null,{"$f":"IFERROR(INDEX($G$7:$H$13233,$L5723,COLUMNS($B$6:B5722)),\"\")","v":"72101512"},"Hoist construction service",null,null,null,"72101512","Hoist construction service","72101512",5717,5717,5717,"72101512"]
[null,{"$f":"IFERROR(INDEX($G$7:$H$13233,$L5726,COLUMNS($B$6:B5725)),\"\")","v":"42211912"},"Holders for kitchen devices for the physically challenged",null,null,null,"42211912","Holders for kitchen devices for the physically challenged","42211912",5720,5720,5720,"42211912"]
[null,{"$f":"IFERROR(INDEX($G$7:$H$13233,$L5732,COLUMNS($B$6:B5731)),\"\")","v":"44122111"},"Hole reinforcements",null,null,null,"44122111","Hole reinforcements","44122111",5726,5726,5726,"44122111"]
[null,{"$f":"IFERROR(INDEX($G$7:$H$13233,$L5737,COLUMNS($B$6:B5736)),\"\")","v":"41101504"},"Homogenizers",null,null,null,"41101504","Homogenizers","41101504",5731,5731,5731,"41101504"]
[null,{"$f":"IFERROR(INDEX($G$7:$H$13233,$L5743,COLUMNS($B$6:B5742)),\"\")","v":"25101916"},"Hopper truck",null,null,null,"25101916","Hopper truck","25101916",5737,5737,5737,"25101916"]
[null,{"$f":"IFERROR(INDEX($G$7:$H$13233,$L5749,COLUMNS($B$6:B5748)),\"\")","v":"10101506"},"Horses",null,null,null,"10101506","Horses","10101506",5743,5743,5743,"10101506"]
[null,{"$f":"IFERROR(INDEX($G$7:$H$13233,$L5754,COLUMNS($B$6:B5753)),\"\")","v":"40142000"},"Hoses",null,null,null,"40142000","Hoses","40142000",5748,5748,5748,"40142000"]
[null,{"$f":"IFERROR(INDEX($G$7:$H$13233,$L5760,COLUMNS($B$6:B5759)),\"\")","v":"42132105"},"Hospital bed sheets or mattress covers",null,null,null,"42132105","Hospital bed sheets or mattress covers","42132105",5754,5754,5754,"42132105"]
[null,{"$f":"IFERROR(INDEX($G$7:$H$13233,$L5766,COLUMNS($B$6:B5765)),\"\")","v":"95122000"},"Hospital buildings and structures",null,null,null,"95122000","Hospital buildings and structures","95122000",5760,5760,5760,"95122000"]
[null,{"$f":"IFERROR(INDEX($G$7:$H$13233,$L5772,COLUMNS($B$6:B5771)),\"\")","v":"42192108"},"Hospital folding cots",null,null,null,"42192108","Hospital folding cots","42192108",5766,5766,5766,"42192108"]
[null,{"$f":"IFERROR(INDEX($G$7:$H$13233,$L5775,COLUMNS($B$6:B5774)),\"\")","v":"42132108"},"Hospital pillow covers or pillowcases",null,null,null,"42132108","Hospital pillow covers or pillowcases","42132108",5769,5769,5769,"42132108"]
[null,{"$f":"IFERROR(INDEX($G$7:$H$13233,$L5783,COLUMNS($B$6:B5782)),\"\")","v":"42192006"},"Hospital utility tables",null,null,null,"42192006","Hospital utility tables","42192006",5777,5777,5777,"42192006"]
[null,{"$f":"IFERROR(INDEX($G$7:$H$13233,$L5784,COLUMNS($B$6:B5783)),\"\")","v":"42132115"},"Hospital wall coverings",null,null,null,"42132115","Hospital wall coverings","42132115",5778,5778,5778,"42132115"]
[null,{"$f":"IFERROR(INDEX($G$7:$H$13233,$L5792,COLUMNS($B$6:B5791)),\"\")","v":"48101714"},"Hot water dispenser",null,null,null,"48101714","Hot water dispenser","48101714",5786,5786,5786,"48101714"]
[null,{"$f":"IFERROR(INDEX($G$7:$H$13233,$L5796,COLUMNS($B$6:B5795)),\"\")","v":"90111501"},"Hotels",null,null,null,"90111501","Hotels","90111501",5790,5790,5790,"90111501"]
[null,{"$f":"IFERROR(INDEX($G$7:$H$13233,$L5801,COLUMNS($B$6:B5800)),\"\")","v":"91111600"},"Household assistance and care",null,null,null,"91111600","Household assistance and care","91111600",5795,5795,5795,"91111600"]
[null,{"$f":"IFERROR(INDEX($G$7:$H$13233,$L5809,COLUMNS($B$6:B5808)),\"\")","v":"80111500"},"Human resource development",null,null,null,"80111500","Human resource development","80111500",5803,5803,5803,"80111500"]
[null,{"$f":"IFERROR(INDEX($G$7:$H$13233,$L5813,COLUMNS($B$6:B5812)),\"\")","v":"43231505"},"Human resources software",null,null,null,"43231505","Human resources software","43231505",5807,5807,5807,"43231505"]
[null,{"$f":"IFERROR(INDEX($G$7:$H$13233,$L5818,COLUMNS($B$6:B5817)),\"\")","v":"93130000"},"Humanitarian aid and relief",null,null,null,"93130000","Humanitarian aid and relief","93130000",5812,5812,5812,"93130000"]
[null,{"$f":"IFERROR(INDEX($G$7:$H$13233,$L5826,COLUMNS($B$6:B5825)),\"\")","v":"57050000"},"Humanitarian relief food",null,null,null,"57050000","Humanitarian relief food","57050000",5820,5820,5820,"57050000"]
[null,{"$f":"IFERROR(INDEX($G$7:$H$13233,$L5830,COLUMNS($B$6:B5829)),\"\")","v":"41111951"},"Humidistat",null,null,null,"41111951","Humidistat","41111951",5824,5824,5824,"41111951"]
[null,{"$f":"IFERROR(INDEX($G$7:$H$13233,$L5835,COLUMNS($B$6:B5834)),\"\")","v":"41111966"},"Humidity sensor",null,null,null,"41111966","Humidity sensor","41111966",5829,5829,5829,"41111966"]
[null,{"$f":"IFERROR(INDEX($G$7:$H$13233,$L5842,COLUMNS($B$6:B5841)),\"\")","v":"72151205"},"HVAC refrigeration construction service",null,null,null,"72151205","HVAC refrigeration construction service","72151205",5836,5836,5836,"72151205"]
[null,{"$f":"IFERROR(INDEX($G$7:$H$13233,$L5847,COLUMNS($B$6:B5846)),\"\")","v":"41104920"},"Hybridization filters",null,null,null,"41104920","Hybridization filters","41104920",5841,5841,5841,"41104920"]
[null,{"$f":"IFERROR(INDEX($G$7:$H$13233,$L5852,COLUMNS($B$6:B5851)),\"\")","v":"30111604"},"Hydrated lime",null,null,null,"30111604","Hydrated lime","30111604",5846,5846,5846,"30111604"]
[null,{"$f":"IFERROR(INDEX($G$7:$H$13233,$L5854,COLUMNS($B$6:B5853)),\"\")","v":"26101501"},"Hydraulic engines",null,null,null,"26101501","Hydraulic engines","26101501",5848,5848,5848,"26101501"]
[null,{"$f":"IFERROR(INDEX($G$7:$H$13233,$L5859,COLUMNS($B$6:B5858)),\"\")","v":"81102001"},"Hydraulic mining",null,null,null,"81102001","Hydraulic mining","81102001",5853,5853,5853,"81102001"]
[null,{"$f":"IFERROR(INDEX($G$7:$H$13233,$L5867,COLUMNS($B$6:B5866)),\"\")","v":"25172805"},"Hydraulic Servicing Unit ",null,null,null,"25172805","Hydraulic Servicing Unit ","25172805",5861,5861,5861,"25172805"]
[null,{"$f":"IFERROR(INDEX($G$7:$H$13233,$L5871,COLUMNS($B$6:B5870)),\"\")","v":"86101608"},"Hydraulics vocational training services",null,null,null,"86101608","Hydraulics vocational training services","86101608",5865,5865,5865,"86101608"]
[null,{"$f":"IFERROR(INDEX($G$7:$H$13233,$L5876,COLUMNS($B$6:B5875)),\"\")","v":"51434938"},"Hydrochlorothiazide/irbesartan",null,null,null,"51434938","Hydrochlorothiazide/irbesartan","51434938",5870,5870,5870,"51434938"]
[null,{"$f":"IFERROR(INDEX($G$7:$H$13233,$L5884,COLUMNS($B$6:B5883)),\"\")","v":"51422434"},"Hydrocortisone sodium succinate",null,null,null,"51422434","Hydrocortisone sodium succinate","51422434",5878,5878,5878,"51422434"]
[null,{"$f":"IFERROR(INDEX($G$7:$H$13233,$L5888,COLUMNS($B$6:B5887)),\"\")","v":"26101509"},"Hydroelectric engines",null,null,null,"26101509","Hydroelectric engines","26101509",5882,5882,5882,"26101509"]
[null,{"$f":"IFERROR(INDEX($G$7:$H$13233,$L5895,COLUMNS($B$6:B5894)),\"\")","v":"81151804"},"Hydrological surveys",null,null,null,"81151804","Hydrological surveys","81151804",5889,5889,5889,"81151804"]
[null,{"$f":"IFERROR(INDEX($G$7:$H$13233,$L5900,COLUMNS($B$6:B5899)),\"\")","v":"51372125"},"Hydromorphone hydrochloride",null,null,null,"51372125","Hydromorphone hydrochloride","51372125",5894,5894,5894,"51372125"]
[null,{"$f":"IFERROR(INDEX($G$7:$H$13233,$L5905,COLUMNS($B$6:B5904)),\"\")","v":"41113810"},"Hydrothermal testing equipment",null,null,null,"41113810","Hydrothermal testing equipment","41113810",5899,5899,5899,"41113810"]
[null,{"$f":"IFERROR(INDEX($G$7:$H$13233,$L5910,COLUMNS($B$6:B5909)),\"\")","v":"41112600"},"Hygiene monitoring and testing equipment",null,null,null,"41112600","Hygiene monitoring and testing equipment","41112600",5904,5904,5904,"41112600"]
[null,{"$f":"IFERROR(INDEX($G$7:$H$13233,$L5917,COLUMNS($B$6:B5916)),\"\")","v":"51361500"},"Hypnotic alcohols",null,null,null,"51361500","Hypnotic alcohols","51361500",5911,5911,5911,"51361500"]
[null,{"$f":"IFERROR(INDEX($G$7:$H$13233,$L5922,COLUMNS($B$6:B5921)),\"\")","v":"42142523"},"Hypodermic needle",null,null,null,"42142523","Hypodermic needle","42142523",5916,5916,5916,"42142523"]
[null,{"$f":"IFERROR(INDEX($G$7:$H$13233,$L5927,COLUMNS($B$6:B5926)),\"\")","v":"51261704"},"Icatibant",null,null,null,"51261704","Icatibant","51261704",5921,5921,5921,"51261704"]
[null,{"$f":"IFERROR(INDEX($G$7:$H$13233,$L5929,COLUMNS($B$6:B5928)),\"\")","v":"49121505"},"Ice chests",null,null,null,"49121505","Ice chests","49121505",5923,5923,5923,"49121505"]
[null,{"$f":"IFERROR(INDEX($G$7:$H$13233,$L5938,COLUMNS($B$6:B5937)),\"\")","v":"55121808"},"Identification badge clip",null,null,null,"55121808","Identification badge clip","55121808",5932,5932,5932,"55121808"]
[null,{"$f":"IFERROR(INDEX($G$7:$H$13233,$L5941,COLUMNS($B$6:B5940)),\"\")","v":"55121802"},"Identification cards or bands or similar products",null,null,null,"55121802","Identification cards or bands or similar products","55121802",5935,5935,5935,"55121802"]
[null,{"$f":"IFERROR(INDEX($G$7:$H$13233,$L5946,COLUMNS($B$6:B5945)),\"\")","v":"51343101"},"Idoxuridine",null,null,null,"51343101","Idoxuridine","51343101",5940,5940,5940,"51343101"]
[null,{"$f":"IFERROR(INDEX($G$7:$H$13233,$L5953,COLUMNS($B$6:B5952)),\"\")","v":"51131642"},"Iloprost",null,null,null,"51131642","Iloprost","51131642",5947,5947,5947,"51131642"]
[null,{"$f":"IFERROR(INDEX($G$7:$H$13233,$L5958,COLUMNS($B$6:B5957)),\"\")","v":"51171974"},"Imiglucerase",null,null,null,"51171974","Imiglucerase","51171974",5952,5952,5952,"51171974"]
[null,{"$f":"IFERROR(INDEX($G$7:$H$13233,$L5963,COLUMNS($B$6:B5962)),\"\")","v":"57050202"},"Immediate response ration (IRR)",null,null,null,"57050202","Immediate response ration (IRR)","57050202",5957,5957,5957,"57050202"]
[null,{"$f":"IFERROR(INDEX($G$7:$H$13233,$L5970,COLUMNS($B$6:B5969)),\"\")","v":"41116153"},"Immunohistochemistry quality controls and calibrators and standards",null,null,null,"41116153","Immunohistochemistry quality controls and calibrators and standards","41116153",5964,5964,5964,"41116153"]
[null,{"$f":"IFERROR(INDEX($G$7:$H$13233,$L5975,COLUMNS($B$6:B5974)),\"\")","v":"41116128"},"Immunology or serology quality controls or calibrators or standards",null,null,null,"41116128","Immunology or serology quality controls or calibrators or standards","41116128",5969,5969,5969,"41116128"]
[null,{"$f":"IFERROR(INDEX($G$7:$H$13233,$L5981,COLUMNS($B$6:B5980)),\"\")","v":"51201500"},"Immunosuppressants",null,null,null,"51201500","Immunosuppressants","51201500",5975,5975,5975,"51201500"]
[null,{"$f":"IFERROR(INDEX($G$7:$H$13233,$L5987,COLUMNS($B$6:B5986)),\"\")","v":"51202600"},"Immunosupressant imides",null,null,null,"51202600","Immunosupressant imides","51202600",5981,5981,5981,"51202600"]
[null,{"$f":"IFERROR(INDEX($G$7:$H$13233,$L5992,COLUMNS($B$6:B5991)),\"\")","v":"51203200"},"Immunosupressant phenols",null,null,null,"51203200","Immunosupressant phenols","51203200",5986,5986,5986,"51203200"]
[null,{"$f":"IFERROR(INDEX($G$7:$H$13233,$L5996,COLUMNS($B$6:B5995)),\"\")","v":"41114612"},"Impact testers",null,null,null,"41114612","Impact testers","41114612",5990,5990,5990,"41114612"]
[null,{"$f":"IFERROR(INDEX($G$7:$H$13233,$L5999,COLUMNS($B$6:B5998)),\"\")","v":"42203505"},"Implantable cardioverter defibrillators ICD or cardiac resynchronization therapy defibrillators CRT-D",null,null,null,"42203505","Implantable cardioverter defibrillators ICD or cardiac resynchronization therapy defibrillators CRT-D","42203505",5993,5993,5993,"42203505"]
[null,{"$f":"IFERROR(INDEX($G$7:$H$13233,$L6004,COLUMNS($B$6:B6003)),\"\")","v":"26111612"},"Impulse generator",null,null,null,"26111612","Impulse generator","26111612",5998,5998,5998,"26111612"]
[null,{"$f":"IFERROR(INDEX($G$7:$H$13233,$L6013,COLUMNS($B$6:B6012)),\"\")","v":"82112005"},"In person armenian interpretation service",null,null,null,"82112005","In person armenian interpretation service","82112005",6007,6007,6007,"82112005"]
[null,{"$f":"IFERROR(INDEX($G$7:$H$13233,$L6016,COLUMNS($B$6:B6015)),\"\")","v":"82112008"},"In person bengali interpretation service",null,null,null,"82112008","In person bengali interpretation service","82112008",6010,6010,6010,"82112008"]
[null,{"$f":"IFERROR(INDEX($G$7:$H$13233,$L6022,COLUMNS($B$6:B6021)),\"\")","v":"82112014"},"In person croatian interpretation service",null,null,null,"82112014","In person croatian interpretation service","82112014",6016,6016,6016,"82112014"]
[null,{"$f":"IFERROR(INDEX($G$7:$H$13233,$L6030,COLUMNS($B$6:B6029)),\"\")","v":"82112021"},"In person fanti or persian interpretation service",null,null,null,"82112021","In person fanti or persian interpretation service","82112021",6024,6024,6024,"82112021"]
[null,{"$f":"IFERROR(INDEX($G$7:$H$13233,$L6033,COLUMNS($B$6:B6032)),\"\")","v":"82112024"},"In person greek interpretation service",null,null,null,"82112024","In person greek interpretation service","82112024",6027,6027,6027,"82112024"]
[null,{"$f":"IFERROR(INDEX($G$7:$H$13233,$L6039,COLUMNS($B$6:B6038)),\"\")","v":"82112030"},"In person indonesian interpretation service",null,null,null,"82112030","In person indonesian interpretation service","82112030",6033,6033,6033,"82112030"]
[null,{"$f":"IFERROR(INDEX($G$7:$H$13233,$L6041,COLUMNS($B$6:B6040)),\"\")","v":"82112032"},"In person jamaican interpretation service",null,null,null,"82112032","In person jamaican interpretation service","82112032",6035,6035,6035,"82112032"]
[null,{"$f":"IFERROR(INDEX($G$7:$H$13233,$L6051,COLUMNS($B$6:B6050)),\"\")","v":"82112041"},"In person pakistani interpretation service",null,null,null,"82112041","In person pakistani interpretation service","82112041",6045,6045,6045,"82112041"]
[null,{"$f":"IFERROR(INDEX($G$7:$H$13233,$L6056,COLUMNS($B$6:B6055)),\"\")","v":"82112048"},"In person russian interpretation service",null,null,null,"82112048","In person russian interpretation service","82112048",6050,6050,6050,"82112048"]
[null,{"$f":"IFERROR(INDEX($G$7:$H$13233,$L6062,COLUMNS($B$6:B6061)),\"\")","v":"82112053"},"In person slovenian interpretation service",null,null,null,"82112053","In person slovenian interpretation service","82112053",6056,6056,6056,"82112053"]
[null,{"$f":"IFERROR(INDEX($G$7:$H$13233,$L6063,COLUMNS($B$6:B6062)),\"\")","v":"82112054"},"In person somali interpretation service",null,null,null,"82112054","In person somali interpretation service","82112054",6057,6057,6057,"82112054"]
[null,{"$f":"IFERROR(INDEX($G$7:$H$13233,$L6073,COLUMNS($B$6:B6072)),\"\")","v":"82112043"},"In person western panjabi interpretation service",null,null,null,"82112043","In person western panjabi interpretation service","82112043",6067,6067,6067,"82112043"]
[null,{"$f":"IFERROR(INDEX($G$7:$H$13233,$L6074,COLUMNS($B$6:B6073)),\"\")","v":"82112064"},"In person yiddish interpretation service",null,null,null,"82112064","In person yiddish interpretation service","82112064",6068,6068,6068,"82112064"]
[null,{"$f":"IFERROR(INDEX($G$7:$H$13233,$L6080,COLUMNS($B$6:B6079)),\"\")","v":"43223109"},"IN SSP switching equipment",null,null,null,"43223109","IN SSP switching equipment","43223109",6074,6074,6074,"43223109"]
[null,{"$f":"IFERROR(INDEX($G$7:$H$13233,$L6084,COLUMNS($B$6:B6083)),\"\")","v":"47101529"},"Incinerators",null,null,null,"47101529","Incinerators","47101529",6078,6078,6078,"47101529"]
[null,{"$f":"IFERROR(INDEX($G$7:$H$13233,$L6092,COLUMNS($B$6:B6091)),\"\")","v":"51393606"},"Indacaterol maleate",null,null,null,"51393606","Indacaterol maleate","51393606",6086,6086,6086,"51393606"]
[null,{"$f":"IFERROR(INDEX($G$7:$H$13233,$L6099,COLUMNS($B$6:B6098)),\"\")","v":"50501723"},"Indiamix (WFP food convention)",null,null,null,"50501723","Indiamix (WFP food convention)","50501723",6093,6093,6093,"50501723"]
[null,{"$f":"IFERROR(INDEX($G$7:$H$13233,$L6103,COLUMNS($B$6:B6102)),\"\")","v":"80171905"},"Indigenous peoples relations consultation and engagement",null,null,null,"80171905","Indigenous peoples relations consultation and engagement","80171905",6097,6097,6097,"80171905"]
[null,{"$f":"IFERROR(INDEX($G$7:$H$13233,$L6109,COLUMNS($B$6:B6108)),\"\")","v":"41103417"},"Indoor air quality monitor",null,null,null,"41103417","Indoor air quality monitor","41103417",6103,6103,6103,"41103417"]
[null,{"$f":"IFERROR(INDEX($G$7:$H$13233,$L6116,COLUMNS($B$6:B6115)),\"\")","v":"23181800"},"Industrial beverage processing machinery",null,null,null,"23181800","Industrial beverage processing machinery","23181800",6110,6110,6110,"23181800"]
[null,{"$f":"IFERROR(INDEX($G$7:$H$13233,$L6120,COLUMNS($B$6:B6119)),\"\")","v":"76000000"},"Industrial Cleaning Services",null,null,null,"76000000","Industrial Cleaning Services","76000000",6114,6114,6114,"76000000"]
[null,{"$f":"IFERROR(INDEX($G$7:$H$13233,$L6126,COLUMNS($B$6:B6125)),\"\")","v":"B"},"Industrial Equipment & Tools",null,null,null,"B","Industrial Equipment & Tools","B",6120,6120,6120,"B"]
[null,{"$f":"IFERROR(INDEX($G$7:$H$13233,$L6127,COLUMNS($B$6:B6126)),\"\")","v":"41111747"},"Industrial fiberscope",null,null,null,"41111747","Industrial fiberscope","41111747",6121,{"$f":"IF(ISNUMBER(SEARCH($H$4,H6127)),J6127,\"\")","v":6121},{"$f":"IFERROR(SMALL($K$7:$K$13233,J6127),\"\")","v":6121},"41111747"]
[null,{"$f":"IFERROR(INDEX($G$7:$H$13233,$L6133,COLUMNS($B$6:B6132)),\"\")","v":"81141802"},"Industrial hygiene or ventilation",null,null,null,"81141802","Industrial hygiene or ventilation","81141802",6127,6127,6127,"81141802"]
[null,{"$f":"IFERROR(INDEX($G$7:$H$13233,$L6138,COLUMNS($B$6:B6137)),\"\")","v":"80101700"},"Industrial management",null,null,null,"80101700","Industrial management","80101700",6132,6132,6132,"80101700"]
[null,{"$f":"IFERROR(INDEX($G$7:$H$13233,$L6144,COLUMNS($B$6:B6143)),\"\")","v":"73151900"},"Industrial printing services",null,null,null,"73151900","Industrial printing services","73151900",6138,6138,6138,"73151900"]
[null,{"$f":"IFERROR(INDEX($G$7:$H$13233,$L6150,COLUMNS($B$6:B6149)),\"\")","v":"73141715"},"Industrial sewing services",null,null,null,"73141715","Industrial sewing services","73141715",6144,6144,6144,"73141715"]
[null,{"$f":"IFERROR(INDEX($G$7:$H$13233,$L6159,COLUMNS($B$6:B6158)),\"\")","v":"77111601"},"Industrial site rehabilitation",null,null,null,"77111601","Industrial site rehabilitation","77111601",6153,6153,6153,"77111601"]
[null,{"$f":"IFERROR(INDEX($G$7:$H$13233,$L6162,COLUMNS($B$6:B6161)),\"\")","v":"14120000"},"Industrial use papers",null,null,null,"14120000","Industrial use papers","14120000",6156,6156,6156,"14120000"]
[null,{"$f":"IFERROR(INDEX($G$7:$H$13233,$L6167,COLUMNS($B$6:B6166)),\"\")","v":"43232600"},"Industry specific software",null,null,null,"43232600","Industry specific software","43232600",6161,6161,6161,"43232600"]
[null,{"$f":"IFERROR(INDEX($G$7:$H$13233,$L6170,COLUMNS($B$6:B6169)),\"\")","v":"50193000"},"Infant foods and beverages",null,null,null,"50193000","Infant foods and beverages","50193000",6164,6164,6164,"50193000"]
[null,{"$f":"IFERROR(INDEX($G$7:$H$13233,$L6179,COLUMNS($B$6:B6178)),\"\")","v":"51202409"},"Infliximab",null,null,null,"51202409","Infliximab","51202409",6173,6173,6173,"51202409"]
[null,{"$f":"IFERROR(INDEX($G$7:$H$13233,$L6184,COLUMNS($B$6:B6183)),\"\")","v":"81112206"},"Information retrieval or search software maintenance",null,null,null,"81112206","Information retrieval or search software maintenance","81112206",6178,6178,6178,"81112206"]
[null,{"$f":"IFERROR(INDEX($G$7:$H$13233,$L6187,COLUMNS($B$6:B6186)),\"\")","v":"43000000"},"Information Technology Broadcasting and Telecommunications",null,null,null,"43000000","Information Technology Broadcasting and Telecommunications","43000000",6181,6181,6181,"43000000"]
[null,{"$f":"IFERROR(INDEX($G$7:$H$13233,$L6196,COLUMNS($B$6:B6195)),\"\")","v":"41111956"},"Infrared temperature sensor",null,null,null,"41111956","Infrared temperature sensor","41111956",6190,6190,6190,"41111956"]
[null,{"$f":"IFERROR(INDEX($G$7:$H$13233,$L6201,COLUMNS($B$6:B6200)),\"\")","v":"42222008"},"Infusion pump kits",null,null,null,"42222008","Infusion pump kits","42222008",6195,6195,6195,"42222008"]
[null,{"$f":"IFERROR(INDEX($G$7:$H$13233,$L6202,COLUMNS($B$6:B6201)),\"\")","v":"50202312"},"Infusions",null,null,null,"50202312","Infusions","50202312",6196,6196,6196,"50202312"]
[null,{"$f":"IFERROR(INDEX($G$7:$H$13233,$L6208,COLUMNS($B$6:B6207)),\"\")","v":"44103105"},"Ink cartridges",null,null,null,"44103105","Ink cartridges","44103105",6202,6202,6202,"44103105"]
[null,{"$f":"IFERROR(INDEX($G$7:$H$13233,$L6213,COLUMNS($B$6:B6212)),\"\")","v":"50501711"},"Inka Mix (WFP food convention)",null,null,null,"50501711","Inka Mix (WFP food convention)","50501711",6207,6207,6207,"50501711"]
[null,{"$f":"IFERROR(INDEX($G$7:$H$13233,$L6220,COLUMNS($B$6:B6219)),\"\")","v":"78111707"},"Inland water transport of passengers by ferry",null,null,null,"78111707","Inland water transport of passengers by ferry","78111707",6214,6214,6214,"78111707"]
[null,{"$f":"IFERROR(INDEX($G$7:$H$13233,$L6225,COLUMNS($B$6:B6224)),\"\")","v":"76121505"},"Inorganic waste collection and disposal",null,null,null,"76121505","Inorganic waste collection and disposal","76121505",6219,6219,6219,"76121505"]
[null,{"$f":"IFERROR(INDEX($G$7:$H$13233,$L6230,COLUMNS($B$6:B6229)),\"\")","v":"41106507"},"Insect medium supplements or reagents",null,null,null,"41106507","Insect medium supplements or reagents","41106507",6224,6224,6224,"41106507"]
[null,{"$f":"IFERROR(INDEX($G$7:$H$13233,$L6237,COLUMNS($B$6:B6236)),\"\")","v":"78141600"},"Inspection",null,null,null,"78141600","Inspection","78141600",6231,6231,6231,"78141600"]
[null,{"$f":"IFERROR(INDEX($G$7:$H$13233,$L6242,COLUMNS($B$6:B6241)),\"\")","v":"50201709"},"Instant coffee",null,null,null,"50201709","Instant coffee","50201709",6236,6236,6236,"50201709"]
[null,{"$f":"IFERROR(INDEX($G$7:$H$13233,$L6245,COLUMNS($B$6:B6244)),\"\")","v":"43233504"},"Instant messaging software",null,null,null,"43233504","Instant messaging software","43233504",6239,6239,6239,"43233504"]
[null,{"$f":"IFERROR(INDEX($G$7:$H$13233,$L6254,COLUMNS($B$6:B6253)),\"\")","v":"82111501"},"Instruction writing services",null,null,null,"82111501","Instruction writing services","82111501",6248,6248,6248,"82111501"]
[null,{"$f":"IFERROR(INDEX($G$7:$H$13233,$L6256,COLUMNS($B$6:B6255)),\"\")","v":"42281704"},"Instrument cleaners or detergents",null,null,null,"42281704","Instrument cleaners or detergents","42281704",6250,6250,6250,"42281704"]
[null,{"$f":"IFERROR(INDEX($G$7:$H$13233,$L6266,COLUMNS($B$6:B6265)),\"\")","v":"25173126"},"Instrument Landing System (ILS)/Distance Measuring Equipment (DME)",null,null,null,"25173126","Instrument Landing System (ILS)/Distance Measuring Equipment (DME)","25173126",6260,6260,6260,"25173126"]
[null,{"$f":"IFERROR(INDEX($G$7:$H$13233,$L6271,COLUMNS($B$6:B6270)),\"\")","v":"41103031"},"Insulated transport cooler or tote",null,null,null,"41103031","Insulated transport cooler or tote","41103031",6265,6265,6265,"41103031"]
[null,{"$f":"IFERROR(INDEX($G$7:$H$13233,$L6277,COLUMNS($B$6:B6276)),\"\")","v":"24121514"},"Insulation pack",null,null,null,"24121514","Insulation pack","24121514",6271,6271,6271,"24121514"]
[null,{"$f":"IFERROR(INDEX($G$7:$H$13233,$L6278,COLUMNS($B$6:B6277)),\"\")","v":"41113623"},"Insulation resistance meters",null,null,null,"41113623","Insulation resistance meters","41113623",6272,6272,6272,"41113623"]
[null,{"$f":"IFERROR(INDEX($G$7:$H$13233,$L6283,COLUMNS($B$6:B6282)),\"\")","v":"51183608"},"Insulin beef",null,null,null,"51183608","Insulin beef","51183608",6277,6277,6277,"51183608"]
[null,{"$f":"IFERROR(INDEX($G$7:$H$13233,$L6288,COLUMNS($B$6:B6287)),\"\")","v":"51183615"},"Insulin lispro",null,null,null,"51183615","Insulin lispro","51183615",6282,6282,6282,"51183615"]
[null,{"$f":"IFERROR(INDEX($G$7:$H$13233,$L6295,COLUMNS($B$6:B6294)),\"\")","v":"32101600"},"Integrated circuits",null,null,null,"32101600","Integrated circuits","32101600",6289,6289,6289,"32101600"]
[null,{"$f":"IFERROR(INDEX($G$7:$H$13233,$L6300,COLUMNS($B$6:B6299)),\"\")","v":"93101705"},"Intelligence services",null,null,null,"93101705","Intelligence services","93101705",6294,6294,6294,"93101705"]
[null,{"$f":"IFERROR(INDEX($G$7:$H$13233,$L6305,COLUMNS($B$6:B6304)),\"\")","v":"83111510"},"Interactive voice response service",null,null,null,"83111510","Interactive voice response service","83111510",6299,6299,6299,"83111510"]
[null,{"$f":"IFERROR(INDEX($G$7:$H$13233,$L6312,COLUMNS($B$6:B6311)),\"\")","v":"45111807"},"Interfaces",null,null,null,"45111807","Interfaces","45111807",6306,6306,6306,"45111807"]
[null,{"$f":"IFERROR(INDEX($G$7:$H$13233,$L6320,COLUMNS($B$6:B6319)),\"\")","v":"72152201"},"Interior marble installation service",null,null,null,"72152201","Interior marble installation service","72152201",6314,6314,6314,"72152201"]
[null,{"$f":"IFERROR(INDEX($G$7:$H$13233,$L6324,COLUMNS($B$6:B6323)),\"\")","v":"84111603"},"Internal audits",null,null,null,"84111603","Internal audits","84111603",6318,6318,6318,"84111603"]
[null,{"$f":"IFERROR(INDEX($G$7:$H$13233,$L6329,COLUMNS($B$6:B6328)),\"\")","v":"83112603"},"International access lines",null,null,null,"83112603","International access lines","83112603",6323,6323,6323,"83112603"]
[null,{"$f":"IFERROR(INDEX($G$7:$H$13233,$L6331,COLUMNS($B$6:B6330)),\"\")","v":"78101502"},"International air cargo transport",null,null,null,"78101502","International air cargo transport","78101502",6325,6325,6325,"78101502"]
[null,{"$f":"IFERROR(INDEX($G$7:$H$13233,$L6341,COLUMNS($B$6:B6340)),\"\")","v":"93141814"},"International labor services",null,null,null,"93141814","International labor services","93141814",6335,6335,6335,"93141814"]
[null,{"$f":"IFERROR(INDEX($G$7:$H$13233,$L6342,COLUMNS($B$6:B6341)),\"\")","v":"93141803"},"International labor standards services",null,null,null,"93141803","International labor standards services","93141803",6336,6336,6336,"93141803"]
[null,{"$f":"IFERROR(INDEX($G$7:$H$13233,$L6348,COLUMNS($B$6:B6347)),\"\")","v":"93121600"},"International relations and cooperation",null,null,null,"93121600","International relations and cooperation","93121600",6342,6342,6342,"93121600"]
[null,{"$f":"IFERROR(INDEX($G$7:$H$13233,$L6353,COLUMNS($B$6:B6352)),\"\")","v":"82101603"},"Internet advertising",null,null,null,"82101603","Internet advertising","82101603",6347,6347,6347,"82101603"]
[null,{"$f":"IFERROR(INDEX($G$7:$H$13233,$L6359,COLUMNS($B$6:B6358)),\"\")","v":"81111510"},"Internet or intranet server application development services",null,null,null,"81111510","Internet or intranet server application development services","81111510",6353,6353,6353,"81111510"]
[null,{"$f":"IFERROR(INDEX($G$7:$H$13233,$L6365,COLUMNS($B$6:B6364)),\"\")","v":"43222606"},"Internet service node startup kits",null,null,null,"43222606","Internet service node startup kits","43222606",6359,6359,6359,"43222606"]
[null,{"$f":"IFERROR(INDEX($G$7:$H$13233,$L6370,COLUMNS($B$6:B6369)),\"\")","v":"45102001"},"Intertype composing machines",null,null,null,"45102001","Intertype composing machines","45102001",6364,6364,6364,"45102001"]
[null,{"$f":"IFERROR(INDEX($G$7:$H$13233,$L6374,COLUMNS($B$6:B6373)),\"\")","v":"42142620"},"Intraosseous needle drivers or injection guns",null,null,null,"42142620","Intraosseous needle drivers or injection guns","42142620",6368,6368,6368,"42142620"]
[null,{"$f":"IFERROR(INDEX($G$7:$H$13233,$L6382,COLUMNS($B$6:B6381)),\"\")","v":"42220000"},"Intravenous and arterial administration products",null,null,null,"42220000","Intravenous and arterial administration products","42220000",6376,{"$f":"IF(ISNUMBER(SEARCH($H$4,H6382)),J6382,\"\")","v":6376},{"$f":"IFERROR(SMALL($K$7:$K$13233,J6382),\"\")","v":6376},"42220000"]
[null,{"$f":"IFERROR(INDEX($G$7:$H$13233,$L6388,COLUMNS($B$6:B6387)),\"\")","v":"42221512"},"Intravenous catheters",null,null,null,"42221512","Intravenous catheters","42221512",6382,6382,6382,"42221512"]
[null,{"$f":"IFERROR(INDEX($G$7:$H$13233,$L6391,COLUMNS($B$6:B6390)),\"\")","v":"42222006"},"Intravenous infusion pump analyzers or sensors",null,null,null,"42222006","Intravenous infusion pump analyzers or sensors","42222006",6385,6385,6385,"42222006"]
[null,{"$f":"IFERROR(INDEX($G$7:$H$13233,$L6399,COLUMNS($B$6:B6398)),\"\")","v":"42221802"},"Intravenous or arterial arm boards",null,null,null,"42221802","Intravenous or arterial arm boards","42221802",6393,6393,6393,"42221802"]
[null,{"$f":"IFERROR(INDEX($G$7:$H$13233,$L6405,COLUMNS($B$6:B6404)),\"\")","v":"42221703"},"Intravenous or arterial fluid warmers",null,null,null,"42221703","Intravenous or arterial fluid warmers","42221703",6399,6399,6399,"42221703"]
[null,{"$f":"IFERROR(INDEX($G$7:$H$13233,$L6408,COLUMNS($B$6:B6407)),\"\")","v":"42222101"},"Intravenous or arterial line equipment hangers",null,null,null,"42222101","Intravenous or arterial line equipment hangers","42222101",6402,6402,6402,"42222101"]
[null,{"$f":"IFERROR(INDEX($G$7:$H$13233,$L6416,COLUMNS($B$6:B6415)),\"\")","v":"42221606"},"Intravenous or arterial tubing clamps",null,null,null,"42221606","Intravenous or arterial tubing clamps","42221606",6410,6410,6410,"42221606"]
[null,{"$f":"IFERROR(INDEX($G$7:$H$13233,$L6417,COLUMNS($B$6:B6416)),\"\")","v":"42221616"},"Intravenous or arterial tubing extension sets",null,null,null,"42221616","Intravenous or arterial tubing extension sets","42221616",6411,6411,6411,"42221616"]
[null,{"$f":"IFERROR(INDEX($G$7:$H$13233,$L6425,COLUMNS($B$6:B6424)),\"\")","v":"42221613"},"Intravenous tubing transfer leg closures or snaps",null,null,null,"42221613","Intravenous tubing transfer leg closures or snaps","42221613",6419,6419,6419,"42221613"]
[null,{"$f":"IFERROR(INDEX($G$7:$H$13233,$L6429,COLUMNS($B$6:B6428)),\"\")","v":"46221505"},"Intrusive demining machine",null,null,null,"46221505","Intrusive demining machine","46221505",6423,6423,6423,"46221505"]
[null,{"$f":"IFERROR(INDEX($G$7:$H$13233,$L6434,COLUMNS($B$6:B6433)),\"\")","v":"42272000"},"Intubation supplies",null,null,null,"42272000","Intubation supplies","42272000",6428,6428,6428,"42272000"]
[null,{"$f":"IFERROR(INDEX($G$7:$H$13233,$L6440,COLUMNS($B$6:B6439)),\"\")","v":"39122001"},"Inverter drive AC",null,null,null,"39122001","Inverter drive AC","39122001",6434,6434,6434,"39122001"]
[null,{"$f":"IFERROR(INDEX($G$7:$H$13233,$L6446,COLUMNS($B$6:B6445)),\"\")","v":"84121702"},"Investment policy",null,null,null,"84121702","Investment policy","84121702",6440,6440,6440,"84121702"]
[null,{"$f":"IFERROR(INDEX($G$7:$H$13233,$L6451,COLUMNS($B$6:B6450)),\"\")","v":"51472901"},"Iodine",null,null,null,"51472901","Iodine","51472901",6445,6445,6445,"51472901"]
[null,{"$f":"IFERROR(INDEX($G$7:$H$13233,$L6458,COLUMNS($B$6:B6457)),\"\")","v":"41101903"},"Ion implantation equipment",null,null,null,"41101903","Ion implantation equipment","41101903",6452,6452,6452,"41101903"]
[null,{"$f":"IFERROR(INDEX($G$7:$H$13233,$L6463,COLUMNS($B$6:B6462)),\"\")","v":"42141810"},"Iontophoresis electrodes",null,null,null,"42141810","Iontophoresis electrodes","42141810",6457,6457,6457,"42141810"]
[null,{"$f":"IFERROR(INDEX($G$7:$H$13233,$L6468,COLUMNS($B$6:B6467)),\"\")","v":"51431801"},"Irbesartan",null,null,null,"51431801","Irbesartan","51431801",6462,6462,6462,"51431801"]
[null,{"$f":"IFERROR(INDEX($G$7:$H$13233,$L6475,COLUMNS($B$6:B6474)),\"\")","v":"47111600"},"Ironing equipment",null,null,null,"47111600","Ironing equipment","47111600",6469,6469,6469,"47111600"]
[null,{"$f":"IFERROR(INDEX($G$7:$H$13233,$L6477,COLUMNS($B$6:B6476)),\"\")","v":"70171708"},"Irrigation advisory services",null,null,null,"70171708","Irrigation advisory services","70171708",6471,6471,6471,"70171708"]
[null,{"$f":"IFERROR(INDEX($G$7:$H$13233,$L6486,COLUMNS($B$6:B6485)),\"\")","v":"70171700"},"Irrigation system maintenance and management services",null,null,null,"70171700","Irrigation system maintenance and management services","70171700",6480,6480,6480,"70171700"]
[null,{"$f":"IFERROR(INDEX($G$7:$H$13233,$L6487,COLUMNS($B$6:B6486)),\"\")","v":"21102500"},"Irrigation systems and equipment",null,null,null,"21102500","Irrigation systems and equipment","21102500",6481,6481,6481,"21102500"]
[null,{"$f":"IFERROR(INDEX($G$7:$H$13233,$L6494,COLUMNS($B$6:B6493)),\"\")","v":"51302336"},"Isoconazole nitrate",null,null,null,"51302336","Isoconazole nitrate","51302336",6488,6488,6488,"51302336"]
[null,{"$f":"IFERROR(INDEX($G$7:$H$13233,$L6499,COLUMNS($B$6:B6498)),\"\")","v":"51281502"},"Isoniazid",null,null,null,"51281502","Isoniazid","51281502",6493,6493,6493,"51281502"]
[null,{"$f":"IFERROR(INDEX($G$7:$H$13233,$L6504,COLUMNS($B$6:B6503)),\"\")","v":"51191554"},"Isosorbide dinitrate",null,null,null,"51191554","Isosorbide dinitrate","51191554",6498,6498,6498,"51191554"]
[null,{"$f":"IFERROR(INDEX($G$7:$H$13233,$L6511,COLUMNS($B$6:B6510)),\"\")","v":"51303403"},"Itraconazole",null,null,null,"51303403","Itraconazole","51303403",6505,6505,6505,"51303403"]
[null,{"$f":"IFERROR(INDEX($G$7:$H$13233,$L6516,COLUMNS($B$6:B6515)),\"\")","v":"24101612"},"Jacks",null,null,null,"24101612","Jacks","24101612",6510,6510,6510,"24101612"]
[null,{"$f":"IFERROR(INDEX($G$7:$H$13233,$L6521,COLUMNS($B$6:B6520)),\"\")","v":"41123001"},"Jar desiccators",null,null,null,"41123001","Jar desiccators","41123001",6515,6515,6515,"41123001"]
[null,{"$f":"IFERROR(INDEX($G$7:$H$13233,$L6528,COLUMNS($B$6:B6527)),\"\")","v":"54100000"},"Jewelry",null,null,null,"54100000","Jewelry","54100000",6522,6522,6522,"54100000"]
[null,{"$f":"IFERROR(INDEX($G$7:$H$13233,$L6533,COLUMNS($B$6:B6532)),\"\")","v":"42211913"},"Jumbo digit timers for the physically challenged",null,null,null,"42211913","Jumbo digit timers for the physically challenged","42211913",6527,6527,6527,"42211913"]
[null,{"$f":"IFERROR(INDEX($G$7:$H$13233,$L6537,COLUMNS($B$6:B6536)),\"\")","v":"95121910"},"Junior high or middle school",null,null,null,"95121910","Junior high or middle school","95121910",6531,6531,6531,"95121910"]
[null,{"$f":"IFERROR(INDEX($G$7:$H$13233,$L6545,COLUMNS($B$6:B6544)),\"\")","v":"70121803"},"Kennels services",null,null,null,"70121803","Kennels services","70121803",6539,6539,6539,"70121803"]
[null,{"$f":"IFERROR(INDEX($G$7:$H$13233,$L6550,COLUMNS($B$6:B6549)),\"\")","v":"51384511"},"Ketoprofen",null,null,null,"51384511","Ketoprofen","51384511",6544,6544,6544,"51384511"]
[null,{"$f":"IFERROR(INDEX($G$7:$H$13233,$L6554,COLUMNS($B$6:B6553)),\"\")","v":"46171525"},"Key card for lock",null,null,null,"46171525","Key card for lock","46171525",6548,6548,6548,"46171525"]
[null,{"$f":"IFERROR(INDEX($G$7:$H$13233,$L6557,COLUMNS($B$6:B6556)),\"\")","v":"43211804"},"Keyboard drawers or shelves",null,null,null,"43211804","Keyboard drawers or shelves","43211804",6551,6551,6551,"43211804"]
[null,{"$f":"IFERROR(INDEX($G$7:$H$13233,$L6562,COLUMNS($B$6:B6561)),\"\")","v":"43211706"},"Keyboards",null,null,null,"43211706","Keyboards","43211706",6556,6556,6556,"43211706"]
[null,{"$f":"IFERROR(INDEX($G$7:$H$13233,$L6569,COLUMNS($B$6:B6568)),\"\")","v":"41105343"},"Kit and reagent for tape based electrophoresis",null,null,null,"41105343","Kit and reagent for tape based electrophoresis","41105343",6563,6563,6563,"41105343"]
[null,{"$f":"IFERROR(INDEX($G$7:$H$13233,$L6574,COLUMNS($B$6:B6573)),\"\")","v":"60105613"},"Kitchen utensils instructional aids",null,null,null,"60105613","Kitchen utensils instructional aids","60105613",6568,6568,6568,"60105613"]
[null,{"$f":"IFERROR(INDEX($G$7:$H$13233,$L6579,COLUMNS($B$6:B6578)),\"\")","v":"41106303"},"Kits for polymerase chain reaction PCR purification",null,null,null,"41106303","Kits for polymerase chain reaction PCR purification","41106303",6573,6573,6573,"41106303"]
[null,{"$f":"IFERROR(INDEX($G$7:$H$13233,$L6586,COLUMNS($B$6:B6585)),\"\")","v":"10151612"},"Kiwicha seeds or seedlings",null,null,null,"10151612","Kiwicha seeds or seedlings","10151612",6580,6580,6580,"10151612"]
[null,{"$f":"IFERROR(INDEX($G$7:$H$13233,$L6591,COLUMNS($B$6:B6590)),\"\")","v":"14121605"},"Kraft tissue paper",null,null,null,"14121605","Kraft tissue paper","14121605",6585,6585,6585,"14121605"]
[null,{"$f":"IFERROR(INDEX($G$7:$H$13233,$L6597,COLUMNS($B$6:B6596)),\"\")","v":"44102405"},"Label making machines",null,null,null,"44102405","Label making machines","44102405",6591,6591,6591,"44102405"]
[null,{"$f":"IFERROR(INDEX($G$7:$H$13233,$L6603,COLUMNS($B$6:B6602)),\"\")","v":"41122702"},"Labeling tapes",null,null,null,"41122702","Labeling tapes","41122702",6597,6597,6597,"41122702"]
[null,{"$f":"IFERROR(INDEX($G$7:$H$13233,$L6608,COLUMNS($B$6:B6607)),\"\")","v":"93141812"},"Labor inspection services",null,null,null,"93141812","Labor inspection services","93141812",6602,6602,6602,"93141812"]
[null,{"$f":"IFERROR(INDEX($G$7:$H$13233,$L6612,COLUMNS($B$6:B6611)),\"\")","v":"41121815"},"Laboratory adapters or connectors or fittings",null,null,null,"41121815","Laboratory adapters or connectors or fittings","41121815",6606,6606,6606,"41121815"]
[null,{"$f":"IFERROR(INDEX($G$7:$H$13233,$L6620,COLUMNS($B$6:B6619)),\"\")","v":"41111502"},"Laboratory balances",null,null,null,"41111502","Laboratory balances","41111502",6614,6614,6614,"41111502"]
[null,{"$f":"IFERROR(INDEX($G$7:$H$13233,$L6625,COLUMNS($B$6:B6624)),\"\")","v":"41101518"},"Laboratory blenders or emulsifiers",null,null,null,"41101518","Laboratory blenders or emulsifiers","41101518",6619,6619,6619,"41101518"]
[null,{"$f":"IFERROR(INDEX($G$7:$H$13233,$L6629,COLUMNS($B$6:B6628)),\"\")","v":"41101700"},"Laboratory boring and grinding and cutting and crushing and pressing equipment",null,null,null,"41101700","Laboratory boring and grinding and cutting and crushing and pressing equipment","41101700",6623,6623,6623,"41101700"]
[null,{"$f":"IFERROR(INDEX($G$7:$H$13233,$L6632,COLUMNS($B$6:B6631)),\"\")","v":"41104601"},"Laboratory box furnaces",null,null,null,"41104601","Laboratory box furnaces","41104601",6626,6626,6626,"41104601"]
[null,{"$f":"IFERROR(INDEX($G$7:$H$13233,$L6638,COLUMNS($B$6:B6637)),\"\")","v":"41104908"},"Laboratory cartridge element filters",null,null,null,"41104908","Laboratory cartridge element filters","41104908",6632,6632,6632,"41104908"]
[null,{"$f":"IFERROR(INDEX($G$7:$H$13233,$L6644,COLUMNS($B$6:B6643)),\"\")","v":"41103023"},"Laboratory chillers",null,null,null,"41103023","Laboratory chillers","41103023",6638,6638,6638,"41103023"]
[null,{"$f":"IFERROR(INDEX($G$7:$H$13233,$L6649,COLUMNS($B$6:B6648)),\"\")","v":"41122501"},"Laboratory corks",null,null,null,"41122501","Laboratory corks","41122501",6643,6643,6643,"41122501"]
[null,{"$f":"IFERROR(INDEX($G$7:$H$13233,$L6655,COLUMNS($B$6:B6654)),\"\")","v":"41103033"},"Laboratory dewar flask",null,null,null,"41103033","Laboratory dewar flask","41103033",6649,6649,6649,"41103033"]
[null,{"$f":"IFERROR(INDEX($G$7:$H$13233,$L6661,COLUMNS($B$6:B6660)),\"\")","v":"41105107"},"Laboratory drum pumps",null,null,null,"41105107","Laboratory drum pumps","41105107",6655,6655,6655,"41105107"]
[null,{"$f":"IFERROR(INDEX($G$7:$H$13233,$L6666,COLUMNS($B$6:B6665)),\"\")","v":"41102500"},"Laboratory entomological equipment and accessories",null,null,null,"41102500","Laboratory entomological equipment and accessories","41102500",6660,6660,6660,"41102500"]
[null,{"$f":"IFERROR(INDEX($G$7:$H$13233,$L6672,COLUMNS($B$6:B6671)),\"\")","v":"85121811"},"Laboratory equipment rental service",null,null,null,"85121811","Laboratory equipment rental service","85121811",6666,6666,6666,"85121811"]
[null,{"$f":"IFERROR(INDEX($G$7:$H$13233,$L6678,COLUMNS($B$6:B6677)),\"\")","v":"41104925"},"Laboratory filtration hardware or accessories",null,null,null,"41104925","Laboratory filtration hardware or accessories","41104925",6672,6672,6672,"41104925"]
[null,{"$f":"IFERROR(INDEX($G$7:$H$13233,$L6684,COLUMNS($B$6:B6683)),\"\")","v":"41112220"},"Laboratory freezer or refrigerator thermometers",null,null,null,"41112220","Laboratory freezer or refrigerator thermometers","41112220",6678,6678,6678,"41112220"]
[null,{"$f":"IFERROR(INDEX($G$7:$H$13233,$L6689,COLUMNS($B$6:B6688)),\"\")","v":"41104600"},"Laboratory furnaces and accessories",null,null,null,"41104600","Laboratory furnaces and accessories","41104600",6683,6683,6683,"41104600"]
[null,{"$f":"IFERROR(INDEX($G$7:$H$13233,$L6695,COLUMNS($B$6:B6694)),\"\")","v":"41121816"},"Laboratory glass tube",null,null,null,"41121816","Laboratory glass tube","41121816",6689,6689,6689,"41121816"]
[null,{"$f":"IFERROR(INDEX($G$7:$H$13233,$L6698,COLUMNS($B$6:B6697)),\"\")","v":"41112243"},"Laboratory heat block thermometer",null,null,null,"41112243","Laboratory heat block thermometer","41112243",6692,6692,6692,"41112243"]
[null,{"$f":"IFERROR(INDEX($G$7:$H$13233,$L6702,COLUMNS($B$6:B6701)),\"\")","v":"41104919"},"Laboratory HEPA filters",null,null,null,"41104919","Laboratory HEPA filters","41104919",6696,6696,6696,"41104919"]
[null,{"$f":"IFERROR(INDEX($G$7:$H$13233,$L6707,COLUMNS($B$6:B6706)),\"\")","v":"41104400"},"Laboratory incubating equipment",null,null,null,"41104400","Laboratory incubating equipment","41104400",6701,6701,6701,"41104400"]
[null,{"$f":"IFERROR(INDEX($G$7:$H$13233,$L6715,COLUMNS($B$6:B6714)),\"\")","v":"41104921"},"Laboratory membrane filters",null,null,null,"41104921","Laboratory membrane filters","41104921",6709,6709,6709,"41104921"]
[null,{"$f":"IFERROR(INDEX($G$7:$H$13233,$L6719,COLUMNS($B$6:B6718)),\"\")","v":"41104507"},"Laboratory microwave ovens",null,null,null,"41104507","Laboratory microwave ovens","41104507",6713,6713,6713,"41104507"]
[null,{"$f":"IFERROR(INDEX($G$7:$H$13233,$L6725,COLUMNS($B$6:B6724)),\"\")","v":"41104512"},"Laboratory oven accessories",null,null,null,"41104512","Laboratory oven accessories","41104512",6719,6719,6719,"41104512"]
[null,{"$f":"IFERROR(INDEX($G$7:$H$13233,$L6732,COLUMNS($B$6:B6731)),\"\")","v":"41103817"},"Laboratory reactor",null,null,null,"41103817","Laboratory reactor","41103817",6726,6726,6726,"41103817"]
[null,{"$f":"IFERROR(INDEX($G$7:$H$13233,$L6736,COLUMNS($B$6:B6735)),\"\")","v":"41122408"},"Laboratory scissors",null,null,null,"41122408","Laboratory scissors","41122408",6730,6730,6730,"41122408"]
[null,{"$f":"IFERROR(INDEX($G$7:$H$13233,$L6742,COLUMNS($B$6:B6741)),\"\")","v":"41105000"},"Laboratory sieves and sifting equipment and supplies",null,null,null,"41105000","Laboratory sieves and sifting equipment and supplies","41105000",6736,6736,6736,"41105000"]
[null,{"$f":"IFERROR(INDEX($G$7:$H$13233,$L6749,COLUMNS($B$6:B6748)),\"\")","v":"41121810"},"Laboratory staining dishes or jars",null,null,null,"41121810","Laboratory staining dishes or jars","41121810",6743,6743,6743,"41121810"]
[null,{"$f":"IFERROR(INDEX($G$7:$H$13233,$L6754,COLUMNS($B$6:B6753)),\"\")","v":"41122502"},"Laboratory stoppers",null,null,null,"41122502","Laboratory stoppers","41122502",6748,6748,6748,"41122502"]
[null,{"$f":"IFERROR(INDEX($G$7:$H$13233,$L6758,COLUMNS($B$6:B6757)),\"\")","v":"41122700"},"Laboratory tapes and labels",null,null,null,"41122700","Laboratory tapes and labels","41122700",6752,6752,6752,"41122700"]
[null,{"$f":"IFERROR(INDEX($G$7:$H$13233,$L6765,COLUMNS($B$6:B6764)),\"\")","v":"95141902"},"Laboratory unit",null,null,null,"95141902","Laboratory unit","95141902",6759,6759,6759,"95141902"]
[null,{"$f":"IFERROR(INDEX($G$7:$H$13233,$L6766,COLUMNS($B$6:B6765)),\"\")","v":"41105101"},"Laboratory vacuum pumps",null,null,null,"41105101","Laboratory vacuum pumps","41105101",6760,6760,6760,"41105101"]
[null,{"$f":"IFERROR(INDEX($G$7:$H$13233,$L6775,COLUMNS($B$6:B6774)),\"\")","v":"41104200"},"Laboratory water purification equipment and supplies",null,null,null,"41104200","Laboratory water purification equipment and supplies","41104200",6769,6769,6769,"41104200"]
[null,{"$f":"IFERROR(INDEX($G$7:$H$13233,$L6777,COLUMNS($B$6:B6776)),\"\")","v":"41103324"},"Laboratory wave generator",null,null,null,"41103324","Laboratory wave generator","41103324",6771,6771,6771,"41103324"]
[null,{"$f":"IFERROR(INDEX($G$7:$H$13233,$L6783,COLUMNS($B$6:B6782)),\"\")","v":"51171605"},"Lactulose",null,null,null,"51171605","Lactulose","51171605",6777,6777,6777,"51171605"]
[null,{"$f":"IFERROR(INDEX($G$7:$H$13233,$L6792,COLUMNS($B$6:B6791)),\"\")","v":"44102001"},"Lamination film",null,null,null,"44102001","Lamination film","44102001",6786,6786,6786,"44102001"]
[null,{"$f":"IFERROR(INDEX($G$7:$H$13233,$L6795,COLUMNS($B$6:B6794)),\"\")","v":"44102801"},"Laminators",null,null,null,"44102801","Laminators","44102801",6789,6789,6789,"44102801"]
[null,{"$f":"IFERROR(INDEX($G$7:$H$13233,$L6801,COLUMNS($B$6:B6800)),\"\")","v":"39101900"},"Lamp Ballasts and Lamp Transformers",null,null,null,"39101900","Lamp Ballasts and Lamp Transformers","39101900",6795,6795,6795,"39101900"]
[null,{"$f":"IFERROR(INDEX($G$7:$H$13233,$L6806,COLUMNS($B$6:B6805)),\"\")","v":"39101600"},"Lamps and lightbulbs",null,null,null,"39101600","Lamps and lightbulbs","39101600",6800,6800,6800,"39101600"]
[null,{"$f":"IFERROR(INDEX($G$7:$H$13233,$L6812,COLUMNS($B$6:B6811)),\"\")","v":"70131700"},"Land and soil management",null,null,null,"70131700","Land and soil management","70131700",6806,6806,6806,"70131700"]
[null,{"$f":"IFERROR(INDEX($G$7:$H$13233,$L6818,COLUMNS($B$6:B6817)),\"\")","v":"72141102"},"Land grading service",null,null,null,"72141102","Land grading service","72141102",6812,6812,6812,"72141102"]
[null,{"$f":"IFERROR(INDEX($G$7:$H$13233,$L6824,COLUMNS($B$6:B6823)),\"\")","v":"77111603"},"Land rehabilitation services",null,null,null,"77111603","Land rehabilitation services","77111603",6818,6818,6818,"77111603"]
[null,{"$f":"IFERROR(INDEX($G$7:$H$13233,$L6829,COLUMNS($B$6:B6828)),\"\")","v":"76122003"},"Landfill for hazardous waste",null,null,null,"76122003","Landfill for hazardous waste","76122003",6823,6823,6823,"76122003"]
[null,{"$f":"IFERROR(INDEX($G$7:$H$13233,$L6835,COLUMNS($B$6:B6834)),\"\")","v":"30121800"},"Landscape architecture materials",null,null,null,"30121800","Landscape architecture materials","30121800",6829,6829,6829,"30121800"]
[null,{"$f":"IFERROR(INDEX($G$7:$H$13233,$L6836,COLUMNS($B$6:B6835)),\"\")","v":"72102906"},"Landscape architecture service",null,null,null,"72102906","Landscape architecture service","72102906",6830,6830,6830,"72102906"]
[null,{"$f":"IFERROR(INDEX($G$7:$H$13233,$L6841,COLUMNS($B$6:B6840)),\"\")","v":"86111700"},"Language schooling",null,null,null,"86111700","Language schooling","86111700",6835,6835,6835,"86111700"]
[null,{"$f":"IFERROR(INDEX($G$7:$H$13233,$L6846,COLUMNS($B$6:B6845)),\"\")","v":"42295406"},"Laparotomy or surgical x-ray detectable sponges or towels",null,null,null,"42295406","Laparotomy or surgical x-ray detectable sponges or towels","42295406",6840,6840,6840,"42295406"]
[null,{"$f":"IFERROR(INDEX($G$7:$H$13233,$L6853,COLUMNS($B$6:B6852)),\"\")","v":"42192617"},"Laryngeal sprays",null,null,null,"42192617","Laryngeal sprays","42192617",6847,6847,6847,"42192617"]
[null,{"$f":"IFERROR(INDEX($G$7:$H$13233,$L6861,COLUMNS($B$6:B6860)),\"\")","v":"51241110"},"Latanoprost",null,null,null,"51241110","Latanoprost","51241110",6855,6855,6855,"51241110"]
[null,{"$f":"IFERROR(INDEX($G$7:$H$13233,$L6865,COLUMNS($B$6:B6864)),\"\")","v":"14122106"},"Latex treated uncoated paper",null,null,null,"14122106","Latex treated uncoated paper","14122106",6859,6859,6859,"14122106"]
[null,{"$f":"IFERROR(INDEX($G$7:$H$13233,$L6870,COLUMNS($B$6:B6869)),\"\")","v":"47111507"},"Laundry drying stand",null,null,null,"47111507","Laundry drying stand","47111507",6864,6864,6864,"47111507"]
[null,{"$f":"IFERROR(INDEX($G$7:$H$13233,$L6878,COLUMNS($B$6:B6877)),\"\")","v":"55101531"},"Law book",null,null,null,"55101531","Law book","55101531",6872,6872,6872,"55101531"]
[null,{"$f":"IFERROR(INDEX($G$7:$H$13233,$L6882,COLUMNS($B$6:B6881)),\"\")","v":"70111706"},"Lawn care services",null,null,null,"70111706","Lawn care services","70111706",6876,6876,6876,"70111706"]
[null,{"$f":"IFERROR(INDEX($G$7:$H$13233,$L6887,COLUMNS($B$6:B6886)),\"\")","v":"41111772"},"LCR Meter ",null,null,null,"41111772","LCR Meter ","41111772",6881,6881,6881,"41111772"]
[null,{"$f":"IFERROR(INDEX($G$7:$H$13233,$L6889,COLUMNS($B$6:B6888)),\"\")","v":"43202208"},"Lead assemblies",null,null,null,"43202208","Lead assemblies","43202208",6883,6883,6883,"43202208"]
[null,{"$f":"IFERROR(INDEX($G$7:$H$13233,$L6899,COLUMNS($B$6:B6898)),\"\")","v":"14111617"},"Leathack paper",null,null,null,"14111617","Leathack paper","14111617",6893,6893,6893,"14111617"]
[null,{"$f":"IFERROR(INDEX($G$7:$H$13233,$L6904,COLUMNS($B$6:B6903)),\"\")","v":"11162300"},"Leathers",null,null,null,"11162300","Leathers","11162300",6898,6898,6898,"11162300"]
[null,{"$f":"IFERROR(INDEX($G$7:$H$13233,$L6910,COLUMNS($B$6:B6909)),\"\")","v":"51202501"},"Leflunomide",null,null,null,"51202501","Leflunomide","51202501",6904,6904,6904,"51202501"]
[null,{"$f":"IFERROR(INDEX($G$7:$H$13233,$L6911,COLUMNS($B$6:B6910)),\"\")","v":"42241705"},"Leg orthopedic softgoods",null,null,null,"42241705","Leg orthopedic softgoods","42241705",6905,6905,6905,"42241705"]
[null,{"$f":"IFERROR(INDEX($G$7:$H$13233,$L6921,COLUMNS($B$6:B6920)),\"\")","v":"93101706"},"Legislators services",null,null,null,"93101706","Legislators services","93101706",6915,6915,6915,"93101706"]
[null,{"$f":"IFERROR(INDEX($G$7:$H$13233,$L6923,COLUMNS($B$6:B6922)),\"\")","v":"42212100"},"Leisure and recreational aids for the physically challenged",null,null,null,"42212100","Leisure and recreational aids for the physically challenged","42212100",6917,6917,6917,"42212100"]
[null,{"$f":"IFERROR(INDEX($G$7:$H$13233,$L6928,COLUMNS($B$6:B6927)),\"\")","v":"50404500"},"Lentils",null,null,null,"50404500","Lentils","50404500",6922,6922,6922,"50404500"]
[null,{"$f":"IFERROR(INDEX($G$7:$H$13233,$L6936,COLUMNS($B$6:B6935)),\"\")","v":"78102204"},"Letter or small parcel worldwide delivery services",null,null,null,"78102204","Letter or small parcel worldwide delivery services","78102204",6930,6930,6930,"78102204"]
[null,{"$f":"IFERROR(INDEX($G$7:$H$13233,$L6940,COLUMNS($B$6:B6939)),\"\")","v":"45101503"},"Letterpress equipment",null,null,null,"45101503","Letterpress equipment","45101503",6934,6934,6934,"45101503"]
[null,{"$f":"IFERROR(INDEX($G$7:$H$13233,$L6945,COLUMNS($B$6:B6944)),\"\")","v":"72141209"},"Levee construction service",null,null,null,"72141209","Levee construction service","72141209",6939,6939,6939,"72141209"]
[null,{"$f":"IFERROR(INDEX($G$7:$H$13233,$L6953,COLUMNS($B$6:B6952)),\"\")","v":"51313205"},"Levocabastine",null,null,null,"51313205","Levocabastine","51313205",6947,6947,6947,"51313205"]
[null,{"$f":"IFERROR(INDEX($G$7:$H$13233,$L6957,COLUMNS($B$6:B6956)),\"\")","v":"51332855"},"Levomepromazine hydrochloride",null,null,null,"51332855","Levomepromazine hydrochloride","51332855",6951,6951,6951,"51332855"]
[null,{"$f":"IFERROR(INDEX($G$7:$H$13233,$L6964,COLUMNS($B$6:B6963)),\"\")","v":"84131607"},"Liability insurance",null,null,null,"84131607","Liability insurance","84131607",6958,6958,6958,"84131607"]
[null,{"$f":"IFERROR(INDEX($G$7:$H$13233,$L6969,COLUMNS($B$6:B6968)),\"\")","v":"56121000"},"Library furnishings",null,null,null,"56121000","Library furnishings","56121000",6963,6963,6963,"56121000"]
[null,{"$f":"IFERROR(INDEX($G$7:$H$13233,$L6974,COLUMNS($B$6:B6973)),\"\")","v":"93151517"},"License or registration fee",null,null,null,"93151517","License or registration fee","93151517",6968,6968,6968,"93151517"]
[null,{"$f":"IFERROR(INDEX($G$7:$H$13233,$L6979,COLUMNS($B$6:B6978)),\"\")","v":"46151716"},"Lie detector",null,null,null,"46151716","Lie detector","46151716",6973,6973,6973,"46151716"]
[null,{"$f":"IFERROR(INDEX($G$7:$H$13233,$L6981,COLUMNS($B$6:B6980)),\"\")","v":"46161605"},"Life buoy",null,null,null,"46161605","Life buoy","46161605",6975,6975,6975,"46161605"]
[null,{"$f":"IFERROR(INDEX($G$7:$H$13233,$L6986,COLUMNS($B$6:B6985)),\"\")","v":"92101903"},"Life saving helicopter services",null,null,null,"92101903","Life saving helicopter services","92101903",6980,6980,6980,"92101903"]
[null,{"$f":"IFERROR(INDEX($G$7:$H$13233,$L6996,COLUMNS($B$6:B6995)),\"\")","v":"24101604"},"Lifts",null,null,null,"24101604","Lifts","24101604",6990,6990,6990,"24101604"]
[null,{"$f":"IFERROR(INDEX($G$7:$H$13233,$L6998,COLUMNS($B$6:B6997)),\"\")","v":"41115300"},"Light and wave generating and measuring equipment",null,null,null,"41115300","Light and wave generating and measuring equipment","41115300",6992,6992,6992,"41115300"]
[null,{"$f":"IFERROR(INDEX($G$7:$H$13233,$L7003,COLUMNS($B$6:B7002)),\"\")","v":"41102703"},"Light scattering equipment",null,null,null,"41102703","Light scattering equipment","41102703",6997,6997,6997,"41102703"]
[null,{"$f":"IFERROR(INDEX($G$7:$H$13233,$L7007,COLUMNS($B$6:B7006)),\"\")","v":"46100000"},"Light weapons and ammunition",null,null,null,"46100000","Light weapons and ammunition","46100000",7001,7001,7001,"46100000"]
[null,{"$f":"IFERROR(INDEX($G$7:$H$13233,$L7015,COLUMNS($B$6:B7014)),\"\")","v":"39110000"},"Lighting Fixtures and Accessories",null,null,null,"39110000","Lighting Fixtures and Accessories","39110000",7009,7009,7009,"39110000"]
[null,{"$f":"IFERROR(INDEX($G$7:$H$13233,$L7022,COLUMNS($B$6:B7021)),\"\")","v":"41115308"},"Lightmeters",null,null,null,"41115308","Lightmeters","41115308",7016,7016,7016,"41115308"]
[null,{"$f":"IFERROR(INDEX($G$7:$H$13233,$L7027,COLUMNS($B$6:B7026)),\"\")","v":"11111608"},"Limestone",null,null,null,"11111608","Limestone","11111608",7021,7021,7021,"11111608"]
[null,{"$f":"IFERROR(INDEX($G$7:$H$13233,$L7032,COLUMNS($B$6:B7031)),\"\")","v":"41116149"},"Limulus amebocyte lysate LAL tester",null,null,null,"41116149","Limulus amebocyte lysate LAL tester","41116149",7026,7026,7026,"41116149"]
[null,{"$f":"IFERROR(INDEX($G$7:$H$13233,$L7039,COLUMNS($B$6:B7038)),\"\")","v":"41113627"},"Line earth loop testers",null,null,null,"41113627","Line earth loop testers","41113627",7033,7033,7033,"41113627"]
[null,{"$f":"IFERROR(INDEX($G$7:$H$13233,$L7044,COLUMNS($B$6:B7043)),\"\")","v":"14111616"},"Lining papers",null,null,null,"14111616","Lining papers","14111616",7038,7038,7038,"14111616"]
[null,{"$f":"IFERROR(INDEX($G$7:$H$13233,$L7045,COLUMNS($B$6:B7044)),\"\")","v":"72152505"},"Linoleum installation service",null,null,null,"72152505","Linoleum installation service","72152505",7039,7039,7039,"72152505"]
[null,{"$f":"IFERROR(INDEX($G$7:$H$13233,$L7050,COLUMNS($B$6:B7049)),\"\")","v":"51201831"},"Lipegfilgrastim",null,null,null,"51201831","Lipegfilgrastim","51201831",7044,7044,7044,"51201831"]
[null,{"$f":"IFERROR(INDEX($G$7:$H$13233,$L7056,COLUMNS($B$6:B7055)),\"\")","v":"41112500"},"Liquid and gas flow measuring and observing instruments",null,null,null,"41112500","Liquid and gas flow measuring and observing instruments","41112500",7050,7050,7050,"41112500"]
[null,{"$f":"IFERROR(INDEX($G$7:$H$13233,$L7062,COLUMNS($B$6:B7061)),\"\")","v":"45111614"},"Liquid crystal display projector",null,null,null,"45111614","Liquid crystal display projector","45111614",7056,7056,7056,"45111614"]
[null,{"$f":"IFERROR(INDEX($G$7:$H$13233,$L7067,COLUMNS($B$6:B7066)),\"\")","v":"41103028"},"Liquid nitrogen measuring stick",null,null,null,"41103028","Liquid nitrogen measuring stick","41103028",7061,7061,7061,"41103028"]
[null,{"$f":"IFERROR(INDEX($G$7:$H$13233,$L7073,COLUMNS($B$6:B7072)),\"\")","v":"41111954"},"Liquid sensor",null,null,null,"41111954","Liquid sensor","41111954",7067,7067,7067,"41111954"]
[null,{"$f":"IFERROR(INDEX($G$7:$H$13233,$L7082,COLUMNS($B$6:B7081)),\"\")","v":"45111703"},"Listening centers",null,null,null,"45111703","Listening centers","45111703",7076,7076,7076,"45111703"]
[null,{"$f":"IFERROR(INDEX($G$7:$H$13233,$L7085,COLUMNS($B$6:B7084)),\"\")","v":"26111711"},"Lithium batteries",null,null,null,"26111711","Lithium batteries","26111711",7079,7079,7079,"26111711"]
[null,{"$f":"IFERROR(INDEX($G$7:$H$13233,$L7091,COLUMNS($B$6:B7090)),\"\")","v":"10101602"},"Live ducks",null,null,null,"10101602","Live ducks","10101602",7085,7085,7085,"10101602"]
[null,{"$f":"IFERROR(INDEX($G$7:$H$13233,$L7093,COLUMNS($B$6:B7092)),\"\")","v":"10121601"},"Live food for birds",null,null,null,"10121601","Live food for birds","10121601",7087,7087,7087,"10121601"]
[null,{"$f":"IFERROR(INDEX($G$7:$H$13233,$L7102,COLUMNS($B$6:B7101)),\"\")","v":"10101801"},"Live shrimp",null,null,null,"10101801","Live shrimp","10101801",7096,7096,7096,"10101801"]
[null,{"$f":"IFERROR(INDEX($G$7:$H$13233,$L7108,COLUMNS($B$6:B7107)),\"\")","v":"70121602"},"Livestock genetics services",null,null,null,"70121602","Livestock genetics services","70121602",7102,7102,7102,"70121602"]
[null,{"$f":"IFERROR(INDEX($G$7:$H$13233,$L7110,COLUMNS($B$6:B7109)),\"\")","v":"21101905"},"Livestock identification equipment",null,null,null,"21101905","Livestock identification equipment","21101905",7104,7104,7104,"21101905"]
[null,{"$f":"IFERROR(INDEX($G$7:$H$13233,$L7115,COLUMNS($B$6:B7114)),\"\")","v":"70120000"},"Livestock services",null,null,null,"70120000","Livestock services","70120000",7109,7109,7109,"70120000"]
[null,{"$f":"IFERROR(INDEX($G$7:$H$13233,$L7125,COLUMNS($B$6:B7124)),\"\")","v":"24101605"},"Loading equipment",null,null,null,"24101605","Loading equipment","24101605",7119,7119,7119,"24101605"]
[null,{"$f":"IFERROR(INDEX($G$7:$H$13233,$L7126,COLUMNS($B$6:B7125)),\"\")","v":"24101615"},"Loading ramps",null,null,null,"24101615","Loading ramps","24101615",7120,7120,7120,"24101615"]
[null,{"$f":"IFERROR(INDEX($G$7:$H$13233,$L7132,COLUMNS($B$6:B7131)),\"\")","v":"83112601"},"Local loop capacities",null,null,null,"83112601","Local loop capacities","83112601",7126,7126,7126,"83112601"]
[null,{"$f":"IFERROR(INDEX($G$7:$H$13233,$L7136,COLUMNS($B$6:B7135)),\"\")","v":"56101520"},"Lockers",null,null,null,"56101520","Lockers","56101520",7130,7130,7130,"56101520"]
[null,{"$f":"IFERROR(INDEX($G$7:$H$13233,$L7143,COLUMNS($B$6:B7142)),\"\")","v":"23231000"},"Log debarkers and accessories",null,null,null,"23231000","Log debarkers and accessories","23231000",7137,7137,7137,"23231000"]
[null,{"$f":"IFERROR(INDEX($G$7:$H$13233,$L7149,COLUMNS($B$6:B7148)),\"\")","v":"57070100"},"Logistics emergency kits",null,null,null,"57070100","Logistics emergency kits","57070100",7143,7143,7143,"57070100"]
[null,{"$f":"IFERROR(INDEX($G$7:$H$13233,$L7153,COLUMNS($B$6:B7152)),\"\")","v":"42192425"},"Long distance response LDR trauma cases or bags",null,null,null,"42192425","Long distance response LDR trauma cases or bags","42192425",7147,7147,7147,"42192425"]
[null,{"$f":"IFERROR(INDEX($G$7:$H$13233,$L7161,COLUMNS($B$6:B7160)),\"\")","v":"51343814"},"Lopinavir/ritonavir",null,null,null,"51343814","Lopinavir/ritonavir","51343814",7155,7155,7155,"51343814"]
[null,{"$f":"IFERROR(INDEX($G$7:$H$13233,$L7166,COLUMNS($B$6:B7165)),\"\")","v":"51432305"},"Losartan",null,null,null,"51432305","Losartan","51432305",7160,7160,7160,"51432305"]
[null,{"$f":"IFERROR(INDEX($G$7:$H$13233,$L7170,COLUMNS($B$6:B7169)),\"\")","v":"25102101"},"Low cab forward tractors",null,null,null,"25102101","Low cab forward tractors","25102101",7164,7164,7164,"25102101"]
[null,{"$f":"IFERROR(INDEX($G$7:$H$13233,$L7178,COLUMNS($B$6:B7177)),\"\")","v":"41112226"},"Low temperature thermocouple sensor",null,null,null,"41112226","Low temperature thermocouple sensor","41112226",7172,7172,7172,"41112226"]
[null,{"$f":"IFERROR(INDEX($G$7:$H$13233,$L7179,COLUMNS($B$6:B7178)),\"\")","v":"41113676"},"Low voltage tester",null,null,null,"41113676","Low voltage tester","41113676",7173,7173,7173,"41113676"]
[null,{"$f":"IFERROR(INDEX($G$7:$H$13233,$L7189,COLUMNS($B$6:B7188)),\"\")","v":"51383905"},"Lysine clonixinate",null,null,null,"51383905","Lysine clonixinate","51383905",7183,7183,7183,"51383905"]
[null,{"$f":"IFERROR(INDEX($G$7:$H$13233,$L7190,COLUMNS($B$6:B7189)),\"\")","v":"14122102"},"Machine finished or glazed kraft paper",null,null,null,"14122102","Machine finished or glazed kraft paper","14122102",7184,7184,7184,"14122102"]
[null,{"$f":"IFERROR(INDEX($G$7:$H$13233,$L7196,COLUMNS($B$6:B7195)),\"\")","v":"73160000"},"Machinery and transport equipment manufacture",null,null,null,"73160000","Machinery and transport equipment manufacture","73160000",7190,7190,7190,"73160000"]
[null,{"$f":"IFERROR(INDEX($G$7:$H$13233,$L7202,COLUMNS($B$6:B7201)),\"\")","v":"31390000"},"Machinings",null,null,null,"31390000","Machinings","31390000",7196,7196,7196,"31390000"]
[null,{"$f":"IFERROR(INDEX($G$7:$H$13233,$L7207,COLUMNS($B$6:B7206)),\"\")","v":"44122005"},"Magazine or book covers",null,null,null,"44122005","Magazine or book covers","44122005",7201,7201,7201,"44122005"]
[null,{"$f":"IFERROR(INDEX($G$7:$H$13233,$L7213,COLUMNS($B$6:B7212)),\"\")","v":"51171510"},"Magnesium trisilicate",null,null,null,"51171510","Magnesium trisilicate","51171510",7207,7207,7207,"51171510"]
[null,{"$f":"IFERROR(INDEX($G$7:$H$13233,$L7219,COLUMNS($B$6:B7218)),\"\")","v":"44101710"},"Magnetic pickup assemblies",null,null,null,"44101710","Magnetic pickup assemblies","44101710",7213,7213,7213,"44101710"]
[null,{"$f":"IFERROR(INDEX($G$7:$H$13233,$L7224,COLUMNS($B$6:B7223)),\"\")","v":"41103806"},"Magnetic stirrers",null,null,null,"41103806","Magnetic stirrers","41103806",7218,7218,7218,"41103806"]
[null,{"$f":"IFERROR(INDEX($G$7:$H$13233,$L7228,COLUMNS($B$6:B7227)),\"\")","v":"44122122"},"Magnetic thumbtack",null,null,null,"44122122","Magnetic thumbtack","44122122",7222,7222,7222,"44122122"]
[null,{"$f":"IFERROR(INDEX($G$7:$H$13233,$L7236,COLUMNS($B$6:B7235)),\"\")","v":"78100000"},"Mail and cargo transport",null,null,null,"78100000","Mail and cargo transport","78100000",7230,7230,7230,"78100000"]
[null,{"$f":"IFERROR(INDEX($G$7:$H$13233,$L7239,COLUMNS($B$6:B7238)),\"\")","v":"44102100"},"Mail machines",null,null,null,"44102100","Mail machines","44102100",7233,7233,7233,"44102100"]
[null,{"$f":"IFERROR(INDEX($G$7:$H$13233,$L7248,COLUMNS($B$6:B7247)),\"\")","v":"44121509"},"Mailing bags",null,null,null,"44121509","Mailing bags","44121509",7242,7242,7242,"44121509"]
[null,{"$f":"IFERROR(INDEX($G$7:$H$13233,$L7253,COLUMNS($B$6:B7252)),\"\")","v":"44121510"},"Mailing seals",null,null,null,"44121510","Mailing seals","44121510",7247,7247,7247,"44121510"]
[null,{"$f":"IFERROR(INDEX($G$7:$H$13233,$L7256,COLUMNS($B$6:B7255)),\"\")","v":"81111802"},"Mainframe administration services",null,null,null,"81111802","Mainframe administration services","81111802",7250,7250,7250,"81111802"]
[null,{"$f":"IFERROR(INDEX($G$7:$H$13233,$L7260,COLUMNS($B$6:B7259)),\"\")","v":"81111501"},"Mainframe software applications design",null,null,null,"81111501","Mainframe software applications design","81111501",7254,7254,7254,"81111501"]
[null,{"$f":"IFERROR(INDEX($G$7:$H$13233,$L7265,COLUMNS($B$6:B7264)),\"\")","v":"51201657"},"Malaria vaccine",null,null,null,"51201657","Malaria vaccine","51201657",7259,7259,7259,"51201657"]
[null,{"$f":"IFERROR(INDEX($G$7:$H$13233,$L7271,COLUMNS($B$6:B7270)),\"\")","v":"41106508"},"Mammalian cell expression kits",null,null,null,"41106508","Mammalian cell expression kits","41106508",7265,7265,7265,"41106508"]
[null,{"$f":"IFERROR(INDEX($G$7:$H$13233,$L7277,COLUMNS($B$6:B7276)),\"\")","v":"80000000"},"Management and Business Professionals and Administrative Services",null,null,null,"80000000","Management and Business Professionals and Administrative Services","80000000",7271,7271,7271,"80000000"]
[null,{"$f":"IFERROR(INDEX($G$7:$H$13233,$L7282,COLUMNS($B$6:B7281)),\"\")","v":"60131307"},"Mandolins",null,null,null,"60131307","Mandolins","60131307",7276,7276,7276,"60131307"]
[null,{"$f":"IFERROR(INDEX($G$7:$H$13233,$L7289,COLUMNS($B$6:B7288)),\"\")","v":"30121605"},"Manhole frames with covers",null,null,null,"30121605","Manhole frames with covers","30121605",7283,7283,7283,"30121605"]
[null,{"$f":"IFERROR(INDEX($G$7:$H$13233,$L7294,COLUMNS($B$6:B7293)),\"\")","v":"41103311"},"Manometers",null,null,null,"41103311","Manometers","41103311",7288,7288,7288,"41103311"]
[null,{"$f":"IFERROR(INDEX($G$7:$H$13233,$L7297,COLUMNS($B$6:B7296)),\"\")","v":"41116165"},"Manual blood culture system",null,null,null,"41116165","Manual blood culture system","41116165",7291,7291,7291,"41116165"]
[null,{"$f":"IFERROR(INDEX($G$7:$H$13233,$L7306,COLUMNS($B$6:B7305)),\"\")","v":"41121505"},"Manual single channel positive displacement pipetters",null,null,null,"41121505","Manual single channel positive displacement pipetters","41121505",7300,7300,7300,"41121505"]
[null,{"$f":"IFERROR(INDEX($G$7:$H$13233,$L7311,COLUMNS($B$6:B7310)),\"\")","v":"73171500"},"Manufacture of electrical goods",null,null,null,"73171500","Manufacture of electrical goods","73171500",7305,7305,7305,"73171500"]
[null,{"$f":"IFERROR(INDEX($G$7:$H$13233,$L7314,COLUMNS($B$6:B7313)),\"\")","v":"73171600"},"Manufacture of precision instruments",null,null,null,"73171600","Manufacture of precision instruments","73171600",7308,7308,7308,"73171600"]
[null,{"$f":"IFERROR(INDEX($G$7:$H$13233,$L7323,COLUMNS($B$6:B7322)),\"\")","v":"81140000"},"Manufacturing technologies",null,null,null,"81140000","Manufacturing technologies","81140000",7317,7317,7317,"81140000"]
[null,{"$f":"IFERROR(INDEX($G$7:$H$13233,$L7328,COLUMNS($B$6:B7327)),\"\")","v":"81151601"},"Mapping",null,null,null,"81151601","Mapping","81151601",7322,7322,7322,"81151601"]
[null,{"$f":"IFERROR(INDEX($G$7:$H$13233,$L7331,COLUMNS($B$6:B7330)),\"\")","v":"70101901"},"Mariculture",null,null,null,"70101901","Mariculture","70101901",7325,7325,7325,"70101901"]
[null,{"$f":"IFERROR(INDEX($G$7:$H$13233,$L7335,COLUMNS($B$6:B7334)),\"\")","v":"81171500"},"Marine biology services",null,null,null,"81171500","Marine biology services","81171500",7329,7329,7329,"81171500"]
[null,{"$f":"IFERROR(INDEX($G$7:$H$13233,$L7340,COLUMNS($B$6:B7339)),\"\")","v":"78111704"},"Marine craft rental or leasing service",null,null,null,"78111704","Marine craft rental or leasing service","78111704",7334,7334,7334,"78111704"]
[null,{"$f":"IFERROR(INDEX($G$7:$H$13233,$L7347,COLUMNS($B$6:B7346)),\"\")","v":"26131505"},"Marine power plants",null,null,null,"26131505","Marine power plants","26131505",7341,7341,7341,"26131505"]
[null,{"$f":"IFERROR(INDEX($G$7:$H$13233,$L7352,COLUMNS($B$6:B7351)),\"\")","v":"42241516"},"Marker for splinting materials",null,null,null,"42241516","Marker for splinting materials","42241516",7346,7346,7346,"42241516"]
[null,{"$f":"IFERROR(INDEX($G$7:$H$13233,$L7357,COLUMNS($B$6:B7356)),\"\")","v":"80141500"},"Market research",null,null,null,"80141500","Market research","80141500",7351,7351,7351,"80141500"]
[null,{"$f":"IFERROR(INDEX($G$7:$H$13233,$L7364,COLUMNS($B$6:B7363)),\"\")","v":"80140000"},"Marketing and distribution",null,null,null,"80140000","Marketing and distribution","80140000",7358,7358,7358,"80140000"]
[null,{"$f":"IFERROR(INDEX($G$7:$H$13233,$L7369,COLUMNS($B$6:B7368)),\"\")","v":"46182005"},"Mask or respirators filters or accessories",null,null,null,"46182005","Mask or respirators filters or accessories","46182005",7363,7363,7363,"46182005"]
[null,{"$f":"IFERROR(INDEX($G$7:$H$13233,$L7374,COLUMNS($B$6:B7373)),\"\")","v":"72151900"},"Masonry and stonework services",null,null,null,"72151900","Masonry and stonework services","72151900",7368,7368,7368,"72151900"]
[null,{"$f":"IFERROR(INDEX($G$7:$H$13233,$L7381,COLUMNS($B$6:B7380)),\"\")","v":"12131706"},"Matches",null,null,null,"12131706","Matches","12131706",7375,7375,7375,"12131706"]
[null,{"$f":"IFERROR(INDEX($G$7:$H$13233,$L7387,COLUMNS($B$6:B7386)),\"\")","v":"78121600"},"Material handling services",null,null,null,"78121600","Material handling services","78121600",7381,7381,7381,"78121600"]
[null,{"$f":"IFERROR(INDEX($G$7:$H$13233,$L7391,COLUMNS($B$6:B7390)),\"\")","v":"43231506"},"Materials requirements planning logistics and supply chain software",null,null,null,"43231506","Materials requirements planning logistics and supply chain software","43231506",7385,7385,7385,"43231506"]
[null,{"$f":"IFERROR(INDEX($G$7:$H$13233,$L7398,COLUMNS($B$6:B7397)),\"\")","v":"51201646"},"Measles and rubella virus vaccine",null,null,null,"51201646","Measles and rubella virus vaccine","51201646",7392,7392,7392,"51201646"]
[null,{"$f":"IFERROR(INDEX($G$7:$H$13233,$L7400,COLUMNS($B$6:B7399)),\"\")","v":"42211914"},"Measuring aids for the physically challenged",null,null,null,"42211914","Measuring aids for the physically challenged","42211914",7394,7394,7394,"42211914"]
[null,{"$f":"IFERROR(INDEX($G$7:$H$13233,$L7405,COLUMNS($B$6:B7404)),\"\")","v":"41114203"},"Measuring tables",null,null,null,"41114203","Measuring tables","41114203",7399,7399,7399,"41114203"]
[null,{"$f":"IFERROR(INDEX($G$7:$H$13233,$L7411,COLUMNS($B$6:B7410)),\"\")","v":"41115829"},"Meat or dairy product analyzers",null,null,null,"41115829","Meat or dairy product analyzers","41115829",7405,7405,7405,"41115829"]
[null,{"$f":"IFERROR(INDEX($G$7:$H$13233,$L7417,COLUMNS($B$6:B7416)),\"\")","v":"81101600"},"Mechanical engineering",null,null,null,"81101600","Mechanical engineering","81101600",7411,7411,7411,"81101600"]
[null,{"$f":"IFERROR(INDEX($G$7:$H$13233,$L7422,COLUMNS($B$6:B7421)),\"\")","v":"20101800"},"Mechanized ground support systems",null,null,null,"20101800","Mechanized ground support systems","20101800",7416,7416,7416,"20101800"]
[null,{"$f":"IFERROR(INDEX($G$7:$H$13233,$L7428,COLUMNS($B$6:B7427)),\"\")","v":"41106210"},"Media or supplements for schizosaccharomyces pombe",null,null,null,"41106210","Media or supplements for schizosaccharomyces pombe","41106210",7422,7422,7422,"41106210"]
[null,{"$f":"IFERROR(INDEX($G$7:$H$13233,$L7434,COLUMNS($B$6:B7433)),\"\")","v":"45131700"},"Media storage",null,null,null,"45131700","Media storage","45131700",7428,7428,7428,"45131700"]
[null,{"$f":"IFERROR(INDEX($G$7:$H$13233,$L7439,COLUMNS($B$6:B7438)),\"\")","v":"42182103"},"Medical acoustic stethoscopes",null,null,null,"42182103","Medical acoustic stethoscopes","42182103",7433,7433,7433,"42182103"]
[null,{"$f":"IFERROR(INDEX($G$7:$H$13233,$L7445,COLUMNS($B$6:B7444)),\"\")","v":"42142601"},"Medical aspiration or irrigation syringes",null,null,null,"42142601","Medical aspiration or irrigation syringes","42142601",7439,7439,7439,"42142601"]
[null,{"$f":"IFERROR(INDEX($G$7:$H$13233,$L7451,COLUMNS($B$6:B7450)),\"\")","v":"42142603"},"Medical cartridge syringes",null,null,null,"42142603","Medical cartridge syringes","42142603",7445,7445,7445,"42142603"]
[null,{"$f":"IFERROR(INDEX($G$7:$H$13233,$L7457,COLUMNS($B$6:B7456)),\"\")","v":"42280000"},"Medical cleaning and sterilization products",null,null,null,"42280000","Medical cleaning and sterilization products","42280000",7451,7451,7451,"42280000"]
[null,{"$f":"IFERROR(INDEX($G$7:$H$13233,$L7460,COLUMNS($B$6:B7459)),\"\")","v":"42201508"},"Medical computed tomography CT or CAT monitors",null,null,null,"42201508","Medical computed tomography CT or CAT monitors","42201508",7454,7454,7454,"42201508"]
[null,{"$f":"IFERROR(INDEX($G$7:$H$13233,$L7468,COLUMNS($B$6:B7467)),\"\")","v":"42201841"},"Medical diagnostic x ray papers",null,null,null,"42201841","Medical diagnostic x ray papers","42201841",7462,7462,7462,"42201841"]
[null,{"$f":"IFERROR(INDEX($G$7:$H$13233,$L7469,COLUMNS($B$6:B7468)),\"\")","v":"42201800"},"Medical diagnostic x ray products",null,null,null,"42201800","Medical diagnostic x ray products","42201800",7463,7463,7463,"42201800"]
[null,{"$f":"IFERROR(INDEX($G$7:$H$13233,$L7477,COLUMNS($B$6:B7476)),\"\")","v":"42282010"},"Medical equipment and instrument disinfectant washing equipment",null,null,null,"42282010","Medical equipment and instrument disinfectant washing equipment","42282010",7471,7471,7471,"42282010"]
[null,{"$f":"IFERROR(INDEX($G$7:$H$13233,$L7480,COLUMNS($B$6:B7479)),\"\")","v":"42171900"},"Medical equipment bags and cases and carriers and related products",null,null,null,"42171900","Medical equipment bags and cases and carriers and related products","42171900",7474,7474,7474,"42171900"]
[null,{"$f":"IFERROR(INDEX($G$7:$H$13233,$L7486,COLUMNS($B$6:B7485)),\"\")","v":"78111815"},"Medical evacuation by ambulance",null,null,null,"78111815","Medical evacuation by ambulance","78111815",7480,7480,7480,"78111815"]
[null,{"$f":"IFERROR(INDEX($G$7:$H$13233,$L7494,COLUMNS($B$6:B7493)),\"\")","v":"42181502"},"Medical exam transilluminators",null,null,null,"42181502","Medical exam transilluminators","42181502",7488,7488,7488,"42181502"]
[null,{"$f":"IFERROR(INDEX($G$7:$H$13233,$L7498,COLUMNS($B$6:B7497)),\"\")","v":"42191500"},"Medical facility materials handling and distribution equipment",null,null,null,"42191500","Medical facility materials handling and distribution equipment","42191500",7492,7492,7492,"42191500"]
[null,{"$f":"IFERROR(INDEX($G$7:$H$13233,$L7503,COLUMNS($B$6:B7502)),\"\")","v":"42191710"},"Medical gas cylinder carts or stands",null,null,null,"42191710","Medical gas cylinder carts or stands","42191710",7497,7497,7497,"42191710"]
[null,{"$f":"IFERROR(INDEX($G$7:$H$13233,$L7509,COLUMNS($B$6:B7508)),\"\")","v":"42132200"},"Medical gloves and accessories",null,null,null,"42132200","Medical gloves and accessories","42132200",7503,7503,7503,"42132200"]
[null,{"$f":"IFERROR(INDEX($G$7:$H$13233,$L7515,COLUMNS($B$6:B7514)),\"\")","v":"42203705"},"Medical imaging dry laser printers or imagers",null,null,null,"42203705","Medical imaging dry laser printers or imagers","42203705",7509,7509,7509,"42203705"]
[null,{"$f":"IFERROR(INDEX($G$7:$H$13233,$L7520,COLUMNS($B$6:B7519)),\"\")","v":"42192403"},"Medical isolation carts",null,null,null,"42192403","Medical isolation carts","42192403",7514,7514,7514,"42192403"]
[null,{"$f":"IFERROR(INDEX($G$7:$H$13233,$L7527,COLUMNS($B$6:B7526)),\"\")","v":"42203000"},"Medical linear accelerators and related products",null,null,null,"42203000","Medical linear accelerators and related products","42203000",7521,7521,7521,"42203000"]
[null,{"$f":"IFERROR(INDEX($G$7:$H$13233,$L7532,COLUMNS($B$6:B7531)),\"\")","v":"42201609"},"Medical magnetic resonance imaging MRI scanners",null,null,null,"42201609","Medical magnetic resonance imaging MRI scanners","42201609",7526,7526,7526,"42201609"]
[null,{"$f":"IFERROR(INDEX($G$7:$H$13233,$L7537,COLUMNS($B$6:B7536)),\"\")","v":"42142607"},"Medical micro syringes",null,null,null,"42142607","Medical micro syringes","42142607",7531,7531,7531,"42142607"]
[null,{"$f":"IFERROR(INDEX($G$7:$H$13233,$L7539,COLUMNS($B$6:B7538)),\"\")","v":"42141605"},"Medical mixing or solution basins or bowls",null,null,null,"42141605","Medical mixing or solution basins or bowls","42141605",7533,7533,7533,"42141605"]
[null,{"$f":"IFERROR(INDEX($G$7:$H$13233,$L7544,COLUMNS($B$6:B7543)),\"\")","v":"42271710"},"Medical nasal catheters or catheterization kits",null,null,null,"42271710","Medical nasal catheters or catheterization kits","42271710",7538,7538,7538,"42271710"]
[null,{"$f":"IFERROR(INDEX($G$7:$H$13233,$L7554,COLUMNS($B$6:B7553)),\"\")","v":"85161500"},"Medical or surgical equipment repair",null,null,null,"85161500","Medical or surgical equipment repair","85161500",7548,7548,7548,"85161500"]
[null,{"$f":"IFERROR(INDEX($G$7:$H$13233,$L7556,COLUMNS($B$6:B7555)),\"\")","v":"42293525"},"Medical or surgical floor suction mats or apparatus",null,null,null,"42293525","Medical or surgical floor suction mats or apparatus","42293525",7550,7550,7550,"42293525"]
[null,{"$f":"IFERROR(INDEX($G$7:$H$13233,$L7563,COLUMNS($B$6:B7562)),\"\")","v":"42293523"},"Medical or surgical suction sets or kits",null,null,null,"42293523","Medical or surgical suction sets or kits","42293523",7557,7557,7557,"42293523"]
[null,{"$f":"IFERROR(INDEX($G$7:$H$13233,$L7568,COLUMNS($B$6:B7567)),\"\")","v":"42271715"},"Medical oxygen tubing or connectors",null,null,null,"42271715","Medical oxygen tubing or connectors","42271715",7562,7562,7562,"42271715"]
[null,{"$f":"IFERROR(INDEX($G$7:$H$13233,$L7573,COLUMNS($B$6:B7572)),\"\")","v":"42203900"},"Medical radiation detection or monitoring products",null,null,null,"42203900","Medical radiation detection or monitoring products","42203900",7567,7567,7567,"42203900"]
[null,{"$f":"IFERROR(INDEX($G$7:$H$13233,$L7580,COLUMNS($B$6:B7579)),\"\")","v":"42203800"},"Medical radiological positioning aids",null,null,null,"42203800","Medical radiological positioning aids","42203800",7574,7574,7574,"42203800"]
[null,{"$f":"IFERROR(INDEX($G$7:$H$13233,$L7585,COLUMNS($B$6:B7584)),\"\")","v":"42204008"},"Medical radiological shielding chambers or rooms or safes or cabinets",null,null,null,"42204008","Medical radiological shielding chambers or rooms or safes or cabinets","42204008",7579,7579,7579,"42204008"]
[null,{"$f":"IFERROR(INDEX($G$7:$H$13233,$L7590,COLUMNS($B$6:B7589)),\"\")","v":"42204003"},"Medical radiological shielding portable containers for radioactive materials",null,null,null,"42204003","Medical radiological shielding portable containers for radioactive materials","42204003",7584,7584,7584,"42204003"]
[null,{"$f":"IFERROR(INDEX($G$7:$H$13233,$L7595,COLUMNS($B$6:B7594)),\"\")","v":"85130000"},"Medical science research and experimentation",null,null,null,"85130000","Medical science research and experimentation","85130000",7589,7589,7589,"85130000"]
[null,{"$f":"IFERROR(INDEX($G$7:$H$13233,$L7602,COLUMNS($B$6:B7601)),\"\")","v":"42131600"},"Medical staff clothing and related articles",null,null,null,"42131600","Medical staff clothing and related articles","42131600",7596,7596,7596,"42131600"]
[null,{"$f":"IFERROR(INDEX($G$7:$H$13233,$L7607,COLUMNS($B$6:B7606)),\"\")","v":"42131609"},"Medical staff shoe covers",null,null,null,"42131609","Medical staff shoe covers","42131609",7601,7601,7601,"42131609"]
[null,{"$f":"IFERROR(INDEX($G$7:$H$13233,$L7612,COLUMNS($B$6:B7611)),\"\")","v":"42132102"},"Medical stretcher sheets",null,null,null,"42132102","Medical stretcher sheets","42132102",7606,7606,7606,"42132102"]
[null,{"$f":"IFERROR(INDEX($G$7:$H$13233,$L7614,COLUMNS($B$6:B7613)),\"\")","v":"85160000"},"Medical Surgical Equipment Maintenance Refurbishment and Repair Services",null,null,null,"85160000","Medical Surgical Equipment Maintenance Refurbishment and Repair Services","85160000",7608,7608,7608,"85160000"]
[null,{"$f":"IFERROR(INDEX($G$7:$H$13233,$L7623,COLUMNS($B$6:B7622)),\"\")","v":"42182200"},"Medical thermometers and accessories",null,null,null,"42182200","Medical thermometers and accessories","42182200",7617,7617,7617,"42182200"]
[null,{"$f":"IFERROR(INDEX($G$7:$H$13233,$L7626,COLUMNS($B$6:B7625)),\"\")","v":"42300000"},"Medical training and education supplies",null,null,null,"42300000","Medical training and education supplies","42300000",7620,7620,7620,"42300000"]
[null,{"$f":"IFERROR(INDEX($G$7:$H$13233,$L7631,COLUMNS($B$6:B7630)),\"\")","v":"42201718"},"Medical ultrasound ophthalmic scanners",null,null,null,"42201718","Medical ultrasound ophthalmic scanners","42201718",7625,7625,7625,"42201718"]
[null,{"$f":"IFERROR(INDEX($G$7:$H$13233,$L7638,COLUMNS($B$6:B7637)),\"\")","v":"42201713"},"Medical ultrasound or doppler or echocardiograph three dimensional components",null,null,null,"42201713","Medical ultrasound or doppler or echocardiograph three dimensional components","42201713",7632,7632,7632,"42201713"]
[null,{"$f":"IFERROR(INDEX($G$7:$H$13233,$L7643,COLUMNS($B$6:B7642)),\"\")","v":"86101605"},"Medical vocational training services",null,null,null,"86101605","Medical vocational training services","86101605",7637,7637,7637,"86101605"]
[null,{"$f":"IFERROR(INDEX($G$7:$H$13233,$L7648,COLUMNS($B$6:B7647)),\"\")","v":"42201836"},"Medical x ray apparatus compression band assemblies",null,null,null,"42201836","Medical x ray apparatus compression band assemblies","42201836",7642,7642,7642,"42201836"]
[null,{"$f":"IFERROR(INDEX($G$7:$H$13233,$L7655,COLUMNS($B$6:B7654)),\"\")","v":"42201827"},"Medical x ray darkroom tent repair kits",null,null,null,"42201827","Medical x ray darkroom tent repair kits","42201827",7649,7649,7649,"42201827"]
[null,{"$f":"IFERROR(INDEX($G$7:$H$13233,$L7660,COLUMNS($B$6:B7659)),\"\")","v":"42203711"},"Medical x ray film dryers",null,null,null,"42203711","Medical x ray film dryers","42203711",7654,7654,7654,"42203711"]
[null,{"$f":"IFERROR(INDEX($G$7:$H$13233,$L7666,COLUMNS($B$6:B7665)),\"\")","v":"42201902"},"Medical x ray film large rack viewing systems",null,null,null,"42201902","Medical x ray film large rack viewing systems","42201902",7660,7660,7660,"42201902"]
[null,{"$f":"IFERROR(INDEX($G$7:$H$13233,$L7672,COLUMNS($B$6:B7671)),\"\")","v":"42201903"},"Medical x ray film view boxes",null,null,null,"42201903","Medical x ray film view boxes","42201903",7666,7666,7666,"42201903"]
[null,{"$f":"IFERROR(INDEX($G$7:$H$13233,$L7677,COLUMNS($B$6:B7676)),\"\")","v":"42201811"},"Medical x ray quality assurance or calibration devices",null,null,null,"42201811","Medical x ray quality assurance or calibration devices","42201811",7671,7671,7671,"42201811"]
[null,{"$f":"IFERROR(INDEX($G$7:$H$13233,$L7681,COLUMNS($B$6:B7680)),\"\")","v":"42203712"},"Medical x ray temperature controllers",null,null,null,"42203712","Medical x ray temperature controllers","42203712",7675,7675,7675,"42203712"]
[null,{"$f":"IFERROR(INDEX($G$7:$H$13233,$L7684,COLUMNS($B$6:B7683)),\"\")","v":"42201814"},"Medical x ray tubes",null,null,null,"42201814","Medical x ray tubes","42201814",7678,7678,7678,"42201814"]
[null,{"$f":"IFERROR(INDEX($G$7:$H$13233,$L7689,COLUMNS($B$6:B7688)),\"\")","v":"42141504"},"Medicated applicators or absorbents",null,null,null,"42141504","Medicated applicators or absorbents","42141504",7683,7683,7683,"42141504"]
[null,{"$f":"IFERROR(INDEX($G$7:$H$13233,$L7698,COLUMNS($B$6:B7697)),\"\")","v":"90111600"},"Meeting facilities",null,null,null,"90111600","Meeting facilities","90111600",7692,7692,7692,"90111600"]
[null,{"$f":"IFERROR(INDEX($G$7:$H$13233,$L7701,COLUMNS($B$6:B7700)),\"\")","v":"80161502"},"Meeting planning services",null,null,null,"80161502","Meeting planning services","80161502",7695,7695,7695,"80161502"]
[null,{"$f":"IFERROR(INDEX($G$7:$H$13233,$L7707,COLUMNS($B$6:B7706)),\"\")","v":"51101604"},"Meglumine antimonate",null,null,null,"51101604","Meglumine antimonate","51101604",7701,7701,7701,"51101604"]
[null,{"$f":"IFERROR(INDEX($G$7:$H$13233,$L7715,COLUMNS($B$6:B7714)),\"\")","v":"41112203"},"Melting point recorders",null,null,null,"41112203","Melting point recorders","41112203",7709,7709,7709,"41112203"]
[null,{"$f":"IFERROR(INDEX($G$7:$H$13233,$L7718,COLUMNS($B$6:B7717)),\"\")","v":"43201402"},"Memory module cards",null,null,null,"43201402","Memory module cards","43201402",7712,7712,7712,"43201402"]
[null,{"$f":"IFERROR(INDEX($G$7:$H$13233,$L7724,COLUMNS($B$6:B7723)),\"\")","v":"51473203"},"Merbromin or mercurochrome",null,null,null,"51473203","Merbromin or mercurochrome","51473203",7718,7718,7718,"51473203"]
[null,{"$f":"IFERROR(INDEX($G$7:$H$13233,$L7730,COLUMNS($B$6:B7729)),\"\")","v":"26111716"},"Mercury oxide battery",null,null,null,"26111716","Mercury oxide battery","26111716",7724,7724,7724,"26111716"]
[null,{"$f":"IFERROR(INDEX($G$7:$H$13233,$L7735,COLUMNS($B$6:B7734)),\"\")","v":"11162111"},"Mesh",null,null,null,"11162111","Mesh","11162111",7729,7729,7729,"11162111"]
[null,{"$f":"IFERROR(INDEX($G$7:$H$13233,$L7741,COLUMNS($B$6:B7740)),\"\")","v":"73120000"},"Metal and mineral industries",null,null,null,"73120000","Metal and mineral industries","73120000",7735,7735,7735,"73120000"]
[null,{"$f":"IFERROR(INDEX($G$7:$H$13233,$L7747,COLUMNS($B$6:B7746)),\"\")","v":"23242100"},"Metal cutting machine attachments",null,null,null,"23242100","Metal cutting machine attachments","23242100",7741,7741,7741,"23242100"]
[null,{"$f":"IFERROR(INDEX($G$7:$H$13233,$L7748,COLUMNS($B$6:B7747)),\"\")","v":"23240000"},"Metal cutting machinery and accessories",null,null,null,"23240000","Metal cutting machinery and accessories","23240000",7742,7742,7742,"23240000"]
[null,{"$f":"IFERROR(INDEX($G$7:$H$13233,$L7758,COLUMNS($B$6:B7757)),\"\")","v":"23241400"},"Metal grinding machines",null,null,null,"23241400","Metal grinding machines","23241400",7752,7752,7752,"23241400"]
[null,{"$f":"IFERROR(INDEX($G$7:$H$13233,$L7759,COLUMNS($B$6:B7758)),\"\")","v":"72152906"},"Metal lath and furring service",null,null,null,"72152906","Metal lath and furring service","72152906",7753,7753,7753,"72152906"]
[null,{"$f":"IFERROR(INDEX($G$7:$H$13233,$L7765,COLUMNS($B$6:B7764)),\"\")","v":"30151514"},"Metal roof tile",null,null,null,"30151514","Metal roof tile","30151514",7759,7759,7759,"30151514"]
[null,{"$f":"IFERROR(INDEX($G$7:$H$13233,$L7769,COLUMNS($B$6:B7768)),\"\")","v":"41114614"},"Metal testing instruments",null,null,null,"41114614","Metal testing instruments","41114614",7763,7763,7763,"41114614"]
[null,{"$f":"IFERROR(INDEX($G$7:$H$13233,$L7776,COLUMNS($B$6:B7775)),\"\")","v":"55121701"},"Metallic nameplates",null,null,null,"55121701","Metallic nameplates","55121701",7770,7770,7770,"55121701"]
[null,{"$f":"IFERROR(INDEX($G$7:$H$13233,$L7784,COLUMNS($B$6:B7783)),\"\")","v":"41114400"},"Meteorological instruments",null,null,null,"41114400","Meteorological instruments","41114400",7778,7778,7778,"41114400"]
[null,{"$f":"IFERROR(INDEX($G$7:$H$13233,$L7788,COLUMNS($B$6:B7787)),\"\")","v":"95121907"},"Meteorological station",null,null,null,"95121907","Meteorological station","95121907",7782,7782,7782,"95121907"]
[null,{"$f":"IFERROR(INDEX($G$7:$H$13233,$L7794,COLUMNS($B$6:B7793)),\"\")","v":"51183505"},"Metformin",null,null,null,"51183505","Metformin","51183505",7788,7788,7788,"51183505"]
[null,{"$f":"IFERROR(INDEX($G$7:$H$13233,$L7801,COLUMNS($B$6:B7800)),\"\")","v":"51181605"},"Methimazole",null,null,null,"51181605","Methimazole","51181605",7795,7795,7795,"51181605"]
[null,{"$f":"IFERROR(INDEX($G$7:$H$13233,$L7805,COLUMNS($B$6:B7804)),\"\")","v":"51202203"},"Methotrexate sodium",null,null,null,"51202203","Methotrexate sodium","51202203",7799,7799,7799,"51202203"]
[null,{"$f":"IFERROR(INDEX($G$7:$H$13233,$L7811,COLUMNS($B$6:B7810)),\"\")","v":"51182202"},"Methylergometrine or methylergonovine",null,null,null,"51182202","Methylergometrine or methylergonovine","51182202",7805,7805,7805,"51182202"]
[null,{"$f":"IFERROR(INDEX($G$7:$H$13233,$L7812,COLUMNS($B$6:B7811)),\"\")","v":"51452201"},"Methylparaben",null,null,null,"51452201","Methylparaben","51452201",7806,7806,7806,"51452201"]
[null,{"$f":"IFERROR(INDEX($G$7:$H$13233,$L7818,COLUMNS($B$6:B7817)),\"\")","v":"51263139"},"Metoprolol",null,null,null,"51263139","Metoprolol","51263139",7812,7812,7812,"51263139"]
[null,{"$f":"IFERROR(INDEX($G$7:$H$13233,$L7827,COLUMNS($B$6:B7826)),\"\")","v":"81121502"},"Micro economic analysis",null,null,null,"81121502","Micro economic analysis","81121502",7821,7821,7821,"81121502"]
[null,{"$f":"IFERROR(INDEX($G$7:$H$13233,$L7829,COLUMNS($B$6:B7828)),\"\")","v":"41123204"},"Microbial quality control QC reference organism",null,null,null,"41123204","Microbial quality control QC reference organism","41123204",7823,7823,7823,"41123204"]
[null,{"$f":"IFERROR(INDEX($G$7:$H$13233,$L7835,COLUMNS($B$6:B7834)),\"\")","v":"41115821"},"Microbiology analyzers",null,null,null,"41115821","Microbiology analyzers","41115821",7829,7829,7829,"41115821"]
[null,{"$f":"IFERROR(INDEX($G$7:$H$13233,$L7844,COLUMNS($B$6:B7843)),\"\")","v":"41105203"},"Microbiology slide stainers",null,null,null,"41105203","Microbiology slide stainers","41105203",7838,7838,7838,"41105203"]
[null,{"$f":"IFERROR(INDEX($G$7:$H$13233,$L7846,COLUMNS($B$6:B7845)),\"\")","v":"41103901"},"Microcentrifuges",null,null,null,"41103901","Microcentrifuges","41103901",7840,7840,7840,"41103901"]
[null,{"$f":"IFERROR(INDEX($G$7:$H$13233,$L7852,COLUMNS($B$6:B7851)),\"\")","v":"45121805"},"Microfilm camera components or accessories",null,null,null,"45121805","Microfilm camera components or accessories","45121805",7846,7846,7846,"45121805"]
[null,{"$f":"IFERROR(INDEX($G$7:$H$13233,$L7855,COLUMNS($B$6:B7854)),\"\")","v":"45121802"},"Microfilm duplicators",null,null,null,"45121802","Microfilm duplicators","45121802",7849,7849,7849,"45121802"]
[null,{"$f":"IFERROR(INDEX($G$7:$H$13233,$L7864,COLUMNS($B$6:B7863)),\"\")","v":"41111745"},"Micromanipulator",null,null,null,"41111745","Micromanipulator","41111745",7858,7858,7858,"41111745"]
[null,{"$f":"IFERROR(INDEX($G$7:$H$13233,$L7869,COLUMNS($B$6:B7868)),\"\")","v":"43223210"},"Micropayment messaging systems",null,null,null,"43223210","Micropayment messaging systems","43223210",7863,7863,7863,"43223210"]
[null,{"$f":"IFERROR(INDEX($G$7:$H$13233,$L7872,COLUMNS($B$6:B7871)),\"\")","v":"41103818"},"Microplate shaker",null,null,null,"41103818","Microplate shaker","41103818",7866,7866,7866,"41103818"]
[null,{"$f":"IFERROR(INDEX($G$7:$H$13233,$L7881,COLUMNS($B$6:B7880)),\"\")","v":"41111736"},"Microscope covers",null,null,null,"41111736","Microscope covers","41111736",7875,7875,7875,"41111736"]
[null,{"$f":"IFERROR(INDEX($G$7:$H$13233,$L7887,COLUMNS($B$6:B7886)),\"\")","v":"41111757"},"Microscope head",null,null,null,"41111757","Microscope head","41111757",7881,7881,7881,"41111757"]
[null,{"$f":"IFERROR(INDEX($G$7:$H$13233,$L7888,COLUMNS($B$6:B7887)),\"\")","v":"41122605"},"Microscope immersion oil",null,null,null,"41122605","Microscope immersion oil","41122605",7882,7882,7882,"41122605"]
[null,{"$f":"IFERROR(INDEX($G$7:$H$13233,$L7893,COLUMNS($B$6:B7892)),\"\")","v":"41111770"},"Microscope pointer",null,null,null,"41111770","Microscope pointer","41111770",7887,7887,7887,"41111770"]
[null,{"$f":"IFERROR(INDEX($G$7:$H$13233,$L7898,COLUMNS($B$6:B7897)),\"\")","v":"41122606"},"Microscope slide dispensers",null,null,null,"41122606","Microscope slide dispensers","41122606",7892,7892,7892,"41122606"]
[null,{"$f":"IFERROR(INDEX($G$7:$H$13233,$L7905,COLUMNS($B$6:B7904)),\"\")","v":"41122602"},"Microscopes slide coverslips",null,null,null,"41122602","Microscopes slide coverslips","41122602",7899,7899,7899,"41122602"]
[null,{"$f":"IFERROR(INDEX($G$7:$H$13233,$L7910,COLUMNS($B$6:B7909)),\"\")","v":"41102916"},"Microtomes",null,null,null,"41102916","Microtomes","41102916",7904,7904,7904,"41102916"]
[null,{"$f":"IFERROR(INDEX($G$7:$H$13233,$L7915,COLUMNS($B$6:B7914)),\"\")","v":"41105325"},"Microwells plates for deoxyribonucleic acid DNA or deoxyribonucleic acid DNA hybridization",null,null,null,"41105325","Microwells plates for deoxyribonucleic acid DNA or deoxyribonucleic acid DNA hybridization","41105325",7909,7909,7909,"41105325"]
[null,{"$f":"IFERROR(INDEX($G$7:$H$13233,$L7922,COLUMNS($B$6:B7921)),\"\")","v":"92112300"},"Military bases",null,null,null,"92112300","Military bases","92112300",7916,7916,7916,"92112300"]
[null,{"$f":"IFERROR(INDEX($G$7:$H$13233,$L7927,COLUMNS($B$6:B7926)),\"\")","v":"86131803"},"Military police training",null,null,null,"86131803","Military police training","86131803",7921,7921,7921,"86131803"]
[null,{"$f":"IFERROR(INDEX($G$7:$H$13233,$L7930,COLUMNS($B$6:B7929)),\"\")","v":"92111700"},"Military science and research",null,null,null,"92111700","Military science and research","92111700",7924,7924,7924,"92111700"]
[null,{"$f":"IFERROR(INDEX($G$7:$H$13233,$L7939,COLUMNS($B$6:B7938)),\"\")","v":"41113042"},"Milk analyzer",null,null,null,"41113042","Milk analyzer","41113042",7933,7933,7933,"41113042"]
[null,{"$f":"IFERROR(INDEX($G$7:$H$13233,$L7941,COLUMNS($B$6:B7940)),\"\")","v":"48101703"},"Milk dispensers",null,null,null,"48101703","Milk dispensers","48101703",7935,7935,7935,"48101703"]
[null,{"$f":"IFERROR(INDEX($G$7:$H$13233,$L7951,COLUMNS($B$6:B7950)),\"\")","v":"92111615"},"Mine Action and ERW : Risk Education ",null,null,null,"92111615","Mine Action and ERW : Risk Education ","92111615",7945,7945,7945,"92111615"]
[null,{"$f":"IFERROR(INDEX($G$7:$H$13233,$L7956,COLUMNS($B$6:B7955)),\"\")","v":"46221513"},"Mine Detector",null,null,null,"46221513","Mine Detector","46221513",7950,7950,7950,"46221513"]
[null,{"$f":"IFERROR(INDEX($G$7:$H$13233,$L7958,COLUMNS($B$6:B7957)),\"\")","v":"81102809"},"Mine landmine impact survey LIS",null,null,null,"81102809","Mine landmine impact survey LIS","81102809",7952,7952,7952,"81102809"]
[null,{"$f":"IFERROR(INDEX($G$7:$H$13233,$L7963,COLUMNS($B$6:B7962)),\"\")","v":"25101716"},"Mine Protected Vehicles – Recovery Vehicle",null,null,null,"25101716","Mine Protected Vehicles – Recovery Vehicle","25101716",7957,7957,7957,"25101716"]
[null,{"$f":"IFERROR(INDEX($G$7:$H$13233,$L7968,COLUMNS($B$6:B7967)),\"\")","v":"81102800"},"Minefield and demining services",null,null,null,"81102800","Minefield and demining services","81102800",7962,7962,7962,"81102800"]
[null,{"$f":"IFERROR(INDEX($G$7:$H$13233,$L7973,COLUMNS($B$6:B7972)),\"\")","v":"50501901"},"Mineral salt lick",null,null,null,"50501901","Mineral salt lick","50501901",7967,7967,7967,"50501901"]
[null,{"$f":"IFERROR(INDEX($G$7:$H$13233,$L7980,COLUMNS($B$6:B7979)),\"\")","v":"71000000"},"Mining and oil and gas services",null,null,null,"71000000","Mining and oil and gas services","71000000",7974,7974,7974,"71000000"]
[null,{"$f":"IFERROR(INDEX($G$7:$H$13233,$L7984,COLUMNS($B$6:B7983)),\"\")","v":"46181552"},"Mining headlamp",null,null,null,"46181552","Mining headlamp","46181552",7978,7978,7978,"46181552"]
[null,{"$f":"IFERROR(INDEX($G$7:$H$13233,$L7992,COLUMNS($B$6:B7991)),\"\")","v":"51292908"},"Mirtazapine",null,null,null,"51292908","Mirtazapine","51292908",7986,7986,7986,"51292908"]
[null,{"$f":"IFERROR(INDEX($G$7:$H$13233,$L7997,COLUMNS($B$6:B7996)),\"\")","v":"41106402"},"Miscellaneous primers",null,null,null,"41106402","Miscellaneous primers","41106402",7991,7991,7991,"41106402"]
[null,{"$f":"IFERROR(INDEX($G$7:$H$13233,$L8005,COLUMNS($B$6:B8004)),\"\")","v":"23190000"},"Mixers and their parts and accessories",null,null,null,"23190000","Mixers and their parts and accessories","23190000",7999,7999,7999,"23190000"]
[null,{"$f":"IFERROR(INDEX($G$7:$H$13233,$L8009,COLUMNS($B$6:B8008)),\"\")","v":"46171646"},"Mobile Backscatter X-Ray System",null,null,null,"46171646","Mobile Backscatter X-Ray System","46171646",8003,8003,8003,"46171646"]
[null,{"$f":"IFERROR(INDEX($G$7:$H$13233,$L8014,COLUMNS($B$6:B8013)),\"\")","v":"95141602"},"Mobile home",null,null,null,"95141602","Mobile home","95141602",8008,8008,8008,"95141602"]
[null,{"$f":"IFERROR(INDEX($G$7:$H$13233,$L8016,COLUMNS($B$6:B8015)),\"\")","v":"43233510"},"Mobile internet services software",null,null,null,"43233510","Mobile internet services software","43233510",8010,8010,8010,"43233510"]
[null,{"$f":"IFERROR(INDEX($G$7:$H$13233,$L8026,COLUMNS($B$6:B8025)),\"\")","v":"42171602"},"Mobile medical services ambulance cots",null,null,null,"42171602","Mobile medical services ambulance cots","42171602",8020,8020,8020,"42171602"]
[null,{"$f":"IFERROR(INDEX($G$7:$H$13233,$L8031,COLUMNS($B$6:B8030)),\"\")","v":"42172104"},"Mobile medical services cardio pulmonary resuscitation CPR boards",null,null,null,"42172104","Mobile medical services cardio pulmonary resuscitation CPR boards","42172104",8025,8025,8025,"42172104"]
[null,{"$f":"IFERROR(INDEX($G$7:$H$13233,$L8033,COLUMNS($B$6:B8032)),\"\")","v":"42171605"},"Mobile medical services cinch rescue loops",null,null,null,"42171605","Mobile medical services cinch rescue loops","42171605",8027,8027,8027,"42171605"]
[null,{"$f":"IFERROR(INDEX($G$7:$H$13233,$L8038,COLUMNS($B$6:B8037)),\"\")","v":"42172017"},"Mobile medical services field medical or laboratory medical equipment kits or related products",null,null,null,"42172017","Mobile medical services field medical or laboratory medical equipment kits or related products","42172017",8032,8032,8032,"42172017"]
[null,{"$f":"IFERROR(INDEX($G$7:$H$13233,$L8048,COLUMNS($B$6:B8047)),\"\")","v":"42172005"},"Mobile medical services long distance response LDR trauma kits",null,null,null,"42172005","Mobile medical services long distance response LDR trauma kits","42172005",8042,8042,8042,"42172005"]
[null,{"$f":"IFERROR(INDEX($G$7:$H$13233,$L8050,COLUMNS($B$6:B8049)),\"\")","v":"42172006"},"Mobile medical services obstetrics kits",null,null,null,"42172006","Mobile medical services obstetrics kits","42172006",8044,8044,8044,"42172006"]
[null,{"$f":"IFERROR(INDEX($G$7:$H$13233,$L8055,COLUMNS($B$6:B8054)),\"\")","v":"42171609"},"Mobile medical services restraint or spine board straps",null,null,null,"42171609","Mobile medical services restraint or spine board straps","42171609",8049,8049,8049,"42171609"]
[null,{"$f":"IFERROR(INDEX($G$7:$H$13233,$L8059,COLUMNS($B$6:B8058)),\"\")","v":"42171613"},"Mobile medical services spine boards",null,null,null,"42171613","Mobile medical services spine boards","42171613",8053,8053,8053,"42171613"]
[null,{"$f":"IFERROR(INDEX($G$7:$H$13233,$L8067,COLUMNS($B$6:B8066)),\"\")","v":"43233509"},"Mobile messaging service software",null,null,null,"43233509","Mobile messaging service software","43233509",8061,8061,8061,"43233509"]
[null,{"$f":"IFERROR(INDEX($G$7:$H$13233,$L8073,COLUMNS($B$6:B8072)),\"\")","v":"43191601"},"Mobile phone face plates",null,null,null,"43191601","Mobile phone face plates","43191601",8067,8067,8067,"43191601"]
[null,{"$f":"IFERROR(INDEX($G$7:$H$13233,$L8076,COLUMNS($B$6:B8075)),\"\")","v":"42171611"},"Mobile response litters",null,null,null,"42171611","Mobile response litters","42171611",8070,8070,8070,"42171611"]
[null,{"$f":"IFERROR(INDEX($G$7:$H$13233,$L8084,COLUMNS($B$6:B8083)),\"\")","v":"43222629"},"Modem banks",null,null,null,"43222629","Modem banks","43222629",8078,8078,8078,"43222629"]
[null,{"$f":"IFERROR(INDEX($G$7:$H$13233,$L8090,COLUMNS($B$6:B8089)),\"\")","v":"56101711"},"Modular furniture connectors",null,null,null,"56101711","Modular furniture connectors","56101711",8084,8084,8084,"56101711"]
[null,{"$f":"IFERROR(INDEX($G$7:$H$13233,$L8093,COLUMNS($B$6:B8092)),\"\")","v":"56111509"},"Modular technical office packages",null,null,null,"56111509","Modular technical office packages","56111509",8087,8087,8087,"56111509"]
[null,{"$f":"IFERROR(INDEX($G$7:$H$13233,$L8101,COLUMNS($B$6:B8100)),\"\")","v":"30161900"},"Molding and millwork",null,null,null,"30161900","Molding and millwork","30161900",8095,8095,8095,"30161900"]
[null,{"$f":"IFERROR(INDEX($G$7:$H$13233,$L8102,COLUMNS($B$6:B8101)),\"\")","v":"31140000"},"Moldings",null,null,null,"31140000","Moldings","31140000",8096,8096,8096,"31140000"]
[null,{"$f":"IFERROR(INDEX($G$7:$H$13233,$L8108,COLUMNS($B$6:B8107)),\"\")","v":"41115844"},"Molecular diagnostics analyzer accessories",null,null,null,"41115844","Molecular diagnostics analyzer accessories","41115844",8102,8102,8102,"41115844"]
[null,{"$f":"IFERROR(INDEX($G$7:$H$13233,$L8114,COLUMNS($B$6:B8113)),\"\")","v":"81121601"},"Monetary policy",null,null,null,"81121601","Monetary policy","81121601",8108,8108,8108,"81121601"]
[null,{"$f":"IFERROR(INDEX($G$7:$H$13233,$L8119,COLUMNS($B$6:B8118)),\"\")","v":"64101703"},"Money transfer application",null,null,null,"64101703","Money transfer application","64101703",8113,8113,8113,"64101703"]
[null,{"$f":"IFERROR(INDEX($G$7:$H$13233,$L8125,COLUMNS($B$6:B8124)),\"\")","v":"41113025"},"Monochromators",null,null,null,"41113025","Monochromators","41113025",8119,8119,8119,"41113025"]
[null,{"$f":"IFERROR(INDEX($G$7:$H$13233,$L8131,COLUMNS($B$6:B8130)),\"\")","v":"25101803"},"Mopeds",null,null,null,"25101803","Mopeds","25101803",8125,8125,8125,"25101803"]
[null,{"$f":"IFERROR(INDEX($G$7:$H$13233,$L8136,COLUMNS($B$6:B8135)),\"\")","v":"51343702"},"Moroxydine",null,null,null,"51343702","Moroxydine","51343702",8130,8130,8130,"51343702"]
[null,{"$f":"IFERROR(INDEX($G$7:$H$13233,$L8142,COLUMNS($B$6:B8141)),\"\")","v":"72151910"},"Mortar tuckpointing or restoration service",null,null,null,"72151910","Mortar tuckpointing or restoration service","72151910",8136,8136,8136,"72151910"]
[null,{"$f":"IFERROR(INDEX($G$7:$H$13233,$L8145,COLUMNS($B$6:B8144)),\"\")","v":"42262100"},"Mortuary equipment and supplies",null,null,null,"42262100","Mortuary equipment and supplies","42262100",8139,8139,8139,"42262100"]
[null,{"$f":"IFERROR(INDEX($G$7:$H$13233,$L8154,COLUMNS($B$6:B8153)),\"\")","v":"82131502"},"Motion picture film processing or reproduction",null,null,null,"82131502","Motion picture film processing or reproduction","82131502",8148,8148,8148,"82131502"]
[null,{"$f":"IFERROR(INDEX($G$7:$H$13233,$L8160,COLUMNS($B$6:B8159)),\"\")","v":"26101400"},"Motor or generator components",null,null,null,"26101400","Motor or generator components","26101400",8154,8154,8154,"26101400"]
[null,{"$f":"IFERROR(INDEX($G$7:$H$13233,$L8162,COLUMNS($B$6:B8161)),\"\")","v":"25175101"},"Motor vehicle repair part kit",null,null,null,"25175101","Motor vehicle repair part kit","25175101",8156,8156,8156,"25175101"]
[null,{"$f":"IFERROR(INDEX($G$7:$H$13233,$L8171,COLUMNS($B$6:B8170)),\"\")","v":"41111754"},"Motorized microscope nosepiece",null,null,null,"41111754","Motorized microscope nosepiece","41111754",8165,8165,8165,"41111754"]
[null,{"$f":"IFERROR(INDEX($G$7:$H$13233,$L8172,COLUMNS($B$6:B8171)),\"\")","v":"95121645"},"Motorway service area",null,null,null,"95121645","Motorway service area","95121645",8166,8166,8166,"95121645"]
[null,{"$f":"IFERROR(INDEX($G$7:$H$13233,$L8179,COLUMNS($B$6:B8178)),\"\")","v":"53131509"},"Mouth fresheners",null,null,null,"53131509","Mouth fresheners","53131509",8173,8173,8173,"53131509"]
[null,{"$f":"IFERROR(INDEX($G$7:$H$13233,$L8184,COLUMNS($B$6:B8183)),\"\")","v":"55121903"},"Moving message signs",null,null,null,"55121903","Moving message signs","55121903",8178,8178,8178,"55121903"]
[null,{"$f":"IFERROR(INDEX($G$7:$H$13233,$L8189,COLUMNS($B$6:B8188)),\"\")","v":"51282931"},"Moxifloxacin",null,null,null,"51282931","Moxifloxacin","51282931",8183,8183,8183,"51282931"]
[null,{"$f":"IFERROR(INDEX($G$7:$H$13233,$L8196,COLUMNS($B$6:B8195)),\"\")","v":"44101723"},"Multi bin mailboxes",null,null,null,"44101723","Multi bin mailboxes","44101723",8190,8190,8190,"44101723"]
[null,{"$f":"IFERROR(INDEX($G$7:$H$13233,$L8201,COLUMNS($B$6:B8200)),\"\")","v":"43211518"},"Multi screen computer",null,null,null,"43211518","Multi screen computer","43211518",8195,8195,8195,"43211518"]
[null,{"$f":"IFERROR(INDEX($G$7:$H$13233,$L8205,COLUMNS($B$6:B8204)),\"\")","v":"44121720"},"Multifunction pen",null,null,null,"44121720","Multifunction pen","44121720",8199,8199,8199,"44121720"]
[null,{"$f":"IFERROR(INDEX($G$7:$H$13233,$L8212,COLUMNS($B$6:B8211)),\"\")","v":"43201417"},"Multimedia integrated board",null,null,null,"43201417","Multimedia integrated board","43201417",8206,8206,8206,"43201417"]
[null,{"$f":"IFERROR(INDEX($G$7:$H$13233,$L8218,COLUMNS($B$6:B8217)),\"\")","v":"41113630"},"Multimeters",null,null,null,"41113630","Multimeters","41113630",8212,8212,8212,"41113630"]
[null,{"$f":"IFERROR(INDEX($G$7:$H$13233,$L8222,COLUMNS($B$6:B8221)),\"\")","v":"42181904"},"Multiparameter vital sign units",null,null,null,"42181904","Multiparameter vital sign units","42181904",8216,8216,8216,"42181904"]
[null,{"$f":"IFERROR(INDEX($G$7:$H$13233,$L8230,COLUMNS($B$6:B8229)),\"\")","v":"41115865"},"Multiplex analyzer accessories",null,null,null,"41115865","Multiplex analyzer accessories","41115865",8224,8224,8224,"41115865"]
[null,{"$f":"IFERROR(INDEX($G$7:$H$13233,$L8235,COLUMNS($B$6:B8234)),\"\")","v":"57060400"},"Multipurpose emergency kits",null,null,null,"57060400","Multipurpose emergency kits","57060400",8229,8229,8229,"57060400"]
[null,{"$f":"IFERROR(INDEX($G$7:$H$13233,$L8239,COLUMNS($B$6:B8238)),\"\")","v":"43222620"},"Multiservice switch",null,null,null,"43222620","Multiservice switch","43222620",8233,8233,8233,"43222620"]
[null,{"$f":"IFERROR(INDEX($G$7:$H$13233,$L8242,COLUMNS($B$6:B8241)),\"\")","v":"41104923"},"Multiwell plate filters",null,null,null,"41104923","Multiwell plate filters","41104923",8236,8236,8236,"41104923"]
[null,{"$f":"IFERROR(INDEX($G$7:$H$13233,$L8247,COLUMNS($B$6:B8246)),\"\")","v":"51286501"},"Mupirocin",null,null,null,"51286501","Mupirocin","51286501",8241,8241,8241,"51286501"]
[null,{"$f":"IFERROR(INDEX($G$7:$H$13233,$L8256,COLUMNS($B$6:B8255)),\"\")","v":"14111534"},"Music score or manuscript papers",null,null,null,"14111534","Music score or manuscript papers","14111534",8250,8250,8250,"14111534"]
[null,{"$f":"IFERROR(INDEX($G$7:$H$13233,$L8259,COLUMNS($B$6:B8258)),\"\")","v":"60131500"},"Musical instrument parts and accessories",null,null,null,"60131500","Musical instrument parts and accessories","60131500",8253,8253,8253,"60131500"]
[null,{"$f":"IFERROR(INDEX($G$7:$H$13233,$L8265,COLUMNS($B$6:B8264)),\"\")","v":"82151704"},"Musicians services",null,null,null,"82151704","Musicians services","82151704",8259,8259,8259,"82151704"]
[null,{"$f":"IFERROR(INDEX($G$7:$H$13233,$L8271,COLUMNS($B$6:B8270)),\"\")","v":"51131641"},"Nadroparin",null,null,null,"51131641","Nadroparin","51131641",8265,8265,8265,"51131641"]
[null,{"$f":"IFERROR(INDEX($G$7:$H$13233,$L8276,COLUMNS($B$6:B8275)),\"\")","v":"51142302"},"Naloxone",null,null,null,"51142302","Naloxone","51142302",8270,8270,8270,"51142302"]
[null,{"$f":"IFERROR(INDEX($G$7:$H$13233,$L8282,COLUMNS($B$6:B8281)),\"\")","v":"51142300"},"Narcotic antagonists",null,null,null,"51142300","Narcotic antagonists","51142300",8276,8276,8276,"51142300"]
[null,{"$f":"IFERROR(INDEX($G$7:$H$13233,$L8288,COLUMNS($B$6:B8287)),\"\")","v":"51202411"},"Natalizumab",null,null,null,"51202411","Natalizumab","51202411",8282,8282,8282,"51202411"]
[null,{"$f":"IFERROR(INDEX($G$7:$H$13233,$L8293,COLUMNS($B$6:B8292)),\"\")","v":"83121504"},"National government or military post libraries",null,null,null,"83121504","National government or military post libraries","83121504",8287,8287,8287,"83121504"]
[null,{"$f":"IFERROR(INDEX($G$7:$H$13233,$L8297,COLUMNS($B$6:B8296)),\"\")","v":"51111900"},"Natural antineoplastic products",null,null,null,"51111900","Natural antineoplastic products","51111900",8291,8291,8291,"51111900"]
[null,{"$f":"IFERROR(INDEX($G$7:$H$13233,$L8305,COLUMNS($B$6:B8304)),\"\")","v":"13101500"},"Natural rubber",null,null,null,"13101500","Natural rubber","13101500",8299,8299,8299,"13101500"]
[null,{"$f":"IFERROR(INDEX($G$7:$H$13233,$L8308,COLUMNS($B$6:B8307)),\"\")","v":"81101506"},"Naval architecture",null,null,null,"81101506","Naval architecture","81101506",8302,8302,8302,"81101506"]
[null,{"$f":"IFERROR(INDEX($G$7:$H$13233,$L8312,COLUMNS($B$6:B8311)),\"\")","v":"41106315"},"Near patient PCR machine",null,null,null,"41106315","Near patient PCR machine","41106315",8306,8306,8306,"41106315"]
[null,{"$f":"IFERROR(INDEX($G$7:$H$13233,$L8317,COLUMNS($B$6:B8316)),\"\")","v":"42142511"},"Needle caps or protection devices",null,null,null,"42142511","Needle caps or protection devices","42142511",8311,8311,8311,"42142511"]
[null,{"$f":"IFERROR(INDEX($G$7:$H$13233,$L8325,COLUMNS($B$6:B8324)),\"\")","v":"42221619"},"Needleless injection manifold kits",null,null,null,"42221619","Needleless injection manifold kits","42221619",8319,8319,8319,"42221619"]
[null,{"$f":"IFERROR(INDEX($G$7:$H$13233,$L8329,COLUMNS($B$6:B8328)),\"\")","v":"45131508"},"Negative film",null,null,null,"45131508","Negative film","45131508",8323,8323,8323,"45131508"]
[null,{"$f":"IFERROR(INDEX($G$7:$H$13233,$L8334,COLUMNS($B$6:B8333)),\"\")","v":"51281618"},"Neomycin",null,null,null,"51281618","Neomycin","51281618",8328,8328,8328,"51281618"]
[null,{"$f":"IFERROR(INDEX($G$7:$H$13233,$L8340,COLUMNS($B$6:B8339)),\"\")","v":"51151512"},"Neostigmine",null,null,null,"51151512","Neostigmine","51151512",8334,8334,8334,"51151512"]
[null,{"$f":"IFERROR(INDEX($G$7:$H$13233,$L8346,COLUMNS($B$6:B8345)),\"\")","v":"10151541"},"Nettle seed or seedlings",null,null,null,"10151541","Nettle seed or seedlings","10151541",8340,8340,8340,"10151541"]
[null,{"$f":"IFERROR(INDEX($G$7:$H$13233,$L8351,COLUMNS($B$6:B8350)),\"\")","v":"81112218"},"Network application software maintenance",null,null,null,"81112218","Network application software maintenance","81112218",8345,8345,8345,"81112218"]
[null,{"$f":"IFERROR(INDEX($G$7:$H$13233,$L8357,COLUMNS($B$6:B8356)),\"\")","v":"43233503"},"Network conferencing software",null,null,null,"43233503","Network conferencing software","43233503",8351,8351,8351,"43233503"]
[null,{"$f":"IFERROR(INDEX($G$7:$H$13233,$L8363,COLUMNS($B$6:B8362)),\"\")","v":"43201404"},"Network interface cards",null,null,null,"43201404","Network interface cards","43201404",8357,8357,8357,"43201404"]
[null,{"$f":"IFERROR(INDEX($G$7:$H$13233,$L8366,COLUMNS($B$6:B8365)),\"\")","v":"43232801"},"Network monitoring software",null,null,null,"43232801","Network monitoring software","43232801",8360,8360,8360,"43232801"]
[null,{"$f":"IFERROR(INDEX($G$7:$H$13233,$L8375,COLUMNS($B$6:B8374)),\"\")","v":"43222500"},"Network security equipment",null,null,null,"43222500","Network security equipment","43222500",8369,8369,8369,"43222500"]
[null,{"$f":"IFERROR(INDEX($G$7:$H$13233,$L8380,COLUMNS($B$6:B8379)),\"\")","v":"43223306"},"Network system cabinet or enclosure",null,null,null,"43223306","Network system cabinet or enclosure","43223306",8374,8374,8374,"43223306"]
[null,{"$f":"IFERROR(INDEX($G$7:$H$13233,$L8383,COLUMNS($B$6:B8382)),\"\")","v":"43222644"},"Network traffic controller",null,null,null,"43222644","Network traffic controller","43222644",8377,8377,8377,"43222644"]
[null,{"$f":"IFERROR(INDEX($G$7:$H$13233,$L8387,COLUMNS($B$6:B8386)),\"\")","v":"42182313"},"Neurological diagnostic sets",null,null,null,"42182313","Neurological diagnostic sets","42182313",8381,8381,8381,"42182313"]
[null,{"$f":"IFERROR(INDEX($G$7:$H$13233,$L8392,COLUMNS($B$6:B8391)),\"\")","v":"42182307"},"Neurological pins",null,null,null,"42182307","Neurological pins","42182307",8386,8386,8386,"42182307"]
[null,{"$f":"IFERROR(INDEX($G$7:$H$13233,$L8400,COLUMNS($B$6:B8399)),\"\")","v":"72111101"},"New apartment building construction service",null,null,null,"72111101","New apartment building construction service","72111101",8394,8394,8394,"72111101"]
[null,{"$f":"IFERROR(INDEX($G$7:$H$13233,$L8404,COLUMNS($B$6:B8403)),\"\")","v":"72111102"},"New cooperative construction service",null,null,null,"72111102","New cooperative construction service","72111102",8398,8398,8398,"72111102"]
[null,{"$f":"IFERROR(INDEX($G$7:$H$13233,$L8410,COLUMNS($B$6:B8409)),\"\")","v":"82111900"},"News and publicity services",null,null,null,"82111900","News and publicity services","82111900",8404,8404,8404,"82111900"]
[null,{"$f":"IFERROR(INDEX($G$7:$H$13233,$L8417,COLUMNS($B$6:B8416)),\"\")","v":"26111712"},"Nickel hydrogen batteries",null,null,null,"26111712","Nickel hydrogen batteries","26111712",8411,8411,8411,"26111712"]
[null,{"$f":"IFERROR(INDEX($G$7:$H$13233,$L8421,COLUMNS($B$6:B8420)),\"\")","v":"51451907"},"Niclosamide",null,null,null,"51451907","Niclosamide","51451907",8415,8415,8415,"51451907"]
[null,{"$f":"IFERROR(INDEX($G$7:$H$13233,$L8426,COLUMNS($B$6:B8425)),\"\")","v":"53102600"},"Nightwear",null,null,null,"53102600","Nightwear","53102600",8420,8420,8420,"53102600"]
[null,{"$f":"IFERROR(INDEX($G$7:$H$13233,$L8433,COLUMNS($B$6:B8432)),\"\")","v":"51473104"},"Nitrofural or nitrofurazone",null,null,null,"51473104","Nitrofural or nitrofurazone","51473104",8427,8427,8427,"51473104"]
[null,{"$f":"IFERROR(INDEX($G$7:$H$13233,$L8438,COLUMNS($B$6:B8437)),\"\")","v":"41113107"},"Nitrogen gas analyzers",null,null,null,"41113107","Nitrogen gas analyzers","41113107",8432,8432,8432,"41113107"]
[null,{"$f":"IFERROR(INDEX($G$7:$H$13233,$L8443,COLUMNS($B$6:B8442)),\"\")","v":"51412601"},"Nitroprusside",null,null,null,"51412601","Nitroprusside","51412601",8437,8437,8437,"51412601"]
[null,{"$f":"IFERROR(INDEX($G$7:$H$13233,$L8450,COLUMNS($B$6:B8449)),\"\")","v":"77131602"},"Noise pollution protection services",null,null,null,"77131602","Noise pollution protection services","77131602",8444,8444,8444,"77131602"]
[null,{"$f":"IFERROR(INDEX($G$7:$H$13233,$L8451,COLUMNS($B$6:B8450)),\"\")","v":"30121707"},"Noise protection board",null,null,null,"30121707","Noise protection board","30121707",8445,8445,8445,"30121707"]
[null,{"$f":"IFERROR(INDEX($G$7:$H$13233,$L8460,COLUMNS($B$6:B8459)),\"\")","v":"50201714"},"Non dairy creamers",null,null,null,"50201714","Non dairy creamers","50201714",8454,8454,8454,"50201714"]
[null,{"$f":"IFERROR(INDEX($G$7:$H$13233,$L8462,COLUMNS($B$6:B8461)),\"\")","v":"41111818"},"Non destructive examination reagent",null,null,null,"41111818","Non destructive examination reagent","41111818",8456,8456,8456,"41111818"]
[null,{"$f":"IFERROR(INDEX($G$7:$H$13233,$L8468,COLUMNS($B$6:B8467)),\"\")","v":"39112600"},"Non electrical lighting devices",null,null,null,"39112600","Non electrical lighting devices","39112600",8462,8462,8462,"39112600"]
[null,{"$f":"IFERROR(INDEX($G$7:$H$13233,$L8477,COLUMNS($B$6:B8476)),\"\")","v":"24112003"},"Non metallic bins",null,null,null,"24112003","Non metallic bins","24112003",8471,8471,8471,"24112003"]
[null,{"$f":"IFERROR(INDEX($G$7:$H$13233,$L8480,COLUMNS($B$6:B8479)),\"\")","v":"12141900"},"Non metals and pure and elemental gases",null,null,null,"12141900","Non metals and pure and elemental gases","12141900",8474,8474,8474,"12141900"]
[null,{"$f":"IFERROR(INDEX($G$7:$H$13233,$L8486,COLUMNS($B$6:B8485)),\"\")","v":"86121804"},"Non technical professional schools",null,null,null,"86121804","Non technical professional schools","86121804",8480,8480,8480,"86121804"]
[null,{"$f":"IFERROR(INDEX($G$7:$H$13233,$L8491,COLUMNS($B$6:B8490)),\"\")","v":"10191520"},"Non-chemical biological pest control solution",null,null,null,"10191520","Non-chemical biological pest control solution","10191520",8485,8485,8485,"10191520"]
[null,{"$f":"IFERROR(INDEX($G$7:$H$13233,$L8497,COLUMNS($B$6:B8496)),\"\")","v":"72120000"},"Nonresidential building construction services",null,null,null,"72120000","Nonresidential building construction services","72120000",8491,8491,8491,"72120000"]
[null,{"$f":"IFERROR(INDEX($G$7:$H$13233,$L8503,COLUMNS($B$6:B8502)),\"\")","v":"51383500"},"Nonsteroidal anti inflammatory indoles",null,null,null,"51383500","Nonsteroidal anti inflammatory indoles","51383500",8497,8497,8497,"51383500"]
[null,{"$f":"IFERROR(INDEX($G$7:$H$13233,$L8508,COLUMNS($B$6:B8507)),\"\")","v":"51384800"},"Nonsteroidal anti inflammatory pyridines",null,null,null,"51384800","Nonsteroidal anti inflammatory pyridines","51384800",8502,8502,8502,"51384800"]
[null,{"$f":"IFERROR(INDEX($G$7:$H$13233,$L8514,COLUMNS($B$6:B8513)),\"\")","v":"51143000"},"Nootropics",null,null,null,"51143000","Nootropics","51143000",8508,8508,8508,"51143000"]
[null,{"$f":"IFERROR(INDEX($G$7:$H$13233,$L8520,COLUMNS($B$6:B8519)),\"\")","v":"43211615"},"Notebook computer expansion dock",null,null,null,"43211615","Notebook computer expansion dock","43211615",8514,8514,8514,"43211615"]
[null,{"$f":"IFERROR(INDEX($G$7:$H$13233,$L8521,COLUMNS($B$6:B8520)),\"\")","v":"43211503"},"Notebook computers",null,null,null,"43211503","Notebook computers","43211503",8515,8515,8515,"43211503"]
[null,{"$f":"IFERROR(INDEX($G$7:$H$13233,$L8529,COLUMNS($B$6:B8528)),\"\")","v":"26142200"},"Nuclear fuel equipment",null,null,null,"26142200","Nuclear fuel equipment","26142200",8523,8523,8523,"26142200"]
[null,{"$f":"IFERROR(INDEX($G$7:$H$13233,$L8532,COLUMNS($B$6:B8531)),\"\")","v":"41121705"},"Nuclear magnetic resonance NMR tubes",null,null,null,"41121705","Nuclear magnetic resonance NMR tubes","41121705",8526,8526,8526,"41121705"]
[null,{"$f":"IFERROR(INDEX($G$7:$H$13233,$L8538,COLUMNS($B$6:B8537)),\"\")","v":"92112100"},"Nuclear warfare",null,null,null,"92112100","Nuclear warfare","92112100",8532,8532,8532,"92112100"]
[null,{"$f":"IFERROR(INDEX($G$7:$H$13233,$L8546,COLUMNS($B$6:B8545)),\"\")","v":"41106000"},"Nucleic acid labeling and detection systems",null,null,null,"41106000","Nucleic acid labeling and detection systems","41106000",8540,8540,8540,"41106000"]
[null,{"$f":"IFERROR(INDEX($G$7:$H$13233,$L8549,COLUMNS($B$6:B8548)),\"\")","v":"41105508"},"Nucleic acids coprecipitants",null,null,null,"41105508","Nucleic acids coprecipitants","41105508",8543,8543,8543,"41105508"]
[null,{"$f":"IFERROR(INDEX($G$7:$H$13233,$L8555,COLUMNS($B$6:B8554)),\"\")","v":"53131637"},"Nursing pads",null,null,null,"53131637","Nursing pads","53131637",8549,8549,8549,"53131637"]
[null,{"$f":"IFERROR(INDEX($G$7:$H$13233,$L8563,COLUMNS($B$6:B8562)),\"\")","v":"85111608"},"Nutritional disease prevention or control services",null,null,null,"85111608","Nutritional disease prevention or control services","85111608",8557,8557,8557,"85111608"]
[null,{"$f":"IFERROR(INDEX($G$7:$H$13233,$L8567,COLUMNS($B$6:B8566)),\"\")","v":"57050102"},"Nutritional kit - outpatient, module registration",null,null,null,"57050102","Nutritional kit - outpatient, module registration","57050102",8561,8561,8561,"57050102"]
[null,{"$f":"IFERROR(INDEX($G$7:$H$13233,$L8572,COLUMNS($B$6:B8571)),\"\")","v":"31161700"},"Nuts",null,null,null,"31161700","Nuts","31161700",8566,8566,8566,"31161700"]
[null,{"$f":"IFERROR(INDEX($G$7:$H$13233,$L8574,COLUMNS($B$6:B8573)),\"\")","v":"50101700"},"Nuts and seeds",null,null,null,"50101700","Nuts and seeds","50101700",8568,8568,8568,"50101700"]
[null,{"$f":"IFERROR(INDEX($G$7:$H$13233,$L8584,COLUMNS($B$6:B8583)),\"\")","v":"39111629"},"Obstacle Lighting",null,null,null,"39111629","Obstacle Lighting","39111629",8578,8578,8578,"39111629"]
[null,{"$f":"IFERROR(INDEX($G$7:$H$13233,$L8589,COLUMNS($B$6:B8588)),\"\")","v":"42143105"},"Obstetrical extraction units",null,null,null,"42143105","Obstetrical extraction units","42143105",8583,8583,8583,"42143105"]
[null,{"$f":"IFERROR(INDEX($G$7:$H$13233,$L8591,COLUMNS($B$6:B8590)),\"\")","v":"42192702"},"Obstetrical or gynecological exam tables",null,null,null,"42192702","Obstetrical or gynecological exam tables","42192702",8585,8585,8585,"42192702"]
[null,{"$f":"IFERROR(INDEX($G$7:$H$13233,$L8596,COLUMNS($B$6:B8595)),\"\")","v":"41111961"},"Occupant sensor",null,null,null,"41111961","Occupant sensor","41111961",8590,8590,8590,"41111961"]
[null,{"$f":"IFERROR(INDEX($G$7:$H$13233,$L8606,COLUMNS($B$6:B8605)),\"\")","v":"83112304"},"Ocx optical carrier service",null,null,null,"83112304","Ocx optical carrier service","83112304",8600,8600,8600,"83112304"]
[null,{"$f":"IFERROR(INDEX($G$7:$H$13233,$L8608,COLUMNS($B$6:B8607)),\"\")","v":"80161501"},"Office administration or secretarial services",null,null,null,"80161501","Office administration or secretarial services","80161501",8602,8602,8602,"80161501"]
[null,{"$f":"IFERROR(INDEX($G$7:$H$13233,$L8613,COLUMNS($B$6:B8612)),\"\")","v":"80161800"},"Office equipment rental or leasing services",null,null,null,"80161800","Office equipment rental or leasing services","80161800",8607,8607,8607,"80161800"]
[null,{"$f":"IFERROR(INDEX($G$7:$H$13233,$L8617,COLUMNS($B$6:B8616)),\"\")","v":"95141708"},"Office kitchen",null,null,null,"95141708","Office kitchen","95141708",8611,8611,8611,"95141708"]
[null,{"$f":"IFERROR(INDEX($G$7:$H$13233,$L8625,COLUMNS($B$6:B8624)),\"\")","v":"80141412"},"Offline media buying",null,null,null,"80141412","Offline media buying","80141412",8619,8619,8619,"80141412"]
[null,{"$f":"IFERROR(INDEX($G$7:$H$13233,$L8630,COLUMNS($B$6:B8629)),\"\")","v":"45101616"},"Offset printing cleaning accessories",null,null,null,"45101616","Offset printing cleaning accessories","45101616",8624,8624,8624,"45101616"]
[null,{"$f":"IFERROR(INDEX($G$7:$H$13233,$L8638,COLUMNS($B$6:B8637)),\"\")","v":"72121511"},"Offshore oil and gas production facility hookup and commissioning service",null,null,null,"72121511","Offshore oil and gas production facility hookup and commissioning service","72121511",8632,8632,8632,"72121511"]
[null,{"$f":"IFERROR(INDEX($G$7:$H$13233,$L8642,COLUMNS($B$6:B8641)),\"\")","v":"41113631"},"Ohmmeters",null,null,null,"41113631","Ohmmeters","41113631",8636,8636,8636,"41113631"]
[null,{"$f":"IFERROR(INDEX($G$7:$H$13233,$L8649,COLUMNS($B$6:B8648)),\"\")","v":"71130000"},"Oil and gas extraction and production enhancement services",null,null,null,"71130000","Oil and gas extraction and production enhancement services","71130000",8643,8643,8643,"71130000"]
[null,{"$f":"IFERROR(INDEX($G$7:$H$13233,$L8654,COLUMNS($B$6:B8653)),\"\")","v":"72121513"},"Oil and gas plant modular fabrication service",null,null,null,"72121513","Oil and gas plant modular fabrication service","72121513",8648,8648,8648,"72121513"]
[null,{"$f":"IFERROR(INDEX($G$7:$H$13233,$L8659,COLUMNS($B$6:B8658)),\"\")","v":"41103707"},"Oil baths",null,null,null,"41103707","Oil baths","41103707",8653,8653,8653,"41103707"]
[null,{"$f":"IFERROR(INDEX($G$7:$H$13233,$L8664,COLUMNS($B$6:B8663)),\"\")","v":"40161504"},"Oil filters",null,null,null,"40161504","Oil filters","40161504",8658,8658,8658,"40161504"]
[null,{"$f":"IFERROR(INDEX($G$7:$H$13233,$L8666,COLUMNS($B$6:B8665)),\"\")","v":"41112514"},"Oil gauges",null,null,null,"41112514","Oil gauges","41112514",8660,8660,8660,"41112514"]
[null,{"$f":"IFERROR(INDEX($G$7:$H$13233,$L8671,COLUMNS($B$6:B8670)),\"\")","v":"83101603"},"Oil pipeline services",null,null,null,"83101603","Oil pipeline services","83101603",8665,8665,8665,"83101603"]
[null,{"$f":"IFERROR(INDEX($G$7:$H$13233,$L8681,COLUMNS($B$6:B8680)),\"\")","v":"71151100"},"Oilfield data management services",null,null,null,"71151100","Oilfield data management services","71151100",8675,8675,8675,"71151100"]
[null,{"$f":"IFERROR(INDEX($G$7:$H$13233,$L8683,COLUMNS($B$6:B8682)),\"\")","v":"12181600"},"Oils",null,null,null,"12181600","Oils","12181600",8677,8677,8677,"12181600"]
[null,{"$f":"IFERROR(INDEX($G$7:$H$13233,$L8692,COLUMNS($B$6:B8691)),\"\")","v":"72111003"},"On site mobile home repair service",null,null,null,"72111003","On site mobile home repair service","72111003",8686,8686,8686,"72111003"]
[null,{"$f":"IFERROR(INDEX($G$7:$H$13233,$L8695,COLUMNS($B$6:B8694)),\"\")","v":"51171816"},"Ondansetron",null,null,null,"51171816","Ondansetron","51171816",8689,8689,8689,"51171816"]
[null,{"$f":"IFERROR(INDEX($G$7:$H$13233,$L8700,COLUMNS($B$6:B8699)),\"\")","v":"81111902"},"Online database information retrieval service",null,null,null,"81111902","Online database information retrieval service","81111902",8694,8694,8694,"81111902"]
[null,{"$f":"IFERROR(INDEX($G$7:$H$13233,$L8707,COLUMNS($B$6:B8706)),\"\")","v":"41114301"},"Open stream current meters",null,null,null,"41114301","Open stream current meters","41114301",8701,8701,8701,"41114301"]
[null,{"$f":"IFERROR(INDEX($G$7:$H$13233,$L8712,COLUMNS($B$6:B8711)),\"\")","v":"84121607"},"Operating lease finance service",null,null,null,"84121607","Operating lease finance service","84121607",8706,8706,8706,"84121607"]
[null,{"$f":"IFERROR(INDEX($G$7:$H$13233,$L8717,COLUMNS($B$6:B8716)),\"\")","v":"81112204"},"Operating system software maintenance",null,null,null,"81112204","Operating system software maintenance","81112204",8711,8711,8711,"81112204"]
[null,{"$f":"IFERROR(INDEX($G$7:$H$13233,$L8724,COLUMNS($B$6:B8723)),\"\")","v":"42182005"},"Ophthalmoscopes or otoscopes or scope sets",null,null,null,"42182005","Ophthalmoscopes or otoscopes or scope sets","42182005",8718,8718,8718,"42182005"]
[null,{"$f":"IFERROR(INDEX($G$7:$H$13233,$L8729,COLUMNS($B$6:B8728)),\"\")","v":"41115310"},"Optical calibration sets",null,null,null,"41115310","Optical calibration sets","41115310",8723,8723,8723,"41115310"]
[null,{"$f":"IFERROR(INDEX($G$7:$H$13233,$L8734,COLUMNS($B$6:B8733)),\"\")","v":"43201902"},"Optical disk changers",null,null,null,"43201902","Optical disk changers","43201902",8728,8728,8728,"43201902"]
[null,{"$f":"IFERROR(INDEX($G$7:$H$13233,$L8735,COLUMNS($B$6:B8734)),\"\")","v":"41112517"},"Optical flowmeter and accessories",null,null,null,"41112517","Optical flowmeter and accessories","41112517",8729,8729,8729,"41112517"]
[null,{"$f":"IFERROR(INDEX($G$7:$H$13233,$L8741,COLUMNS($B$6:B8740)),\"\")","v":"43221810"},"Optical multiplexer",null,null,null,"43221810","Optical multiplexer","43221810",8735,8735,8735,"43221810"]
[null,{"$f":"IFERROR(INDEX($G$7:$H$13233,$L8750,COLUMNS($B$6:B8749)),\"\")","v":"43221809"},"Optical transmitter",null,null,null,"43221809","Optical transmitter","43221809",8744,8744,8744,"43221809"]
[null,{"$f":"IFERROR(INDEX($G$7:$H$13233,$L8753,COLUMNS($B$6:B8752)),\"\")","v":"57030104"},"Oral-rehydration-points consumable kit",null,null,null,"57030104","Oral-rehydration-points consumable kit","57030104",8747,8747,8747,"57030104"]
[null,{"$f":"IFERROR(INDEX($G$7:$H$13233,$L8758,COLUMNS($B$6:B8757)),\"\")","v":"51391726"},"Orciprenaline or metaproterenol",null,null,null,"51391726","Orciprenaline or metaproterenol","51391726",8752,8752,8752,"51391726"]
[null,{"$f":"IFERROR(INDEX($G$7:$H$13233,$L8767,COLUMNS($B$6:B8766)),\"\")","v":"50411500"},"Organic artichokes",null,null,null,"50411500","Organic artichokes","50411500",8761,8761,8761,"50411500"]
[null,{"$f":"IFERROR(INDEX($G$7:$H$13233,$L8770,COLUMNS($B$6:B8769)),\"\")","v":"50311506"},"Organic bramley apples",null,null,null,"50311506","Organic bramley apples","50311506",8764,8764,8764,"50311506"]
[null,{"$f":"IFERROR(INDEX($G$7:$H$13233,$L8776,COLUMNS($B$6:B8775)),\"\")","v":"50311511"},"Organic codlin apples",null,null,null,"50311511","Organic codlin apples","50311511",8770,8770,8770,"50311511"]
[null,{"$f":"IFERROR(INDEX($G$7:$H$13233,$L8778,COLUMNS($B$6:B8777)),\"\")","v":"50311513"},"Organic costard apples",null,null,null,"50311513","Organic costard apples","50311513",8772,8772,8772,"50311513"]
[null,{"$f":"IFERROR(INDEX($G$7:$H$13233,$L8787,COLUMNS($B$6:B8786)),\"\")","v":"50410000"},"Organic fresh vegetables",null,null,null,"50410000","Organic fresh vegetables","50410000",8781,8781,8781,"50410000"]
[null,{"$f":"IFERROR(INDEX($G$7:$H$13233,$L8793,COLUMNS($B$6:B8792)),\"\")","v":"49211803"},"Orienteering equipment",null,null,null,"49211803","Orienteering equipment","49211803",8787,8787,8787,"49211803"]
[null,{"$f":"IFERROR(INDEX($G$7:$H$13233,$L8795,COLUMNS($B$6:B8794)),\"\")","v":"72141130"},"Ornamental fountain construction and or remodelling service",null,null,null,"72141130","Ornamental fountain construction and or remodelling service","72141130",8789,8789,8789,"72141130"]
[null,{"$f":"IFERROR(INDEX($G$7:$H$13233,$L8804,COLUMNS($B$6:B8803)),\"\")","v":"42241505"},"Orthopedic casting rolls or tapes",null,null,null,"42241505","Orthopedic casting rolls or tapes","42241505",8798,8798,8798,"42241505"]
[null,{"$f":"IFERROR(INDEX($G$7:$H$13233,$L8810,COLUMNS($B$6:B8809)),\"\")","v":"42241706"},"Orthotics or foot care products",null,null,null,"42241706","Orthotics or foot care products","42241706",8804,8804,8804,"42241706"]
[null,{"$f":"IFERROR(INDEX($G$7:$H$13233,$L8811,COLUMNS($B$6:B8810)),\"\")","v":"41113660"},"Oscillator tester",null,null,null,"41113660","Oscillator tester","41113660",8805,8805,8805,"41113660"]
[null,{"$f":"IFERROR(INDEX($G$7:$H$13233,$L8817,COLUMNS($B$6:B8816)),\"\")","v":"51112034"},"Osimertinib",null,null,null,"51112034","Osimertinib","51112034",8811,8811,8811,"51112034"]
[null,{"$f":"IFERROR(INDEX($G$7:$H$13233,$L8821,COLUMNS($B$6:B8820)),\"\")","v":"43223112"},"OSS wireless access network equipment and components",null,null,null,"43223112","OSS wireless access network equipment and components","43223112",8815,8815,8815,"43223112"]
[null,{"$f":"IFERROR(INDEX($G$7:$H$13233,$L8828,COLUMNS($B$6:B8827)),\"\")","v":"42312103"},"Ostomy cleaners or deodorants",null,null,null,"42312103","Ostomy cleaners or deodorants","42312103",8822,8822,8822,"42312103"]
[null,{"$f":"IFERROR(INDEX($G$7:$H$13233,$L8834,COLUMNS($B$6:B8833)),\"\")","v":"42312100"},"Ostomy supplies and non surgical wound drainage products",null,null,null,"42312100","Ostomy supplies and non surgical wound drainage products","42312100",8828,8828,8828,"42312100"]
[null,{"$f":"IFERROR(INDEX($G$7:$H$13233,$L8838,COLUMNS($B$6:B8837)),\"\")","v":"52141800"},"Other domestic household appliances",null,null,null,"52141800","Other domestic household appliances","52141800",8832,8832,8832,"52141800"]
[null,{"$f":"IFERROR(INDEX($G$7:$H$13233,$L8846,COLUMNS($B$6:B8845)),\"\")","v":"42241900"},"Outrigger and dynamic splinting supplies",null,null,null,"42241900","Outrigger and dynamic splinting supplies","42241900",8840,8840,8840,"42241900"]
[null,{"$f":"IFERROR(INDEX($G$7:$H$13233,$L8853,COLUMNS($B$6:B8852)),\"\")","v":"41103810"},"Overhead stirrers",null,null,null,"41103810","Overhead stirrers","41103810",8847,8847,8847,"41103810"]
[null,{"$f":"IFERROR(INDEX($G$7:$H$13233,$L8857,COLUMNS($B$6:B8856)),\"\")","v":"51204205"},"Ovine rinderpest or peste des petit ruminants vaccines",null,null,null,"51204205","Ovine rinderpest or peste des petit ruminants vaccines","51204205",8851,8851,8851,"51204205"]
[null,{"$f":"IFERROR(INDEX($G$7:$H$13233,$L8863,COLUMNS($B$6:B8862)),\"\")","v":"51283423"},"Oxetacillin",null,null,null,"51283423","Oxetacillin","51283423",8857,8857,8857,"51283423"]
[null,{"$f":"IFERROR(INDEX($G$7:$H$13233,$L8864,COLUMNS($B$6:B8863)),\"\")","v":"51451604"},"Oxfendazole",null,null,null,"51451604","Oxfendazole","51451604",8858,8858,8858,"51451604"]
[null,{"$f":"IFERROR(INDEX($G$7:$H$13233,$L8874,COLUMNS($B$6:B8873)),\"\")","v":"25191532"},"Oxygen Filling Cart ",null,null,null,"25191532","Oxygen Filling Cart ","25191532",8868,8868,8868,"25191532"]
[null,{"$f":"IFERROR(INDEX($G$7:$H$13233,$L8875,COLUMNS($B$6:B8874)),\"\")","v":"41113110"},"Oxygen gas analyzers",null,null,null,"41113110","Oxygen gas analyzers","41113110",8869,8869,8869,"41113110"]
[null,{"$f":"IFERROR(INDEX($G$7:$H$13233,$L8881,COLUMNS($B$6:B8880)),\"\")","v":"42271704"},"Oxygen timers",null,null,null,"42271704","Oxygen timers","42271704",8875,8875,8875,"42271704"]
[null,{"$f":"IFERROR(INDEX($G$7:$H$13233,$L8887,COLUMNS($B$6:B8886)),\"\")","v":"51182203"},"Oxytocin",null,null,null,"51182203","Oxytocin","51182203",8881,8881,8881,"51182203"]
[null,{"$f":"IFERROR(INDEX($G$7:$H$13233,$L8892,COLUMNS($B$6:B8891)),\"\")","v":"50192700"},"Packaged combination meals",null,null,null,"50192700","Packaged combination meals","50192700",8886,8886,8886,"50192700"]
[null,{"$f":"IFERROR(INDEX($G$7:$H$13233,$L8898,COLUMNS($B$6:B8897)),\"\")","v":"24102108"},"Packaging compactors",null,null,null,"24102108","Packaging compactors","24102108",8892,8892,8892,"24102108"]
[null,{"$f":"IFERROR(INDEX($G$7:$H$13233,$L8904,COLUMNS($B$6:B8903)),\"\")","v":"24121502"},"Packaging pouches or bags",null,null,null,"24121502","Packaging pouches or bags","24121502",8898,8898,8898,"24121502"]
[null,{"$f":"IFERROR(INDEX($G$7:$H$13233,$L8907,COLUMNS($B$6:B8906)),\"\")","v":"78121500"},"Packing",null,null,null,"78121500","Packing","78121500",8901,8901,8901,"78121500"]
[null,{"$f":"IFERROR(INDEX($G$7:$H$13233,$L8915,COLUMNS($B$6:B8914)),\"\")","v":"45101514"},"Pad printer",null,null,null,"45101514","Pad printer","45101514",8909,8909,8909,"45101514"]
[null,{"$f":"IFERROR(INDEX($G$7:$H$13233,$L8921,COLUMNS($B$6:B8920)),\"\")","v":"43191622"},"Pager modules or accessories",null,null,null,"43191622","Pager modules or accessories","43191622",8915,8915,8915,"43191622"]
[null,{"$f":"IFERROR(INDEX($G$7:$H$13233,$L8924,COLUMNS($B$6:B8923)),\"\")","v":"43223211"},"Paging controllers",null,null,null,"43223211","Paging controllers","43223211",8918,8918,8918,"43223211"]
[null,{"$f":"IFERROR(INDEX($G$7:$H$13233,$L8933,COLUMNS($B$6:B8932)),\"\")","v":"86131502"},"Painting",null,null,null,"86131502","Painting","86131502",8927,8927,8927,"86131502"]
[null,{"$f":"IFERROR(INDEX($G$7:$H$13233,$L8938,COLUMNS($B$6:B8937)),\"\")","v":"51332003"},"Paliperidone",null,null,null,"51332003","Paliperidone","51332003",8932,8932,8932,"51332003"]
[null,{"$f":"IFERROR(INDEX($G$7:$H$13233,$L8941,COLUMNS($B$6:B8940)),\"\")","v":"24101505"},"Pallet trucks",null,null,null,"24101505","Pallet trucks","24101505",8935,8935,8935,"24101505"]
[null,{"$f":"IFERROR(INDEX($G$7:$H$13233,$L8945,COLUMNS($B$6:B8944)),\"\")","v":"50151518"},"Palmolein Oil (WFP food convention)",null,null,null,"50151518","Palmolein Oil (WFP food convention)","50151518",8939,8939,8939,"50151518"]
[null,{"$f":"IFERROR(INDEX($G$7:$H$13233,$L8950,COLUMNS($B$6:B8949)),\"\")","v":"41113673"},"Panel and switchboard meter",null,null,null,"41113673","Panel and switchboard meter","41113673",8944,8944,8944,"41113673"]
[null,{"$f":"IFERROR(INDEX($G$7:$H$13233,$L8956,COLUMNS($B$6:B8955)),\"\")","v":"24111502"},"Paper bags",null,null,null,"24111502","Paper bags","24111502",8950,8950,8950,"24111502"]
[null,{"$f":"IFERROR(INDEX($G$7:$H$13233,$L8962,COLUMNS($B$6:B8961)),\"\")","v":"72151308"},"Paper hanging service",null,null,null,"72151308","Paper hanging service","72151308",8956,8956,8956,"72151308"]
[null,{"$f":"IFERROR(INDEX($G$7:$H$13233,$L8967,COLUMNS($B$6:B8966)),\"\")","v":"14111705"},"Paper napkins or serviettes",null,null,null,"14111705","Paper napkins or serviettes","14111705",8961,8961,8961,"14111705"]
[null,{"$f":"IFERROR(INDEX($G$7:$H$13233,$L8974,COLUMNS($B$6:B8973)),\"\")","v":"14110000"},"Paper products",null,null,null,"14110000","Paper products","14110000",8968,8968,8968,"14110000"]
[null,{"$f":"IFERROR(INDEX($G$7:$H$13233,$L8979,COLUMNS($B$6:B8978)),\"\")","v":"44101606"},"Paper sorting machines",null,null,null,"44101606","Paper sorting machines","44101606",8973,8973,8973,"44101606"]
[null,{"$f":"IFERROR(INDEX($G$7:$H$13233,$L8984,COLUMNS($B$6:B8983)),\"\")","v":"11162118"},"Paper yarn fabric",null,null,null,"11162118","Paper yarn fabric","11162118",8978,8978,8978,"11162118"]
[null,{"$f":"IFERROR(INDEX($G$7:$H$13233,$L8991,COLUMNS($B$6:B8990)),\"\")","v":"72154016"},"Parade float construction service",null,null,null,"72154016","Parade float construction service","72154016",8985,8985,8985,"72154016"]
[null,{"$f":"IFERROR(INDEX($G$7:$H$13233,$L8996,COLUMNS($B$6:B8995)),\"\")","v":"85111502"},"Parasitic disease prevention or control services",null,null,null,"85111502","Parasitic disease prevention or control services","85111502",8990,8990,8990,"85111502"]
[null,{"$f":"IFERROR(INDEX($G$7:$H$13233,$L8999,COLUMNS($B$6:B8998)),\"\")","v":"41116141"},"Parasitology or mycology reagents or solutions or stains",null,null,null,"41116141","Parasitology or mycology reagents or solutions or stains","41116141",8993,8993,8993,"41116141"]
[null,{"$f":"IFERROR(INDEX($G$7:$H$13233,$L9008,COLUMNS($B$6:B9007)),\"\")","v":"72153701"},"Parking facility equipment installation",null,null,null,"72153701","Parking facility equipment installation","72153701",9002,9002,9002,"72153701"]
[null,{"$f":"IFERROR(INDEX($G$7:$H$13233,$L9010,COLUMNS($B$6:B9009)),\"\")","v":"95121644"},"Parking lot",null,null,null,"95121644","Parking lot","95121644",9004,9004,9004,"95121644"]
[null,{"$f":"IFERROR(INDEX($G$7:$H$13233,$L9015,COLUMNS($B$6:B9014)),\"\")","v":"70111700"},"Parks and gardens and orchards",null,null,null,"70111700","Parks and gardens and orchards","70111700",9009,9009,9009,"70111700"]
[null,{"$f":"IFERROR(INDEX($G$7:$H$13233,$L9020,COLUMNS($B$6:B9019)),\"\")","v":"51294513"},"Paroxetine hydrochloride",null,null,null,"51294513","Paroxetine hydrochloride","51294513",9014,9014,9014,"51294513"]
[null,{"$f":"IFERROR(INDEX($G$7:$H$13233,$L9027,COLUMNS($B$6:B9026)),\"\")","v":"41115838"},"Particle counter and sizer accessories and supplies",null,null,null,"41115838","Particle counter and sizer accessories and supplies","41115838",9021,9021,9021,"41115838"]
[null,{"$f":"IFERROR(INDEX($G$7:$H$13233,$L9032,COLUMNS($B$6:B9031)),\"\")","v":"30162400"},"Partition walls",null,null,null,"30162400","Partition walls","30162400",9026,9026,9026,"30162400"]
[null,{"$f":"IFERROR(INDEX($G$7:$H$13233,$L9037,COLUMNS($B$6:B9036)),\"\")","v":"11121621"},"Pashaco wood",null,null,null,"11121621","Pashaco wood","11121621",9031,9031,9031,"11121621"]
[null,{"$f":"IFERROR(INDEX($G$7:$H$13233,$L9042,COLUMNS($B$6:B9041)),\"\")","v":"25111508"},"Passenger or automobile ferries",null,null,null,"25111508","Passenger or automobile ferries","25111508",9036,9036,9036,"25111508"]
[null,{"$f":"IFERROR(INDEX($G$7:$H$13233,$L9049,COLUMNS($B$6:B9048)),\"\")","v":"46191507"},"Passive firestop system",null,null,null,"46191507","Passive firestop system","46191507",9043,9043,9043,"46191507"]
[null,{"$f":"IFERROR(INDEX($G$7:$H$13233,$L9054,COLUMNS($B$6:B9053)),\"\")","v":"41123309"},"Pasteur or transfer pipette dispenser",null,null,null,"41123309","Pasteur or transfer pipette dispenser","41123309",9048,9048,9048,"41123309"]
[null,{"$f":"IFERROR(INDEX($G$7:$H$13233,$L9059,COLUMNS($B$6:B9058)),\"\")","v":"80121604"},"Patent or trademark or copyright law",null,null,null,"80121604","Patent or trademark or copyright law","80121604",9053,9053,9053,"80121604"]
[null,{"$f":"IFERROR(INDEX($G$7:$H$13233,$L9066,COLUMNS($B$6:B9065)),\"\")","v":"42131501"},"Patient bibs",null,null,null,"42131501","Patient bibs","42131501",9060,9060,9060,"42131501"]
[null,{"$f":"IFERROR(INDEX($G$7:$H$13233,$L9068,COLUMNS($B$6:B9067)),\"\")","v":"42272009"},"Patient carbon dioxide detectors",null,null,null,"42272009","Patient carbon dioxide detectors","42272009",9062,9062,9062,"42272009"]
[null,{"$f":"IFERROR(INDEX($G$7:$H$13233,$L9078,COLUMNS($B$6:B9077)),\"\")","v":"42222004"},"Patient controlled analgesia infusion pumps",null,null,null,"42222004","Patient controlled analgesia infusion pumps","42222004",9072,9072,9072,"42222004"]
[null,{"$f":"IFERROR(INDEX($G$7:$H$13233,$L9083,COLUMNS($B$6:B9082)),\"\")","v":"42131504"},"Patient gowns",null,null,null,"42131504","Patient gowns","42131504",9077,9077,9077,"42131504"]
[null,{"$f":"IFERROR(INDEX($G$7:$H$13233,$L9085,COLUMNS($B$6:B9084)),\"\")","v":"42171503"},"Patient holding or evacuation system heater units",null,null,null,"42171503","Patient holding or evacuation system heater units","42171503",9079,9079,9079,"42171503"]
[null,{"$f":"IFERROR(INDEX($G$7:$H$13233,$L9090,COLUMNS($B$6:B9089)),\"\")","v":"42192301"},"Patient lifts",null,null,null,"42192301","Patient lifts","42192301",9084,9084,9084,"42192301"]
[null,{"$f":"IFERROR(INDEX($G$7:$H$13233,$L9095,COLUMNS($B$6:B9094)),\"\")","v":"42143609"},"Patient restraint boards",null,null,null,"42143609","Patient restraint boards","42143609",9089,9089,9089,"42143609"]
[null,{"$f":"IFERROR(INDEX($G$7:$H$13233,$L9102,COLUMNS($B$6:B9101)),\"\")","v":"42143608"},"Patient stabilization or fall prevention devices",null,null,null,"42143608","Patient stabilization or fall prevention devices","42143608",9096,9096,9096,"42143608"]
[null,{"$f":"IFERROR(INDEX($G$7:$H$13233,$L9107,COLUMNS($B$6:B9106)),\"\")","v":"42192212"},"Patient transfer mats or sheets",null,null,null,"42192212","Patient transfer mats or sheets","42192212",9101,9101,9101,"42192212"]
[null,{"$f":"IFERROR(INDEX($G$7:$H$13233,$L9113,COLUMNS($B$6:B9112)),\"\")","v":"42192201"},"Patient transport trolleys",null,null,null,"42192201","Patient transport trolleys","42192201",9107,9107,9107,"42192201"]
[null,{"$f":"IFERROR(INDEX($G$7:$H$13233,$L9119,COLUMNS($B$6:B9118)),\"\")","v":"72151306"},"Pavement marking service",null,null,null,"72151306","Pavement marking service","72151306",9113,9113,9113,"72151306"]
[null,{"$f":"IFERROR(INDEX($G$7:$H$13233,$L9124,COLUMNS($B$6:B9123)),\"\")","v":"43191627"},"Pay phone coin box vault doors",null,null,null,"43191627","Pay phone coin box vault doors","43191627",9118,9118,9118,"43191627"]
[null,{"$f":"IFERROR(INDEX($G$7:$H$13233,$L9128,COLUMNS($B$6:B9127)),\"\")","v":"43191626"},"Pay phone hoppers",null,null,null,"43191626","Pay phone hoppers","43191626",9122,9122,9122,"43191626"]
[null,{"$f":"IFERROR(INDEX($G$7:$H$13233,$L9136,COLUMNS($B$6:B9135)),\"\")","v":"81112307"},"PC or workstation or notebook maintenance",null,null,null,"81112307","PC or workstation or notebook maintenance","81112307",9130,9130,9130,"81112307"]
[null,{"$f":"IFERROR(INDEX($G$7:$H$13233,$L9142,COLUMNS($B$6:B9141)),\"\")","v":"50501720"},"Pea Wheat Blended (WFP food convention) ",null,null,null,"50501720","Pea Wheat Blended (WFP food convention) ","50501720",9136,9136,9136,"50501720"]
[null,{"$f":"IFERROR(INDEX($G$7:$H$13233,$L9145,COLUMNS($B$6:B9144)),\"\")","v":"93121612"},"Peace treaties cooperation",null,null,null,"93121612","Peace treaties cooperation","93121612",9139,9139,9139,"93121612"]
[null,{"$f":"IFERROR(INDEX($G$7:$H$13233,$L9153,COLUMNS($B$6:B9152)),\"\")","v":"57030111"},"Pediatric kit",null,null,null,"57030111","Pediatric kit","57030111",9147,9147,9147,"57030111"]
[null,{"$f":"IFERROR(INDEX($G$7:$H$13233,$L9154,COLUMNS($B$6:B9153)),\"\")","v":"42181547"},"Pediatric kit",null,null,null,"42181547","Pediatric kit","42181547",9148,9148,9148,"42181547"]
[null,{"$f":"IFERROR(INDEX($G$7:$H$13233,$L9162,COLUMNS($B$6:B9161)),\"\")","v":"51111650"},"Pemetrexed",null,null,null,"51111650","Pemetrexed","51111650",9156,9156,9156,"51111650"]
[null,{"$f":"IFERROR(INDEX($G$7:$H$13233,$L9165,COLUMNS($B$6:B9164)),\"\")","v":"44111509"},"Pen or pencil holders",null,null,null,"44111509","Pen or pencil holders","44111509",9159,9159,9159,"44111509"]
[null,{"$f":"IFERROR(INDEX($G$7:$H$13233,$L9171,COLUMNS($B$6:B9170)),\"\")","v":"51283406"},"Penicillin V or phenoxymethylpenicillin",null,null,null,"51283406","Penicillin V or phenoxymethylpenicillin","51283406",9165,9165,9165,"51283406"]
[null,{"$f":"IFERROR(INDEX($G$7:$H$13233,$L9177,COLUMNS($B$6:B9176)),\"\")","v":"51172201"},"Pentosan polysulfate sodium",null,null,null,"51172201","Pentosan polysulfate sodium","51172201",9171,9171,9171,"51172201"]
[null,{"$f":"IFERROR(INDEX($G$7:$H$13233,$L9183,COLUMNS($B$6:B9182)),\"\")","v":"82151700"},"Performing arts professionals",null,null,null,"82151700","Performing arts professionals","82151700",9177,9177,9177,"82151700"]
[null,{"$f":"IFERROR(INDEX($G$7:$H$13233,$L9188,COLUMNS($B$6:B9187)),\"\")","v":"42143110"},"Perineal heaters",null,null,null,"42143110","Perineal heaters","42143110",9182,9182,9182,"42143110"]
[null,{"$f":"IFERROR(INDEX($G$7:$H$13233,$L9194,COLUMNS($B$6:B9193)),\"\")","v":"43201407"},"Peripheral controller cards",null,null,null,"43201407","Peripheral controller cards","43201407",9188,9188,9188,"43201407"]
[null,{"$f":"IFERROR(INDEX($G$7:$H$13233,$L9200,COLUMNS($B$6:B9199)),\"\")","v":"42161500"},"Peritoneal and equilibrium dialysis equipment and supplies",null,null,null,"42161500","Peritoneal and equilibrium dialysis equipment and supplies","42161500",9194,9194,9194,"42161500"]
[null,{"$f":"IFERROR(INDEX($G$7:$H$13233,$L9205,COLUMNS($B$6:B9204)),\"\")","v":"42161505"},"Peritoneal dialysis drainage bags or containers",null,null,null,"42161505","Peritoneal dialysis drainage bags or containers","42161505",9199,9199,9199,"42161505"]
[null,{"$f":"IFERROR(INDEX($G$7:$H$13233,$L9211,COLUMNS($B$6:B9210)),\"\")","v":"95120000"},"Permanent buildings and structures",null,null,null,"95120000","Permanent buildings and structures","95120000",9205,9205,9205,"95120000"]
[null,{"$f":"IFERROR(INDEX($G$7:$H$13233,$L9217,COLUMNS($B$6:B9216)),\"\")","v":"80111716"},"Permanent information technology staffing needs",null,null,null,"80111716","Permanent information technology staffing needs","80111716",9211,9211,9211,"80111716"]
[null,{"$f":"IFERROR(INDEX($G$7:$H$13233,$L9222,COLUMNS($B$6:B9221)),\"\")","v":"80111709"},"Permanent medical staff needs",null,null,null,"80111709","Permanent medical staff needs","80111709",9216,9216,9216,"80111709"]
[null,{"$f":"IFERROR(INDEX($G$7:$H$13233,$L9224,COLUMNS($B$6:B9223)),\"\")","v":"80111707"},"Permanent technical staffing needs",null,null,null,"80111707","Permanent technical staffing needs","80111707",9218,9218,9218,"80111707"]
[null,{"$f":"IFERROR(INDEX($G$7:$H$13233,$L9231,COLUMNS($B$6:B9230)),\"\")","v":"91100000"},"Personal appearance",null,null,null,"91100000","Personal appearance","91100000",9225,9225,9225,"91100000"]
[null,{"$f":"IFERROR(INDEX($G$7:$H$13233,$L9235,COLUMNS($B$6:B9234)),\"\")","v":"43191610"},"Personal communication holders or mounts, stands",null,null,null,"43191610","Personal communication holders or mounts, stands","43191610",9229,9229,9229,"43191610"]
[null,{"$f":"IFERROR(INDEX($G$7:$H$13233,$L9241,COLUMNS($B$6:B9240)),\"\")","v":"43211616"},"Personal digital assistant PDA holder",null,null,null,"43211616","Personal digital assistant PDA holder","43211616",9235,9235,9235,"43211616"]
[null,{"$f":"IFERROR(INDEX($G$7:$H$13233,$L9248,COLUMNS($B$6:B9247)),\"\")","v":"14111700"},"Personal paper products",null,null,null,"14111700","Personal paper products","14111700",9242,9242,9242,"14111700"]
[null,{"$f":"IFERROR(INDEX($G$7:$H$13233,$L9253,COLUMNS($B$6:B9252)),\"\")","v":"46180000"},"Personal safety and protection",null,null,null,"46180000","Personal safety and protection","46180000",9247,9247,9247,"46180000"]
[null,{"$f":"IFERROR(INDEX($G$7:$H$13233,$L9258,COLUMNS($B$6:B9257)),\"\")","v":"14111810"},"Personnel forms or personnel books",null,null,null,"14111810","Personnel forms or personnel books","14111810",9252,9252,9252,"14111810"]
[null,{"$f":"IFERROR(INDEX($G$7:$H$13233,$L9265,COLUMNS($B$6:B9264)),\"\")","v":"72102100"},"Pest control",null,null,null,"72102100","Pest control","72102100",9259,9259,9259,"72102100"]
[null,{"$f":"IFERROR(INDEX($G$7:$H$13233,$L9270,COLUMNS($B$6:B9269)),\"\")","v":"77121608"},"Pesticides pollution assessment",null,null,null,"77121608","Pesticides pollution assessment","77121608",9264,9264,9264,"77121608"]
[null,{"$f":"IFERROR(INDEX($G$7:$H$13233,$L9275,COLUMNS($B$6:B9274)),\"\")","v":"41122109"},"Petri pads",null,null,null,"41122109","Petri pads","41122109",9269,9269,9269,"41122109"]
[null,{"$f":"IFERROR(INDEX($G$7:$H$13233,$L9282,COLUMNS($B$6:B9281)),\"\")","v":"23110000"},"Petroleum processing machinery",null,null,null,"23110000","Petroleum processing machinery","23110000",9276,9276,9276,"23110000"]
[null,{"$f":"IFERROR(INDEX($G$7:$H$13233,$L9287,COLUMNS($B$6:B9286)),\"\")","v":"41115603"},"pH meters",null,null,null,"41115603","pH meters","41115603",9281,9281,9281,"41115603"]
[null,{"$f":"IFERROR(INDEX($G$7:$H$13233,$L9291,COLUMNS($B$6:B9290)),\"\")","v":"23151800"},"Pharmaceutical industry machinery and equipment and supplies",null,null,null,"23151800","Pharmaceutical industry machinery and equipment and supplies","23151800",9285,9285,9285,"23151800"]
[null,{"$f":"IFERROR(INDEX($G$7:$H$13233,$L9294,COLUMNS($B$6:B9293)),\"\")","v":"24131515"},"Pharmaceutical refrigerator and freezer",null,null,null,"24131515","Pharmaceutical refrigerator and freezer","24131515",9288,9288,9288,"24131515"]
[null,{"$f":"IFERROR(INDEX($G$7:$H$13233,$L9299,COLUMNS($B$6:B9298)),\"\")","v":"41113602"},"Phasemeters",null,null,null,"41113602","Phasemeters","41113602",9293,9293,9293,"41113602"]
[null,{"$f":"IFERROR(INDEX($G$7:$H$13233,$L9308,COLUMNS($B$6:B9307)),\"\")","v":"51391734"},"Phenylephrine",null,null,null,"51391734","Phenylephrine","51391734",9302,9302,9302,"51391734"]
[null,{"$f":"IFERROR(INDEX($G$7:$H$13233,$L9311,COLUMNS($B$6:B9310)),\"\")","v":"51141596"},"Phenytoin sodium",null,null,null,"51141596","Phenytoin sodium","51141596",9305,9305,9305,"51141596"]
[null,{"$f":"IFERROR(INDEX($G$7:$H$13233,$L9316,COLUMNS($B$6:B9315)),\"\")","v":"95141710"},"Phone box or phone booth",null,null,null,"95141710","Phone box or phone booth","95141710",9310,9310,9310,"95141710"]
[null,{"$f":"IFERROR(INDEX($G$7:$H$13233,$L9323,COLUMNS($B$6:B9322)),\"\")","v":"43191608"},"Phone headset voice tubes",null,null,null,"43191608","Phone headset voice tubes","43191608",9317,9317,9317,"43191608"]
[null,{"$f":"IFERROR(INDEX($G$7:$H$13233,$L9328,COLUMNS($B$6:B9327)),\"\")","v":"43191614"},"Phone voice converters",null,null,null,"43191614","Phone voice converters","43191614",9322,9322,9322,"43191614"]
[null,{"$f":"IFERROR(INDEX($G$7:$H$13233,$L9334,COLUMNS($B$6:B9333)),\"\")","v":"45141503"},"Photo development processing kit",null,null,null,"45141503","Photo development processing kit","45141503",9328,9328,9328,"45141503"]
[null,{"$f":"IFERROR(INDEX($G$7:$H$13233,$L9340,COLUMNS($B$6:B9339)),\"\")","v":"44101706"},"Photoconductor or imaging units",null,null,null,"44101706","Photoconductor or imaging units","44101706",9334,9334,9334,"44101706"]
[null,{"$f":"IFERROR(INDEX($G$7:$H$13233,$L9345,COLUMNS($B$6:B9344)),\"\")","v":"82121700"},"Photocopying",null,null,null,"82121700","Photocopying","82121700",9339,9339,9339,"82121700"]
[null,{"$f":"IFERROR(INDEX($G$7:$H$13233,$L9351,COLUMNS($B$6:B9350)),\"\")","v":"82131600"},"Photographers and cinematographers",null,null,null,"82131600","Photographers and cinematographers","82131600",9345,9345,9345,"82131600"]
[null,{"$f":"IFERROR(INDEX($G$7:$H$13233,$L9357,COLUMNS($B$6:B9356)),\"\")","v":"45120000"},"Photographic or filming or video equipment",null,null,null,"45120000","Photographic or filming or video equipment","45120000",9351,9351,9351,"45120000"]
[null,{"$f":"IFERROR(INDEX($G$7:$H$13233,$L9362,COLUMNS($B$6:B9361)),\"\")","v":"45141611"},"Photographic processing temperature regulator",null,null,null,"45141611","Photographic processing temperature regulator","45141611",9356,9356,9356,"45141611"]
[null,{"$f":"IFERROR(INDEX($G$7:$H$13233,$L9366,COLUMNS($B$6:B9365)),\"\")","v":"14121812"},"Photography paper",null,null,null,"14121812","Photography paper","14121812",9360,9360,9360,"14121812"]
[null,{"$f":"IFERROR(INDEX($G$7:$H$13233,$L9369,COLUMNS($B$6:B9368)),\"\")","v":"41115311"},"Photometers",null,null,null,"41115311","Photometers","41115311",9363,9363,9363,"41115311"]
[null,{"$f":"IFERROR(INDEX($G$7:$H$13233,$L9374,COLUMNS($B$6:B9373)),\"\")","v":"42143705"},"Phototherapy patient protection devices",null,null,null,"42143705","Phototherapy patient protection devices","42143705",9368,9368,9368,"42143705"]
[null,{"$f":"IFERROR(INDEX($G$7:$H$13233,$L9383,COLUMNS($B$6:B9382)),\"\")","v":"49211806"},"Physical education equipment storage",null,null,null,"49211806","Physical education equipment storage","49211806",9377,9377,9377,"49211806"]
[null,{"$f":"IFERROR(INDEX($G$7:$H$13233,$L9386,COLUMNS($B$6:B9385)),\"\")","v":"42192003"},"Physical therapy massage tables",null,null,null,"42192003","Physical therapy massage tables","42192003",9380,9380,9380,"42192003"]
[null,{"$f":"IFERROR(INDEX($G$7:$H$13233,$L9394,COLUMNS($B$6:B9393)),\"\")","v":"55101507"},"Picture or drawing or coloring books for children",null,null,null,"55101507","Picture or drawing or coloring books for children","55101507",9388,9388,9388,"55101507"]
[null,{"$f":"IFERROR(INDEX($G$7:$H$13233,$L9398,COLUMNS($B$6:B9397)),\"\")","v":"12171600"},"Pigments",null,null,null,"12171600","Pigments","12171600",9392,9392,9392,"12171600"]
[null,{"$f":"IFERROR(INDEX($G$7:$H$13233,$L9403,COLUMNS($B$6:B9402)),\"\")","v":"52121505"},"Pillows",null,null,null,"52121505","Pillows","52121505",9397,9397,9397,"52121505"]
[null,{"$f":"IFERROR(INDEX($G$7:$H$13233,$L9409,COLUMNS($B$6:B9408)),\"\")","v":"41114642"},"Pinhole detector",null,null,null,"41114642","Pinhole detector","41114642",9403,9403,9403,"41114642"]
[null,{"$f":"IFERROR(INDEX($G$7:$H$13233,$L9415,COLUMNS($B$6:B9414)),\"\")","v":"40174700"},"Pipe threaded flanges",null,null,null,"40174700","Pipe threaded flanges","40174700",9409,9409,9409,"40174700"]
[null,{"$f":"IFERROR(INDEX($G$7:$H$13233,$L9420,COLUMNS($B$6:B9419)),\"\")","v":"95121639"},"Pipeline carrying bridge",null,null,null,"95121639","Pipeline carrying bridge","95121639",9414,9414,9414,"95121639"]
[null,{"$f":"IFERROR(INDEX($G$7:$H$13233,$L9426,COLUMNS($B$6:B9425)),\"\")","v":"51285003"},"Piperacillin/tazobactam",null,null,null,"51285003","Piperacillin/tazobactam","51285003",9420,9420,9420,"51285003"]
[null,{"$f":"IFERROR(INDEX($G$7:$H$13233,$L9432,COLUMNS($B$6:B9431)),\"\")","v":"41123308"},"Pipette storage canister or box",null,null,null,"41123308","Pipette storage canister or box","41123308",9426,9426,9426,"41123308"]
[null,{"$f":"IFERROR(INDEX($G$7:$H$13233,$L9433,COLUMNS($B$6:B9432)),\"\")","v":"41121600"},"Pipette tips",null,null,null,"41121600","Pipette tips","41121600",9427,9427,9427,"41121600"]
[null,{"$f":"IFERROR(INDEX($G$7:$H$13233,$L9443,COLUMNS($B$6:B9442)),\"\")","v":"51113502"},"Piposulfan",null,null,null,"51113502","Piposulfan","51113502",9437,9437,9437,"51113502"]
[null,{"$f":"IFERROR(INDEX($G$7:$H$13233,$L9444,COLUMNS($B$6:B9443)),\"\")","v":"51204001"},"Pirfenidone",null,null,null,"51204001","Pirfenidone","51204001",9438,9438,9438,"51204001"]
[null,{"$f":"IFERROR(INDEX($G$7:$H$13233,$L9452,COLUMNS($B$6:B9451)),\"\")","v":"50192900"},"Plain pasta and noodles",null,null,null,"50192900","Plain pasta and noodles","50192900",9446,9446,9446,"50192900"]
[null,{"$f":"IFERROR(INDEX($G$7:$H$13233,$L9456,COLUMNS($B$6:B9455)),\"\")","v":"44112000"},"Planning systems",null,null,null,"44112000","Planning systems","44112000",9450,9450,9450,"44112000"]
[null,{"$f":"IFERROR(INDEX($G$7:$H$13233,$L9461,COLUMNS($B$6:B9460)),\"\")","v":"41104015"},"Plant samples analysis equipment",null,null,null,"41104015","Plant samples analysis equipment","41104015",9455,9455,9455,"41104015"]
[null,{"$f":"IFERROR(INDEX($G$7:$H$13233,$L9469,COLUMNS($B$6:B9468)),\"\")","v":"41106617"},"Plasmid mutagenesis vectors or kits",null,null,null,"41106617","Plasmid mutagenesis vectors or kits","41106617",9463,9463,9463,"41106617"]
[null,{"$f":"IFERROR(INDEX($G$7:$H$13233,$L9473,COLUMNS($B$6:B9472)),\"\")","v":"57060204"},"Plastic / Tarpaulin sheeting",null,null,null,"57060204","Plastic / Tarpaulin sheeting","57060204",9467,9467,9467,"57060204"]
[null,{"$f":"IFERROR(INDEX($G$7:$H$13233,$L9479,COLUMNS($B$6:B9478)),\"\")","v":"12131505"},"Plastic explosives",null,null,null,"12131505","Plastic explosives","12131505",9473,9473,9473,"12131505"]
[null,{"$f":"IFERROR(INDEX($G$7:$H$13233,$L9486,COLUMNS($B$6:B9485)),\"\")","v":"31151904"},"Plastic straps",null,null,null,"31151904","Plastic straps","31151904",9480,9480,9480,"31151904"]
[null,{"$f":"IFERROR(INDEX($G$7:$H$13233,$L9490,COLUMNS($B$6:B9489)),\"\")","v":"30102200"},"Plate",null,null,null,"30102200","Plate","30102200",9484,9484,9484,"30102200"]
[null,{"$f":"IFERROR(INDEX($G$7:$H$13233,$L9495,COLUMNS($B$6:B9494)),\"\")","v":"41104427"},"Platelet incubator",null,null,null,"41104427","Platelet incubator","41104427",9489,9489,9489,"41104427"]
[null,{"$f":"IFERROR(INDEX($G$7:$H$13233,$L9502,COLUMNS($B$6:B9501)),\"\")","v":"43202211"},"Platters or disks",null,null,null,"43202211","Platters or disks","43202211",9496,9496,9496,"43202211"]
[null,{"$f":"IFERROR(INDEX($G$7:$H$13233,$L9507,COLUMNS($B$6:B9506)),\"\")","v":"51131520"},"Plerixafor",null,null,null,"51131520","Plerixafor","51131520",9501,9501,9501,"51131520"]
[null,{"$f":"IFERROR(INDEX($G$7:$H$13233,$L9512,COLUMNS($B$6:B9511)),\"\")","v":"43212107"},"Plotter printers",null,null,null,"43212107","Plotter printers","43212107",9506,9506,9506,"43212107"]
[null,{"$f":"IFERROR(INDEX($G$7:$H$13233,$L9514,COLUMNS($B$6:B9513)),\"\")","v":"70131603"},"Plowing services",null,null,null,"70131603","Plowing services","70131603",9508,9508,9508,"70131603"]
[null,{"$f":"IFERROR(INDEX($G$7:$H$13233,$L9520,COLUMNS($B$6:B9519)),\"\")","v":"42231814"},"Plumpy Doz (WFP standard)",null,null,null,"42231814","Plumpy Doz (WFP standard)","42231814",9514,9514,9514,"42231814"]
[null,{"$f":"IFERROR(INDEX($G$7:$H$13233,$L9529,COLUMNS($B$6:B9528)),\"\")","v":"27131500"},"Pneumatic tools",null,null,null,"27131500","Pneumatic tools","27131500",9523,9523,9523,"27131500"]
[null,{"$f":"IFERROR(INDEX($G$7:$H$13233,$L9531,COLUMNS($B$6:B9530)),\"\")","v":"51201615"},"Pneumococcal vaccine",null,null,null,"51201615","Pneumococcal vaccine","51201615",9525,9525,9525,"51201615"]
[null,{"$f":"IFERROR(INDEX($G$7:$H$13233,$L9537,COLUMNS($B$6:B9536)),\"\")","v":"81112309"},"Point of sale hardware installation or implementation service",null,null,null,"81112309","Point of sale hardware installation or implementation service","81112309",9531,9531,9531,"81112309"]
[null,{"$f":"IFERROR(INDEX($G$7:$H$13233,$L9540,COLUMNS($B$6:B9539)),\"\")","v":"43212112"},"Point of sale POS receipt printers",null,null,null,"43212112","Point of sale POS receipt printers","43212112",9534,9534,9534,"43212112"]
[null,{"$f":"IFERROR(INDEX($G$7:$H$13233,$L9549,COLUMNS($B$6:B9548)),\"\")","v":"41115315"},"Polariscopes",null,null,null,"41115315","Polariscopes","41115315",9543,9543,9543,"41115315"]
[null,{"$f":"IFERROR(INDEX($G$7:$H$13233,$L9555,COLUMNS($B$6:B9554)),\"\")","v":"25101702"},"Police vehicles",null,null,null,"25101702","Police vehicles","25101702",9549,9549,9549,"25101702"]
[null,{"$f":"IFERROR(INDEX($G$7:$H$13233,$L9560,COLUMNS($B$6:B9559)),\"\")","v":"93101500"},"Political bodies",null,null,null,"93101500","Political bodies","93101500",9554,9554,9554,"93101500"]
[null,{"$f":"IFERROR(INDEX($G$7:$H$13233,$L9566,COLUMNS($B$6:B9565)),\"\")","v":"93111600"},"Political representation and participation",null,null,null,"93111600","Political representation and participation","93111600",9560,9560,9560,"93111600"]
[null,{"$f":"IFERROR(INDEX($G$7:$H$13233,$L9572,COLUMNS($B$6:B9571)),\"\")","v":"77121602"},"Polluted soil removal services",null,null,null,"77121602","Polluted soil removal services","77121602",9566,9566,9566,"77121602"]
[null,{"$f":"IFERROR(INDEX($G$7:$H$13233,$L9577,COLUMNS($B$6:B9576)),\"\")","v":"43211909"},"Poly light emitting diode LED display",null,null,null,"43211909","Poly light emitting diode LED display","43211909",9571,9571,9571,"43211909"]
[null,{"$f":"IFERROR(INDEX($G$7:$H$13233,$L9578,COLUMNS($B$6:B9577)),\"\")","v":"41105319"},"Polyacrylamide gel making reagents",null,null,null,"41105319","Polyacrylamide gel making reagents","41105319",9572,9572,9572,"41105319"]
[null,{"$f":"IFERROR(INDEX($G$7:$H$13233,$L9583,COLUMNS($B$6:B9582)),\"\")","v":"13111210"},"Polyester films",null,null,null,"13111210","Polyester films","13111210",9577,9577,9577,"13111210"]
[null,{"$f":"IFERROR(INDEX($G$7:$H$13233,$L9590,COLUMNS($B$6:B9589)),\"\")","v":"41106615"},"Polymerase chain reaction PCR cloning vectors or kits",null,null,null,"41106615","Polymerase chain reaction PCR cloning vectors or kits","41106615",9584,9584,9584,"41106615"]
[null,{"$f":"IFERROR(INDEX($G$7:$H$13233,$L9595,COLUMNS($B$6:B9594)),\"\")","v":"51283106"},"Polymyxin b",null,null,null,"51283106","Polymyxin b","51283106",9589,9589,9589,"51283106"]
[null,{"$f":"IFERROR(INDEX($G$7:$H$13233,$L9600,COLUMNS($B$6:B9599)),\"\")","v":"95121901"},"Polytechnic school",null,null,null,"95121901","Polytechnic school","95121901",9594,9594,9594,"95121901"]
[null,{"$f":"IFERROR(INDEX($G$7:$H$13233,$L9607,COLUMNS($B$6:B9606)),\"\")","v":"72141212"},"Pond construction service",null,null,null,"72141212","Pond construction service","72141212",9601,9601,9601,"72141212"]
[null,{"$f":"IFERROR(INDEX($G$7:$H$13233,$L9615,COLUMNS($B$6:B9614)),\"\")","v":"93141602"},"Population sample surveys services",null,null,null,"93141602","Population sample surveys services","93141602",9609,9609,9609,"93141602"]
[null,{"$f":"IFERROR(INDEX($G$7:$H$13233,$L9619,COLUMNS($B$6:B9618)),\"\")","v":"43222819"},"Port connection panels",null,null,null,"43222819","Port connection panels","43222819",9613,9613,9613,"43222819"]
[null,{"$f":"IFERROR(INDEX($G$7:$H$13233,$L9624,COLUMNS($B$6:B9623)),\"\")","v":"48102007"},"Portable bars",null,null,null,"48102007","Portable bars","48102007",9618,9618,9618,"48102007"]
[null,{"$f":"IFERROR(INDEX($G$7:$H$13233,$L9626,COLUMNS($B$6:B9625)),\"\")","v":"95130000"},"Portable buildings and structures",null,null,null,"95130000","Portable buildings and structures","95130000",9620,9620,9620,"95130000"]
[null,{"$f":"IFERROR(INDEX($G$7:$H$13233,$L9636,COLUMNS($B$6:B9635)),\"\")","v":"80131505"},"Portable or modular office rental service",null,null,null,"80131505","Portable or modular office rental service","80131505",9630,9630,9630,"80131505"]
[null,{"$f":"IFERROR(INDEX($G$7:$H$13233,$L9641,COLUMNS($B$6:B9640)),\"\")","v":"30241702"},"Portable structure canvas section",null,null,null,"30241702","Portable structure canvas section","30241702",9635,9635,9635,"30241702"]
[null,{"$f":"IFERROR(INDEX($G$7:$H$13233,$L9643,COLUMNS($B$6:B9642)),\"\")","v":"95131602"},"Portable toilet",null,null,null,"95131602","Portable toilet","95131602",9637,9637,9637,"95131602"]
[null,{"$f":"IFERROR(INDEX($G$7:$H$13233,$L9648,COLUMNS($B$6:B9647)),\"\")","v":"42272200"},"Positive mechanical pressure ventilators and accessories",null,null,null,"42272200","Positive mechanical pressure ventilators and accessories","42272200",9642,9642,9642,"42272200"]
[null,{"$f":"IFERROR(INDEX($G$7:$H$13233,$L9653,COLUMNS($B$6:B9652)),\"\")","v":"70142000"},"Post harvesting crop processing",null,null,null,"70142000","Post harvesting crop processing","70142000",9647,9647,9647,"70142000"]
[null,{"$f":"IFERROR(INDEX($G$7:$H$13233,$L9658,COLUMNS($B$6:B9657)),\"\")","v":"72121404"},"Post office construction service",null,null,null,"72121404","Post office construction service","72121404",9652,9652,9652,"72121404"]
[null,{"$f":"IFERROR(INDEX($G$7:$H$13233,$L9665,COLUMNS($B$6:B9664)),\"\")","v":"14111607"},"Poster boards",null,null,null,"14111607","Poster boards","14111607",9659,9659,9659,"14111607"]
[null,{"$f":"IFERROR(INDEX($G$7:$H$13233,$L9669,COLUMNS($B$6:B9668)),\"\")","v":"72154027"},"Posthole digging service",null,null,null,"72154027","Posthole digging service","72154027",9663,9663,9663,"72154027"]
[null,{"$f":"IFERROR(INDEX($G$7:$H$13233,$L9677,COLUMNS($B$6:B9676)),\"\")","v":"10171602"},"Potassic fertilizer",null,null,null,"10171602","Potassic fertilizer","10171602",9671,9671,9671,"10171602"]
[null,{"$f":"IFERROR(INDEX($G$7:$H$13233,$L9682,COLUMNS($B$6:B9681)),\"\")","v":"51191800"},"Potassium salts",null,null,null,"51191800","Potassium salts","51191800",9676,9676,9676,"51191800"]
[null,{"$f":"IFERROR(INDEX($G$7:$H$13233,$L9686,COLUMNS($B$6:B9685)),\"\")","v":"41113633"},"Potentiometers",null,null,null,"41113633","Potentiometers","41113633",9680,9680,9680,"41113633"]
[null,{"$f":"IFERROR(INDEX($G$7:$H$13233,$L9694,COLUMNS($B$6:B9693)),\"\")","v":"39121006"},"Power adapters or inverters",null,null,null,"39121006","Power adapters or inverters","39121006",9688,9688,9688,"39121006"]
[null,{"$f":"IFERROR(INDEX($G$7:$H$13233,$L9699,COLUMNS($B$6:B9698)),\"\")","v":"26130000"},"Power generation",null,null,null,"26130000","Power generation","26130000",9693,9693,9693,"26130000"]
[null,{"$f":"IFERROR(INDEX($G$7:$H$13233,$L9701,COLUMNS($B$6:B9700)),\"\")","v":"26131800"},"Power generation control equipment",null,null,null,"26131800","Power generation control equipment","26131800",9695,9695,9695,"26131800"]
[null,{"$f":"IFERROR(INDEX($G$7:$H$13233,$L9711,COLUMNS($B$6:B9710)),\"\")","v":"26100000"},"Power sources",null,null,null,"26100000","Power sources","26100000",9705,9705,9705,"26100000"]
[null,{"$f":"IFERROR(INDEX($G$7:$H$13233,$L9712,COLUMNS($B$6:B9711)),\"\")","v":"57070103"},"Power supply",null,null,null,"57070103","Power supply","57070103",9706,9706,9706,"57070103"]
[null,{"$f":"IFERROR(INDEX($G$7:$H$13233,$L9718,COLUMNS($B$6:B9717)),\"\")","v":"25131500"},"Powered fixed wing aircraft",null,null,null,"25131500","Powered fixed wing aircraft","25131500",9712,9712,9712,"25131500"]
[null,{"$f":"IFERROR(INDEX($G$7:$H$13233,$L9723,COLUMNS($B$6:B9722)),\"\")","v":"51283408"},"Prazocillin",null,null,null,"51283408","Prazocillin","51283408",9717,9717,9717,"51283408"]
[null,{"$f":"IFERROR(INDEX($G$7:$H$13233,$L9733,COLUMNS($B$6:B9732)),\"\")","v":"41114403"},"Precipitation or evaporation recorders",null,null,null,"41114403","Precipitation or evaporation recorders","41114403",9727,9727,9727,"41114403"]
[null,{"$f":"IFERROR(INDEX($G$7:$H$13233,$L9735,COLUMNS($B$6:B9734)),\"\")","v":"39111627"},"Precision Approach Path Indicator System (PAPI) ",null,null,null,"39111627","Precision Approach Path Indicator System (PAPI) ","39111627",9729,9729,9729,"39111627"]
[null,{"$f":"IFERROR(INDEX($G$7:$H$13233,$L9740,COLUMNS($B$6:B9739)),\"\")","v":"25191550"},"Preconditioned Air Unit (PCA)",null,null,null,"25191550","Preconditioned Air Unit (PCA)","25191550",9734,9734,9734,"25191550"]
[null,{"$f":"IFERROR(INDEX($G$7:$H$13233,$L9744,COLUMNS($B$6:B9743)),\"\")","v":"51422101"},"Prednisone",null,null,null,"51422101","Prednisone","51422101",9738,9738,9738,"51422101"]
[null,{"$f":"IFERROR(INDEX($G$7:$H$13233,$L9752,COLUMNS($B$6:B9751)),\"\")","v":"95141600"},"Prefabricated residential buildings and structures",null,null,null,"95141600","Prefabricated residential buildings and structures","95141600",9746,9746,9746,"95141600"]
[null,{"$f":"IFERROR(INDEX($G$7:$H$13233,$L9757,COLUMNS($B$6:B9756)),\"\")","v":"95121713"},"Prehistoric monument",null,null,null,"95121713","Prehistoric monument","95121713",9751,9751,9751,"95121713"]
[null,{"$f":"IFERROR(INDEX($G$7:$H$13233,$L9761,COLUMNS($B$6:B9760)),\"\")","v":"41106213"},"Premixed media dry",null,null,null,"41106213","Premixed media dry","41106213",9755,9755,9755,"41106213"]
[null,{"$f":"IFERROR(INDEX($G$7:$H$13233,$L9769,COLUMNS($B$6:B9768)),\"\")","v":"14111829"},"Pre-printed notepad",null,null,null,"14111829","Pre-printed notepad","14111829",9763,9763,9763,"14111829"]
[null,{"$f":"IFERROR(INDEX($G$7:$H$13233,$L9776,COLUMNS($B$6:B9775)),\"\")","v":"82111901"},"Press release services",null,null,null,"82111901","Press release services","82111901",9770,9770,9770,"82111901"]
[null,{"$f":"IFERROR(INDEX($G$7:$H$13233,$L9781,COLUMNS($B$6:B9780)),\"\")","v":"30171525"},"Pressure door",null,null,null,"30171525","Pressure door","30171525",9775,9775,9775,"30171525"]
[null,{"$f":"IFERROR(INDEX($G$7:$H$13233,$L9786,COLUMNS($B$6:B9785)),\"\")","v":"41112408"},"Pressure intensifiers",null,null,null,"41112408","Pressure intensifiers","41112408",9780,9780,9780,"41112408"]
[null,{"$f":"IFERROR(INDEX($G$7:$H$13233,$L9787,COLUMNS($B$6:B9786)),\"\")","v":"41112400"},"Pressure measuring and control instruments",null,null,null,"41112400","Pressure measuring and control instruments","41112400",9781,9781,9781,"41112400"]
[null,{"$f":"IFERROR(INDEX($G$7:$H$13233,$L9793,COLUMNS($B$6:B9792)),\"\")","v":"41112409"},"Pressure scanners",null,null,null,"41112409","Pressure scanners","41112409",9787,9787,9787,"41112409"]
[null,{"$f":"IFERROR(INDEX($G$7:$H$13233,$L9798,COLUMNS($B$6:B9797)),\"\")","v":"51281521"},"Pretomanid",null,null,null,"51281521","Pretomanid","51281521",9792,9792,9792,"51281521"]
[null,{"$f":"IFERROR(INDEX($G$7:$H$13233,$L9804,COLUMNS($B$6:B9803)),\"\")","v":"85121504"},"Primary care physician emergency medical services",null,null,null,"85121504","Primary care physician emergency medical services","85121504",9798,9798,9798,"85121504"]
[null,{"$f":"IFERROR(INDEX($G$7:$H$13233,$L9810,COLUMNS($B$6:B9809)),\"\")","v":"51141526"},"Primidone",null,null,null,"51141526","Primidone","51141526",9804,9804,9804,"51141526"]
[null,{"$f":"IFERROR(INDEX($G$7:$H$13233,$L9816,COLUMNS($B$6:B9815)),\"\")","v":"32100000"},"Printed circuits and integrated circuits and microassemblies",null,null,null,"32100000","Printed circuits and integrated circuits and microassemblies","32100000",9810,9810,9810,"32100000"]
[null,{"$f":"IFERROR(INDEX($G$7:$H$13233,$L9821,COLUMNS($B$6:B9820)),\"\")","v":"44101725"},"Printer cabinets",null,null,null,"44101725","Printer cabinets","44101725",9815,9815,9815,"44101725"]
[null,{"$f":"IFERROR(INDEX($G$7:$H$13233,$L9827,COLUMNS($B$6:B9826)),\"\")","v":"44103125"},"Printer maintenance kit",null,null,null,"44103125","Printer maintenance kit","44103125",9821,9821,9821,"44103125"]
[null,{"$f":"IFERROR(INDEX($G$7:$H$13233,$L9830,COLUMNS($B$6:B9829)),\"\")","v":"44103107"},"Printer or facsimile or photocopier cleaning supplies",null,null,null,"44103107","Printer or facsimile or photocopier cleaning supplies","44103107",9824,9824,9824,"44103107"]
[null,{"$f":"IFERROR(INDEX($G$7:$H$13233,$L9839,COLUMNS($B$6:B9838)),\"\")","v":"45000000"},"Printing and Photographic and Audio and Visual Equipment and Supplies",null,null,null,"45000000","Printing and Photographic and Audio and Visual Equipment and Supplies","45000000",9833,9833,9833,"45000000"]
[null,{"$f":"IFERROR(INDEX($G$7:$H$13233,$L9845,COLUMNS($B$6:B9844)),\"\")","v":"45101704"},"Printing cutters",null,null,null,"45101704","Printing cutters","45101704",9839,9839,9839,"45101704"]
[null,{"$f":"IFERROR(INDEX($G$7:$H$13233,$L9847,COLUMNS($B$6:B9846)),\"\")","v":"45101709"},"Printing film",null,null,null,"45101709","Printing film","45101709",9841,9841,9841,"45101709"]
[null,{"$f":"IFERROR(INDEX($G$7:$H$13233,$L9856,COLUMNS($B$6:B9855)),\"\")","v":"45101705"},"Printing trimmers",null,null,null,"45101705","Printing trimmers","45101705",9850,9850,9850,"45101705"]
[null,{"$f":"IFERROR(INDEX($G$7:$H$13233,$L9857,COLUMNS($B$6:B9856)),\"\")","v":"44102603"},"Printwheels",null,null,null,"44102603","Printwheels","44102603",9851,9851,9851,"44102603"]
[null,{"$f":"IFERROR(INDEX($G$7:$H$13233,$L9864,COLUMNS($B$6:B9863)),\"\")","v":"25131508"},"Private or business jet aircraft",null,null,null,"25131508","Private or business jet aircraft","25131508",9858,9858,9858,"25131508"]
[null,{"$f":"IFERROR(INDEX($G$7:$H$13233,$L9868,COLUMNS($B$6:B9867)),\"\")","v":"84121501"},"Privately owned banks",null,null,null,"84121501","Privately owned banks","84121501",9862,9862,9862,"84121501"]
[null,{"$f":"IFERROR(INDEX($G$7:$H$13233,$L9873,COLUMNS($B$6:B9872)),\"\")","v":"80101513"},"Process and procedures management consultation service",null,null,null,"80101513","Process and procedures management consultation service","80101513",9867,9867,9867,"80101513"]
[null,{"$f":"IFERROR(INDEX($G$7:$H$13233,$L9880,COLUMNS($B$6:B9879)),\"\")","v":"86101704"},"Procurement or supply chain training",null,null,null,"86101704","Procurement or supply chain training","86101704",9874,9874,9874,"86101704"]
[null,{"$f":"IFERROR(INDEX($G$7:$H$13233,$L9886,COLUMNS($B$6:B9885)),\"\")","v":"26111710"},"Product specific battery packs",null,null,null,"26111710","Product specific battery packs","26111710",9880,9880,9880,"26111710"]
[null,{"$f":"IFERROR(INDEX($G$7:$H$13233,$L9890,COLUMNS($B$6:B9889)),\"\")","v":"81141701"},"Production planning",null,null,null,"81141701","Production planning","81141701",9884,9884,9884,"81141701"]
[null,{"$f":"IFERROR(INDEX($G$7:$H$13233,$L9897,COLUMNS($B$6:B9896)),\"\")","v":"80172000"},"Professional communication services",null,null,null,"80172000","Professional communication services","80172000",9891,9891,9891,"80172000"]
[null,{"$f":"IFERROR(INDEX($G$7:$H$13233,$L9903,COLUMNS($B$6:B9902)),\"\")","v":"41111707"},"Profile projectors",null,null,null,"41111707","Profile projectors","41111707",9897,9897,9897,"41111707"]
[null,{"$f":"IFERROR(INDEX($G$7:$H$13233,$L9907,COLUMNS($B$6:B9906)),\"\")","v":"43232406"},"Program testing software",null,null,null,"43232406","Program testing software","43232406",9901,9901,9901,"43232406"]
[null,{"$f":"IFERROR(INDEX($G$7:$H$13233,$L9915,COLUMNS($B$6:B9914)),\"\")","v":"81111608"},"Programming for COBOL",null,null,null,"81111608","Programming for COBOL","81111608",9909,9909,9909,"81111608"]
[null,{"$f":"IFERROR(INDEX($G$7:$H$13233,$L9920,COLUMNS($B$6:B9919)),\"\")","v":"81111613"},"Programming for Perl",null,null,null,"81111613","Programming for Perl","81111613",9914,9914,9914,"81111613"]
[null,{"$f":"IFERROR(INDEX($G$7:$H$13233,$L9924,COLUMNS($B$6:B9923)),\"\")","v":"51101906"},"Proguanil",null,null,null,"51101906","Proguanil","51101906",9918,9918,9918,"51101906"]
[null,{"$f":"IFERROR(INDEX($G$7:$H$13233,$L9927,COLUMNS($B$6:B9926)),\"\")","v":"80101607"},"Project impact assessment",null,null,null,"80101607","Project impact assessment","80101607",9921,9921,9921,"80101607"]
[null,{"$f":"IFERROR(INDEX($G$7:$H$13233,$L9933,COLUMNS($B$6:B9932)),\"\")","v":"41111727"},"Projection microscopes",null,null,null,"41111727","Projection microscopes","41111727",9927,9927,9927,"41111727"]
[null,{"$f":"IFERROR(INDEX($G$7:$H$13233,$L9938,COLUMNS($B$6:B9937)),\"\")","v":"51313305"},"Promethazine hydrochloride",null,null,null,"51313305","Promethazine hydrochloride","51313305",9932,9932,9932,"51313305"]
[null,{"$f":"IFERROR(INDEX($G$7:$H$13233,$L9944,COLUMNS($B$6:B9943)),\"\")","v":"93141811"},"Promotional services",null,null,null,"93141811","Promotional services","93141811",9938,9938,9938,"93141811"]
[null,{"$f":"IFERROR(INDEX($G$7:$H$13233,$L9950,COLUMNS($B$6:B9949)),\"\")","v":"51121583"},"Propafenone hydrochloride",null,null,null,"51121583","Propafenone hydrochloride","51121583",9944,9944,9944,"51121583"]
[null,{"$f":"IFERROR(INDEX($G$7:$H$13233,$L9956,COLUMNS($B$6:B9955)),\"\")","v":"80121703"},"Property law services",null,null,null,"80121703","Property law services","80121703",9950,9950,9950,"80121703"]
[null,{"$f":"IFERROR(INDEX($G$7:$H$13233,$L9961,COLUMNS($B$6:B9960)),\"\")","v":"51272901"},"Propofol",null,null,null,"51272901","Propofol","51272901",9955,9955,9955,"51272901"]
[null,{"$f":"IFERROR(INDEX($G$7:$H$13233,$L9967,COLUMNS($B$6:B9966)),\"\")","v":"51181606"},"Propylthiouracil",null,null,null,"51181606","Propylthiouracil","51181606",9961,9961,9961,"51181606"]
[null,{"$f":"IFERROR(INDEX($G$7:$H$13233,$L9973,COLUMNS($B$6:B9972)),\"\")","v":"42295460"},"Protective caps for orthopedic implants",null,null,null,"42295460","Protective caps for orthopedic implants","42295460",9967,9967,9967,"42295460"]
[null,{"$f":"IFERROR(INDEX($G$7:$H$13233,$L9978,COLUMNS($B$6:B9977)),\"\")","v":"46181506"},"Protective ponchos",null,null,null,"46181506","Protective ponchos","46181506",9972,9972,9972,"46181506"]
[null,{"$f":"IFERROR(INDEX($G$7:$H$13233,$L9984,COLUMNS($B$6:B9983)),\"\")","v":"41105332"},"Protein chemiluminescent detection reagents or kits or substrates",null,null,null,"41105332","Protein chemiluminescent detection reagents or kits or substrates","41105332",9978,9978,9978,"41105332"]
[null,{"$f":"IFERROR(INDEX($G$7:$H$13233,$L9990,COLUMNS($B$6:B9989)),\"\")","v":"51143112"},"Proteolytic peptide derived from porcine brain",null,null,null,"51143112","Proteolytic peptide derived from porcine brain","51143112",9984,9984,9984,"51143112"]
[null,{"$f":"IFERROR(INDEX($G$7:$H$13233,$L9993,COLUMNS($B$6:B9992)),\"\")","v":"44111806"},"Protractors",null,null,null,"44111806","Protractors","44111806",9987,9987,9987,"44111806"]
[null,{"$f":"IFERROR(INDEX($G$7:$H$13233,$L9997,COLUMNS($B$6:B9996)),\"\")","v":"27112500"},"Prying and bending tools",null,null,null,"27112500","Prying and bending tools","27112500",9991,9991,9991,"27112500"]
[null,{"$f":"IFERROR(INDEX($G$7:$H$13233,$L10002,COLUMNS($B$6:B10001)),\"\")","v":"41112302"},"Psychrometers",null,null,null,"41112302","Psychrometers","41112302",9996,9996,9996,"41112302"]
[null,{"$f":"IFERROR(INDEX($G$7:$H$13233,$L10010,COLUMNS($B$6:B10009)),\"\")","v":"95121714"},"Public changing room and shower facility",null,null,null,"95121714","Public changing room and shower facility","95121714",10004,10004,10004,"95121714"]
[null,{"$f":"IFERROR(INDEX($G$7:$H$13233,$L10014,COLUMNS($B$6:B10013)),\"\")","v":"85101705"},"Public health administration",null,null,null,"85101705","Public health administration","85101705",10008,10008,10008,"85101705"]
[null,{"$f":"IFERROR(INDEX($G$7:$H$13233,$L10019,COLUMNS($B$6:B10018)),\"\")","v":"80170000"},"Public relations and professional communications services",null,null,null,"80170000","Public relations and professional communications services","80170000",10013,10013,10013,"80170000"]
[null,{"$f":"IFERROR(INDEX($G$7:$H$13233,$L10025,COLUMNS($B$6:B10024)),\"\")","v":"95121715"},"Public toilet facility",null,null,null,"95121715","Public toilet facility","95121715",10019,10019,10019,"95121715"]
[null,{"$f":"IFERROR(INDEX($G$7:$H$13233,$L10031,COLUMNS($B$6:B10030)),\"\")","v":"82121800"},"Publishing",null,null,null,"82121800","Publishing","82121800",10025,10025,10025,"82121800"]
[null,{"$f":"IFERROR(INDEX($G$7:$H$13233,$L10036,COLUMNS($B$6:B10035)),\"\")","v":"42271600"},"Pulmonary function testing and treatment products",null,null,null,"42271600","Pulmonary function testing and treatment products","42271600",10030,10030,10030,"42271600"]
[null,{"$f":"IFERROR(INDEX($G$7:$H$13233,$L10043,COLUMNS($B$6:B10042)),\"\")","v":"42181801"},"Pulse oximeter units",null,null,null,"42181801","Pulse oximeter units","42181801",10037,10037,10037,"42181801"]
[null,{"$f":"IFERROR(INDEX($G$7:$H$13233,$L10048,COLUMNS($B$6:B10047)),\"\")","v":"41112518"},"Pump efficiency testing equipment",null,null,null,"41112518","Pump efficiency testing equipment","41112518",10042,10042,10042,"41112518"]
[null,{"$f":"IFERROR(INDEX($G$7:$H$13233,$L10053,COLUMNS($B$6:B10052)),\"\")","v":"10151529"},"Pumpkin seeds or seedlings",null,null,null,"10151529","Pumpkin seeds or seedlings","10151529",10047,10047,10047,"10151529"]
[null,{"$f":"IFERROR(INDEX($G$7:$H$13233,$L10060,COLUMNS($B$6:B10059)),\"\")","v":"53121600"},"Purses and handbags and bags",null,null,null,"53121600","Purses and handbags and bags","53121600",10054,10054,10054,"53121600"]
[null,{"$f":"IFERROR(INDEX($G$7:$H$13233,$L10065,COLUMNS($B$6:B10064)),\"\")","v":"51452301"},"Pyrantel",null,null,null,"51452301","Pyrantel","51452301",10059,10059,10059,"51452301"]
[null,{"$f":"IFERROR(INDEX($G$7:$H$13233,$L10068,COLUMNS($B$6:B10067)),\"\")","v":"51151514"},"Pyridostigmine",null,null,null,"51151514","Pyridostigmine","51151514",10062,10062,10062,"51151514"]
[null,{"$f":"IFERROR(INDEX($G$7:$H$13233,$L10072,COLUMNS($B$6:B10071)),\"\")","v":"41112230"},"Pyrometer calibrator",null,null,null,"41112230","Pyrometer calibrator","41112230",10066,10066,10066,"41112230"]
[null,{"$f":"IFERROR(INDEX($G$7:$H$13233,$L10077,COLUMNS($B$6:B10076)),\"\")","v":"78204013"},"Quality & Environmental Management System For Airport & ATS",null,null,null,"78204013","Quality & Environmental Management System For Airport & ATS","78204013",10071,10071,10071,"78204013"]
[null,{"$f":"IFERROR(INDEX($G$7:$H$13233,$L10085,COLUMNS($B$6:B10084)),\"\")","v":"51334207"},"Quetiapine fumarate",null,null,null,"51334207","Quetiapine fumarate","51334207",10079,10079,10079,"51334207"]
[null,{"$f":"IFERROR(INDEX($G$7:$H$13233,$L10089,COLUMNS($B$6:B10088)),\"\")","v":"51101680"},"Quinfamide",null,null,null,"51101680","Quinfamide","51101680",10083,10083,10083,"51101680"]
[null,{"$f":"IFERROR(INDEX($G$7:$H$13233,$L10094,COLUMNS($B$6:B10093)),\"\")","v":"10101512"},"Rabbits",null,null,null,"10101512","Rabbits","10101512",10088,10088,10088,"10101512"]
[null,{"$f":"IFERROR(INDEX($G$7:$H$13233,$L10101,COLUMNS($B$6:B10100)),\"\")","v":"49161601"},"Racquetball rackets",null,null,null,"49161601","Racquetball rackets","49161601",10095,10095,10095,"49161601"]
[null,{"$f":"IFERROR(INDEX($G$7:$H$13233,$L10106,COLUMNS($B$6:B10105)),\"\")","v":"95121801"},"Radar station",null,null,null,"95121801","Radar station","95121801",10100,10100,10100,"95121801"]
[null,{"$f":"IFERROR(INDEX($G$7:$H$13233,$L10111,COLUMNS($B$6:B10110)),\"\")","v":"85111609"},"Radiation sickness prevention or control services",null,null,null,"85111609","Radiation sickness prevention or control services","85111609",10105,10105,10105,"85111609"]
[null,{"$f":"IFERROR(INDEX($G$7:$H$13233,$L10118,COLUMNS($B$6:B10117)),\"\")","v":"83111901"},"Radio broadcasting station management",null,null,null,"83111901","Radio broadcasting station management","83111901",10112,10112,10112,"83111901"]
[null,{"$f":"IFERROR(INDEX($G$7:$H$13233,$L10123,COLUMNS($B$6:B10122)),\"\")","v":"43212116"},"Radio frequency identification RFID tag printer",null,null,null,"43212116","Radio frequency identification RFID tag printer","43212116",10117,10117,10117,"43212116"]
[null,{"$f":"IFERROR(INDEX($G$7:$H$13233,$L10128,COLUMNS($B$6:B10127)),\"\")","v":"43221532"},"Radio Link Systems ",null,null,null,"43221532","Radio Link Systems ","43221532",10122,10122,10122,"43221532"]
[null,{"$f":"IFERROR(INDEX($G$7:$H$13233,$L10135,COLUMNS($B$6:B10134)),\"\")","v":"83111900"},"Radio services",null,null,null,"83111900","Radio services","83111900",10129,10129,10129,"83111900"]
[null,{"$f":"IFERROR(INDEX($G$7:$H$13233,$L10136,COLUMNS($B$6:B10135)),\"\")","v":"83111904"},"Radio studio or equipment services",null,null,null,"83111904","Radio studio or equipment services","83111904",10130,10130,10130,"83111904"]
[null,{"$f":"IFERROR(INDEX($G$7:$H$13233,$L10145,COLUMNS($B$6:B10144)),\"\")","v":"42201829"},"Radiographic locators",null,null,null,"42201829","Radiographic locators","42201829",10139,10139,10139,"42201829"]
[null,{"$f":"IFERROR(INDEX($G$7:$H$13233,$L10147,COLUMNS($B$6:B10146)),\"\")","v":"12142207"},"Radioisotope sources",null,null,null,"12142207","Radioisotope sources","12142207",10141,10141,10141,"12142207"]
[null,{"$f":"IFERROR(INDEX($G$7:$H$13233,$L10154,COLUMNS($B$6:B10153)),\"\")","v":"51440000"},"Radiopharmaceuticals and contrast media",null,null,null,"51440000","Radiopharmaceuticals and contrast media","51440000",10148,10148,10148,"51440000"]
[null,{"$f":"IFERROR(INDEX($G$7:$H$13233,$L10159,COLUMNS($B$6:B10158)),\"\")","v":"10152405"},"Radish seeds or seedlings",null,null,null,"10152405","Radish seeds or seedlings","10152405",10153,10153,10153,"10152405"]
[null,{"$f":"IFERROR(INDEX($G$7:$H$13233,$L10164,COLUMNS($B$6:B10163)),\"\")","v":"41113115"},"Radon detectors",null,null,null,"41113115","Radon detectors","41113115",10158,10158,10158,"41113115"]
[null,{"$f":"IFERROR(INDEX($G$7:$H$13233,$L10171,COLUMNS($B$6:B10170)),\"\")","v":"72141603"},"Railroad and railway roadbed construction service",null,null,null,"72141603","Railroad and railway roadbed construction service","72141603",10165,10165,10165,"72141603"]
[null,{"$f":"IFERROR(INDEX($G$7:$H$13233,$L10176,COLUMNS($B$6:B10175)),\"\")","v":"81101511"},"Railway engineering",null,null,null,"81101511","Railway engineering","81101511",10170,10170,10170,"81101511"]
[null,{"$f":"IFERROR(INDEX($G$7:$H$13233,$L10182,COLUMNS($B$6:B10181)),\"\")","v":"78101608"},"Railway transport services of letters and parcels",null,null,null,"78101608","Railway transport services of letters and parcels","78101608",10176,10176,10176,"78101608"]
[null,{"$f":"IFERROR(INDEX($G$7:$H$13233,$L10188,COLUMNS($B$6:B10187)),\"\")","v":"51112804"},"Raloxifene",null,null,null,"51112804","Raloxifene","51112804",10182,10182,10182,"51112804"]
[null,{"$f":"IFERROR(INDEX($G$7:$H$13233,$L10193,COLUMNS($B$6:B10192)),\"\")","v":"70121902"},"Range management",null,null,null,"70121902","Range management","70121902",10187,10187,10187,"70121902"]
[null,{"$f":"IFERROR(INDEX($G$7:$H$13233,$L10197,COLUMNS($B$6:B10196)),\"\")","v":"51171917"},"Ranitidine",null,null,null,"51171917","Ranitidine","51171917",10191,10191,10191,"51171917"]
[null,{"$f":"IFERROR(INDEX($G$7:$H$13233,$L10205,COLUMNS($B$6:B10204)),\"\")","v":"51142568"},"Rasagiline mesilate or mesylate",null,null,null,"51142568","Rasagiline mesilate or mesylate","51142568",10199,10199,10199,"51142568"]
[null,{"$f":"IFERROR(INDEX($G$7:$H$13233,$L10206,COLUMNS($B$6:B10205)),\"\")","v":"11121605"},"Rattan",null,null,null,"11121605","Rattan","11121605",10200,10200,10200,"11121605"]
[null,{"$f":"IFERROR(INDEX($G$7:$H$13233,$L10214,COLUMNS($B$6:B10213)),\"\")","v":"43201821"},"Read only blu-ray disc BD",null,null,null,"43201821","Read only blu-ray disc BD","43201821",10208,10208,10208,"43201821"]
[null,{"$f":"IFERROR(INDEX($G$7:$H$13233,$L10217,COLUMNS($B$6:B10216)),\"\")","v":"43201819"},"Read only high definition digital versatile disc HD DVD",null,null,null,"43201819","Read only high definition digital versatile disc HD DVD","43201819",10211,10211,10211,"43201819"]
[null,{"$f":"IFERROR(INDEX($G$7:$H$13233,$L10223,COLUMNS($B$6:B10222)),\"\")","v":"30111505"},"Ready mix concrete",null,null,null,"30111505","Ready mix concrete","30111505",10217,10217,10217,"30111505"]
[null,{"$f":"IFERROR(INDEX($G$7:$H$13233,$L10231,COLUMNS($B$6:B10230)),\"\")","v":"80131802"},"Real estate appraisal and valuation service",null,null,null,"80131802","Real estate appraisal and valuation service","80131802",10225,10225,10225,"80131802"]
[null,{"$f":"IFERROR(INDEX($G$7:$H$13233,$L10234,COLUMNS($B$6:B10233)),\"\")","v":"80121606"},"Real estate law",null,null,null,"80121606","Real estate law","80121606",10228,10228,10228,"80121606"]
[null,{"$f":"IFERROR(INDEX($G$7:$H$13233,$L10240,COLUMNS($B$6:B10239)),\"\")","v":"80161602"},"Receiving or inventorying services",null,null,null,"80161602","Receiving or inventorying services","80161602",10234,10234,10234,"80161602"]
[null,{"$f":"IFERROR(INDEX($G$7:$H$13233,$L10248,COLUMNS($B$6:B10247)),\"\")","v":"25131707"},"Reconnaissance or surveillance aircraft",null,null,null,"25131707","Reconnaissance or surveillance aircraft","25131707",10242,10242,10242,"25131707"]
[null,{"$f":"IFERROR(INDEX($G$7:$H$13233,$L10252,COLUMNS($B$6:B10251)),\"\")","v":"57444200"},"Recreational kits",null,null,null,"57444200","Recreational kits","57444200",10246,10246,10246,"57444200"]
[null,{"$f":"IFERROR(INDEX($G$7:$H$13233,$L10257,COLUMNS($B$6:B10256)),\"\")","v":"25111800"},"Recreational watercraft",null,null,null,"25111800","Recreational watercraft","25111800",10251,10251,10251,"25111800"]
[null,{"$f":"IFERROR(INDEX($G$7:$H$13233,$L10263,COLUMNS($B$6:B10262)),\"\")","v":"25191545"},"Reduced Mobility Passenger Loader",null,null,null,"25191545","Reduced Mobility Passenger Loader","25191545",10257,10257,10257,"25191545"]
[null,{"$f":"IFERROR(INDEX($G$7:$H$13233,$L10269,COLUMNS($B$6:B10268)),\"\")","v":"41115316"},"Reflectometers",null,null,null,"41115316","Reflectometers","41115316",10263,10263,10263,"41115316"]
[null,{"$f":"IFERROR(INDEX($G$7:$H$13233,$L10274,COLUMNS($B$6:B10273)),\"\")","v":"72151908"},"Refractory or acid brick masonry service",null,null,null,"72151908","Refractory or acid brick masonry service","72151908",10268,10268,10268,"72151908"]
[null,{"$f":"IFERROR(INDEX($G$7:$H$13233,$L10280,COLUMNS($B$6:B10279)),\"\")","v":"41103709"},"Refrigerated baths",null,null,null,"41103709","Refrigerated baths","41103709",10274,10274,10274,"41103709"]
[null,{"$f":"IFERROR(INDEX($G$7:$H$13233,$L10281,COLUMNS($B$6:B10280)),\"\")","v":"41103904"},"Refrigerated benchtop centrifuges",null,null,null,"41103904","Refrigerated benchtop centrifuges","41103904",10275,10275,10275,"41103904"]
[null,{"$f":"IFERROR(INDEX($G$7:$H$13233,$L10291,COLUMNS($B$6:B10290)),\"\")","v":"78131801"},"Refrigerated storage",null,null,null,"78131801","Refrigerated storage","78131801",10285,10285,10285,"78131801"]
[null,{"$f":"IFERROR(INDEX($G$7:$H$13233,$L10293,COLUMNS($B$6:B10292)),\"\")","v":"25181719"},"Refrigerated trailer",null,null,null,"25181719","Refrigerated trailer","25181719",10287,10287,10287,"25181719"]
[null,{"$f":"IFERROR(INDEX($G$7:$H$13233,$L10298,COLUMNS($B$6:B10297)),\"\")","v":"93131504"},"Refugee emergency assistance services",null,null,null,"93131504","Refugee emergency assistance services","93131504",10292,10292,10292,"93131504"]
[null,{"$f":"IFERROR(INDEX($G$7:$H$13233,$L10302,COLUMNS($B$6:B10301)),\"\")","v":"72101514"},"Refuse area construction service",null,null,null,"72101514","Refuse area construction service","72101514",10296,10296,10296,"72101514"]
[null,{"$f":"IFERROR(INDEX($G$7:$H$13233,$L10310,COLUMNS($B$6:B10309)),\"\")","v":"80101602"},"Regional or location studies for projects",null,null,null,"80101602","Regional or location studies for projects","80101602",10304,10304,10304,"80101602"]
[null,{"$f":"IFERROR(INDEX($G$7:$H$13233,$L10317,COLUMNS($B$6:B10316)),\"\")","v":"30131514"},"Reinforced concrete built up culvert block",null,null,null,"30131514","Reinforced concrete built up culvert block","30131514",10311,10311,10311,"30131514"]
[null,{"$f":"IFERROR(INDEX($G$7:$H$13233,$L10322,COLUMNS($B$6:B10321)),\"\")","v":"55101528"},"Religious books",null,null,null,"55101528","Religious books","55101528",10316,10316,10316,"55101528"]
[null,{"$f":"IFERROR(INDEX($G$7:$H$13233,$L10327,COLUMNS($B$6:B10326)),\"\")","v":"51273009"},"Remifentanil",null,null,null,"51273009","Remifentanil","51273009",10321,10321,10321,"51273009"]
[null,{"$f":"IFERROR(INDEX($G$7:$H$13233,$L10334,COLUMNS($B$6:B10333)),\"\")","v":"41112210"},"Remote reading thermometers",null,null,null,"41112210","Remote reading thermometers","41112210",10328,10328,10328,"41112210"]
[null,{"$f":"IFERROR(INDEX($G$7:$H$13233,$L10339,COLUMNS($B$6:B10338)),\"\")","v":"70111507"},"Removal services or ornamental plant or bush or tree",null,null,null,"70111507","Removal services or ornamental plant or bush or tree","70111507",10333,10333,10333,"70111507"]
[null,{"$f":"IFERROR(INDEX($G$7:$H$13233,$L10344,COLUMNS($B$6:B10343)),\"\")","v":"41121610"},"Repeating pipettor reservoir pipette tip",null,null,null,"41121610","Repeating pipettor reservoir pipette tip","41121610",10338,10338,10338,"41121610"]
[null,{"$f":"IFERROR(INDEX($G$7:$H$13233,$L10345,COLUMNS($B$6:B10344)),\"\")","v":"44122013"},"Report covers",null,null,null,"44122013","Report covers","44122013",10339,10339,10339,"44122013"]
[null,{"$f":"IFERROR(INDEX($G$7:$H$13233,$L10351,COLUMNS($B$6:B10350)),\"\")","v":"46161702"},"Rescue air bag",null,null,null,"46161702","Rescue air bag","46161702",10345,10345,10345,"46161702"]
[null,{"$f":"IFERROR(INDEX($G$7:$H$13233,$L10360,COLUMNS($B$6:B10359)),\"\")","v":"46161708"},"Rescue net",null,null,null,"46161708","Rescue net","46161708",10354,10354,10354,"46161708"]
[null,{"$f":"IFERROR(INDEX($G$7:$H$13233,$L10363,COLUMNS($B$6:B10362)),\"\")","v":"25111603"},"Rescue ships or boats",null,null,null,"25111603","Rescue ships or boats","25111603",10357,10357,10357,"25111603"]
[null,{"$f":"IFERROR(INDEX($G$7:$H$13233,$L10368,COLUMNS($B$6:B10367)),\"\")","v":"41102613"},"Research animal physiological test kit",null,null,null,"41102613","Research animal physiological test kit","41102613",10362,10362,10362,"41102613"]
[null,{"$f":"IFERROR(INDEX($G$7:$H$13233,$L10377,COLUMNS($B$6:B10376)),\"\")","v":"72151301"},"Residential painting service",null,null,null,"72151301","Residential painting service","72151301",10371,10371,10371,"72151301"]
[null,{"$f":"IFERROR(INDEX($G$7:$H$13233,$L10380,COLUMNS($B$6:B10379)),\"\")","v":"72151402"},"Residential wall covering construction service",null,null,null,"72151402","Residential wall covering construction service","72151402",10374,10374,10374,"72151402"]
[null,{"$f":"IFERROR(INDEX($G$7:$H$13233,$L10385,COLUMNS($B$6:B10384)),\"\")","v":"13111000"},"Resins",null,null,null,"13111000","Resins","13111000",10379,10379,10379,"13111000"]
[null,{"$f":"IFERROR(INDEX($G$7:$H$13233,$L10392,COLUMNS($B$6:B10391)),\"\")","v":"60103704"},"Resources for learning to speak English",null,null,null,"60103704","Resources for learning to speak English","60103704",10386,10386,10386,"60103704"]
[null,{"$f":"IFERROR(INDEX($G$7:$H$13233,$L10397,COLUMNS($B$6:B10396)),\"\")","v":"42270000"},"Respiratory and anesthesia and resuscitation products",null,null,null,"42270000","Respiratory and anesthesia and resuscitation products","42270000",10391,10391,10391,"42270000"]
[null,{"$f":"IFERROR(INDEX($G$7:$H$13233,$L10402,COLUMNS($B$6:B10401)),\"\")","v":"46182010"},"Respiratory mask FFP2/N95",null,null,null,"46182010","Respiratory mask FFP2/N95","46182010",10396,10396,10396,"46182010"]
[null,{"$f":"IFERROR(INDEX($G$7:$H$13233,$L10409,COLUMNS($B$6:B10408)),\"\")","v":"72121104"},"Restaurant construction service",null,null,null,"72121104","Restaurant construction service","72121104",10403,10403,10403,"72121104"]
[null,{"$f":"IFERROR(INDEX($G$7:$H$13233,$L10414,COLUMNS($B$6:B10413)),\"\")","v":"42143601"},"Restraint vests and jackets",null,null,null,"42143601","Restraint vests and jackets","42143601",10408,10408,10408,"42143601"]
[null,{"$f":"IFERROR(INDEX($G$7:$H$13233,$L10420,COLUMNS($B$6:B10419)),\"\")","v":"82111602"},"Resume writing services",null,null,null,"82111602","Resume writing services","82111602",10414,10414,10414,"82111602"]
[null,{"$f":"IFERROR(INDEX($G$7:$H$13233,$L10421,COLUMNS($B$6:B10420)),\"\")","v":"42272300"},"Resuscitation supplies",null,null,null,"42272300","Resuscitation supplies","42272300",10415,10415,10415,"42272300"]
[null,{"$f":"IFERROR(INDEX($G$7:$H$13233,$L10426,COLUMNS($B$6:B10425)),\"\")","v":"95122105"},"Retirement home",null,null,null,"95122105","Retirement home","95122105",10420,10420,10420,"95122105"]
[null,{"$f":"IFERROR(INDEX($G$7:$H$13233,$L10435,COLUMNS($B$6:B10434)),\"\")","v":"51201805"},"Rho D immunoglobulins",null,null,null,"51201805","Rho D immunoglobulins","51201805",10429,10429,10429,"51201805"]
[null,{"$f":"IFERROR(INDEX($G$7:$H$13233,$L10438,COLUMNS($B$6:B10437)),\"\")","v":"60131803"},"Rhythm wands or hoops",null,null,null,"60131803","Rhythm wands or hoops","60131803",10432,10432,10432,"60131803"]
[null,{"$f":"IFERROR(INDEX($G$7:$H$13233,$L10443,COLUMNS($B$6:B10442)),\"\")","v":"41105338"},"Ribonucleic acid RNA markers or standards",null,null,null,"41105338","Ribonucleic acid RNA markers or standards","41105338",10437,10437,10437,"41105338"]
[null,{"$f":"IFERROR(INDEX($G$7:$H$13233,$L10452,COLUMNS($B$6:B10451)),\"\")","v":"51283602"},"Rifamycin",null,null,null,"51283602","Rifamycin","51283602",10446,10446,10446,"51283602"]
[null,{"$f":"IFERROR(INDEX($G$7:$H$13233,$L10455,COLUMNS($B$6:B10454)),\"\")","v":"51283604"},"Rifaximin",null,null,null,"51283604","Rifaximin","51283604",10449,10449,10449,"51283604"]
[null,{"$f":"IFERROR(INDEX($G$7:$H$13233,$L10460,COLUMNS($B$6:B10459)),\"\")","v":"13111216"},"Rigid polyvinyl chloride film",null,null,null,"13111216","Rigid polyvinyl chloride film","13111216",10454,10454,10454,"13111216"]
[null,{"$f":"IFERROR(INDEX($G$7:$H$13233,$L10463,COLUMNS($B$6:B10462)),\"\")","v":"41113651"},"Ring out board",null,null,null,"41113651","Ring out board","41113651",10457,10457,10457,"41113651"]
[null,{"$f":"IFERROR(INDEX($G$7:$H$13233,$L10472,COLUMNS($B$6:B10471)),\"\")","v":"80101510"},"Risk management consultation service",null,null,null,"80101510","Risk management consultation service","80101510",10466,10466,10466,"80101510"]
[null,{"$f":"IFERROR(INDEX($G$7:$H$13233,$L10478,COLUMNS($B$6:B10477)),\"\")","v":"51151529"},"Rivastigmine",null,null,null,"51151529","Rivastigmine","51151529",10472,10472,10472,"51151529"]
[null,{"$f":"IFERROR(INDEX($G$7:$H$13233,$L10484,COLUMNS($B$6:B10483)),\"\")","v":"30121700"},"Road and railroad construction materials",null,null,null,"30121700","Road and railroad construction materials","30121700",10478,10478,10478,"30121700"]
[null,{"$f":"IFERROR(INDEX($G$7:$H$13233,$L10489,COLUMNS($B$6:B10488)),\"\")","v":"41114640"},"Road plane measuring equipment",null,null,null,"41114640","Road plane measuring equipment","41114640",10483,10483,10483,"41114640"]
[null,{"$f":"IFERROR(INDEX($G$7:$H$13233,$L10495,COLUMNS($B$6:B10494)),\"\")","v":"78111814"},"Road transport of passengers by man-or animal-drawn vehicle",null,null,null,"78111814","Road transport of passengers by man-or animal-drawn vehicle","78111814",10489,10489,10489,"78111814"]
[null,{"$f":"IFERROR(INDEX($G$7:$H$13233,$L10496,COLUMNS($B$6:B10495)),\"\")","v":"95121634"},"Road tunnel",null,null,null,"95121634","Road tunnel","95121634",10490,10490,10490,"95121634"]
[null,{"$f":"IFERROR(INDEX($G$7:$H$13233,$L10502,COLUMNS($B$6:B10501)),\"\")","v":"23153200"},"Robotics",null,null,null,"23153200","Robotics","23153200",10496,10496,10496,"23153200"]
[null,{"$f":"IFERROR(INDEX($G$7:$H$13233,$L10506,COLUMNS($B$6:B10505)),\"\")","v":"46130000"},"Rockets and subsystems",null,null,null,"46130000","Rockets and subsystems","46130000",10500,10500,10500,"46130000"]
[null,{"$f":"IFERROR(INDEX($G$7:$H$13233,$L10513,COLUMNS($B$6:B10512)),\"\")","v":"41122105"},"Roller bottles",null,null,null,"41122105","Roller bottles","41122105",10507,10507,10507,"41122105"]
[null,{"$f":"IFERROR(INDEX($G$7:$H$13233,$L10521,COLUMNS($B$6:B10520)),\"\")","v":"72101520"},"Roof framing service",null,null,null,"72101520","Roof framing service","72101520",10515,10515,10515,"72101520"]
[null,{"$f":"IFERROR(INDEX($G$7:$H$13233,$L10525,COLUMNS($B$6:B10524)),\"\")","v":"72152600"},"Roofing and siding and sheet metal services",null,null,null,"72152600","Roofing and siding and sheet metal services","72152600",10519,10519,10519,"72152600"]
[null,{"$f":"IFERROR(INDEX($G$7:$H$13233,$L10530,COLUMNS($B$6:B10529)),\"\")","v":"50408000"},"Roots and Tubers",null,null,null,"50408000","Roots and Tubers","50408000",10524,10524,10524,"50408000"]
[null,{"$f":"IFERROR(INDEX($G$7:$H$13233,$L10538,COLUMNS($B$6:B10537)),\"\")","v":"13111100"},"Rosins",null,null,null,"13111100","Rosins","13111100",10532,10532,10532,"13111100"]
[null,{"$f":"IFERROR(INDEX($G$7:$H$13233,$L10542,COLUMNS($B$6:B10541)),\"\")","v":"51283413"},"Rotamicillin",null,null,null,"51283413","Rotamicillin","51283413",10536,10536,10536,"51283413"]
[null,{"$f":"IFERROR(INDEX($G$7:$H$13233,$L10548,COLUMNS($B$6:B10547)),\"\")","v":"41103813"},"Rotating shakers",null,null,null,"41103813","Rotating shakers","41103813",10542,10542,10542,"41103813"]
[null,{"$f":"IFERROR(INDEX($G$7:$H$13233,$L10549,COLUMNS($B$6:B10548)),\"\")","v":"51142538"},"Rotigotine",null,null,null,"51142538","Rotigotine","51142538",10543,10543,10543,"51142538"]
[null,{"$f":"IFERROR(INDEX($G$7:$H$13233,$L10559,COLUMNS($B$6:B10558)),\"\")","v":"49201504"},"Rowing machines",null,null,null,"49201504","Rowing machines","49201504",10553,10553,10553,"49201504"]
[null,{"$f":"IFERROR(INDEX($G$7:$H$13233,$L10560,COLUMNS($B$6:B10559)),\"\")","v":"51282308"},"Roxithromycin",null,null,null,"51282308","Roxithromycin","51282308",10554,10554,10554,"51282308"]
[null,{"$f":"IFERROR(INDEX($G$7:$H$13233,$L10566,COLUMNS($B$6:B10565)),\"\")","v":"11162117"},"Rubber fabrics",null,null,null,"11162117","Rubber fabrics","11162117",10560,10560,10560,"11162117"]
[null,{"$f":"IFERROR(INDEX($G$7:$H$13233,$L10571,COLUMNS($B$6:B10570)),\"\")","v":"41111604"},"Rulers",null,null,null,"41111604","Rulers","41111604",10565,10565,10565,"41111604"]
[null,{"$f":"IFERROR(INDEX($G$7:$H$13233,$L10581,COLUMNS($B$6:B10580)),\"\")","v":"86101505"},"Rural youth or farmers vocational training services",null,null,null,"86101505","Rural youth or farmers vocational training services","86101505",10575,10575,10575,"86101505"]
[null,{"$f":"IFERROR(INDEX($G$7:$H$13233,$L10583,COLUMNS($B$6:B10582)),\"\")","v":"51112023"},"Ruxolitinib",null,null,null,"51112023","Ruxolitinib","51112023",10577,10577,10577,"51112023"]
[null,{"$f":"IFERROR(INDEX($G$7:$H$13233,$L10589,COLUMNS($B$6:B10588)),\"\")","v":"10141501"},"Saddles",null,null,null,"10141501","Saddles","10141501",10583,10583,10583,"10141501"]
[null,{"$f":"IFERROR(INDEX($G$7:$H$13233,$L10592,COLUMNS($B$6:B10591)),\"\")","v":"25131400"},"Safety and Rescue Aircraft",null,null,null,"25131400","Safety and Rescue Aircraft","25131400",10586,10586,10586,"25131400"]
[null,{"$f":"IFERROR(INDEX($G$7:$H$13233,$L10600,COLUMNS($B$6:B10599)),\"\")","v":"30171707"},"Safety glass",null,null,null,"30171707","Safety glass","30171707",10594,10594,10594,"30171707"]
[null,{"$f":"IFERROR(INDEX($G$7:$H$13233,$L10606,COLUMNS($B$6:B10605)),\"\")","v":"78204005"},"Safety Management Systems (Sms) Related Services (Aviation)",null,null,null,"78204005","Safety Management Systems (Sms) Related Services (Aviation)","78204005",10600,10600,10600,"78204005"]
[null,{"$f":"IFERROR(INDEX($G$7:$H$13233,$L10609,COLUMNS($B$6:B10608)),\"\")","v":"46182309"},"Safety rope ladders and wire rope ladders",null,null,null,"46182309","Safety rope ladders and wire rope ladders","46182309",10603,10603,10603,"46182309"]
[null,{"$f":"IFERROR(INDEX($G$7:$H$13233,$L10618,COLUMNS($B$6:B10617)),\"\")","v":"25111903"},"Sails",null,null,null,"25111903","Sails","25111903",10612,10612,10612,"25111903"]
[null,{"$f":"IFERROR(INDEX($G$7:$H$13233,$L10623,COLUMNS($B$6:B10622)),\"\")","v":"80131603"},"Sale of residential land",null,null,null,"80131603","Sale of residential land","80131603",10617,10617,10617,"80131603"]
[null,{"$f":"IFERROR(INDEX($G$7:$H$13233,$L10626,COLUMNS($B$6:B10625)),\"\")","v":"14111811"},"Sales forms or sales books",null,null,null,"14111811","Sales forms or sales books","14111811",10620,10620,10620,"14111811"]
[null,{"$f":"IFERROR(INDEX($G$7:$H$13233,$L10630,COLUMNS($B$6:B10629)),\"\")","v":"93161605"},"Sales tax",null,null,null,"93161605","Sales tax","93161605",10624,10624,10624,"93161605"]
[null,{"$f":"IFERROR(INDEX($G$7:$H$13233,$L10635,COLUMNS($B$6:B10634)),\"\")","v":"25111510"},"Salvage ships",null,null,null,"25111510","Salvage ships","25111510",10629,10629,10629,"25111510"]
[null,{"$f":"IFERROR(INDEX($G$7:$H$13233,$L10641,COLUMNS($B$6:B10640)),\"\")","v":"41104003"},"Sample preparation line",null,null,null,"41104003","Sample preparation line","41104003",10635,10635,10635,"41104003"]
[null,{"$f":"IFERROR(INDEX($G$7:$H$13233,$L10647,COLUMNS($B$6:B10646)),\"\")","v":"11111700"},"Sand",null,null,null,"11111700","Sand","11111700",10641,10641,10641,"11111700"]
[null,{"$f":"IFERROR(INDEX($G$7:$H$13233,$L10652,COLUMNS($B$6:B10651)),\"\")","v":"53111800"},"Sandals",null,null,null,"53111800","Sandals","53111800",10646,10646,10646,"53111800"]
[null,{"$f":"IFERROR(INDEX($G$7:$H$13233,$L10659,COLUMNS($B$6:B10658)),\"\")","v":"47131703"},"Sanitary waste receptacles",null,null,null,"47131703","Sanitary waste receptacles","47131703",10653,10653,10653,"47131703"]
[null,{"$f":"IFERROR(INDEX($G$7:$H$13233,$L10664,COLUMNS($B$6:B10663)),\"\")","v":"43221711"},"Satellite access equipment",null,null,null,"43221711","Satellite access equipment","43221711",10658,10658,10658,"43221711"]
[null,{"$f":"IFERROR(INDEX($G$7:$H$13233,$L10669,COLUMNS($B$6:B10668)),\"\")","v":"43232619"},"Satellite image treatment software",null,null,null,"43232619","Satellite image treatment software","43232619",10663,10663,10663,"43232619"]
[null,{"$f":"IFERROR(INDEX($G$7:$H$13233,$L10676,COLUMNS($B$6:B10675)),\"\")","v":"25151700"},"Satellites",null,null,null,"25151700","Satellites","25151700",10670,10670,10670,"25151700"]
[null,{"$f":"IFERROR(INDEX($G$7:$H$13233,$L10681,COLUMNS($B$6:B10680)),\"\")","v":"23230000"},"Sawmilling and lumber processing machinery and equipment",null,null,null,"23230000","Sawmilling and lumber processing machinery and equipment","23230000",10675,10675,10675,"23230000"]
[null,{"$f":"IFERROR(INDEX($G$7:$H$13233,$L10684,COLUMNS($B$6:B10683)),\"\")","v":"44111807"},"Scales",null,null,null,"44111807","Scales","44111807",10678,10678,10678,"44111807"]
[null,{"$f":"IFERROR(INDEX($G$7:$H$13233,$L10693,COLUMNS($B$6:B10692)),\"\")","v":"41111724"},"Scanning probe microscopes",null,null,null,"41111724","Scanning probe microscopes","41111724",10687,10687,10687,"41111724"]
[null,{"$f":"IFERROR(INDEX($G$7:$H$13233,$L10695,COLUMNS($B$6:B10694)),\"\")","v":"72121406"},"School building construction service",null,null,null,"72121406","School building construction service","72121406",10689,10689,10689,"72121406"]
[null,{"$f":"IFERROR(INDEX($G$7:$H$13233,$L10700,COLUMNS($B$6:B10699)),\"\")","v":"44101808"},"Scientific calculator",null,null,null,"44101808","Scientific calculator","44101808",10694,10694,10694,"44101808"]
[null,{"$f":"IFERROR(INDEX($G$7:$H$13233,$L10705,COLUMNS($B$6:B10704)),\"\")","v":"25101802"},"Scooters",null,null,null,"25101802","Scooters","25101802",10699,10699,10699,"25101802"]
[null,{"$f":"IFERROR(INDEX($G$7:$H$13233,$L10712,COLUMNS($B$6:B10711)),\"\")","v":"43233411"},"Screen saver software",null,null,null,"43233411","Screen saver software","43233411",10706,10706,10706,"43233411"]
[null,{"$f":"IFERROR(INDEX($G$7:$H$13233,$L10717,COLUMNS($B$6:B10716)),\"\")","v":"44122114"},"Screw posts",null,null,null,"44122114","Screw posts","44122114",10711,{"$f":"IF(ISNUMBER(SEARCH($H$4,H10717)),J10717,\"\")","v":10711},{"$f":"IFERROR(SMALL($K$7:$K$13233,J10717),\"\")","v":10711},"44122114"]
[null,{"$f":"IFERROR(INDEX($G$7:$H$13233,$L10722,COLUMNS($B$6:B10721)),\"\")","v":"49141500"},"Scuba and snorkeling gear",null,null,null,"49141500","Scuba and snorkeling gear","49141500",10716,10716,10716,"49141500"]
[null,{"$f":"IFERROR(INDEX($G$7:$H$13233,$L10727,COLUMNS($B$6:B10726)),\"\")","v":"50120000"},"Seafood",null,null,null,"50120000","Seafood","50120000",10721,10721,10721,"50120000"]
[null,{"$f":"IFERROR(INDEX($G$7:$H$13233,$L10734,COLUMNS($B$6:B10733)),\"\")","v":"92101901"},"Search and rescue teams",null,null,null,"92101901","Search and rescue teams","92101901",10728,10728,10728,"92101901"]
[null,{"$f":"IFERROR(INDEX($G$7:$H$13233,$L10738,COLUMNS($B$6:B10737)),\"\")","v":"50170000"},"Seasonings and preservatives",null,null,null,"50170000","Seasonings and preservatives","50170000",10732,10732,10732,"50170000"]
[null,{"$f":"IFERROR(INDEX($G$7:$H$13233,$L10746,COLUMNS($B$6:B10745)),\"\")","v":"20101900"},"Secondary rock breaking systems",null,null,null,"20101900","Secondary rock breaking systems","20101900",10740,10740,10740,"20101900"]
[null,{"$f":"IFERROR(INDEX($G$7:$H$13233,$L10751,COLUMNS($B$6:B10750)),\"\")","v":"44121718"},"Secured pen sets",null,null,null,"44121718","Secured pen sets","44121718",10745,10745,10745,"44121718"]
[null,{"$f":"IFERROR(INDEX($G$7:$H$13233,$L10755,COLUMNS($B$6:B10754)),\"\")","v":"84121806"},"Securities Custodial Services",null,null,null,"84121806","Securities Custodial Services","84121806",10749,10749,10749,"84121806"]
[null,{"$f":"IFERROR(INDEX($G$7:$H$13233,$L10763,COLUMNS($B$6:B10762)),\"\")","v":"46151607"},"Security lanyards",null,null,null,"46151607","Security lanyards","46151607",10757,10757,10757,"46151607"]
[null,{"$f":"IFERROR(INDEX($G$7:$H$13233,$L10768,COLUMNS($B$6:B10767)),\"\")","v":"14111544"},"Security paper",null,null,null,"14111544","Security paper","14111544",10762,10762,10762,"14111544"]
[null,{"$f":"IFERROR(INDEX($G$7:$H$13233,$L10770,COLUMNS($B$6:B10769)),\"\")","v":"92121700"},"Security systems services",null,null,null,"92121700","Security systems services","92121700",10764,10764,10764,"92121700"]
[null,{"$f":"IFERROR(INDEX($G$7:$H$13233,$L10775,COLUMNS($B$6:B10774)),\"\")","v":"41104120"},"Sedimentation rate tubes",null,null,null,"41104120","Sedimentation rate tubes","41104120",10769,10769,10769,"41104120"]
[null,{"$f":"IFERROR(INDEX($G$7:$H$13233,$L10780,COLUMNS($B$6:B10779)),\"\")","v":"70141904"},"Seed harvesting services",null,null,null,"70141904","Seed harvesting services","70141904",10774,10774,10774,"70141904"]
[null,{"$f":"IFERROR(INDEX($G$7:$H$13233,$L10787,COLUMNS($B$6:B10786)),\"\")","v":"41114104"},"Seismic amplifiers",null,null,null,"41114104","Seismic amplifiers","41114104",10781,10781,10781,"41114104"]
[null,{"$f":"IFERROR(INDEX($G$7:$H$13233,$L10792,COLUMNS($B$6:B10791)),\"\")","v":"41114107"},"Seismometers",null,null,null,"41114107","Seismometers","41114107",10786,10786,10786,"41114107"]
[null,{"$f":"IFERROR(INDEX($G$7:$H$13233,$L10796,COLUMNS($B$6:B10795)),\"\")","v":"14111530"},"Self adhesive note paper",null,null,null,"14111530","Self adhesive note paper","14111530",10790,10790,10790,"14111530"]
[null,{"$f":"IFERROR(INDEX($G$7:$H$13233,$L10804,COLUMNS($B$6:B10803)),\"\")","v":"44102414"},"Self-inking stamp",null,null,null,"44102414","Self-inking stamp","44102414",10798,10798,10798,"44102414"]
[null,{"$f":"IFERROR(INDEX($G$7:$H$13233,$L10809,COLUMNS($B$6:B10808)),\"\")","v":"14121602"},"Semi bleached crepe papers",null,null,null,"14121602","Semi bleached crepe papers","14121602",10803,10803,10803,"14121602"]
[null,{"$f":"IFERROR(INDEX($G$7:$H$13233,$L10813,COLUMNS($B$6:B10812)),\"\")","v":"23152100"},"Separation machinery and equipment",null,null,null,"23152100","Separation machinery and equipment","23152100",10807,10807,10807,"23152100"]
[null,{"$f":"IFERROR(INDEX($G$7:$H$13233,$L10821,COLUMNS($B$6:B10820)),\"\")","v":"43201559"},"Serial port cards",null,null,null,"43201559","Serial port cards","43201559",10815,10815,10815,"43201559"]
[null,{"$f":"IFERROR(INDEX($G$7:$H$13233,$L10826,COLUMNS($B$6:B10825)),\"\")","v":"41104931"},"Serum separator tube filter",null,null,null,"41104931","Serum separator tube filter","41104931",10820,10820,10820,"41104931"]
[null,{"$f":"IFERROR(INDEX($G$7:$H$13233,$L10830,COLUMNS($B$6:B10829)),\"\")","v":"43211805"},"Service kits for storage devices",null,null,null,"43211805","Service kits for storage devices","43211805",10824,10824,10824,"43211805"]
[null,{"$f":"IFERROR(INDEX($G$7:$H$13233,$L10838,COLUMNS($B$6:B10837)),\"\")","v":"41111914"},"Servo recorders",null,null,null,"41111914","Servo recorders","41111914",10832,10832,10832,"41111914"]
[null,{"$f":"IFERROR(INDEX($G$7:$H$13233,$L10839,COLUMNS($B$6:B10838)),\"\")","v":"41113656"},"Servo system tester",null,null,null,"41113656","Servo system tester","41113656",10833,10833,10833,"41113656"]
[null,{"$f":"IFERROR(INDEX($G$7:$H$13233,$L10847,COLUMNS($B$6:B10846)),\"\")","v":"76121701"},"Sewage treatment services",null,null,null,"76121701","Sewage treatment services","76121701",10841,10841,10841,"76121701"]
[null,{"$f":"IFERROR(INDEX($G$7:$H$13233,$L10850,COLUMNS($B$6:B10849)),\"\")","v":"23121614"},"Sewing machines",null,null,null,"23121614","Sewing machines","23121614",10844,10844,10844,"23121614"]
[null,{"$f":"IFERROR(INDEX($G$7:$H$13233,$L10856,COLUMNS($B$6:B10855)),\"\")","v":"30103900"},"Shafts",null,null,null,"30103900","Shafts","30103900",10850,10850,10850,"30103900"]
[null,{"$f":"IFERROR(INDEX($G$7:$H$13233,$L10862,COLUMNS($B$6:B10861)),\"\")","v":"30181612"},"Shaving razor hook",null,null,null,"30181612","Shaving razor hook","30181612",10856,10856,10856,"30181612"]
[null,{"$f":"IFERROR(INDEX($G$7:$H$13233,$L10868,COLUMNS($B$6:B10867)),\"\")","v":"72141214"},"Sheet pile driving service",null,null,null,"72141214","Sheet pile driving service","72141214",10862,10862,10862,"72141214"]
[null,{"$f":"IFERROR(INDEX($G$7:$H$13233,$L10873,COLUMNS($B$6:B10872)),\"\")","v":"10101800"},"Shellfish and aquatic invertebrates",null,null,null,"10101800","Shellfish and aquatic invertebrates","10101800",10867,10867,10867,"10101800"]
[null,{"$f":"IFERROR(INDEX($G$7:$H$13233,$L10879,COLUMNS($B$6:B10878)),\"\")","v":"24102000"},"Shelving and storage",null,null,null,"24102000","Shelving and storage","24102000",10873,10873,10873,"24102000"]
[null,{"$f":"IFERROR(INDEX($G$7:$H$13233,$L10885,COLUMNS($B$6:B10884)),\"\")","v":"53101600"},"Shirts and blouses",null,null,null,"53101600","Shirts and blouses","53101600",10879,10879,10879,"53101600"]
[null,{"$f":"IFERROR(INDEX($G$7:$H$13233,$L10890,COLUMNS($B$6:B10889)),\"\")","v":"72154050"},"Shopping cart maintenance or repair service",null,null,null,"72154050","Shopping cart maintenance or repair service","72154050",10884,10884,10884,"72154050"]
[null,{"$f":"IFERROR(INDEX($G$7:$H$13233,$L10896,COLUMNS($B$6:B10895)),\"\")","v":"43221713"},"Shortwave core equipment",null,null,null,"43221713","Shortwave core equipment","43221713",10890,10890,10890,"43221713"]
[null,{"$f":"IFERROR(INDEX($G$7:$H$13233,$L10899,COLUMNS($B$6:B10898)),\"\")","v":"56101705"},"Showcases",null,null,null,"56101705","Showcases","56101705",10893,10893,10893,"56101705"]
[null,{"$f":"IFERROR(INDEX($G$7:$H$13233,$L10908,COLUMNS($B$6:B10907)),\"\")","v":"30241510"},"Side pole",null,null,null,"30241510","Side pole","30241510",10902,10902,10902,"30241510"]
[null,{"$f":"IFERROR(INDEX($G$7:$H$13233,$L10909,COLUMNS($B$6:B10908)),\"\")","v":"44122031"},"Side rails for hanging folder frame",null,null,null,"44122031","Side rails for hanging folder frame","44122031",10903,10903,10903,"44122031"]
[null,{"$f":"IFERROR(INDEX($G$7:$H$13233,$L10916,COLUMNS($B$6:B10915)),\"\")","v":"41112511"},"Sight flow windows",null,null,null,"41112511","Sight flow windows","41112511",10910,10910,10910,"41112511"]
[null,{"$f":"IFERROR(INDEX($G$7:$H$13233,$L10920,COLUMNS($B$6:B10919)),\"\")","v":"72154028"},"Sign installation and maintenance service",null,null,null,"72154028","Sign installation and maintenance service","72154028",10914,10914,10914,"72154028"]
[null,{"$f":"IFERROR(INDEX($G$7:$H$13233,$L10926,COLUMNS($B$6:B10925)),\"\")","v":"41115320"},"Signal generators",null,null,null,"41115320","Signal generators","41115320",10920,10920,10920,"41115320"]
[null,{"$f":"IFERROR(INDEX($G$7:$H$13233,$L10933,COLUMNS($B$6:B10932)),\"\")","v":"13111220"},"Silicone coated films",null,null,null,"13111220","Silicone coated films","13111220",10927,10927,10927,"13111220"]
[null,{"$f":"IFERROR(INDEX($G$7:$H$13233,$L10937,COLUMNS($B$6:B10936)),\"\")","v":"45101506"},"Silk screen printing machines",null,null,null,"45101506","Silk screen printing machines","45101506",10931,10931,10931,"45101506"]
[null,{"$f":"IFERROR(INDEX($G$7:$H$13233,$L10943,COLUMNS($B$6:B10942)),\"\")","v":"10101904"},"Silkworms",null,null,null,"10101904","Silkworms","10101904",10937,10937,10937,"10101904"]
[null,{"$f":"IFERROR(INDEX($G$7:$H$13233,$L10950,COLUMNS($B$6:B10949)),\"\")","v":"26111718"},"Silver oxide batteries",null,null,null,"26111718","Silver oxide batteries","26111718",10944,10944,10944,"26111718"]
[null,{"$f":"IFERROR(INDEX($G$7:$H$13233,$L10955,COLUMNS($B$6:B10954)),\"\")","v":"72111002"},"Single family home general remodeling service",null,null,null,"72111002","Single family home general remodeling service","72111002",10949,10949,10949,"72111002"]
[null,{"$f":"IFERROR(INDEX($G$7:$H$13233,$L10959,COLUMNS($B$6:B10958)),\"\")","v":"72111007"},"Single family prefabricated home erection service",null,null,null,"72111007","Single family prefabricated home erection service","72111007",10953,10953,10953,"72111007"]
[null,{"$f":"IFERROR(INDEX($G$7:$H$13233,$L10966,COLUMNS($B$6:B10965)),\"\")","v":"31420000"},"Sintered parts",null,null,null,"31420000","Sintered parts","31420000",10960,10960,10960,"31420000"]
[null,{"$f":"IFERROR(INDEX($G$7:$H$13233,$L10972,COLUMNS($B$6:B10971)),\"\")","v":"80171500"},"Situation and stakeholder analysis and communications planning services",null,null,null,"80171500","Situation and stakeholder analysis and communications planning services","80171500",10966,{"$f":"IF(ISNUMBER(SEARCH($H$4,H10972)),J10972,\"\")","v":10966},{"$f":"IFERROR(SMALL($K$7:$K$13233,J10972),\"\")","v":10966},"80171500"]
[null,{"$f":"IFERROR(INDEX($G$7:$H$13233,$L10976,COLUMNS($B$6:B10975)),\"\")","v":"49151500"},"Skiing and snowboarding equipment",null,null,null,"49151500","Skiing and snowboarding equipment","49151500",10970,10970,10970,"49151500"]
[null,{"$f":"IFERROR(INDEX($G$7:$H$13233,$L10979,COLUMNS($B$6:B10978)),\"\")","v":"42141503"},"Skin preparation wipes",null,null,null,"42141503","Skin preparation wipes","42141503",10973,10973,10973,"42141503"]
[null,{"$f":"IFERROR(INDEX($G$7:$H$13233,$L10984,COLUMNS($B$6:B10983)),\"\")","v":"72152603"},"Skylight installation service",null,null,null,"72152603","Skylight installation service","72152603",10978,10978,10978,"72152603"]
[null,{"$f":"IFERROR(INDEX($G$7:$H$13233,$L10993,COLUMNS($B$6:B10992)),\"\")","v":"49121502"},"Sleeping pads",null,null,null,"49121502","Sleeping pads","49121502",10987,10987,10987,"49121502"]
[null,{"$f":"IFERROR(INDEX($G$7:$H$13233,$L10996,COLUMNS($B$6:B10995)),\"\")","v":"45111620"},"Slide film copier",null,null,null,"45111620","Slide film copier","45111620",10990,10990,10990,"45111620"]
[null,{"$f":"IFERROR(INDEX($G$7:$H$13233,$L11001,COLUMNS($B$6:B11000)),\"\")","v":"41102424"},"Slide warmers",null,null,null,"41102424","Slide warmers","41102424",10995,10995,10995,"41102424"]
[null,{"$f":"IFERROR(INDEX($G$7:$H$13233,$L11010,COLUMNS($B$6:B11009)),\"\")","v":"76121603"},"Sludge disposal",null,null,null,"76121603","Sludge disposal","76121603",11004,11004,11004,"76121603"]
[null,{"$f":"IFERROR(INDEX($G$7:$H$13233,$L11013,COLUMNS($B$6:B11012)),\"\")","v":"47101538"},"Sludge or sewage digesters",null,null,null,"47101538","Sludge or sewage digesters","47101538",11007,11007,11007,"47101538"]
[null,{"$f":"IFERROR(INDEX($G$7:$H$13233,$L11019,COLUMNS($B$6:B11018)),\"\")","v":"70121607"},"Small animal breeding services",null,null,null,"70121607","Small animal breeding services","70121607",11013,11013,11013,"70121607"]
[null,{"$f":"IFERROR(INDEX($G$7:$H$13233,$L11025,COLUMNS($B$6:B11024)),\"\")","v":"24111825"},"Small seed storage silos",null,null,null,"24111825","Small seed storage silos","24111825",11019,11019,11019,"24111825"]
[null,{"$f":"IFERROR(INDEX($G$7:$H$13233,$L11030,COLUMNS($B$6:B11029)),\"\")","v":"25101710"},"Smoke exhaust truck with lighting",null,null,null,"25101710","Smoke exhaust truck with lighting","25101710",11024,11024,11024,"25101710"]
[null,{"$f":"IFERROR(INDEX($G$7:$H$13233,$L11036,COLUMNS($B$6:B11035)),\"\")","v":"46161506"},"Snow or ice melter",null,null,null,"46161506","Snow or ice melter","46161506",11030,11030,11030,"46161506"]
[null,{"$f":"IFERROR(INDEX($G$7:$H$13233,$L11042,COLUMNS($B$6:B11041)),\"\")","v":"30181614"},"Soap dispenser",null,null,null,"30181614","Soap dispenser","30181614",11036,11036,11036,"30181614"]
[null,{"$f":"IFERROR(INDEX($G$7:$H$13233,$L11047,COLUMNS($B$6:B11046)),\"\")","v":"93141513"},"Social justice or legislation services",null,null,null,"93141513","Social justice or legislation services","93141513",11041,11041,11041,"93141513"]
[null,{"$f":"IFERROR(INDEX($G$7:$H$13233,$L11053,COLUMNS($B$6:B11052)),\"\")","v":"93141510"},"Social structure studies or related services",null,null,null,"93141510","Social structure studies or related services","93141510",11047,11047,11047,"93141510"]
[null,{"$f":"IFERROR(INDEX($G$7:$H$13233,$L11054,COLUMNS($B$6:B11053)),\"\")","v":"93141506"},"Social welfare services",null,null,null,"93141506","Social welfare services","93141506",11048,11048,11048,"93141506"]
[null,{"$f":"IFERROR(INDEX($G$7:$H$13233,$L11062,COLUMNS($B$6:B11061)),\"\")","v":"51172327"},"Sodium lactate",null,null,null,"51172327","Sodium lactate","51172327",11056,11056,11056,"51172327"]
[null,{"$f":"IFERROR(INDEX($G$7:$H$13233,$L11066,COLUMNS($B$6:B11065)),\"\")","v":"51341806"},"Sofosbuvir",null,null,null,"51341806","Sofosbuvir","51341806",11060,11060,11060,"51341806"]
[null,{"$f":"IFERROR(INDEX($G$7:$H$13233,$L11071,COLUMNS($B$6:B11070)),\"\")","v":"11121604"},"Soft timber",null,null,null,"11121604","Soft timber","11121604",11065,11065,11065,"11121604"]
[null,{"$f":"IFERROR(INDEX($G$7:$H$13233,$L11079,COLUMNS($B$6:B11078)),\"\")","v":"81112200"},"Software maintenance and support",null,null,null,"81112200","Software maintenance and support","81112200",11073,11073,11073,"81112200"]
[null,{"$f":"IFERROR(INDEX($G$7:$H$13233,$L11083,COLUMNS($B$6:B11082)),\"\")","v":"41113825"},"Soil aggregate analyzer",null,null,null,"41113825","Soil aggregate analyzer","41113825",11077,11077,11077,"41113825"]
[null,{"$f":"IFERROR(INDEX($G$7:$H$13233,$L11088,COLUMNS($B$6:B11087)),\"\")","v":"70131502"},"Soil conservation or protection services",null,null,null,"70131502","Soil conservation or protection services","70131502",11082,11082,11082,"70131502"]
[null,{"$f":"IFERROR(INDEX($G$7:$H$13233,$L11094,COLUMNS($B$6:B11093)),\"\")","v":"41113900"},"Soil measuring equipment",null,null,null,"41113900","Soil measuring equipment","41113900",11088,11088,11088,"41113900"]
[null,{"$f":"IFERROR(INDEX($G$7:$H$13233,$L11100,COLUMNS($B$6:B11099)),\"\")","v":"77121606"},"Soil pollution measurement or monitoring",null,null,null,"77121606","Soil pollution measurement or monitoring","77121606",11094,11094,11094,"77121606"]
[null,{"$f":"IFERROR(INDEX($G$7:$H$13233,$L11105,COLUMNS($B$6:B11104)),\"\")","v":"41113827"},"Soil unconfined compression apparatus",null,null,null,"41113827","Soil unconfined compression apparatus","41113827",11099,11099,11099,"41113827"]
[null,{"$f":"IFERROR(INDEX($G$7:$H$13233,$L11111,COLUMNS($B$6:B11110)),\"\")","v":"26131507"},"Solar power plants",null,null,null,"26131507","Solar power plants","26131507",11105,11105,11105,"26131507"]
[null,{"$f":"IFERROR(INDEX($G$7:$H$13233,$L11117,COLUMNS($B$6:B11116)),\"\")","v":"15101600"},"Solid and gel fuels",null,null,null,"15101600","Solid and gel fuels","15101600",11111,11111,11111,"15101600"]
[null,{"$f":"IFERROR(INDEX($G$7:$H$13233,$L11122,COLUMNS($B$6:B11121)),\"\")","v":"41103315"},"Solution strength estimation apparatus",null,null,null,"41103315","Solution strength estimation apparatus","41103315",11116,11116,11116,"41103315"]
[null,{"$f":"IFERROR(INDEX($G$7:$H$13233,$L11124,COLUMNS($B$6:B11123)),\"\")","v":"12190000"},"Solvents",null,null,null,"12190000","Solvents","12190000",11118,11118,11118,"12190000"]
[null,{"$f":"IFERROR(INDEX($G$7:$H$13233,$L11129,COLUMNS($B$6:B11128)),\"\")","v":"50221305"},"Sorghum Flour (WFP food convention)",null,null,null,"50221305","Sorghum Flour (WFP food convention)","50221305",11123,11123,11123,"50221305"]
[null,{"$f":"IFERROR(INDEX($G$7:$H$13233,$L11137,COLUMNS($B$6:B11136)),\"\")","v":"49101602"},"Souvenirs",null,null,null,"49101602","Souvenirs","49101602",11131,11131,11131,"49101602"]
[null,{"$f":"IFERROR(INDEX($G$7:$H$13233,$L11141,COLUMNS($B$6:B11140)),\"\")","v":"50501708"},"Soya-fortified Maize Meal (WFP food convention)",null,null,null,"50501708","Soya-fortified Maize Meal (WFP food convention)","50501708",11135,11135,11135,"50501708"]
[null,{"$f":"IFERROR(INDEX($G$7:$H$13233,$L11146,COLUMNS($B$6:B11145)),\"\")","v":"25191600"},"Space transportation support systems and equipment",null,null,null,"25191600","Space transportation support systems and equipment","25191600",11140,11140,11140,"25191600"]
[null,{"$f":"IFERROR(INDEX($G$7:$H$13233,$L11154,COLUMNS($B$6:B11153)),\"\")","v":"43221732"},"Speaker control unit",null,null,null,"43221732","Speaker control unit","43221732",11148,11148,11148,"43221732"]
[null,{"$f":"IFERROR(INDEX($G$7:$H$13233,$L11158,COLUMNS($B$6:B11157)),\"\")","v":"82111902"},"Special interest newsletter services",null,null,null,"82111902","Special interest newsletter services","82111902",11152,11152,11152,"82111902"]
[null,{"$f":"IFERROR(INDEX($G$7:$H$13233,$L11164,COLUMNS($B$6:B11163)),\"\")","v":"72151600"},"Specialized communication system services",null,null,null,"72151600","Specialized communication system services","72151600",11158,11158,11158,"72151600"]
[null,{"$f":"IFERROR(INDEX($G$7:$H$13233,$L11171,COLUMNS($B$6:B11170)),\"\")","v":"78131800"},"Specialized warehousing and storage",null,null,null,"78131800","Specialized warehousing and storage","78131800",11165,11165,11165,"78131800"]
[null,{"$f":"IFERROR(INDEX($G$7:$H$13233,$L11175,COLUMNS($B$6:B11174)),\"\")","v":"42192700"},"Specialty exam tables and related products",null,null,null,"42192700","Specialty exam tables and related products","42192700",11169,11169,11169,"42192700"]
[null,{"$f":"IFERROR(INDEX($G$7:$H$13233,$L11180,COLUMNS($B$6:B11179)),\"\")","v":"30263900"},"Specialty steel bars",null,null,null,"30263900","Specialty steel bars","30263900",11174,11174,11174,"30263900"]
[null,{"$f":"IFERROR(INDEX($G$7:$H$13233,$L11187,COLUMNS($B$6:B11186)),\"\")","v":"41113823"},"Specimen expansion tester",null,null,null,"41113823","Specimen expansion tester","41113823",11181,11181,11181,"41113823"]
[null,{"$f":"IFERROR(INDEX($G$7:$H$13233,$L11192,COLUMNS($B$6:B11191)),\"\")","v":"41115402"},"Spectrographs",null,null,null,"41115402","Spectrographs","41115402",11186,11186,11186,"41115402"]
[null,{"$f":"IFERROR(INDEX($G$7:$H$13233,$L11197,COLUMNS($B$6:B11196)),\"\")","v":"82111705"},"Speech writing",null,null,null,"82111705","Speech writing","82111705",11191,11191,11191,"82111705"]
[null,{"$f":"IFERROR(INDEX($G$7:$H$13233,$L11199,COLUMNS($B$6:B11198)),\"\")","v":"41112801"},"Speedometers",null,null,null,"41112801","Speedometers","41112801",11193,11193,11193,"41112801"]
[null,{"$f":"IFERROR(INDEX($G$7:$H$13233,$L11205,COLUMNS($B$6:B11204)),\"\")","v":"30181701"},"Spigot",null,null,null,"30181701","Spigot","30181701",11199,11199,11199,"30181701"]
[null,{"$f":"IFERROR(INDEX($G$7:$H$13233,$L11214,COLUMNS($B$6:B11213)),\"\")","v":"50425410"},"Split Yellow Peas (WFP food convention)",null,null,null,"50425410","Split Yellow Peas (WFP food convention)","50425410",11208,11208,11208,"50425410"]
[null,{"$f":"IFERROR(INDEX($G$7:$H$13233,$L11216,COLUMNS($B$6:B11215)),\"\")","v":"80141609"},"Sponsorship of event or celebrity",null,null,null,"80141609","Sponsorship of event or celebrity","80141609",11210,11210,11210,"80141609"]
[null,{"$f":"IFERROR(INDEX($G$7:$H$13233,$L11223,COLUMNS($B$6:B11222)),\"\")","v":"49000000"},"Sports and Recreational Equipment and Supplies and Accessories",null,null,null,"49000000","Sports and Recreational Equipment and Supplies and Accessories","49000000",11217,11217,11217,"49000000"]
[null,{"$f":"IFERROR(INDEX($G$7:$H$13233,$L11228,COLUMNS($B$6:B11227)),\"\")","v":"84121604"},"Spot exchange transaction services",null,null,null,"84121604","Spot exchange transaction services","84121604",11222,11222,11222,"84121604"]
[null,{"$f":"IFERROR(INDEX($G$7:$H$13233,$L11233,COLUMNS($B$6:B11232)),\"\")","v":"31211507"},"Spray paints",null,null,null,"31211507","Spray paints","31211507",11227,11227,11227,"31211507"]
[null,{"$f":"IFERROR(INDEX($G$7:$H$13233,$L11240,COLUMNS($B$6:B11239)),\"\")","v":"31171900"},"Sprockets",null,null,null,"31171900","Sprockets","31171900",11234,11234,11234,"31171900"]
[null,{"$f":"IFERROR(INDEX($G$7:$H$13233,$L11245,COLUMNS($B$6:B11244)),\"\")","v":"47121901"},"Squeege or washer holsters",null,null,null,"47121901","Squeege or washer holsters","47121901",11239,11239,11239,"47121901"]
[null,{"$f":"IFERROR(INDEX($G$7:$H$13233,$L11251,COLUMNS($B$6:B11250)),\"\")","v":"80111701"},"Staff recruiting services",null,null,null,"80111701","Staff recruiting services","80111701",11245,11245,11245,"80111701"]
[null,{"$f":"IFERROR(INDEX($G$7:$H$13233,$L11257,COLUMNS($B$6:B11256)),\"\")","v":"11171603"},"Stainless steel alloy 316",null,null,null,"11171603","Stainless steel alloy 316","11171603",11251,11251,11251,"11171603"]
[null,{"$f":"IFERROR(INDEX($G$7:$H$13233,$L11262,COLUMNS($B$6:B11261)),\"\")","v":"30241511"},"Stake or peg",null,null,null,"30241511","Stake or peg","30241511",11256,11256,11256,"30241511"]
[null,{"$f":"IFERROR(INDEX($G$7:$H$13233,$L11263,COLUMNS($B$6:B11262)),\"\")","v":"80171504"},"Stakeholder analysis",null,null,null,"80171504","Stakeholder analysis","80171504",11257,11257,11257,"80171504"]
[null,{"$f":"IFERROR(INDEX($G$7:$H$13233,$L11268,COLUMNS($B$6:B11267)),\"\")","v":"44111514"},"Stamp racks or organizers",null,null,null,"44111514","Stamp racks or organizers","44111514",11262,11262,11262,"44111514"]
[null,{"$f":"IFERROR(INDEX($G$7:$H$13233,$L11275,COLUMNS($B$6:B11274)),\"\")","v":"41104301"},"Standard fermentation units",null,null,null,"41104301","Standard fermentation units","41104301",11269,11269,11269,"41104301"]
[null,{"$f":"IFERROR(INDEX($G$7:$H$13233,$L11283,COLUMNS($B$6:B11282)),\"\")","v":"44121615"},"Staplers",null,null,null,"44121615","Staplers","44121615",11277,11277,11277,"44121615"]
[null,{"$f":"IFERROR(INDEX($G$7:$H$13233,$L11286,COLUMNS($B$6:B11285)),\"\")","v":"93121507"},"State visits organization services",null,null,null,"93121507","State visits organization services","93121507",11280,11280,11280,"93121507"]
[null,{"$f":"IFERROR(INDEX($G$7:$H$13233,$L11292,COLUMNS($B$6:B11291)),\"\")","v":"41103512"},"Static eliminators",null,null,null,"41103512","Static eliminators","41103512",11286,11286,11286,"41103512"]
[null,{"$f":"IFERROR(INDEX($G$7:$H$13233,$L11300,COLUMNS($B$6:B11299)),\"\")","v":"57070104"},"Stationery and PPE",null,null,null,"57070104","Stationery and PPE","57070104",11294,11294,11294,"57070104"]
[null,{"$f":"IFERROR(INDEX($G$7:$H$13233,$L11303,COLUMNS($B$6:B11302)),\"\")","v":"51343005"},"Stavudine and lamivudine and nevirapine",null,null,null,"51343005","Stavudine and lamivudine and nevirapine","51343005",11297,11297,11297,"51343005"]
[null,{"$f":"IFERROR(INDEX($G$7:$H$13233,$L11309,COLUMNS($B$6:B11308)),\"\")","v":"26101505"},"Steam engines",null,null,null,"26101505","Steam engines","26101505",11303,11303,11303,"26101505"]
[null,{"$f":"IFERROR(INDEX($G$7:$H$13233,$L11311,COLUMNS($B$6:B11310)),\"\")","v":"26131508"},"Steam power plants",null,null,null,"26131508","Steam power plants","26131508",11305,11305,11305,"26131508"]
[null,{"$f":"IFERROR(INDEX($G$7:$H$13233,$L11321,COLUMNS($B$6:B11320)),\"\")","v":"41111703"},"Stereo or dissecting light microscopes",null,null,null,"41111703","Stereo or dissecting light microscopes","41111703",11315,11315,11315,"41111703"]
[null,{"$f":"IFERROR(INDEX($G$7:$H$13233,$L11326,COLUMNS($B$6:B11325)),\"\")","v":"42281803"},"Sterilization biological kits",null,null,null,"42281803","Sterilization biological kits","42281803",11320,11320,11320,"42281803"]
[null,{"$f":"IFERROR(INDEX($G$7:$H$13233,$L11328,COLUMNS($B$6:B11327)),\"\")","v":"42281509"},"Sterilization containers or trays",null,null,null,"42281509","Sterilization containers or trays","42281509",11322,11322,11322,"42281509"]
[null,{"$f":"IFERROR(INDEX($G$7:$H$13233,$L11333,COLUMNS($B$6:B11332)),\"\")","v":"42281805"},"Sterilization indicator records",null,null,null,"42281805","Sterilization indicator records","42281805",11327,11327,11327,"42281805"]
[null,{"$f":"IFERROR(INDEX($G$7:$H$13233,$L11343,COLUMNS($B$6:B11342)),\"\")","v":"42281904"},"Sterilization pouches",null,null,null,"42281904","Sterilization pouches","42281904",11337,11337,11337,"42281904"]
[null,{"$f":"IFERROR(INDEX($G$7:$H$13233,$L11345,COLUMNS($B$6:B11344)),\"\")","v":"42281915"},"Sterilization reels",null,null,null,"42281915","Sterilization reels","42281915",11339,11339,11339,"42281915"]
[null,{"$f":"IFERROR(INDEX($G$7:$H$13233,$L11350,COLUMNS($B$6:B11349)),\"\")","v":"42281900"},"Sterilization wraps and packaging supplies",null,null,null,"42281900","Sterilization wraps and packaging supplies","42281900",11344,11344,11344,"42281900"]
[null,{"$f":"IFERROR(INDEX($G$7:$H$13233,$L11354,COLUMNS($B$6:B11353)),\"\")","v":"42182100"},"Stethoscopes and related products",null,null,null,"42182100","Stethoscopes and related products","42182100",11348,11348,11348,"42182100"]
[null,{"$f":"IFERROR(INDEX($G$7:$H$13233,$L11362,COLUMNS($B$6:B11361)),\"\")","v":"41103803"},"Stirring tables",null,null,null,"41103803","Stirring tables","41103803",11356,11356,11356,"41103803"]
[null,{"$f":"IFERROR(INDEX($G$7:$H$13233,$L11367,COLUMNS($B$6:B11366)),\"\")","v":"30131604"},"Stone bricks",null,null,null,"30131604","Stone bricks","30131604",11361,11361,11361,"30131604"]
[null,{"$f":"IFERROR(INDEX($G$7:$H$13233,$L11371,COLUMNS($B$6:B11370)),\"\")","v":"41104122"},"Stool collection containers without media",null,null,null,"41104122","Stool collection containers without media","41104122",11365,11365,11365,"41104122"]
[null,{"$f":"IFERROR(INDEX($G$7:$H$13233,$L11379,COLUMNS($B$6:B11378)),\"\")","v":"24112400"},"Storage chests and cabinets and trunks",null,null,null,"24112400","Storage chests and cabinets and trunks","24112400",11373,11373,11373,"24112400"]
[null,{"$f":"IFERROR(INDEX($G$7:$H$13233,$L11386,COLUMNS($B$6:B11385)),\"\")","v":"95141703"},"Storage shed",null,null,null,"95141703","Storage shed","95141703",11380,11380,11380,"95141703"]
[null,{"$f":"IFERROR(INDEX($G$7:$H$13233,$L11391,COLUMNS($B$6:B11390)),\"\")","v":"30171506"},"Storm doors",null,null,null,"30171506","Storm doors","30171506",11385,11385,11385,"30171506"]
[null,{"$f":"IFERROR(INDEX($G$7:$H$13233,$L11396,COLUMNS($B$6:B11395)),\"\")","v":"44102305"},"Strapping tensioners or sealers",null,null,null,"44102305","Strapping tensioners or sealers","44102305",11390,11390,11390,"44102305"]
[null,{"$f":"IFERROR(INDEX($G$7:$H$13233,$L11397,COLUMNS($B$6:B11396)),\"\")","v":"31151900"},"Straps",null,null,null,"31151900","Straps","31151900",11391,11391,11391,"31151900"]
[null,{"$f":"IFERROR(INDEX($G$7:$H$13233,$L11403,COLUMNS($B$6:B11402)),\"\")","v":"76121503"},"Street cleaning services",null,null,null,"76121503","Street cleaning services","76121503",11397,11397,11397,"76121503"]
[null,{"$f":"IFERROR(INDEX($G$7:$H$13233,$L11408,COLUMNS($B$6:B11407)),\"\")","v":"41114631"},"Stress tester",null,null,null,"41114631","Stress tester","41114631",11402,11402,11402,"41114631"]
[null,{"$f":"IFERROR(INDEX($G$7:$H$13233,$L11414,COLUMNS($B$6:B11413)),\"\")","v":"30241515"},"Structural alignment tool",null,null,null,"30241515","Structural alignment tool","30241515",11408,11408,11408,"30241515"]
[null,{"$f":"IFERROR(INDEX($G$7:$H$13233,$L11420,COLUMNS($B$6:B11419)),\"\")","v":"72152905"},"Structural iron work service",null,null,null,"72152905","Structural iron work service","72152905",11414,11414,11414,"72152905"]
[null,{"$f":"IFERROR(INDEX($G$7:$H$13233,$L11425,COLUMNS($B$6:B11424)),\"\")","v":"41104818"},"Structured packing",null,null,null,"41104818","Structured packing","41104818",11419,11419,11419,"41104818"]
[null,{"$f":"IFERROR(INDEX($G$7:$H$13233,$L11429,COLUMNS($B$6:B11428)),\"\")","v":"56121509"},"Student computer tables",null,null,null,"56121509","Student computer tables","56121509",11423,11423,11423,"56121509"]
[null,{"$f":"IFERROR(INDEX($G$7:$H$13233,$L11437,COLUMNS($B$6:B11436)),\"\")","v":"56121507"},"Study carrels",null,null,null,"56121507","Study carrels","56121507",11431,11431,11431,"56121507"]
[null,{"$f":"IFERROR(INDEX($G$7:$H$13233,$L11440,COLUMNS($B$6:B11439)),\"\")","v":"26141600"},"Subcritical assembly equipment",null,null,null,"26141600","Subcritical assembly equipment","26141600",11434,11434,11434,"26141600"]
[null,{"$f":"IFERROR(INDEX($G$7:$H$13233,$L11449,COLUMNS($B$6:B11448)),\"\")","v":"95121632"},"Subway",null,null,null,"95121632","Subway","95121632",11443,11443,11443,"95121632"]
[null,{"$f":"IFERROR(INDEX($G$7:$H$13233,$L11454,COLUMNS($B$6:B11453)),\"\")","v":"42212007"},"Suction brushes for the physically challenged",null,null,null,"42212007","Suction brushes for the physically challenged","42212007",11448,11448,11448,"42212007"]
[null,{"$f":"IFERROR(INDEX($G$7:$H$13233,$L11461,COLUMNS($B$6:B11460)),\"\")","v":"41113323"},"Sugar analyzers",null,null,null,"41113323","Sugar analyzers","41113323",11455,11455,11455,"41113323"]
[null,{"$f":"IFERROR(INDEX($G$7:$H$13233,$L11466,COLUMNS($B$6:B11465)),\"\")","v":"51283901"},"Sulfacetamide",null,null,null,"51283901","Sulfacetamide","51283901",11460,11460,11460,"51283901"]
[null,{"$f":"IFERROR(INDEX($G$7:$H$13233,$L11471,COLUMNS($B$6:B11470)),\"\")","v":"51283900"},"Sulfonamide antibacterials",null,null,null,"51283900","Sulfonamide antibacterials","51283900",11465,11465,11465,"51283900"]
[null,{"$f":"IFERROR(INDEX($G$7:$H$13233,$L11472,COLUMNS($B$6:B11471)),\"\")","v":"51382702"},"Sulindac",null,null,null,"51382702","Sulindac","51382702",11466,11466,11466,"51382702"]
[null,{"$f":"IFERROR(INDEX($G$7:$H$13233,$L11478,COLUMNS($B$6:B11477)),\"\")","v":"50151521"},"Sunflower Oil (WFP food convention)",null,null,null,"50151521","Sunflower Oil (WFP food convention)","50151521",11472,11472,11472,"50151521"]
[null,{"$f":"IFERROR(INDEX($G$7:$H$13233,$L11483,COLUMNS($B$6:B11482)),\"\")","v":"50501713"},"Super Cereal (WFP food convention) ",null,null,null,"50501713","Super Cereal (WFP food convention) ","50501713",11477,11477,11477,"50501713"]
[null,{"$f":"IFERROR(INDEX($G$7:$H$13233,$L11489,COLUMNS($B$6:B11488)),\"\")","v":"57050201"},"Supplementary feeding/nursing kit",null,null,null,"57050201","Supplementary feeding/nursing kit","57050201",11483,11483,11483,"57050201"]
[null,{"$f":"IFERROR(INDEX($G$7:$H$13233,$L11495,COLUMNS($B$6:B11494)),\"\")","v":"83101606"},"Supply of fuel",null,null,null,"83101606","Supply of fuel","83101606",11489,11489,11489,"83101606"]
[null,{"$f":"IFERROR(INDEX($G$7:$H$13233,$L11504,COLUMNS($B$6:B11503)),\"\")","v":"42142701"},"Suprapubic urinary catheters or kits",null,null,null,"42142701","Suprapubic urinary catheters or kits","42142701",11498,11498,11498,"42142701"]
[null,{"$f":"IFERROR(INDEX($G$7:$H$13233,$L11507,COLUMNS($B$6:B11506)),\"\")","v":"41103317"},"Surface tension measuring instruments",null,null,null,"41103317","Surface tension measuring instruments","41103317",11501,11501,11501,"41103317"]
[null,{"$f":"IFERROR(INDEX($G$7:$H$13233,$L11512,COLUMNS($B$6:B11511)),\"\")","v":"77121701"},"Surface water pollution monitoring or control services",null,null,null,"77121701","Surface water pollution monitoring or control services","77121701",11506,11506,11506,"77121701"]
[null,{"$f":"IFERROR(INDEX($G$7:$H$13233,$L11515,COLUMNS($B$6:B11514)),\"\")","v":"77121704"},"Surface water treatment services",null,null,null,"77121704","Surface water treatment services","77121704",11509,11509,11509,"77121704"]
[null,{"$f":"IFERROR(INDEX($G$7:$H$13233,$L11524,COLUMNS($B$6:B11523)),\"\")","v":"42296703"},"Surgical bone cement injectors ",null,null,null,"42296703","Surgical bone cement injectors ","42296703",11518,11518,11518,"42296703"]
[null,{"$f":"IFERROR(INDEX($G$7:$H$13233,$L11529,COLUMNS($B$6:B11528)),\"\")","v":"42293600"},"Surgical bougies and sounds and related products",null,null,null,"42293600","Surgical bougies and sounds and related products","42293600",11523,11523,11523,"42293600"]
[null,{"$f":"IFERROR(INDEX($G$7:$H$13233,$L11532,COLUMNS($B$6:B11531)),\"\")","v":"42292901"},"Surgical cerclage instruments",null,null,null,"42292901","Surgical cerclage instruments","42292901",11526,11526,11526,"42292901"]
[null,{"$f":"IFERROR(INDEX($G$7:$H$13233,$L11541,COLUMNS($B$6:B11540)),\"\")","v":"42295201"},"Surgical dermatomes or dermabraders or dermameshers",null,null,null,"42295201","Surgical dermatomes or dermabraders or dermameshers","42295201",11535,11535,11535,"42295201"]
[null,{"$f":"IFERROR(INDEX($G$7:$H$13233,$L11547,COLUMNS($B$6:B11546)),\"\")","v":"42295100"},"Surgical equipment and accessories and related products",null,null,null,"42295100","Surgical equipment and accessories and related products","42295100",11541,11541,11541,"42295100"]
[null,{"$f":"IFERROR(INDEX($G$7:$H$13233,$L11548,COLUMNS($B$6:B11547)),\"\")","v":"42295415"},"Surgical equipment covers",null,null,null,"42295415","Surgical equipment covers","42295415",11542,11542,11542,"42295415"]
[null,{"$f":"IFERROR(INDEX($G$7:$H$13233,$L11553,COLUMNS($B$6:B11552)),\"\")","v":"42292500"},"Surgical hammers and mallets and impactors and presses and related products",null,null,null,"42292500","Surgical hammers and mallets and impactors and presses and related products","42292500",11547,11547,11547,"42292500"]
[null,{"$f":"IFERROR(INDEX($G$7:$H$13233,$L11558,COLUMNS($B$6:B11557)),\"\")","v":"42295500"},"Surgical implants and expanders and extenders and surgical wires and related products",null,null,null,"42295500","Surgical implants and expanders and extenders and surgical wires and related products","42295500",11552,11552,11552,"42295500"]
[null,{"$f":"IFERROR(INDEX($G$7:$H$13233,$L11565,COLUMNS($B$6:B11564)),\"\")","v":"42293518"},"Surgical irrigation pump equipment or pulsed lavage with or without suction",null,null,null,"42293518","Surgical irrigation pump equipment or pulsed lavage with or without suction","42293518",11559,11559,11559,"42293518"]
[null,{"$f":"IFERROR(INDEX($G$7:$H$13233,$L11571,COLUMNS($B$6:B11570)),\"\")","v":"42295418"},"Surgical magnetic mats",null,null,null,"42295418","Surgical magnetic mats","42295418",11565,11565,11565,"42295418"]
[null,{"$f":"IFERROR(INDEX($G$7:$H$13233,$L11575,COLUMNS($B$6:B11574)),\"\")","v":"42295402"},"Surgical marking pens",null,null,null,"42295402","Surgical marking pens","42295402",11569,11569,11569,"42295402"]
[null,{"$f":"IFERROR(INDEX($G$7:$H$13233,$L11582,COLUMNS($B$6:B11581)),\"\")","v":"42295148"},"Surgical navigation systems",null,null,null,"42295148","Surgical navigation systems","42295148",11576,11576,11576,"42295148"]
[null,{"$f":"IFERROR(INDEX($G$7:$H$13233,$L11588,COLUMNS($B$6:B11587)),\"\")","v":"42295200"},"Surgical power equipment and accessories and related products",null,null,null,"42295200","Surgical power equipment and accessories and related products","42295200",11582,11582,11582,"42295200"]
[null,{"$f":"IFERROR(INDEX($G$7:$H$13233,$L11592,COLUMNS($B$6:B11591)),\"\")","v":"42295451"},"Surgical preparation mitts",null,null,null,"42295451","Surgical preparation mitts","42295451",11586,11586,11586,"42295451"]
[null,{"$f":"IFERROR(INDEX($G$7:$H$13233,$L11599,COLUMNS($B$6:B11598)),\"\")","v":"42296202"},"Surgical robotic dissection instruments",null,null,null,"42296202","Surgical robotic dissection instruments","42296202",11593,11593,11593,"42296202"]
[null,{"$f":"IFERROR(INDEX($G$7:$H$13233,$L11601,COLUMNS($B$6:B11600)),\"\")","v":"42296200"},"Surgical robotic equipment and accessories and related products",null,null,null,"42296200","Surgical robotic equipment and accessories and related products","42296200",11595,11595,11595,"42296200"]
[null,{"$f":"IFERROR(INDEX($G$7:$H$13233,$L11611,COLUMNS($B$6:B11610)),\"\")","v":"42291632"},"Surgical scalpel or knife or blade or trephine accessories",null,null,null,"42291632","Surgical scalpel or knife or blade or trephine accessories","42291632",11605,11605,11605,"42291632"]
[null,{"$f":"IFERROR(INDEX($G$7:$H$13233,$L11612,COLUMNS($B$6:B11611)),\"\")","v":"42291614"},"Surgical scissors",null,null,null,"42291614","Surgical scissors","42291614",11606,11606,11606,"42291614"]
[null,{"$f":"IFERROR(INDEX($G$7:$H$13233,$L11618,COLUMNS($B$6:B11617)),\"\")","v":"42293004"},"Surgical sizing instruments or templates",null,null,null,"42293004","Surgical sizing instruments or templates","42293004",11612,11612,11612,"42293004"]
[null,{"$f":"IFERROR(INDEX($G$7:$H$13233,$L11623,COLUMNS($B$6:B11622)),\"\")","v":"42295414"},"Surgical specialty procedure packs",null,null,null,"42295414","Surgical specialty procedure packs","42295414",11617,11617,11617,"42295414"]
[null,{"$f":"IFERROR(INDEX($G$7:$H$13233,$L11629,COLUMNS($B$6:B11628)),\"\")","v":"42295400"},"Surgical support supplies",null,null,null,"42295400","Surgical support supplies","42295400",11623,11623,11623,"42295400"]
[null,{"$f":"IFERROR(INDEX($G$7:$H$13233,$L11635,COLUMNS($B$6:B11634)),\"\")","v":"95141904"},"Surgical units",null,null,null,"95141904","Surgical units","95141904",11629,11629,11629,"95141904"]
[null,{"$f":"IFERROR(INDEX($G$7:$H$13233,$L11641,COLUMNS($B$6:B11640)),\"\")","v":"46171621"},"Surveillance video or audio recorders",null,null,null,"46171621","Surveillance video or audio recorders","46171621",11635,11635,11635,"46171621"]
[null,{"$f":"IFERROR(INDEX($G$7:$H$13233,$L11646,COLUMNS($B$6:B11645)),\"\")","v":"42312203"},"Suture buttons or bridges",null,null,null,"42312203","Suture buttons or bridges","42312203",11640,11640,11640,"42312203"]
[null,{"$f":"IFERROR(INDEX($G$7:$H$13233,$L11652,COLUMNS($B$6:B11651)),\"\")","v":"42312200"},"Sutures and related products",null,null,null,"42312200","Sutures and related products","42312200",11646,11646,11646,"42312200"]
[null,{"$f":"IFERROR(INDEX($G$7:$H$13233,$L11658,COLUMNS($B$6:B11657)),\"\")","v":"41115847"},"Sweat chloride iontophoresis analyzer",null,null,null,"41115847","Sweat chloride iontophoresis analyzer","41115847",11652,11652,11652,"41115847"]
[null,{"$f":"IFERROR(INDEX($G$7:$H$13233,$L11661,COLUMNS($B$6:B11660)),\"\")","v":"10151521"},"Sweet pepper seeds or seedlings",null,null,null,"10151521","Sweet pepper seeds or seedlings","10151521",11655,11655,11655,"10151521"]
[null,{"$f":"IFERROR(INDEX($G$7:$H$13233,$L11669,COLUMNS($B$6:B11668)),\"\")","v":"41113658"},"Switch durability tester",null,null,null,"41113658","Switch durability tester","41113658",11663,11663,11663,"41113658"]
[null,{"$f":"IFERROR(INDEX($G$7:$H$13233,$L11675,COLUMNS($B$6:B11674)),\"\")","v":"51391600"},"Sympathomimetic or adrenergic amines",null,null,null,"51391600","Sympathomimetic or adrenergic amines","51391600",11669,11669,11669,"51391600"]
[null,{"$f":"IFERROR(INDEX($G$7:$H$13233,$L11678,COLUMNS($B$6:B11677)),\"\")","v":"51393600"},"Sympathomimetic or adrenergic dibenzoxepins and dioxolanes and glycosides and guanidines",null,null,null,"51393600","Sympathomimetic or adrenergic dibenzoxepins and dioxolanes and glycosides and guanidines","51393600",11672,11672,11672,"51393600"]
[null,{"$f":"IFERROR(INDEX($G$7:$H$13233,$L11682,COLUMNS($B$6:B11681)),\"\")","v":"45111821"},"Synchronizing or sync generator",null,null,null,"45111821","Synchronizing or sync generator","45111821",11676,11676,11676,"45111821"]
[null,{"$f":"IFERROR(INDEX($G$7:$H$13233,$L11687,COLUMNS($B$6:B11686)),\"\")","v":"41106219"},"Synthetic complete supplement mixtures for yeast",null,null,null,"41106219","Synthetic complete supplement mixtures for yeast","41106219",11681,11681,11681,"41106219"]
[null,{"$f":"IFERROR(INDEX($G$7:$H$13233,$L11695,COLUMNS($B$6:B11694)),\"\")","v":"41104922"},"Syringe filters",null,null,null,"41104922","Syringe filters","41104922",11689,11689,11689,"41104922"]
[null,{"$f":"IFERROR(INDEX($G$7:$H$13233,$L11699,COLUMNS($B$6:B11698)),\"\")","v":"42142600"},"Syringes and accessories",null,null,null,"42142600","Syringes and accessories","42142600",11693,11693,11693,"42142600"]
[null,{"$f":"IFERROR(INDEX($G$7:$H$13233,$L11704,COLUMNS($B$6:B11703)),\"\")","v":"43201400"},"System Cards",null,null,null,"43201400","System Cards","43201400",11698,11698,11698,"43201400"]
[null,{"$f":"IFERROR(INDEX($G$7:$H$13233,$L11712,COLUMNS($B$6:B11711)),\"\")","v":"81111503"},"Systems integration design",null,null,null,"81111503","Systems integration design","81111503",11706,11706,11706,"81111503"]
[null,{"$f":"IFERROR(INDEX($G$7:$H$13233,$L11716,COLUMNS($B$6:B11715)),\"\")","v":"11171901"},"TA6V super alloy",null,null,null,"11171901","TA6V super alloy","11171901",11710,11710,11710,"11171901"]
[null,{"$f":"IFERROR(INDEX($G$7:$H$13233,$L11721,COLUMNS($B$6:B11720)),\"\")","v":"27113401"},"Table saw",null,null,null,"27113401","Table saw","27113401",11715,11715,11715,"27113401"]
[null,{"$f":"IFERROR(INDEX($G$7:$H$13233,$L11728,COLUMNS($B$6:B11727)),\"\")","v":"48101818"},"Tableware disinfector",null,null,null,"48101818","Tableware disinfector","48101818",11722,11722,11722,"48101818"]
[null,{"$f":"IFERROR(INDEX($G$7:$H$13233,$L11733,COLUMNS($B$6:B11732)),\"\")","v":"41112802"},"Tachometers",null,null,null,"41112802","Tachometers","41112802",11727,11727,11727,"41112802"]
[null,{"$f":"IFERROR(INDEX($G$7:$H$13233,$L11738,COLUMNS($B$6:B11737)),\"\")","v":"51172481"},"Taliglucerase alfa",null,null,null,"51172481","Taliglucerase alfa","51172481",11732,11732,11732,"51172481"]
[null,{"$f":"IFERROR(INDEX($G$7:$H$13233,$L11745,COLUMNS($B$6:B11744)),\"\")","v":"22101507"},"Tampers",null,null,null,"22101507","Tampers","22101507",11739,11739,11739,"22101507"]
[null,{"$f":"IFERROR(INDEX($G$7:$H$13233,$L11750,COLUMNS($B$6:B11749)),\"\")","v":"72154056"},"Tank maintenance or repair service",null,null,null,"72154056","Tank maintenance or repair service","72154056",11744,11744,11744,"72154056"]
[null,{"$f":"IFERROR(INDEX($G$7:$H$13233,$L11753,COLUMNS($B$6:B11752)),\"\")","v":"25102001"},"Tanks",null,null,null,"25102001","Tanks","25102001",11747,11747,11747,"25102001"]
[null,{"$f":"IFERROR(INDEX($G$7:$H$13233,$L11757,COLUMNS($B$6:B11756)),\"\")","v":"44102903"},"Tape cleaners",null,null,null,"44102903","Tape cleaners","44102903",11751,11751,11751,"44102903"]
[null,{"$f":"IFERROR(INDEX($G$7:$H$13233,$L11764,COLUMNS($B$6:B11763)),\"\")","v":"27111801"},"Tape measures",null,null,null,"27111801","Tape measures","27111801",11758,11758,11758,"27111801"]
[null,{"$f":"IFERROR(INDEX($G$7:$H$13233,$L11769,COLUMNS($B$6:B11768)),\"\")","v":"41113713"},"Tapespeed testers",null,null,null,"41113713","Tapespeed testers","41113713",11763,11763,11763,"41113713"]
[null,{"$f":"IFERROR(INDEX($G$7:$H$13233,$L11774,COLUMNS($B$6:B11773)),\"\")","v":"93161609"},"Tariff or duty",null,null,null,"93161609","Tariff or duty","93161609",11768,11768,11768,"93161609"]
[null,{"$f":"IFERROR(INDEX($G$7:$H$13233,$L11781,COLUMNS($B$6:B11780)),\"\")","v":"93151610"},"Tax collection services",null,null,null,"93151610","Tax collection services","93151610",11775,11775,11775,"93151610"]
[null,{"$f":"IFERROR(INDEX($G$7:$H$13233,$L11786,COLUMNS($B$6:B11785)),\"\")","v":"84111801"},"Tax preparers",null,null,null,"84111801","Tax preparers","84111801",11780,11780,11780,"84111801"]
[null,{"$f":"IFERROR(INDEX($G$7:$H$13233,$L11791,COLUMNS($B$6:B11790)),\"\")","v":"93160000"},"Taxation",null,null,null,"93160000","Taxation","93160000",11785,11785,11785,"93160000"]
[null,{"$f":"IFERROR(INDEX($G$7:$H$13233,$L11796,COLUMNS($B$6:B11795)),\"\")","v":"93161600"},"Taxes other than income tax",null,null,null,"93161600","Taxes other than income tax","93161600",11790,11790,11790,"93161600"]
[null,{"$f":"IFERROR(INDEX($G$7:$H$13233,$L11803,COLUMNS($B$6:B11802)),\"\")","v":"60101700"},"Teacher resource materials",null,null,null,"60101700","Teacher resource materials","60101700",11797,11797,11797,"60101700"]
[null,{"$f":"IFERROR(INDEX($G$7:$H$13233,$L11808,COLUMNS($B$6:B11807)),\"\")","v":"93142103"},"Technical cooperation services",null,null,null,"93142103","Technical cooperation services","93142103",11802,11802,11802,"93142103"]
[null,{"$f":"IFERROR(INDEX($G$7:$H$13233,$L11813,COLUMNS($B$6:B11812)),\"\")","v":"86121803"},"Technical professional schools",null,null,null,"86121803","Technical professional schools","86121803",11807,11807,11807,"86121803"]
[null,{"$f":"IFERROR(INDEX($G$7:$H$13233,$L11820,COLUMNS($B$6:B11819)),\"\")","v":"43221503"},"Telecom announcers",null,null,null,"43221503","Telecom announcers","43221503",11814,11814,11814,"43221503"]
[null,{"$f":"IFERROR(INDEX($G$7:$H$13233,$L11824,COLUMNS($B$6:B11823)),\"\")","v":"43222817"},"Telecommunication repeaters",null,null,null,"43222817","Telecommunication repeaters","43222817",11818,11818,11818,"43222817"]
[null,{"$f":"IFERROR(INDEX($G$7:$H$13233,$L11827,COLUMNS($B$6:B11826)),\"\")","v":"95101707"},"Telecommunication site",null,null,null,"95101707","Telecommunication site","95101707",11821,11821,11821,"95101707"]
[null,{"$f":"IFERROR(INDEX($G$7:$H$13233,$L11832,COLUMNS($B$6:B11831)),\"\")","v":"83110000"},"Telecommunications media services",null,null,null,"83110000","Telecommunications media services","83110000",11826,11826,11826,"83110000"]
[null,{"$f":"IFERROR(INDEX($G$7:$H$13233,$L11839,COLUMNS($B$6:B11838)),\"\")","v":"43222702"},"Telegraph electromagnets",null,null,null,"43222702","Telegraph electromagnets","43222702",11833,11833,11833,"43222702"]
[null,{"$f":"IFERROR(INDEX($G$7:$H$13233,$L11844,COLUMNS($B$6:B11843)),\"\")","v":"43222704"},"Telegraph switch board",null,null,null,"43222704","Telegraph switch board","43222704",11838,11838,11838,"43222704"]
[null,{"$f":"IFERROR(INDEX($G$7:$H$13233,$L11849,COLUMNS($B$6:B11848)),\"\")","v":"72141117"},"Telephone and communication cable laying service",null,null,null,"72141117","Telephone and communication cable laying service","72141117",11843,11843,11843,"72141117"]
[null,{"$f":"IFERROR(INDEX($G$7:$H$13233,$L11856,COLUMNS($B$6:B11855)),\"\")","v":"43222818"},"Telephone distributing terminal frame",null,null,null,"43222818","Telephone distributing terminal frame","43222818",11850,11850,11850,"43222818"]
[null,{"$f":"IFERROR(INDEX($G$7:$H$13233,$L11861,COLUMNS($B$6:B11860)),\"\")","v":"43222825"},"Telephone modification kits",null,null,null,"43222825","Telephone modification kits","43222825",11855,11855,11855,"43222825"]
[null,{"$f":"IFERROR(INDEX($G$7:$H$13233,$L11867,COLUMNS($B$6:B11866)),\"\")","v":"43222902"},"Telephony cable air dryers",null,null,null,"43222902","Telephony cable air dryers","43222902",11861,11861,11861,"43222902"]
[null,{"$f":"IFERROR(INDEX($G$7:$H$13233,$L11873,COLUMNS($B$6:B11872)),\"\")","v":"43222816"},"Telephony keyers",null,null,null,"43222816","Telephony keyers","43222816",11867,11867,11867,"43222816"]
[null,{"$f":"IFERROR(INDEX($G$7:$H$13233,$L11878,COLUMNS($B$6:B11877)),\"\")","v":"43223001"},"Teletype input devices",null,null,null,"43223001","Teletype input devices","43223001",11872,11872,11872,"43223001"]
[null,{"$f":"IFERROR(INDEX($G$7:$H$13233,$L11882,COLUMNS($B$6:B11881)),\"\")","v":"45111822"},"Television aspect ratio converter",null,null,null,"45111822","Television aspect ratio converter","45111822",11876,11876,11876,"45111822"]
[null,{"$f":"IFERROR(INDEX($G$7:$H$13233,$L11890,COLUMNS($B$6:B11889)),\"\")","v":"83111800"},"Television services",null,null,null,"83111800","Television services","83111800",11884,11884,11884,"83111800"]
[null,{"$f":"IFERROR(INDEX($G$7:$H$13233,$L11895,COLUMNS($B$6:B11894)),\"\")","v":"41111606"},"Tellurometers",null,null,null,"41111606","Tellurometers","41111606",11889,11889,11889,"41111606"]
[null,{"$f":"IFERROR(INDEX($G$7:$H$13233,$L11899,COLUMNS($B$6:B11898)),\"\")","v":"41112200"},"Temperature and heat measuring instruments",null,null,null,"41112200","Temperature and heat measuring instruments","41112200",11893,11893,11893,"41112200"]
[null,{"$f":"IFERROR(INDEX($G$7:$H$13233,$L11902,COLUMNS($B$6:B11901)),\"\")","v":"42272507"},"Temperature control for anesthesia apparatus",null,null,null,"42272507","Temperature control for anesthesia apparatus","42272507",11896,11896,11896,"42272507"]
[null,{"$f":"IFERROR(INDEX($G$7:$H$13233,$L11908,COLUMNS($B$6:B11907)),\"\")","v":"41114408"},"Temperature or humidity surface observing apparatus",null,null,null,"41114408","Temperature or humidity surface observing apparatus","41114408",11902,11902,11902,"41114408"]
[null,{"$f":"IFERROR(INDEX($G$7:$H$13233,$L11916,COLUMNS($B$6:B11915)),\"\")","v":"80111601"},"Temporary clerical or administrative assistance",null,null,null,"80111601","Temporary clerical or administrative assistance","80111601",11910,11910,11910,"80111601"]
[null,{"$f":"IFERROR(INDEX($G$7:$H$13233,$L11919,COLUMNS($B$6:B11918)),\"\")","v":"80111619"},"Temporary creative services",null,null,null,"80111619","Temporary creative services","80111619",11913,11913,11913,"80111619"]
[null,{"$f":"IFERROR(INDEX($G$7:$H$13233,$L11925,COLUMNS($B$6:B11924)),\"\")","v":"80111620"},"Temporary human resources services",null,null,null,"80111620","Temporary human resources services","80111620",11919,11919,11919,"80111620"]
[null,{"$f":"IFERROR(INDEX($G$7:$H$13233,$L11931,COLUMNS($B$6:B11930)),\"\")","v":"80111613"},"Temporary manual labor",null,null,null,"80111613","Temporary manual labor","80111613",11925,11925,11925,"80111613"]
[null,{"$f":"IFERROR(INDEX($G$7:$H$13233,$L11937,COLUMNS($B$6:B11936)),\"\")","v":"80111621"},"Temporary research and development services",null,null,null,"80111621","Temporary research and development services","80111621",11931,11931,11931,"80111621"]
[null,{"$f":"IFERROR(INDEX($G$7:$H$13233,$L11942,COLUMNS($B$6:B11941)),\"\")","v":"80111624"},"Temporary Travel Staffing",null,null,null,"80111624","Temporary Travel Staffing","80111624",11936,11936,11936,"80111624"]
[null,{"$f":"IFERROR(INDEX($G$7:$H$13233,$L11948,COLUMNS($B$6:B11947)),\"\")","v":"49181507"},"Tennis tables",null,null,null,"49181507","Tennis tables","49181507",11942,11942,11942,"49181507"]
[null,{"$f":"IFERROR(INDEX($G$7:$H$13233,$L11954,COLUMNS($B$6:B11953)),\"\")","v":"30241700"},"Tent and membrane structure framing and covering components",null,null,null,"30241700","Tent and membrane structure framing and covering components","30241700",11948,11948,11948,"30241700"]
[null,{"$f":"IFERROR(INDEX($G$7:$H$13233,$L11959,COLUMNS($B$6:B11958)),\"\")","v":"57060303"},"Tent, for office use",null,null,null,"57060303","Tent, for office use","57060303",11953,11953,11953,"57060303"]
[null,{"$f":"IFERROR(INDEX($G$7:$H$13233,$L11965,COLUMNS($B$6:B11964)),\"\")","v":"51203605"},"Teriflunomide",null,null,null,"51203605","Teriflunomide","51203605",11959,11959,11959,"51203605"]
[null,{"$f":"IFERROR(INDEX($G$7:$H$13233,$L11966,COLUMNS($B$6:B11965)),\"\")","v":"51182435"},"Teriparatide",null,null,null,"51182435","Teriparatide","51182435",11960,11960,11960,"51182435"]
[null,{"$f":"IFERROR(INDEX($G$7:$H$13233,$L11976,COLUMNS($B$6:B11975)),\"\")","v":"83112502"},"Terrestrial backbone capacities",null,null,null,"83112502","Terrestrial backbone capacities","83112502",11970,11970,11970,"83112502"]
[null,{"$f":"IFERROR(INDEX($G$7:$H$13233,$L11978,COLUMNS($B$6:B11977)),\"\")","v":"55101522"},"Terrestrial or celestial globes",null,null,null,"55101522","Terrestrial or celestial globes","55101522",11972,11972,11972,"55101522"]
[null,{"$f":"IFERROR(INDEX($G$7:$H$13233,$L11985,COLUMNS($B$6:B11984)),\"\")","v":"14121510"},"Test liner paperboard",null,null,null,"14121510","Test liner paperboard","14121510",11979,11979,11979,"14121510"]
[null,{"$f":"IFERROR(INDEX($G$7:$H$13233,$L11989,COLUMNS($B$6:B11988)),\"\")","v":"41121700"},"Test Tubes",null,null,null,"41121700","Test Tubes","41121700",11983,11983,11983,"41121700"]
[null,{"$f":"IFERROR(INDEX($G$7:$H$13233,$L11995,COLUMNS($B$6:B11994)),\"\")","v":"51284000"},"Tetracyclines",null,null,null,"51284000","Tetracyclines","51284000",11989,11989,11989,"51284000"]
[null,{"$f":"IFERROR(INDEX($G$7:$H$13233,$L12002,COLUMNS($B$6:B12001)),\"\")","v":"23121600"},"Textile working machinery and equipment and accessories",null,null,null,"23121600","Textile working machinery and equipment and accessories","23121600",11996,11996,11996,"23121600"]
[null,{"$f":"IFERROR(INDEX($G$7:$H$13233,$L12006,COLUMNS($B$6:B12005)),\"\")","v":"72154033"},"Theatrical prop or set or scenery construction erection and repair service",null,null,null,"72154033","Theatrical prop or set or scenery construction erection and repair service","72154033",12000,12000,12000,"72154033"]
[null,{"$f":"IFERROR(INDEX($G$7:$H$13233,$L12012,COLUMNS($B$6:B12011)),\"\")","v":"42251506"},"Therapeutic decorating boxes",null,null,null,"42251506","Therapeutic decorating boxes","42251506",12006,12006,12006,"42251506"]
[null,{"$f":"IFERROR(INDEX($G$7:$H$13233,$L12019,COLUMNS($B$6:B12018)),\"\")","v":"42142114"},"Therapeutic hot or cold therapy pants",null,null,null,"42142114","Therapeutic hot or cold therapy pants","42142114",12013,12013,12013,"42142114"]
[null,{"$f":"IFERROR(INDEX($G$7:$H$13233,$L12024,COLUMNS($B$6:B12023)),\"\")","v":"42142112"},"Therapeutic paraffin baths",null,null,null,"42142112","Therapeutic paraffin baths","42142112",12018,12018,12018,"42142112"]
[null,{"$f":"IFERROR(INDEX($G$7:$H$13233,$L12029,COLUMNS($B$6:B12028)),\"\")","v":"44102802"},"Thermal binding machine",null,null,null,"44102802","Thermal binding machine","44102802",12023,12023,12023,"44102802"]
[null,{"$f":"IFERROR(INDEX($G$7:$H$13233,$L12030,COLUMNS($B$6:B12029)),\"\")","v":"45101808"},"Thermal book binding machines",null,null,null,"45101808","Thermal book binding machines","45101808",12024,12024,12024,"45101808"]
[null,{"$f":"IFERROR(INDEX($G$7:$H$13233,$L12036,COLUMNS($B$6:B12035)),\"\")","v":"44101509"},"Thermal fax machine",null,null,null,"44101509","Thermal fax machine","44101509",12030,12030,12030,"44101509"]
[null,{"$f":"IFERROR(INDEX($G$7:$H$13233,$L12045,COLUMNS($B$6:B12044)),\"\")","v":"45101512"},"Thermal transfer printer for commercial printing applications",null,null,null,"45101512","Thermal transfer printer for commercial printing applications","45101512",12039,12039,12039,"45101512"]
[null,{"$f":"IFERROR(INDEX($G$7:$H$13233,$L12048,COLUMNS($B$6:B12047)),\"\")","v":"41113605"},"Thermoanalysis derivatographs",null,null,null,"41113605","Thermoanalysis derivatographs","41113605",12042,12042,12042,"41113605"]
[null,{"$f":"IFERROR(INDEX($G$7:$H$13233,$L12053,COLUMNS($B$6:B12052)),\"\")","v":"41111521"},"Thermogravimeter",null,null,null,"41111521","Thermogravimeter","41111521",12047,12047,12047,"41111521"]
[null,{"$f":"IFERROR(INDEX($G$7:$H$13233,$L12062,COLUMNS($B$6:B12061)),\"\")","v":"41112209"},"Thermostats",null,null,null,"41112209","Thermostats","41112209",12056,12056,12056,"41112209"]
[null,{"$f":"IFERROR(INDEX($G$7:$H$13233,$L12065,COLUMNS($B$6:B12064)),\"\")","v":"51453501"},"Thiabendazole or tiabendazole",null,null,null,"51453501","Thiabendazole or tiabendazole","51453501",12059,12059,12059,"51453501"]
[null,{"$f":"IFERROR(INDEX($G$7:$H$13233,$L12070,COLUMNS($B$6:B12069)),\"\")","v":"51272006"},"Thiopental sodium",null,null,null,"51272006","Thiopental sodium","51272006",12064,12064,12064,"51272006"]
[null,{"$f":"IFERROR(INDEX($G$7:$H$13233,$L12073,COLUMNS($B$6:B12072)),\"\")","v":"42142536"},"Thoracentesis or paracentesis needles and catheters",null,null,null,"42142536","Thoracentesis or paracentesis needles and catheters","42142536",12067,12067,12067,"42142536"]
[null,{"$f":"IFERROR(INDEX($G$7:$H$13233,$L12082,COLUMNS($B$6:B12081)),\"\")","v":"11151600"},"Threads",null,null,null,"11151600","Threads","11151600",12076,12076,12076,"11151600"]
[null,{"$f":"IFERROR(INDEX($G$7:$H$13233,$L12088,COLUMNS($B$6:B12087)),\"\")","v":"51181600"},"Thyroid and antithyroid drugs",null,null,null,"51181600","Thyroid and antithyroid drugs","51181600",12082,12082,12082,"51181600"]
[null,{"$f":"IFERROR(INDEX($G$7:$H$13233,$L12094,COLUMNS($B$6:B12093)),\"\")","v":"85111701"},"Ticks management or control services",null,null,null,"85111701","Ticks management or control services","85111701",12088,12088,12088,"85111701"]
[null,{"$f":"IFERROR(INDEX($G$7:$H$13233,$L12099,COLUMNS($B$6:B12098)),\"\")","v":"41111935"},"Tilt sensors",null,null,null,"41111935","Tilt sensors","41111935",12093,12093,12093,"41111935"]
[null,{"$f":"IFERROR(INDEX($G$7:$H$13233,$L12105,COLUMNS($B$6:B12104)),\"\")","v":"44103203"},"Time card machine replacement ribbon",null,null,null,"44103203","Time card machine replacement ribbon","44103203",12099,12099,12099,"44103203"]
[null,{"$f":"IFERROR(INDEX($G$7:$H$13233,$L12106,COLUMNS($B$6:B12105)),\"\")","v":"44103201"},"Time card machines",null,null,null,"44103201","Time card machines","44103201",12100,12100,12100,"44103201"]
[null,{"$f":"IFERROR(INDEX($G$7:$H$13233,$L12111,COLUMNS($B$6:B12110)),\"\")","v":"60105304"},"Time management skills instructional materials",null,null,null,"60105304","Time management skills instructional materials","60105304",12105,12105,12105,"60105304"]
[null,{"$f":"IFERROR(INDEX($G$7:$H$13233,$L12120,COLUMNS($B$6:B12119)),\"\")","v":"51161524"},"Tiotropium",null,null,null,"51161524","Tiotropium","51161524",12114,12114,12114,"51161524"]
[null,{"$f":"IFERROR(INDEX($G$7:$H$13233,$L12123,COLUMNS($B$6:B12122)),\"\")","v":"41111649"},"Tire depth gauge",null,null,null,"41111649","Tire depth gauge","41111649",12117,12117,12117,"41111649"]
[null,{"$f":"IFERROR(INDEX($G$7:$H$13233,$L12128,COLUMNS($B$6:B12127)),\"\")","v":"51431507"},"Tirofiban hydrochloride",null,null,null,"51431507","Tirofiban hydrochloride","51431507",12122,12122,12122,"51431507"]
[null,{"$f":"IFERROR(INDEX($G$7:$H$13233,$L12137,COLUMNS($B$6:B12136)),\"\")","v":"41103819"},"Tissue culture roller drum",null,null,null,"41103819","Tissue culture roller drum","41103819",12131,12131,12131,"41103819"]
[null,{"$f":"IFERROR(INDEX($G$7:$H$13233,$L12140,COLUMNS($B$6:B12139)),\"\")","v":"42295461"},"Tissue glues or systems or applicators",null,null,null,"42295461","Tissue glues or systems or applicators","42295461",12134,12134,12134,"42295461"]
[null,{"$f":"IFERROR(INDEX($G$7:$H$13233,$L12148,COLUMNS($B$6:B12147)),\"\")","v":"41115602"},"Titration equipment",null,null,null,"41115602","Titration equipment","41115602",12142,12142,12142,"41115602"]
[null,{"$f":"IFERROR(INDEX($G$7:$H$13233,$L12152,COLUMNS($B$6:B12151)),\"\")","v":"51201576"},"Tofacitinib",null,null,null,"51201576","Tofacitinib","51201576",12146,12146,12146,"51201576"]
[null,{"$f":"IFERROR(INDEX($G$7:$H$13233,$L12157,COLUMNS($B$6:B12156)),\"\")","v":"14111702"},"Toilet seat covers",null,null,null,"14111702","Toilet seat covers","14111702",12151,12151,12151,"14111702"]
[null,{"$f":"IFERROR(INDEX($G$7:$H$13233,$L12163,COLUMNS($B$6:B12162)),\"\")","v":"30181505"},"Toilets",null,null,null,"30181505","Toilets","30181505",12157,12157,12157,"30181505"]
[null,{"$f":"IFERROR(INDEX($G$7:$H$13233,$L12169,COLUMNS($B$6:B12168)),\"\")","v":"10151518"},"Tomato seeds or seedlings",null,null,null,"10151518","Tomato seeds or seedlings","10151518",12163,12163,12163,"10151518"]
[null,{"$f":"IFERROR(INDEX($G$7:$H$13233,$L12174,COLUMNS($B$6:B12173)),\"\")","v":"24113106"},"Tool box",null,null,null,"24113106","Tool box","24113106",12168,12168,12168,"24113106"]
[null,{"$f":"IFERROR(INDEX($G$7:$H$13233,$L12180,COLUMNS($B$6:B12179)),\"\")","v":"30181611"},"Toothbrush or tumbler holder",null,null,null,"30181611","Toothbrush or tumbler holder","30181611",12174,12174,12174,"30181611"]
[null,{"$f":"IFERROR(INDEX($G$7:$H$13233,$L12181,COLUMNS($B$6:B12180)),\"\")","v":"53131503"},"Toothbrushes",null,null,null,"53131503","Toothbrushes","53131503",12175,12175,12175,"53131503"]
[null,{"$f":"IFERROR(INDEX($G$7:$H$13233,$L12186,COLUMNS($B$6:B12185)),\"\")","v":"51141528"},"Topiramate",null,null,null,"51141528","Topiramate","51141528",12180,12180,12180,"51141528"]
[null,{"$f":"IFERROR(INDEX($G$7:$H$13233,$L12191,COLUMNS($B$6:B12190)),\"\")","v":"41105518"},"Total ribonucleic acid RNA purification kits",null,null,null,"41105518","Total ribonucleic acid RNA purification kits","41105518",12185,12185,12185,"41105518"]
[null,{"$f":"IFERROR(INDEX($G$7:$H$13233,$L12198,COLUMNS($B$6:B12197)),\"\")","v":"86101702"},"Tourism related training",null,null,null,"86101702","Tourism related training","86101702",12192,12192,12192,"86101702"]
[null,{"$f":"IFERROR(INDEX($G$7:$H$13233,$L12206,COLUMNS($B$6:B12205)),\"\")","v":"76130000"},"Toxic and hazardous waste cleanup",null,null,null,"76130000","Toxic and hazardous waste cleanup","76130000",12200,12200,12200,"76130000"]
[null,{"$f":"IFERROR(INDEX($G$7:$H$13233,$L12210,COLUMNS($B$6:B12209)),\"\")","v":"46191509"},"Toxic vapor detector",null,null,null,"46191509","Toxic vapor detector","46191509",12204,12204,12204,"46191509"]
[null,{"$f":"IFERROR(INDEX($G$7:$H$13233,$L12215,COLUMNS($B$6:B12214)),\"\")","v":"41116146"},"Toxicology test kits or supplies",null,null,null,"41116146","Toxicology test kits or supplies","41116146",12209,12209,12209,"41116146"]
[null,{"$f":"IFERROR(INDEX($G$7:$H$13233,$L12223,COLUMNS($B$6:B12222)),\"\")","v":"22101522"},"Track bulldozers",null,null,null,"22101522","Track bulldozers","22101522",12217,12217,12217,"22101522"]
[null,{"$f":"IFERROR(INDEX($G$7:$H$13233,$L12227,COLUMNS($B$6:B12226)),\"\")","v":"42241511"},"Traction splint sets",null,null,null,"42241511","Traction splint sets","42241511",12221,12221,12221,"42241511"]
[null,{"$f":"IFERROR(INDEX($G$7:$H$13233,$L12233,COLUMNS($B$6:B12232)),\"\")","v":"80151502"},"Trade expansion",null,null,null,"80151502","Trade expansion","80151502",12227,12227,12227,"80151502"]
[null,{"$f":"IFERROR(INDEX($G$7:$H$13233,$L12234,COLUMNS($B$6:B12233)),\"\")","v":"80151500"},"Trade facilitation",null,null,null,"80151500","Trade facilitation","80151500",12228,12228,12228,"80151500"]
[null,{"$f":"IFERROR(INDEX($G$7:$H$13233,$L12244,COLUMNS($B$6:B12243)),\"\")","v":"55101513"},"Trading cards",null,null,null,"55101513","Trading cards","55101513",12238,12238,12238,"55101513"]
[null,{"$f":"IFERROR(INDEX($G$7:$H$13233,$L12249,COLUMNS($B$6:B12248)),\"\")","v":"55121710"},"Traffic signs",null,null,null,"55121710","Traffic signs","55121710",12243,12243,12243,"55121710"]
[null,{"$f":"IFERROR(INDEX($G$7:$H$13233,$L12251,COLUMNS($B$6:B12250)),\"\")","v":"25181720"},"Trailer and semi-trailer parts",null,null,null,"25181720","Trailer and semi-trailer parts","25181720",12245,12245,12245,"25181720"]
[null,{"$f":"IFERROR(INDEX($G$7:$H$13233,$L12256,COLUMNS($B$6:B12255)),\"\")","v":"25101907"},"Trailer, travel or caravan",null,null,null,"25101907","Trailer, travel or caravan","25101907",12250,12250,12250,"25101907"]
[null,{"$f":"IFERROR(INDEX($G$7:$H$13233,$L12266,COLUMNS($B$6:B12265)),\"\")","v":"86101407"},"Training - Communications Systems ",null,null,null,"86101407","Training - Communications Systems ","86101407",12260,12260,12260,"86101407"]
[null,{"$f":"IFERROR(INDEX($G$7:$H$13233,$L12268,COLUMNS($B$6:B12267)),\"\")","v":"86101413"},"Training - Flight Inspection ",null,null,null,"86101413","Training - Flight Inspection ","86101413",12262,12262,12262,"86101413"]
[null,{"$f":"IFERROR(INDEX($G$7:$H$13233,$L12274,COLUMNS($B$6:B12273)),\"\")","v":"86101406"},"Training - Satellite Navigation Equipment ",null,null,null,"86101406","Training - Satellite Navigation Equipment ","86101406",12268,12268,12268,"86101406"]
[null,{"$f":"IFERROR(INDEX($G$7:$H$13233,$L12277,COLUMNS($B$6:B12276)),\"\")","v":"86101409"},"Training Course - Flight ",null,null,null,"86101409","Training Course - Flight ","86101409",12271,12271,12271,"86101409"]
[null,{"$f":"IFERROR(INDEX($G$7:$H$13233,$L12285,COLUMNS($B$6:B12284)),\"\")","v":"25111533"},"Training ship",null,null,null,"25111533","Training ship","25111533",12279,12279,12279,"25111533"]
[null,{"$f":"IFERROR(INDEX($G$7:$H$13233,$L12291,COLUMNS($B$6:B12290)),\"\")","v":"51371604"},"Tramadol hydrochloride",null,null,null,"51371604","Tramadol hydrochloride","51371604",12285,12285,12285,"51371604"]
[null,{"$f":"IFERROR(INDEX($G$7:$H$13233,$L12294,COLUMNS($B$6:B12293)),\"\")","v":"51400000"},"Tranquilizers and antimanic and antianxiety drugs",null,null,null,"51400000","Tranquilizers and antimanic and antianxiety drugs","51400000",12288,12288,12288,"51400000"]
[null,{"$f":"IFERROR(INDEX($G$7:$H$13233,$L12302,COLUMNS($B$6:B12301)),\"\")","v":"41105803"},"Transcription or translation systems or kits",null,null,null,"41105803","Transcription or translation systems or kits","41105803",12296,12296,12296,"41105803"]
[null,{"$f":"IFERROR(INDEX($G$7:$H$13233,$L12309,COLUMNS($B$6:B12308)),\"\")","v":"41113663"},"Transformer tester",null,null,null,"41113663","Transformer tester","41113663",12303,12303,12303,"41113663"]
[null,{"$f":"IFERROR(INDEX($G$7:$H$13233,$L12314,COLUMNS($B$6:B12313)),\"\")","v":"41111721"},"Transmission electron microscopes",null,null,null,"41111721","Transmission electron microscopes","41111721",12308,12308,12308,"41111721"]
[null,{"$f":"IFERROR(INDEX($G$7:$H$13233,$L12315,COLUMNS($B$6:B12314)),\"\")","v":"41111761"},"Transmission electron microscopy TEM grid or support film",null,null,null,"41111761","Transmission electron microscopy TEM grid or support film","41111761",12309,12309,12309,"41111761"]
[null,{"$f":"IFERROR(INDEX($G$7:$H$13233,$L12320,COLUMNS($B$6:B12319)),\"\")","v":"45111605"},"Transparency equipment or supplies",null,null,null,"45111605","Transparency equipment or supplies","45111605",12314,12314,12314,"45111605"]
[null,{"$f":"IFERROR(INDEX($G$7:$H$13233,$L12326,COLUMNS($B$6:B12325)),\"\")","v":"41115856"},"Transplant diagnostics analyzer accessories",null,null,null,"41115856","Transplant diagnostics analyzer accessories","41115856",12320,12320,12320,"41115856"]
[null,{"$f":"IFERROR(INDEX($G$7:$H$13233,$L12332,COLUMNS($B$6:B12331)),\"\")","v":"78142000"},"Transport conveyance rental or lease services",null,null,null,"78142000","Transport conveyance rental or lease services","78142000",12326,12326,12326,"78142000"]
[null,{"$f":"IFERROR(INDEX($G$7:$H$13233,$L12337,COLUMNS($B$6:B12336)),\"\")","v":"81141606"},"Transport planning",null,null,null,"81141606","Transport planning","81141606",12331,12331,12331,"81141606"]
[null,{"$f":"IFERROR(INDEX($G$7:$H$13233,$L12344,COLUMNS($B$6:B12343)),\"\")","v":"78141503"},"Transportation industry tariff comparison or freight audit services",null,null,null,"78141503","Transportation industry tariff comparison or freight audit services","78141503",12338,12338,12338,"78141503"]
[null,{"$f":"IFERROR(INDEX($G$7:$H$13233,$L12349,COLUMNS($B$6:B12348)),\"\")","v":"78181702"},"Transportation storage service",null,null,null,"78181702","Transportation storage service","78181702",12343,12343,12343,"78181702"]
[null,{"$f":"IFERROR(INDEX($G$7:$H$13233,$L12354,COLUMNS($B$6:B12353)),\"\")","v":"51111717"},"Trastuzumab",null,null,null,"51111717","Trastuzumab","51111717",12348,12348,12348,"51111717"]
[null,{"$f":"IFERROR(INDEX($G$7:$H$13233,$L12361,COLUMNS($B$6:B12360)),\"\")","v":"43211734"},"Travel Document Reading Equipment",null,null,null,"43211734","Travel Document Reading Equipment","43211734",12355,12355,12355,"43211734"]
[null,{"$f":"IFERROR(INDEX($G$7:$H$13233,$L12363,COLUMNS($B$6:B12362)),\"\")","v":"84131517"},"Travel insurance",null,null,null,"84131517","Travel insurance","84131517",12357,12357,12357,"84131517"]
[null,{"$f":"IFERROR(INDEX($G$7:$H$13233,$L12372,COLUMNS($B$6:B12371)),\"\")","v":"40151585"},"Treadle pumps",null,null,null,"40151585","Treadle pumps","40151585",12366,12366,12366,"40151585"]
[null,{"$f":"IFERROR(INDEX($G$7:$H$13233,$L12378,COLUMNS($B$6:B12377)),\"\")","v":"70142008"},"Tree nut crops market preparation services",null,null,null,"70142008","Tree nut crops market preparation services","70142008",12372,12372,12372,"70142008"]
[null,{"$f":"IFERROR(INDEX($G$7:$H$13233,$L12380,COLUMNS($B$6:B12379)),\"\")","v":"70111503"},"Tree trimming services",null,null,null,"70111503","Tree trimming services","70111503",12374,12374,12374,"70111503"]
[null,{"$f":"IFERROR(INDEX($G$7:$H$13233,$L12385,COLUMNS($B$6:B12384)),\"\")","v":"72141509"},"Trenching service",null,null,null,"72141509","Trenching service","72141509",12379,12379,12379,"72141509"]
[null,{"$f":"IFERROR(INDEX($G$7:$H$13233,$L12390,COLUMNS($B$6:B12389)),\"\")","v":"51332880"},"Trifluoperazine hydrochloride",null,null,null,"51332880","Trifluoperazine hydrochloride","51332880",12384,12384,12384,"51332880"]
[null,{"$f":"IFERROR(INDEX($G$7:$H$13233,$L12397,COLUMNS($B$6:B12396)),\"\")","v":"24101706"},"Trolleys or accessories",null,null,null,"24101706","Trolleys or accessories","24101706",12391,12391,12391,"24101706"]
[null,{"$f":"IFERROR(INDEX($G$7:$H$13233,$L12402,COLUMNS($B$6:B12401)),\"\")","v":"72121007"},"Truck and automobile assembly plant constructionand remodeling service",null,null,null,"72121007","Truck and automobile assembly plant constructionand remodeling service","72121007",12396,12396,12396,"72121007"]
[null,{"$f":"IFERROR(INDEX($G$7:$H$13233,$L12406,COLUMNS($B$6:B12405)),\"\")","v":"60131101"},"Trumpets",null,null,null,"60131101","Trumpets","60131101",12400,12400,12400,"60131101"]
[null,{"$f":"IFERROR(INDEX($G$7:$H$13233,$L12414,COLUMNS($B$6:B12413)),\"\")","v":"10152400"},"Tuber seeds and seedlings",null,null,null,"10152400","Tuber seeds and seedlings","10152400",12408,12408,12408,"10152400"]
[null,{"$f":"IFERROR(INDEX($G$7:$H$13233,$L12419,COLUMNS($B$6:B12418)),\"\")","v":"25111506"},"Tug boats",null,null,null,"25111506","Tug boats","25111506",12413,12413,12413,"25111506"]
[null,{"$f":"IFERROR(INDEX($G$7:$H$13233,$L12423,COLUMNS($B$6:B12422)),\"\")","v":"60131504"},"Tuning pins",null,null,null,"60131504","Tuning pins","60131504",12417,12417,12417,"60131504"]
[null,{"$f":"IFERROR(INDEX($G$7:$H$13233,$L12431,COLUMNS($B$6:B12430)),\"\")","v":"22101519"},"Twin engine open bowl scrapers",null,null,null,"22101519","Twin engine open bowl scrapers","22101519",12425,12425,12425,"22101519"]
[null,{"$f":"IFERROR(INDEX($G$7:$H$13233,$L12436,COLUMNS($B$6:B12435)),\"\")","v":"14121905"},"Tympan papers",null,null,null,"14121905","Tympan papers","14121905",12430,12430,12430,"14121905"]
[null,{"$f":"IFERROR(INDEX($G$7:$H$13233,$L12440,COLUMNS($B$6:B12439)),\"\")","v":"44102610"},"Typewriter starter kits",null,null,null,"44102610","Typewriter starter kits","44102610",12434,12434,12434,"44102610"]
[null,{"$f":"IFERROR(INDEX($G$7:$H$13233,$L12448,COLUMNS($B$6:B12447)),\"\")","v":"51351912"},"Ulipristal acetate",null,null,null,"51351912","Ulipristal acetate","51351912",12442,12442,12442,"51351912"]
[null,{"$f":"IFERROR(INDEX($G$7:$H$13233,$L12453,COLUMNS($B$6:B12452)),\"\")","v":"41104903"},"Ultra filtration equipment",null,null,null,"41104903","Ultra filtration equipment","41104903",12447,12447,12447,"41104903"]
[null,{"$f":"IFERROR(INDEX($G$7:$H$13233,$L12455,COLUMNS($B$6:B12454)),\"\")","v":"41104206"},"Ultra pure water systems",null,null,null,"41104206","Ultra pure water systems","41104206",12449,12449,12449,"41104206"]
[null,{"$f":"IFERROR(INDEX($G$7:$H$13233,$L12460,COLUMNS($B$6:B12459)),\"\")","v":"42221903"},"Ultrasonic blood flow detectors",null,null,null,"42221903","Ultrasonic blood flow detectors","42221903",12454,12454,12454,"42221903"]
[null,{"$f":"IFERROR(INDEX($G$7:$H$13233,$L12466,COLUMNS($B$6:B12465)),\"\")","v":"41105316"},"Ultraviolet crosslinkers",null,null,null,"41105316","Ultraviolet crosslinkers","41105316",12460,12460,12460,"41105316"]
[null,{"$f":"IFERROR(INDEX($G$7:$H$13233,$L12472,COLUMNS($B$6:B12471)),\"\")","v":"41104133"},"Umbilical cord blood collector",null,null,null,"41104133","Umbilical cord blood collector","41104133",12466,12466,12466,"41104133"]
[null,{"$f":"IFERROR(INDEX($G$7:$H$13233,$L12477,COLUMNS($B$6:B12476)),\"\")","v":"14122100"},"Uncoated base papers",null,null,null,"14122100","Uncoated base papers","14122100",12471,12471,12471,"14122100"]
[null,{"$f":"IFERROR(INDEX($G$7:$H$13233,$L12483,COLUMNS($B$6:B12482)),\"\")","v":"20102307"},"Underground mining service vehicle spare parts or accessories",null,null,null,"20102307","Underground mining service vehicle spare parts or accessories","20102307",12477,12477,12477,"20102307"]
[null,{"$f":"IFERROR(INDEX($G$7:$H$13233,$L12489,COLUMNS($B$6:B12488)),\"\")","v":"95121608"},"Underground railway station",null,null,null,"95121608","Underground railway station","95121608",12483,12483,12483,"95121608"]
[null,{"$f":"IFERROR(INDEX($G$7:$H$13233,$L12494,COLUMNS($B$6:B12493)),\"\")","v":"45121512"},"Underwater cameras",null,null,null,"45121512","Underwater cameras","45121512",12488,12488,12488,"45121512"]
[null,{"$f":"IFERROR(INDEX($G$7:$H$13233,$L12498,COLUMNS($B$6:B12497)),\"\")","v":"41113829"},"Underwater soil picking equipment",null,null,null,"41113829","Underwater soil picking equipment","41113829",12492,12492,12492,"41113829"]
[null,{"$f":"IFERROR(INDEX($G$7:$H$13233,$L12506,COLUMNS($B$6:B12505)),\"\")","v":"50501715"},"Unimix (WFP food convention)",null,null,null,"50501715","Unimix (WFP food convention)","50501715",12500,12500,12500,"50501715"]
[null,{"$f":"IFERROR(INDEX($G$7:$H$13233,$L12511,COLUMNS($B$6:B12510)),\"\")","v":"53103005"},"Unisex tshirts",null,null,null,"53103005","Unisex tshirts","53103005",12505,12505,12505,"53103005"]
[null,{"$f":"IFERROR(INDEX($G$7:$H$13233,$L12515,COLUMNS($B$6:B12514)),\"\")","v":"41121607"},"Universal pipette tips",null,null,null,"41121607","Universal pipette tips","41121607",12509,12509,12509,"41121607"]
[null,{"$f":"IFERROR(INDEX($G$7:$H$13233,$L12523,COLUMNS($B$6:B12522)),\"\")","v":"30111607"},"Unslaked lime",null,null,null,"30111607","Unslaked lime","30111607",12517,12517,12517,"30111607"]
[null,{"$f":"IFERROR(INDEX($G$7:$H$13233,$L12524,COLUMNS($B$6:B12523)),\"\")","v":"24111515"},"Unwoven fabric bag",null,null,null,"24111515","Unwoven fabric bag","24111515",12518,12518,12518,"24111515"]
[null,{"$f":"IFERROR(INDEX($G$7:$H$13233,$L12530,COLUMNS($B$6:B12529)),\"\")","v":"93142008"},"Urban community services",null,null,null,"93142008","Urban community services","93142008",12524,12524,12524,"93142008"]
[null,{"$f":"IFERROR(INDEX($G$7:$H$13233,$L12535,COLUMNS($B$6:B12534)),\"\")","v":"77101601"},"Urban environmental development planning",null,null,null,"77101601","Urban environmental development planning","77101601",12529,12529,12529,"77101601"]
[null,{"$f":"IFERROR(INDEX($G$7:$H$13233,$L12541,COLUMNS($B$6:B12540)),\"\")","v":"10171507"},"Urea fertilizer",null,null,null,"10171507","Urea fertilizer","10171507",12535,12535,12535,"10171507"]
[null,{"$f":"IFERROR(INDEX($G$7:$H$13233,$L12547,COLUMNS($B$6:B12546)),\"\")","v":"41115828"},"Urinalysis analyzer accessories or supplies",null,null,null,"41115828","Urinalysis analyzer accessories or supplies","41115828",12541,12541,12541,"41115828"]
[null,{"$f":"IFERROR(INDEX($G$7:$H$13233,$L12552,COLUMNS($B$6:B12551)),\"\")","v":"41116137"},"Urinalysis reagents or solutions or stains",null,null,null,"41116137","Urinalysis reagents or solutions or stains","41116137",12546,12546,12546,"41116137"]
[null,{"$f":"IFERROR(INDEX($G$7:$H$13233,$L12558,COLUMNS($B$6:B12557)),\"\")","v":"42142705"},"Urinary drainage bag straps or fasteners",null,null,null,"42142705","Urinary drainage bag straps or fasteners","42142705",12552,12552,12552,"42142705"]
[null,{"$f":"IFERROR(INDEX($G$7:$H$13233,$L12564,COLUMNS($B$6:B12563)),\"\")","v":"41104132"},"Urine strainer for renal calculi",null,null,null,"41104132","Urine strainer for renal calculi","41104132",12558,12558,12558,"41104132"]
[null,{"$f":"IFERROR(INDEX($G$7:$H$13233,$L12567,COLUMNS($B$6:B12566)),\"\")","v":"42295462"},"Urodynamic catheters or accessories",null,null,null,"42295462","Urodynamic catheters or accessories","42295462",12561,12561,12561,"42295462"]
[null,{"$f":"IFERROR(INDEX($G$7:$H$13233,$L12576,COLUMNS($B$6:B12575)),\"\")","v":"42142736"},"Urological surgical catheters",null,null,null,"42142736","Urological surgical catheters","42142736",12570,12570,12570,"42142736"]
[null,{"$f":"IFERROR(INDEX($G$7:$H$13233,$L12581,COLUMNS($B$6:B12580)),\"\")","v":"42143102"},"Uterine devices",null,null,null,"42143102","Uterine devices","42143102",12575,12575,12575,"42143102"]
[null,{"$f":"IFERROR(INDEX($G$7:$H$13233,$L12584,COLUMNS($B$6:B12583)),\"\")","v":"43233400"},"Utility and device driver software",null,null,null,"43233400","Utility and device driver software","43233400",12578,12578,12578,"43233400"]
[null,{"$f":"IFERROR(INDEX($G$7:$H$13233,$L12593,COLUMNS($B$6:B12592)),\"\")","v":"41103908"},"Vacuum centrifuges",null,null,null,"41103908","Vacuum centrifuges","41103908",12587,12587,12587,"41103908"]
[null,{"$f":"IFERROR(INDEX($G$7:$H$13233,$L12594,COLUMNS($B$6:B12593)),\"\")","v":"47121602"},"Vacuum cleaners",null,null,null,"47121602","Vacuum cleaners","47121602",12588,12588,12588,"47121602"]
[null,{"$f":"IFERROR(INDEX($G$7:$H$13233,$L12601,COLUMNS($B$6:B12600)),\"\")","v":"41104509"},"Vacuum ovens",null,null,null,"41104509","Vacuum ovens","41104509",12595,12595,12595,"41104509"]
[null,{"$f":"IFERROR(INDEX($G$7:$H$13233,$L12605,COLUMNS($B$6:B12604)),\"\")","v":"51342310"},"Valacyclovir hydrochloride",null,null,null,"51342310","Valacyclovir hydrochloride","51342310",12599,12599,12599,"51342310"]
[null,{"$f":"IFERROR(INDEX($G$7:$H$13233,$L12611,COLUMNS($B$6:B12610)),\"\")","v":"84141702"},"Value added network VAN services",null,null,null,"84141702","Value added network VAN services","84141702",12605,12605,12605,"84141702"]
[null,{"$f":"IFERROR(INDEX($G$7:$H$13233,$L12618,COLUMNS($B$6:B12617)),\"\")","v":"51112010"},"Vandetanib",null,null,null,"51112010","Vandetanib","51112010",12612,12612,12612,"51112010"]
[null,{"$f":"IFERROR(INDEX($G$7:$H$13233,$L12622,COLUMNS($B$6:B12621)),\"\")","v":"41113659"},"Var meter",null,null,null,"41113659","Var meter","41113659",12616,12616,12616,"41113659"]
[null,{"$f":"IFERROR(INDEX($G$7:$H$13233,$L12627,COLUMNS($B$6:B12626)),\"\")","v":"51201624"},"Varicella virus vaccine",null,null,null,"51201624","Varicella virus vaccine","51201624",12621,12621,12621,"51201624"]
[null,{"$f":"IFERROR(INDEX($G$7:$H$13233,$L12634,COLUMNS($B$6:B12633)),\"\")","v":"42203420"},"Vascular imaging snares",null,null,null,"42203420","Vascular imaging snares","42203420",12628,12628,12628,"42203420"]
[null,{"$f":"IFERROR(INDEX($G$7:$H$13233,$L12640,COLUMNS($B$6:B12639)),\"\")","v":"51412600"},"Vasodilator ferricyanides and hydrazines and isoquinolines and morpholines and phenols",null,null,null,"51412600","Vasodilator ferricyanides and hydrazines and isoquinolines and morpholines and phenols","51412600",12634,12634,12634,"51412600"]
[null,{"$f":"IFERROR(INDEX($G$7:$H$13233,$L12644,COLUMNS($B$6:B12643)),\"\")","v":"51413500"},"Vasodilator pyridines",null,null,null,"51413500","Vasodilator pyridines","51413500",12638,12638,12638,"51413500"]
[null,{"$f":"IFERROR(INDEX($G$7:$H$13233,$L12651,COLUMNS($B$6:B12650)),\"\")","v":"70142006"},"Vegetable crops market preparation services",null,null,null,"70142006","Vegetable crops market preparation services","70142006",12645,12645,12645,"70142006"]
[null,{"$f":"IFERROR(INDEX($G$7:$H$13233,$L12657,COLUMNS($B$6:B12656)),\"\")","v":"25172711"},"Vehicle air purifier",null,null,null,"25172711","Vehicle air purifier","25172711",12651,12651,12651,"25172711"]
[null,{"$f":"IFERROR(INDEX($G$7:$H$13233,$L12661,COLUMNS($B$6:B12660)),\"\")","v":"78101803"},"Vehicle carrier services",null,null,null,"78101803","Vehicle carrier services","78101803",12655,12655,12655,"78101803"]
[null,{"$f":"IFERROR(INDEX($G$7:$H$13233,$L12668,COLUMNS($B$6:B12667)),\"\")","v":"78181505"},"Vehicle inspection service",null,null,null,"78181505","Vehicle inspection service","78181505",12662,12662,12662,"78181505"]
[null,{"$f":"IFERROR(INDEX($G$7:$H$13233,$L12669,COLUMNS($B$6:B12668)),\"\")","v":"25174400"},"Vehicle interior systems",null,null,null,"25174400","Vehicle interior systems","25174400",12663,12663,12663,"25174400"]
[null,{"$f":"IFERROR(INDEX($G$7:$H$13233,$L12678,COLUMNS($B$6:B12677)),\"\")","v":"24101655"},"Vehicle parking lift system",null,null,null,"24101655","Vehicle parking lift system","24101655",12672,12672,12672,"24101655"]
[null,{"$f":"IFERROR(INDEX($G$7:$H$13233,$L12681,COLUMNS($B$6:B12680)),\"\")","v":"46171630"},"Vehicle rain and water level sensor",null,null,null,"46171630","Vehicle rain and water level sensor","46171630",12675,12675,12675,"46171630"]
[null,{"$f":"IFERROR(INDEX($G$7:$H$13233,$L12687,COLUMNS($B$6:B12686)),\"\")","v":"25172607"},"Vehicle side panels",null,null,null,"25172607","Vehicle side panels","25172607",12681,12681,12681,"25172607"]
[null,{"$f":"IFERROR(INDEX($G$7:$H$13233,$L12692,COLUMNS($B$6:B12691)),\"\")","v":"25172300"},"Vehicle windows and windshields",null,null,null,"25172300","Vehicle windows and windshields","25172300",12686,12686,12686,"25172300"]
[null,{"$f":"IFERROR(INDEX($G$7:$H$13233,$L12698,COLUMNS($B$6:B12697)),\"\")","v":"72151803"},"Vending machine installation and maintenance service",null,null,null,"72151803","Vending machine installation and maintenance service","72151803",12692,12692,12692,"72151803"]
[null,{"$f":"IFERROR(INDEX($G$7:$H$13233,$L12704,COLUMNS($B$6:B12703)),\"\")","v":"40101512"},"Ventilation tube fittings",null,null,null,"40101512","Ventilation tube fittings","40101512",12698,12698,12698,"40101512"]
[null,{"$f":"IFERROR(INDEX($G$7:$H$13233,$L12710,COLUMNS($B$6:B12709)),\"\")","v":"42272215"},"Ventilator testing supplies",null,null,null,"42272215","Ventilator testing supplies","42272215",12704,12704,12704,"42272215"]
[null,{"$f":"IFERROR(INDEX($G$7:$H$13233,$L12715,COLUMNS($B$6:B12714)),\"\")","v":"41112506"},"Venturis",null,null,null,"41112506","Venturis","41112506",12709,12709,12709,"41112506"]
[null,{"$f":"IFERROR(INDEX($G$7:$H$13233,$L12721,COLUMNS($B$6:B12720)),\"\")","v":"25173114"},"Very High Frequency (VHF) Digital Global Navigation Satellite System (GGNSS) Data Link ",null,null,null,"25173114","Very High Frequency (VHF) Digital Global Navigation Satellite System (GGNSS) Data Link ","25173114",12715,12715,12715,"25173114"]
[null,{"$f":"IFERROR(INDEX($G$7:$H$13233,$L12727,COLUMNS($B$6:B12726)),\"\")","v":"78141802"},"Vessel docking services",null,null,null,"78141802","Vessel docking services","78141802",12721,12721,12721,"78141802"]
[null,{"$f":"IFERROR(INDEX($G$7:$H$13233,$L12730,COLUMNS($B$6:B12729)),\"\")","v":"51204202"},"Veterinary anthrax vaccines",null,null,null,"51204202","Veterinary anthrax vaccines","51204202",12724,12724,12724,"51204202"]
[null,{"$f":"IFERROR(INDEX($G$7:$H$13233,$L12734,COLUMNS($B$6:B12733)),\"\")","v":"42121700"},"Veterinary clinical furniture",null,null,null,"42121700","Veterinary clinical furniture","42121700",12728,12728,12728,"42121700"]
[null,{"$f":"IFERROR(INDEX($G$7:$H$13233,$L12735,COLUMNS($B$6:B12734)),\"\")","v":"42121500"},"Veterinary equipment",null,null,null,"42121500","Veterinary equipment","42121500",12729,12729,12729,"42121500"]
[null,{"$f":"IFERROR(INDEX($G$7:$H$13233,$L12736,COLUMNS($B$6:B12735)),\"\")","v":"42120000"},"Veterinary equipment and supplies",null,null,null,"42120000","Veterinary equipment and supplies","42120000",12730,12730,12730,"42120000"]
[null,{"$f":"IFERROR(INDEX($G$7:$H$13233,$L12737,COLUMNS($B$6:B12736)),\"\")","v":"51204201"},"Veterinary foot and mouth disease (FMD) vaccines",null,null,null,"51204201","Veterinary foot and mouth disease (FMD) vaccines","51204201",12731,12731,12731,"51204201"]
[null,{"$f":"IFERROR(INDEX($G$7:$H$13233,$L12738,COLUMNS($B$6:B12737)),\"\")","v":"42121507"},"Veterinary injection or suction units or accessories",null,null,null,"42121507","Veterinary injection or suction units or accessories","42121507",12732,12732,12732,"42121507"]
[null,{"$f":"IFERROR(INDEX($G$7:$H$13233,$L12739,COLUMNS($B$6:B12738)),\"\")","v":"70122008"},"Veterinary laboratory technology",null,null,null,"70122008","Veterinary laboratory technology","70122008",12733,12733,12733,"70122008"]
[null,{"$f":"IFERROR(INDEX($G$7:$H$13233,$L12740,COLUMNS($B$6:B12739)),\"\")","v":"42121518"},"Veterinary medical equipment sets",null,null,null,"42121518","Veterinary medical equipment sets","42121518",12734,12734,12734,"42121518"]
[null,{"$f":"IFERROR(INDEX($G$7:$H$13233,$L12741,COLUMNS($B$6:B12740)),\"\")","v":"50501902"},"Veterinary multinutrient block",null,null,null,"50501902","Veterinary multinutrient block","50501902",12735,12735,12735,"50501902"]
[null,{"$f":"IFERROR(INDEX($G$7:$H$13233,$L12742,COLUMNS($B$6:B12741)),\"\")","v":"50501900"},"Veterinary nutritional supplements",null,null,null,"50501900","Veterinary nutritional supplements","50501900",12736,12736,12736,"50501900"]
[null,{"$f":"IFERROR(INDEX($G$7:$H$13233,$L12743,COLUMNS($B$6:B12742)),\"\")","v":"42121600"},"Veterinary products",null,null,null,"42121600","Veterinary products","42121600",12737,12737,12737,"42121600"]
[null,{"$f":"IFERROR(INDEX($G$7:$H$13233,$L12744,COLUMNS($B$6:B12743)),\"\")","v":"42121506"},"Veterinary surgical instrument and supply sets",null,null,null,"42121506","Veterinary surgical instrument and supply sets","42121506",12738,12738,12738,"42121506"]
[null,{"$f":"IFERROR(INDEX($G$7:$H$13233,$L12745,COLUMNS($B$6:B12744)),\"\")","v":"51204200"},"Veterinary vaccines and virology products",null,null,null,"51204200","Veterinary vaccines and virology products","51204200",12739,12739,12739,"51204200"]
[null,{"$f":"IFERROR(INDEX($G$7:$H$13233,$L12746,COLUMNS($B$6:B12745)),\"\")","v":"50501903"},"Veterinary vitamin",null,null,null,"50501903","Veterinary vitamin","50501903",12740,12740,12740,"50501903"]
[null,{"$f":"IFERROR(INDEX($G$7:$H$13233,$L12747,COLUMNS($B$6:B12746)),\"\")","v":"50501904"},"Veterinary vitamin and mineral mixture",null,null,null,"50501904","Veterinary vitamin and mineral mixture","50501904",12741,12741,12741,"50501904"]
[null,{"$f":"IFERROR(INDEX($G$7:$H$13233,$L12748,COLUMNS($B$6:B12747)),\"\")","v":"43221744"},"VHF Receivers and Associated Equipment ",null,null,null,"43221744","VHF Receivers and Associated Equipment ","43221744",12742,12742,12742,"43221744"]
[null,{"$f":"IFERROR(INDEX($G$7:$H$13233,$L12749,COLUMNS($B$6:B12748)),\"\")","v":"43221748"},"VHF Transceiver , UHF Single And Multi Channel",null,null,null,"43221748","VHF Transceiver , UHF Single And Multi Channel","43221748",12743,12743,12743,"43221748"]
[null,{"$f":"IFERROR(INDEX($G$7:$H$13233,$L12750,COLUMNS($B$6:B12749)),\"\")","v":"43221746"},"VHF Transceiver, AM",null,null,null,"43221746","VHF Transceiver, AM","43221746",12744,12744,12744,"43221746"]
[null,{"$f":"IFERROR(INDEX($G$7:$H$13233,$L12751,COLUMNS($B$6:B12750)),\"\")","v":"43221747"},"VHF Transceiver, FM",null,null,null,"43221747","VHF Transceiver, FM","43221747",12745,12745,12745,"43221747"]
[null,{"$f":"IFERROR(INDEX($G$7:$H$13233,$L12752,COLUMNS($B$6:B12751)),\"\")","v":"43221741"},"VHF Transmitters and Associated Equipment ",null,null,null,"43221741","VHF Transmitters and Associated Equipment ","43221741",12746,12746,12746,"43221741"]
[null,{"$f":"IFERROR(INDEX($G$7:$H$13233,$L12753,COLUMNS($B$6:B12752)),\"\")","v":"43221742"},"VHF/VDL Transmitter, AM ",null,null,null,"43221742","VHF/VDL Transmitter, AM ","43221742",12747,12747,12747,"43221742"]
[null,{"$f":"IFERROR(INDEX($G$7:$H$13233,$L12754,COLUMNS($B$6:B12753)),\"\")","v":"72141109"},"Viaduct construction and repair service",null,null,null,"72141109","Viaduct construction and repair service","72141109",12748,12748,12748,"72141109"]
[null,{"$f":"IFERROR(INDEX($G$7:$H$13233,$L12755,COLUMNS($B$6:B12754)),\"\")","v":"41121821"},"Vial closure cap or seal or stopper",null,null,null,"41121821","Vial closure cap or seal or stopper","41121821",12749,12749,12749,"41121821"]
[null,{"$f":"IFERROR(INDEX($G$7:$H$13233,$L12756,COLUMNS($B$6:B12755)),\"\")","v":"41114624"},"Vibration testers",null,null,null,"41114624","Vibration testers","41114624",12750,12750,12750,"41114624"]
[null,{"$f":"IFERROR(INDEX($G$7:$H$13233,$L12757,COLUMNS($B$6:B12756)),\"\")","v":"41114108"},"Vibrometers",null,null,null,"41114108","Vibrometers","41114108",12751,{"$f":"IF(ISNUMBER(SEARCH($H$4,H12757)),J12757,\"\")","v":12751},{"$f":"IFERROR(SMALL($K$7:$K$13233,J12757),\"\")","v":12751},"41114108"]
[null,{"$f":"IFERROR(INDEX($G$7:$H$13233,$L12758,COLUMNS($B$6:B12757)),\"\")","v":"41114646"},"Vicat needle tester",null,null,null,"41114646","Vicat needle tester","41114646",12752,12752,12752,"41114646"]
[null,{"$f":"IFERROR(INDEX($G$7:$H$13233,$L12759,COLUMNS($B$6:B12758)),\"\")","v":"51342904"},"Vidarabine",null,null,null,"51342904","Vidarabine","51342904",12753,12753,12753,"51342904"]
[null,{"$f":"IFERROR(INDEX($G$7:$H$13233,$L12760,COLUMNS($B$6:B12759)),\"\")","v":"45111800"},"Video and combination video and audio presentation equipment and hardware and controllers",null,null,null,"45111800","Video and combination video and audio presentation equipment and hardware and controllers","45111800",12754,12754,12754,"45111800"]
[null,{"$f":"IFERROR(INDEX($G$7:$H$13233,$L12761,COLUMNS($B$6:B12760)),\"\")","v":"41111708"},"Video attachments for microscopes",null,null,null,"41111708","Video attachments for microscopes","41111708",12755,12755,12755,"41111708"]
[null,{"$f":"IFERROR(INDEX($G$7:$H$13233,$L12762,COLUMNS($B$6:B12761)),\"\")","v":"43201531"},"Video capture boards",null,null,null,"43201531","Video capture boards","43201531",12756,12756,12756,"43201531"]
[null,{"$f":"IFERROR(INDEX($G$7:$H$13233,$L12763,COLUMNS($B$6:B12762)),\"\")","v":"45121506"},"Video conference cameras",null,null,null,"45121506","Video conference cameras","45121506",12757,12757,12757,"45121506"]
[null,{"$f":"IFERROR(INDEX($G$7:$H$13233,$L12764,COLUMNS($B$6:B12763)),\"\")","v":"43233502"},"Video conferencing software",null,null,null,"43233502","Video conferencing software","43233502",12758,12758,12758,"43233502"]
[null,{"$f":"IFERROR(INDEX($G$7:$H$13233,$L12765,COLUMNS($B$6:B12764)),\"\")","v":"81112207"},"Video conferencing software maintenance",null,null,null,"81112207","Video conferencing software maintenance","81112207",12759,12759,12759,"81112207"]
[null,{"$f":"IFERROR(INDEX($G$7:$H$13233,$L12766,COLUMNS($B$6:B12765)),\"\")","v":"43232103"},"Video creation and editing software",null,null,null,"43232103","Video creation and editing software","43232103",12760,12760,12760,"43232103"]
[null,{"$f":"IFERROR(INDEX($G$7:$H$13233,$L12767,COLUMNS($B$6:B12766)),\"\")","v":"43233421"},"Video drivers",null,null,null,"43233421","Video drivers","43233421",12761,12761,12761,"43233421"]
[null,{"$f":"IFERROR(INDEX($G$7:$H$13233,$L12768,COLUMNS($B$6:B12767)),\"\")","v":"45111805"},"Video editors",null,null,null,"45111805","Video editors","45111805",12762,12762,12762,"45111805"]
[null,{"$f":"IFERROR(INDEX($G$7:$H$13233,$L12769,COLUMNS($B$6:B12768)),\"\")","v":"46171611"},"Video identification systems",null,null,null,"46171611","Video identification systems","46171611",12763,12763,12763,"46171611"]
[null,{"$f":"IFERROR(INDEX($G$7:$H$13233,$L12770,COLUMNS($B$6:B12769)),\"\")","v":"45111819"},"Video mixer",null,null,null,"45111819","Video mixer","45111819",12764,12764,12764,"45111819"]
[null,{"$f":"IFERROR(INDEX($G$7:$H$13233,$L12771,COLUMNS($B$6:B12770)),\"\")","v":"46171612"},"Video monitors",null,null,null,"46171612","Video monitors","46171612",12765,12765,12765,"46171612"]
[null,{"$f":"IFERROR(INDEX($G$7:$H$13233,$L12772,COLUMNS($B$6:B12771)),\"\")","v":"43222619"},"Video networking equipment",null,null,null,"43222619","Video networking equipment","43222619",12766,12766,12766,"43222619"]
[null,{"$f":"IFERROR(INDEX($G$7:$H$13233,$L12773,COLUMNS($B$6:B12772)),\"\")","v":"45111818"},"Video noise reducer",null,null,null,"45111818","Video noise reducer","45111818",12767,12767,12767,"45111818"]
[null,{"$f":"IFERROR(INDEX($G$7:$H$13233,$L12774,COLUMNS($B$6:B12773)),\"\")","v":"43191513"},"Video phone",null,null,null,"43191513","Video phone","43191513",12768,12768,12768,"43191513"]
[null,{"$f":"IFERROR(INDEX($G$7:$H$13233,$L12775,COLUMNS($B$6:B12774)),\"\")","v":"45111811"},"Video precision monitor",null,null,null,"45111811","Video precision monitor","45111811",12769,12769,12769,"45111811"]
[null,{"$f":"IFERROR(INDEX($G$7:$H$13233,$L12776,COLUMNS($B$6:B12775)),\"\")","v":"45111820"},"Video processing amplifier",null,null,null,"45111820","Video processing amplifier","45111820",12770,12770,12770,"45111820"]
[null,{"$f":"IFERROR(INDEX($G$7:$H$13233,$L12777,COLUMNS($B$6:B12776)),\"\")","v":"82131603"},"Video production services",null,null,null,"82131603","Video production services","82131603",12771,12771,12771,"82131603"]
[null,{"$f":"IFERROR(INDEX($G$7:$H$13233,$L12778,COLUMNS($B$6:B12777)),\"\")","v":"45111616"},"Video projectors",null,null,null,"45111616","Video projectors","45111616",12772,12772,12772,"45111616"]
[null,{"$f":"IFERROR(INDEX($G$7:$H$13233,$L12779,COLUMNS($B$6:B12778)),\"\")","v":"45111823"},"Video standards converter",null,null,null,"45111823","Video standards converter","45111823",12773,12773,12773,"45111823"]
[null,{"$f":"IFERROR(INDEX($G$7:$H$13233,$L12780,COLUMNS($B$6:B12779)),\"\")","v":"43223207"},"Video streaming system",null,null,null,"43223207","Video streaming system","43223207",12774,12774,12774,"43223207"]
[null,{"$f":"IFERROR(INDEX($G$7:$H$13233,$L12781,COLUMNS($B$6:B12780)),\"\")","v":"45111827"},"Video tape checker",null,null,null,"45111827","Video tape checker","45111827",12775,12775,12775,"45111827"]
[null,{"$f":"IFERROR(INDEX($G$7:$H$13233,$L12782,COLUMNS($B$6:B12781)),\"\")","v":"90111602"},"Videoconferencing facilities",null,null,null,"90111602","Videoconferencing facilities","90111602",12776,12776,12776,"90111602"]
[null,{"$f":"IFERROR(INDEX($G$7:$H$13233,$L12783,COLUMNS($B$6:B12782)),\"\")","v":"81161711"},"Videoconferencing service",null,null,null,"81161711","Videoconferencing service","81161711",12777,12777,12777,"81161711"]
[null,{"$f":"IFERROR(INDEX($G$7:$H$13233,$L12784,COLUMNS($B$6:B12783)),\"\")","v":"45111902"},"Videoconferencing systems",null,null,null,"45111902","Videoconferencing systems","45111902",12778,12778,12778,"45111902"]
[null,{"$f":"IFERROR(INDEX($G$7:$H$13233,$L12785,COLUMNS($B$6:B12784)),\"\")","v":"42272020"},"Videolaryngoscope",null,null,null,"42272020","Videolaryngoscope","42272020",12779,12779,12779,"42272020"]
[null,{"$f":"IFERROR(INDEX($G$7:$H$13233,$L12786,COLUMNS($B$6:B12785)),\"\")","v":"41111737"},"Videoscopes",null,null,null,"41111737","Videoscopes","41111737",12780,12780,12780,"41111737"]
[null,{"$f":"IFERROR(INDEX($G$7:$H$13233,$L12787,COLUMNS($B$6:B12786)),\"\")","v":"41111700"},"Viewing and observing instruments and accessories",null,null,null,"41111700","Viewing and observing instruments and accessories","41111700",12781,12781,12781,"41111700"]
[null,{"$f":"IFERROR(INDEX($G$7:$H$13233,$L12788,COLUMNS($B$6:B12787)),\"\")","v":"51141509"},"Vigabatrin",null,null,null,"51141509","Vigabatrin","51141509",12782,12782,12782,"51141509"]
[null,{"$f":"IFERROR(INDEX($G$7:$H$13233,$L12789,COLUMNS($B$6:B12788)),\"\")","v":"51162039"},"Vilanterol/Fluticasone furoate",null,null,null,"51162039","Vilanterol/Fluticasone furoate","51162039",12783,12783,12783,"51162039"]
[null,{"$f":"IFERROR(INDEX($G$7:$H$13233,$L12790,COLUMNS($B$6:B12789)),\"\")","v":"51111766"},"Vinblastine",null,null,null,"51111766","Vinblastine","51111766",12784,12784,12784,"51111766"]
[null,{"$f":"IFERROR(INDEX($G$7:$H$13233,$L12791,COLUMNS($B$6:B12790)),\"\")","v":"51111767"},"Vincristine",null,null,null,"51111767","Vincristine","51111767",12785,12785,12785,"51111767"]
[null,{"$f":"IFERROR(INDEX($G$7:$H$13233,$L12792,COLUMNS($B$6:B12791)),\"\")","v":"70111702"},"Vineyard management or maintenance services",null,null,null,"70111702","Vineyard management or maintenance services","70111702",12786,12786,12786,"70111702"]
[null,{"$f":"IFERROR(INDEX($G$7:$H$13233,$L12793,COLUMNS($B$6:B12792)),\"\")","v":"51111772"},"Vinorelbine",null,null,null,"51111772","Vinorelbine","51111772",12787,12787,12787,"51111772"]
[null,{"$f":"IFERROR(INDEX($G$7:$H$13233,$L12794,COLUMNS($B$6:B12793)),\"\")","v":"72152507"},"Vinyl floor tile and sheet installation service",null,null,null,"72152507","Vinyl floor tile and sheet installation service","72152507",12788,12788,12788,"72152507"]
[null,{"$f":"IFERROR(INDEX($G$7:$H$13233,$L12795,COLUMNS($B$6:B12794)),\"\")","v":"60131304"},"Violins",null,null,null,"60131304","Violins","60131304",12789,12789,12789,"60131304"]
[null,{"$f":"IFERROR(INDEX($G$7:$H$13233,$L12796,COLUMNS($B$6:B12795)),\"\")","v":"60131308"},"Violoncellos",null,null,null,"60131308","Violoncellos","60131308",12790,12790,12790,"60131308"]
[null,{"$f":"IFERROR(INDEX($G$7:$H$13233,$L12797,COLUMNS($B$6:B12796)),\"\")","v":"41105519"},"Viral deoxyribonucleic acid DNA purification kits",null,null,null,"41105519","Viral deoxyribonucleic acid DNA purification kits","41105519",12791,12791,12791,"41105519"]
[null,{"$f":"IFERROR(INDEX($G$7:$H$13233,$L12798,COLUMNS($B$6:B12797)),\"\")","v":"85111508"},"Viral disease prevention or control services",null,null,null,"85111508","Viral disease prevention or control services","85111508",12792,12792,12792,"85111508"]
[null,{"$f":"IFERROR(INDEX($G$7:$H$13233,$L12799,COLUMNS($B$6:B12798)),\"\")","v":"41105908"},"Viral packaging kits",null,null,null,"41105908","Viral packaging kits","41105908",12793,12793,12793,"41105908"]
[null,{"$f":"IFERROR(INDEX($G$7:$H$13233,$L12800,COLUMNS($B$6:B12799)),\"\")","v":"41105520"},"Viral ribonucleic acid RNA purification kits",null,null,null,"41105520","Viral ribonucleic acid RNA purification kits","41105520",12794,12794,12794,"41105520"]
[null,{"$f":"IFERROR(INDEX($G$7:$H$13233,$L12801,COLUMNS($B$6:B12800)),\"\")","v":"41116020"},"Virology analyzer reagent",null,null,null,"41116020","Virology analyzer reagent","41116020",12795,12795,12795,"41116020"]
[null,{"$f":"IFERROR(INDEX($G$7:$H$13233,$L12802,COLUMNS($B$6:B12801)),\"\")","v":"41116157"},"Virology cell and tissue culture media",null,null,null,"41116157","Virology cell and tissue culture media","41116157",12796,12796,12796,"41116157"]
[null,{"$f":"IFERROR(INDEX($G$7:$H$13233,$L12803,COLUMNS($B$6:B12802)),\"\")","v":"41116145"},"Virology quality controls or calibrators or standards",null,null,null,"41116145","Virology quality controls or calibrators or standards","41116145",12797,12797,12797,"41116145"]
[null,{"$f":"IFERROR(INDEX($G$7:$H$13233,$L12804,COLUMNS($B$6:B12803)),\"\")","v":"41116156"},"Virology reagents or solutions or stains",null,null,null,"41116156","Virology reagents or solutions or stains","41116156",12798,12798,12798,"41116156"]
[null,{"$f":"IFERROR(INDEX($G$7:$H$13233,$L12805,COLUMNS($B$6:B12804)),\"\")","v":"41123203"},"Virology stock control culture",null,null,null,"41123203","Virology stock control culture","41123203",12799,12799,12799,"41123203"]
[null,{"$f":"IFERROR(INDEX($G$7:$H$13233,$L12806,COLUMNS($B$6:B12805)),\"\")","v":"41116144"},"Virology test kits or supplies",null,null,null,"41116144","Virology test kits or supplies","41116144",12800,12800,12800,"41116144"]
[null,{"$f":"IFERROR(INDEX($G$7:$H$13233,$L12807,COLUMNS($B$6:B12806)),\"\")","v":"43233006"},"Virtual machine software",null,null,null,"43233006","Virtual machine software","43233006",12801,12801,12801,"43233006"]
[null,{"$f":"IFERROR(INDEX($G$7:$H$13233,$L12808,COLUMNS($B$6:B12807)),\"\")","v":"41106621"},"Virus mediated expression vectors or kits",null,null,null,"41106621","Virus mediated expression vectors or kits","41106621",12802,12802,12802,"41106621"]
[null,{"$f":"IFERROR(INDEX($G$7:$H$13233,$L12809,COLUMNS($B$6:B12808)),\"\")","v":"90121602"},"Visa or auxiliary document services",null,null,null,"90121602","Visa or auxiliary document services","90121602",12803,12803,12803,"90121602"]
[null,{"$f":"IFERROR(INDEX($G$7:$H$13233,$L12810,COLUMNS($B$6:B12809)),\"\")","v":"41121712"},"Viscometer tube",null,null,null,"41121712","Viscometer tube","41121712",12804,12804,12804,"41121712"]
[null,{"$f":"IFERROR(INDEX($G$7:$H$13233,$L12811,COLUMNS($B$6:B12810)),\"\")","v":"41103312"},"Viscosimeters",null,null,null,"41103312","Viscosimeters","41103312",12805,12805,12805,"41103312"]
[null,{"$f":"IFERROR(INDEX($G$7:$H$13233,$L12812,COLUMNS($B$6:B12811)),\"\")","v":"41103713"},"Viscosity baths",null,null,null,"41103713","Viscosity baths","41103713",12806,12806,12806,"41103713"]
[null,{"$f":"IFERROR(INDEX($G$7:$H$13233,$L12813,COLUMNS($B$6:B12812)),\"\")","v":"42143709"},"Visible light radiators",null,null,null,"42143709","Visible light radiators","42143709",12807,12807,12807,"42143709"]
[null,{"$f":"IFERROR(INDEX($G$7:$H$13233,$L12814,COLUMNS($B$6:B12813)),\"\")","v":"42142900"},"Vision correction or cosmetic eyewear and related products",null,null,null,"42142900","Vision correction or cosmetic eyewear and related products","42142900",12808,12808,12808,"42142900"]
[null,{"$f":"IFERROR(INDEX($G$7:$H$13233,$L12815,COLUMNS($B$6:B12814)),\"\")","v":"46181800"},"Vision protection and accessories",null,null,null,"46181800","Vision protection and accessories","46181800",12809,12809,12809,"46181800"]
[null,{"$f":"IFERROR(INDEX($G$7:$H$13233,$L12816,COLUMNS($B$6:B12815)),\"\")","v":"14111831"},"Visitor or guest book",null,null,null,"14111831","Visitor or guest book","14111831",12810,12810,12810,"14111831"]
[null,{"$f":"IFERROR(INDEX($G$7:$H$13233,$L12817,COLUMNS($B$6:B12816)),\"\")","v":"82151500"},"Visual art services",null,null,null,"82151500","Visual art services","82151500",12811,12811,12811,"82151500"]
[null,{"$f":"IFERROR(INDEX($G$7:$H$13233,$L12818,COLUMNS($B$6:B12817)),\"\")","v":"46161535"},"Visual Docking Guidance System",null,null,null,"46161535","Visual Docking Guidance System","46161535",12812,12812,12812,"46161535"]
[null,{"$f":"IFERROR(INDEX($G$7:$H$13233,$L12819,COLUMNS($B$6:B12818)),\"\")","v":"41103325"},"Visual fluid flow apparatus",null,null,null,"41103325","Visual fluid flow apparatus","41103325",12813,12813,12813,"41103325"]
[null,{"$f":"IFERROR(INDEX($G$7:$H$13233,$L12820,COLUMNS($B$6:B12819)),\"\")","v":"45111812"},"Visual information display device",null,null,null,"45111812","Visual information display device","45111812",12814,12814,12814,"45111812"]
[null,{"$f":"IFERROR(INDEX($G$7:$H$13233,$L12821,COLUMNS($B$6:B12820)),\"\")","v":"45111810"},"Visual presenters",null,null,null,"45111810","Visual presenters","45111810",12815,12815,12815,"45111810"]
[null,{"$f":"IFERROR(INDEX($G$7:$H$13233,$L12822,COLUMNS($B$6:B12821)),\"\")","v":"50501716"},"Vitacereal (WFP food convention) ",null,null,null,"50501716","Vitacereal (WFP food convention) ","50501716",12816,12816,12816,"50501716"]
[null,{"$f":"IFERROR(INDEX($G$7:$H$13233,$L12823,COLUMNS($B$6:B12822)),\"\")","v":"50501501"},"Vitamin A supplement",null,null,null,"50501501","Vitamin A supplement","50501501",12817,12817,12817,"50501501"]
[null,{"$f":"IFERROR(INDEX($G$7:$H$13233,$L12824,COLUMNS($B$6:B12823)),\"\")","v":"50501509"},"Vitamin B12 supplement",null,null,null,"50501509","Vitamin B12 supplement","50501509",12818,12818,12818,"50501509"]
[null,{"$f":"IFERROR(INDEX($G$7:$H$13233,$L12825,COLUMNS($B$6:B12824)),\"\")","v":"50501506"},"Vitamin B6 supplement",null,null,null,"50501506","Vitamin B6 supplement","50501506",12819,12819,12819,"50501506"]
[null,{"$f":"IFERROR(INDEX($G$7:$H$13233,$L12826,COLUMNS($B$6:B12825)),\"\")","v":"50501513"},"Vitamin K supplement",null,null,null,"50501513","Vitamin K supplement","50501513",12820,12820,12820,"50501513"]
[null,{"$f":"IFERROR(INDEX($G$7:$H$13233,$L12827,COLUMNS($B$6:B12826)),\"\")","v":"50501500"},"Vitamin supplements",null,null,null,"50501500","Vitamin supplements","50501500",12821,12821,12821,"50501500"]
[null,{"$f":"IFERROR(INDEX($G$7:$H$13233,$L12828,COLUMNS($B$6:B12827)),\"\")","v":"82151705"},"Vocalists services",null,null,null,"82151705","Vocalists services","82151705",12822,12822,12822,"82151705"]
[null,{"$f":"IFERROR(INDEX($G$7:$H$13233,$L12829,COLUMNS($B$6:B12828)),\"\")","v":"95121902"},"Vocational college",null,null,null,"95121902","Vocational college","95121902",12823,12823,12823,"95121902"]
[null,{"$f":"IFERROR(INDEX($G$7:$H$13233,$L12830,COLUMNS($B$6:B12829)),\"\")","v":"86101803"},"Vocational rehabilitation services",null,null,null,"86101803","Vocational rehabilitation services","86101803",12824,12824,12824,"86101803"]
[null,{"$f":"IFERROR(INDEX($G$7:$H$13233,$L12831,COLUMNS($B$6:B12830)),\"\")","v":"60106100"},"Vocational teaching aids and materials",null,null,null,"60106100","Vocational teaching aids and materials","60106100",12825,12825,12825,"60106100"]
[null,{"$f":"IFERROR(INDEX($G$7:$H$13233,$L12832,COLUMNS($B$6:B12831)),\"\")","v":"86100000"},"Vocational training",null,null,null,"86100000","Vocational training","86100000",12826,12826,12826,"86100000"]
[null,{"$f":"IFERROR(INDEX($G$7:$H$13233,$L12833,COLUMNS($B$6:B12832)),\"\")","v":"72151605"},"Voice and data and video wiring service",null,null,null,"72151605","Voice and data and video wiring service","72151605",12827,12827,12827,"72151605"]
[null,{"$f":"IFERROR(INDEX($G$7:$H$13233,$L12834,COLUMNS($B$6:B12833)),\"\")","v":"43201547"},"Voice boards",null,null,null,"43201547","Voice boards","43201547",12828,12828,12828,"43201547"]
[null,{"$f":"IFERROR(INDEX($G$7:$H$13233,$L12835,COLUMNS($B$6:B12834)),\"\")","v":"43221531"},"Voice Communications System",null,null,null,"43221531","Voice Communications System","43221531",12829,12829,12829,"43221531"]
[null,{"$f":"IFERROR(INDEX($G$7:$H$13233,$L12836,COLUMNS($B$6:B12835)),\"\")","v":"43222820"},"Voice echo cancellers",null,null,null,"43222820","Voice echo cancellers","43222820",12830,12830,12830,"43222820"]
[null,{"$f":"IFERROR(INDEX($G$7:$H$13233,$L12837,COLUMNS($B$6:B12836)),\"\")","v":"81161709"},"Voice Mail Administration Service",null,null,null,"81161709","Voice Mail Administration Service","81161709",12831,12831,12831,"81161709"]
[null,{"$f":"IFERROR(INDEX($G$7:$H$13233,$L12838,COLUMNS($B$6:B12837)),\"\")","v":"81161710"},"Voice Mail Support Service",null,null,null,"81161710","Voice Mail Support Service","81161710",12832,12832,12832,"81161710"]
[null,{"$f":"IFERROR(INDEX($G$7:$H$13233,$L12839,COLUMNS($B$6:B12838)),\"\")","v":"43221519"},"Voice mail systems",null,null,null,"43221519","Voice mail systems","43221519",12833,12833,12833,"43221519"]
[null,{"$f":"IFERROR(INDEX($G$7:$H$13233,$L12840,COLUMNS($B$6:B12839)),\"\")","v":"43223201"},"Voice messaging portal",null,null,null,"43223201","Voice messaging portal","43223201",12834,12834,12834,"43223201"]
[null,{"$f":"IFERROR(INDEX($G$7:$H$13233,$L12841,COLUMNS($B$6:B12840)),\"\")","v":"43211719"},"Voice microphones for computers",null,null,null,"43211719","Voice microphones for computers","43211719",12835,12835,12835,"43211719"]
[null,{"$f":"IFERROR(INDEX($G$7:$H$13233,$L12842,COLUMNS($B$6:B12841)),\"\")","v":"43233413"},"Voice recognition software",null,null,null,"43233413","Voice recognition software","43233413",12836,12836,12836,"43233413"]
[null,{"$f":"IFERROR(INDEX($G$7:$H$13233,$L12843,COLUMNS($B$6:B12842)),\"\")","v":"43232509"},"Voice synthesizer and recognition software",null,null,null,"43232509","Voice synthesizer and recognition software","43232509",12837,12837,12837,"43232509"]
[null,{"$f":"IFERROR(INDEX($G$7:$H$13233,$L12844,COLUMNS($B$6:B12843)),\"\")","v":"42211711"},"Voice synthesizers for the physically challenged",null,null,null,"42211711","Voice synthesizers for the physically challenged","42211711",12838,12838,12838,"42211711"]
[null,{"$f":"IFERROR(INDEX($G$7:$H$13233,$L12845,COLUMNS($B$6:B12844)),\"\")","v":"14121507"},"Volatile corrosion inhibitor or VCI paper",null,null,null,"14121507","Volatile corrosion inhibitor or VCI paper","14121507",12839,12839,12839,"14121507"]
[null,{"$f":"IFERROR(INDEX($G$7:$H$13233,$L12846,COLUMNS($B$6:B12845)),\"\")","v":"49161608"},"Volleyballs",null,null,null,"49161608","Volleyballs","49161608",12840,12840,12840,"49161608"]
[null,{"$f":"IFERROR(INDEX($G$7:$H$13233,$L12847,COLUMNS($B$6:B12846)),\"\")","v":"25202908"},"Volmet Equipment ",null,null,null,"25202908","Volmet Equipment ","25202908",12841,12841,12841,"25202908"]
[null,{"$f":"IFERROR(INDEX($G$7:$H$13233,$L12848,COLUMNS($B$6:B12847)),\"\")","v":"51283804"},"Volpristin",null,null,null,"51283804","Volpristin","51283804",12842,12842,12842,"51283804"]
[null,{"$f":"IFERROR(INDEX($G$7:$H$13233,$L12849,COLUMNS($B$6:B12848)),\"\")","v":"41113684"},"Voltage and current meter calibrator",null,null,null,"41113684","Voltage and current meter calibrator","41113684",12843,12843,12843,"41113684"]
[null,{"$f":"IFERROR(INDEX($G$7:$H$13233,$L12850,COLUMNS($B$6:B12849)),\"\")","v":"41111969"},"Voltage control sensor",null,null,null,"41111969","Voltage control sensor","41111969",12844,12844,12844,"41111969"]
[null,{"$f":"IFERROR(INDEX($G$7:$H$13233,$L12851,COLUMNS($B$6:B12850)),\"\")","v":"41113637"},"Voltage or current meters",null,null,null,"41113637","Voltage or current meters","41113637",12845,12845,12845,"41113637"]
[null,{"$f":"IFERROR(INDEX($G$7:$H$13233,$L12852,COLUMNS($B$6:B12851)),\"\")","v":"39121635"},"Voltage regulator",null,null,null,"39121635","Voltage regulator","39121635",12846,12846,12846,"39121635"]
[null,{"$f":"IFERROR(INDEX($G$7:$H$13233,$L12853,COLUMNS($B$6:B12852)),\"\")","v":"41113661"},"Voltage regulator tester",null,null,null,"41113661","Voltage regulator tester","41113661",12847,12847,12847,"41113661"]
[null,{"$f":"IFERROR(INDEX($G$7:$H$13233,$L12854,COLUMNS($B$6:B12853)),\"\")","v":"41113033"},"Volumeters",null,null,null,"41113033","Volumeters","41113033",12848,12848,12848,"41113033"]
[null,{"$f":"IFERROR(INDEX($G$7:$H$13233,$L12855,COLUMNS($B$6:B12854)),\"\")","v":"41121510"},"Volumetric pipettes",null,null,null,"41121510","Volumetric pipettes","41121510",12849,12849,12849,"41121510"]
[null,{"$f":"IFERROR(INDEX($G$7:$H$13233,$L12856,COLUMNS($B$6:B12855)),\"\")","v":"93141508"},"Voluntary service management",null,null,null,"93141508","Voluntary service management","93141508",12850,12850,12850,"93141508"]
[null,{"$f":"IFERROR(INDEX($G$7:$H$13233,$L12857,COLUMNS($B$6:B12856)),\"\")","v":"92101602"},"Volunteer fire department services",null,null,null,"92101602","Volunteer fire department services","92101602",12851,12851,12851,"92101602"]
[null,{"$f":"IFERROR(INDEX($G$7:$H$13233,$L12858,COLUMNS($B$6:B12857)),\"\")","v":"51303002"},"Voriconazole",null,null,null,"51303002","Voriconazole","51303002",12852,12852,12852,"51303002"]
[null,{"$f":"IFERROR(INDEX($G$7:$H$13233,$L12859,COLUMNS($B$6:B12858)),\"\")","v":"41103814"},"Vortex mixers",null,null,null,"41103814","Vortex mixers","41103814",12853,12853,12853,"41103814"]
[null,{"$f":"IFERROR(INDEX($G$7:$H$13233,$L12860,COLUMNS($B$6:B12859)),\"\")","v":"93111604"},"Vote catcher services",null,null,null,"93111604","Vote catcher services","93111604",12854,12854,12854,"93111604"]
[null,{"$f":"IFERROR(INDEX($G$7:$H$13233,$L12861,COLUMNS($B$6:B12860)),\"\")","v":"93111605"},"Voter registration or counting or analysis or scrutiny services",null,null,null,"93111605","Voter registration or counting or analysis or scrutiny services","93111605",12855,12855,12855,"93111605"]
[null,{"$f":"IFERROR(INDEX($G$7:$H$13233,$L12862,COLUMNS($B$6:B12861)),\"\")","v":"14111803"},"Vouchers",null,null,null,"14111803","Vouchers","14111803",12856,12856,12856,"14111803"]
[null,{"$f":"IFERROR(INDEX($G$7:$H$13233,$L12863,COLUMNS($B$6:B12862)),\"\")","v":"43222502"},"VPN network security equipment",null,null,null,"43222502","VPN network security equipment","43222502",12857,12857,12857,"43222502"]
[null,{"$f":"IFERROR(INDEX($G$7:$H$13233,$L12864,COLUMNS($B$6:B12863)),\"\")","v":"83112203"},"VPN virtual private network managed network services",null,null,null,"83112203","VPN virtual private network managed network services","83112203",12858,12858,12858,"83112203"]
[null,{"$f":"IFERROR(INDEX($G$7:$H$13233,$L12865,COLUMNS($B$6:B12864)),\"\")","v":"43222503"},"Vulnerability Assessment Security Equipment",null,null,null,"43222503","Vulnerability Assessment Security Equipment","43222503",12859,12859,12859,"43222503"]
[null,{"$f":"IFERROR(INDEX($G$7:$H$13233,$L12866,COLUMNS($B$6:B12865)),\"\")","v":"81101710"},"Wafer reclaiming service",null,null,null,"81101710","Wafer reclaiming service","81101710",12860,12860,12860,"81101710"]
[null,{"$f":"IFERROR(INDEX($G$7:$H$13233,$L12867,COLUMNS($B$6:B12866)),\"\")","v":"24101509"},"Wagons",null,null,null,"24101509","Wagons","24101509",12861,12861,12861,"24101509"]
[null,{"$f":"IFERROR(INDEX($G$7:$H$13233,$L12868,COLUMNS($B$6:B12867)),\"\")","v":"53103100"},"Waistcoats",null,null,null,"53103100","Waistcoats","53103100",12862,12862,12862,"53103100"]
[null,{"$f":"IFERROR(INDEX($G$7:$H$13233,$L12869,COLUMNS($B$6:B12868)),\"\")","v":"24131605"},"Walk in freezers",null,null,null,"24131605","Walk in freezers","24131605",12863,12863,12863,"24131605"]
[null,{"$f":"IFERROR(INDEX($G$7:$H$13233,$L12870,COLUMNS($B$6:B12869)),\"\")","v":"24131503"},"Walk in refrigerators",null,null,null,"24131503","Walk in refrigerators","24131503",12864,12864,12864,"24131503"]
[null,{"$f":"IFERROR(INDEX($G$7:$H$13233,$L12871,COLUMNS($B$6:B12870)),\"\")","v":"42211505"},"Walker or rollator accessories",null,null,null,"42211505","Walker or rollator accessories","42211505",12865,12865,12865,"42211505"]
[null,{"$f":"IFERROR(INDEX($G$7:$H$13233,$L12872,COLUMNS($B$6:B12871)),\"\")","v":"42211506"},"Walkers or rollators",null,null,null,"42211506","Walkers or rollators","42211506",12866,12866,12866,"42211506"]
[null,{"$f":"IFERROR(INDEX($G$7:$H$13233,$L12873,COLUMNS($B$6:B12872)),\"\")","v":"42241707"},"Walking braces",null,null,null,"42241707","Walking braces","42241707",12867,12867,12867,"42241707"]
[null,{"$f":"IFERROR(INDEX($G$7:$H$13233,$L12874,COLUMNS($B$6:B12873)),\"\")","v":"54111601"},"Wall clocks",null,null,null,"54111601","Wall clocks","54111601",12868,12868,12868,"54111601"]
[null,{"$f":"IFERROR(INDEX($G$7:$H$13233,$L12875,COLUMNS($B$6:B12874)),\"\")","v":"72151400"},"Wall covering construction services",null,null,null,"72151400","Wall covering construction services","72151400",12869,12869,12869,"72151400"]
[null,{"$f":"IFERROR(INDEX($G$7:$H$13233,$L12876,COLUMNS($B$6:B12875)),\"\")","v":"30161500"},"Wall finishing materials",null,null,null,"30161500","Wall finishing materials","30161500",12870,12870,12870,"30161500"]
[null,{"$f":"IFERROR(INDEX($G$7:$H$13233,$L12877,COLUMNS($B$6:B12876)),\"\")","v":"44122121"},"Wall or board clips",null,null,null,"44122121","Wall or board clips","44122121",12871,12871,12871,"44122121"]
[null,{"$f":"IFERROR(INDEX($G$7:$H$13233,$L12878,COLUMNS($B$6:B12877)),\"\")","v":"44112008"},"Wall planners or refills",null,null,null,"44112008","Wall planners or refills","44112008",12872,12872,12872,"44112008"]
[null,{"$f":"IFERROR(INDEX($G$7:$H$13233,$L12879,COLUMNS($B$6:B12878)),\"\")","v":"56101518"},"Wall racks",null,null,null,"56101518","Wall racks","56101518",12873,12873,12873,"56101518"]
[null,{"$f":"IFERROR(INDEX($G$7:$H$13233,$L12880,COLUMNS($B$6:B12879)),\"\")","v":"43232909"},"WAN switching software and firmware",null,null,null,"43232909","WAN switching software and firmware","43232909",12874,12874,12874,"43232909"]
[null,{"$f":"IFERROR(INDEX($G$7:$H$13233,$L12881,COLUMNS($B$6:B12880)),\"\")","v":"92111505"},"War prevention strategies",null,null,null,"92111505","War prevention strategies","92111505",12875,12875,12875,"92111505"]
[null,{"$f":"IFERROR(INDEX($G$7:$H$13233,$L12882,COLUMNS($B$6:B12881)),\"\")","v":"25102000"},"War vehicles",null,null,null,"25102000","War vehicles","25102000",12876,12876,12876,"25102000"]
[null,{"$f":"IFERROR(INDEX($G$7:$H$13233,$L12883,COLUMNS($B$6:B12882)),\"\")","v":"41112415"},"Warburg apparatus",null,null,null,"41112415","Warburg apparatus","41112415",12877,12877,12877,"41112415"]
[null,{"$f":"IFERROR(INDEX($G$7:$H$13233,$L12884,COLUMNS($B$6:B12883)),\"\")","v":"95141706"},"Warehouse",null,null,null,"95141706","Warehouse","95141706",12878,12878,12878,"95141706"]
[null,{"$f":"IFERROR(INDEX($G$7:$H$13233,$L12885,COLUMNS($B$6:B12884)),\"\")","v":"24102102"},"Warehouse carousels",null,null,null,"24102102","Warehouse carousels","24102102",12879,12879,12879,"24102102"]
[null,{"$f":"IFERROR(INDEX($G$7:$H$13233,$L12886,COLUMNS($B$6:B12885)),\"\")","v":"24102103"},"Warehouse casers",null,null,null,"24102103","Warehouse casers","24102103",12880,12880,12880,"24102103"]
[null,{"$f":"IFERROR(INDEX($G$7:$H$13233,$L12887,COLUMNS($B$6:B12886)),\"\")","v":"72121008"},"Warehouse construction and remodeling service",null,null,null,"72121008","Warehouse construction and remodeling service","72121008",12881,12881,12881,"72121008"]
[null,{"$f":"IFERROR(INDEX($G$7:$H$13233,$L12888,COLUMNS($B$6:B12887)),\"\")","v":"24102100"},"Warehousing equipment and supplies",null,null,null,"24102100","Warehousing equipment and supplies","24102100",12882,12882,12882,"24102100"]
[null,{"$f":"IFERROR(INDEX($G$7:$H$13233,$L12889,COLUMNS($B$6:B12888)),\"\")","v":"51131604"},"Warfarin",null,null,null,"51131604","Warfarin","51131604",12883,12883,12883,"51131604"]
[null,{"$f":"IFERROR(INDEX($G$7:$H$13233,$L12890,COLUMNS($B$6:B12889)),\"\")","v":"41102407"},"Warming cabinets",null,null,null,"41102407","Warming cabinets","41102407",12884,12884,12884,"41102407"]
[null,{"$f":"IFERROR(INDEX($G$7:$H$13233,$L12891,COLUMNS($B$6:B12890)),\"\")","v":"41113325"},"Washability tester",null,null,null,"41113325","Washability tester","41113325",12885,12885,12885,"41113325"]
[null,{"$f":"IFERROR(INDEX($G$7:$H$13233,$L12892,COLUMNS($B$6:B12891)),\"\")","v":"31161800"},"Washers",null,null,null,"31161800","Washers","31161800",12886,12886,12886,"31161800"]
[null,{"$f":"IFERROR(INDEX($G$7:$H$13233,$L12893,COLUMNS($B$6:B12892)),\"\")","v":"47111500"},"Washing and drying equipment",null,null,null,"47111500","Washing and drying equipment","47111500",12887,12887,12887,"47111500"]
[null,{"$f":"IFERROR(INDEX($G$7:$H$13233,$L12894,COLUMNS($B$6:B12893)),\"\")","v":"41103205"},"Washing machine racks or accessories",null,null,null,"41103205","Washing machine racks or accessories","41103205",12888,12888,12888,"41103205"]
[null,{"$f":"IFERROR(INDEX($G$7:$H$13233,$L12895,COLUMNS($B$6:B12894)),\"\")","v":"25101914"},"Waste collection vehicle or garbage truck",null,null,null,"25101914","Waste collection vehicle or garbage truck","25101914",12889,12889,12889,"25101914"]
[null,{"$f":"IFERROR(INDEX($G$7:$H$13233,$L12896,COLUMNS($B$6:B12895)),\"\")","v":"47121704"},"Waste container lids",null,null,null,"47121704","Waste container lids","47121704",12890,12890,12890,"47121704"]
[null,{"$f":"IFERROR(INDEX($G$7:$H$13233,$L12897,COLUMNS($B$6:B12896)),\"\")","v":"47121700"},"Waste containers and accessories",null,null,null,"47121700","Waste containers and accessories","47121700",12891,12891,12891,"47121700"]
[null,{"$f":"IFERROR(INDEX($G$7:$H$13233,$L12898,COLUMNS($B$6:B12897)),\"\")","v":"47121702"},"Waste containers or rigid liners",null,null,null,"47121702","Waste containers or rigid liners","47121702",12892,12892,12892,"47121702"]
[null,{"$f":"IFERROR(INDEX($G$7:$H$13233,$L12899,COLUMNS($B$6:B12898)),\"\")","v":"72121504"},"Waste disposal plant construction service",null,null,null,"72121504","Waste disposal plant construction service","72121504",12893,12893,12893,"72121504"]
[null,{"$f":"IFERROR(INDEX($G$7:$H$13233,$L12900,COLUMNS($B$6:B12899)),\"\")","v":"77102004"},"Waste generation or disposal reporting service",null,null,null,"77102004","Waste generation or disposal reporting service","77102004",12894,12894,12894,"77102004"]
[null,{"$f":"IFERROR(INDEX($G$7:$H$13233,$L12901,COLUMNS($B$6:B12900)),\"\")","v":"76122200"},"Waste incineration services",null,null,null,"76122200","Waste incineration services","76122200",12895,12895,12895,"76122200"]
[null,{"$f":"IFERROR(INDEX($G$7:$H$13233,$L12902,COLUMNS($B$6:B12901)),\"\")","v":"24102400"},"Waste material handling and recycling systems",null,null,null,"24102400","Waste material handling and recycling systems","24102400",12896,12896,12896,"24102400"]
[null,{"$f":"IFERROR(INDEX($G$7:$H$13233,$L12903,COLUMNS($B$6:B12902)),\"\")","v":"76122100"},"Waste to fuel blending services",null,null,null,"76122100","Waste to fuel blending services","76122100",12897,12897,12897,"76122100"]
[null,{"$f":"IFERROR(INDEX($G$7:$H$13233,$L12904,COLUMNS($B$6:B12903)),\"\")","v":"72121505"},"Waste water and sewage treatment plant construction service",null,null,null,"72121505","Waste water and sewage treatment plant construction service","72121505",12898,12898,12898,"72121505"]
[null,{"$f":"IFERROR(INDEX($G$7:$H$13233,$L12905,COLUMNS($B$6:B12904)),\"\")","v":"81101527"},"Wastewater engineering",null,null,null,"81101527","Wastewater engineering","81101527",12899,12899,12899,"81101527"]
[null,{"$f":"IFERROR(INDEX($G$7:$H$13233,$L12906,COLUMNS($B$6:B12905)),\"\")","v":"54111701"},"Watch or clock dials",null,null,null,"54111701","Watch or clock dials","54111701",12900,12900,12900,"54111701"]
[null,{"$f":"IFERROR(INDEX($G$7:$H$13233,$L12907,COLUMNS($B$6:B12906)),\"\")","v":"54111710"},"Watch or clock movement",null,null,null,"54111710","Watch or clock movement","54111710",12901,12901,12901,"54111710"]
[null,{"$f":"IFERROR(INDEX($G$7:$H$13233,$L12908,COLUMNS($B$6:B12907)),\"\")","v":"54111700"},"Watch or clock parts or accessories",null,null,null,"54111700","Watch or clock parts or accessories","54111700",12902,12902,12902,"54111700"]
[null,{"$f":"IFERROR(INDEX($G$7:$H$13233,$L12909,COLUMNS($B$6:B12908)),\"\")","v":"54111709"},"Watch or clock repair kits",null,null,null,"54111709","Watch or clock repair kits","54111709",12903,12903,12903,"54111709"]
[null,{"$f":"IFERROR(INDEX($G$7:$H$13233,$L12910,COLUMNS($B$6:B12909)),\"\")","v":"54111500"},"Watches",null,null,null,"54111500","Watches","54111500",12904,12904,12904,"54111500"]
[null,{"$f":"IFERROR(INDEX($G$7:$H$13233,$L12911,COLUMNS($B$6:B12910)),\"\")","v":"50202301"},"Water",null,null,null,"50202301","Water","50202301",12905,12905,12905,"50202301"]
[null,{"$f":"IFERROR(INDEX($G$7:$H$13233,$L12912,COLUMNS($B$6:B12911)),\"\")","v":"41104207"},"Water analysis systems",null,null,null,"41104207","Water analysis systems","41104207",12906,12906,12906,"41104207"]
[null,{"$f":"IFERROR(INDEX($G$7:$H$13233,$L12913,COLUMNS($B$6:B12912)),\"\")","v":"41113319"},"Water analyzers",null,null,null,"41113319","Water analyzers","41113319",12907,12907,12907,"41113319"]
[null,{"$f":"IFERROR(INDEX($G$7:$H$13233,$L12914,COLUMNS($B$6:B12913)),\"\")","v":"83101500"},"Water and sewer utilities",null,null,null,"83101500","Water and sewer utilities","83101500",12908,12908,12908,"83101500"]
[null,{"$f":"IFERROR(INDEX($G$7:$H$13233,$L12915,COLUMNS($B$6:B12914)),\"\")","v":"47100000"},"Water and wastewater treatment supply and disposal",null,null,null,"47100000","Water and wastewater treatment supply and disposal","47100000",12909,12909,12909,"47100000"]
[null,{"$f":"IFERROR(INDEX($G$7:$H$13233,$L12916,COLUMNS($B$6:B12915)),\"\")","v":"24111509"},"Water bags",null,null,null,"24111509","Water bags","24111509",12910,12910,12910,"24111509"]
[null,{"$f":"IFERROR(INDEX($G$7:$H$13233,$L12917,COLUMNS($B$6:B12916)),\"\")","v":"41103706"},"Water baths",null,null,null,"41103706","Water baths","41103706",12911,12911,12911,"41103706"]
[null,{"$f":"IFERROR(INDEX($G$7:$H$13233,$L12918,COLUMNS($B$6:B12917)),\"\")","v":"70171604"},"Water conservation advisory services",null,null,null,"70171604","Water conservation advisory services","70171604",12912,12912,12912,"70171604"]
[null,{"$f":"IFERROR(INDEX($G$7:$H$13233,$L12919,COLUMNS($B$6:B12918)),\"\")","v":"40101721"},"Water cooled condensor",null,null,null,"40101721","Water cooled condensor","40101721",12913,12913,12913,"40101721"]
[null,{"$f":"IFERROR(INDEX($G$7:$H$13233,$L12920,COLUMNS($B$6:B12919)),\"\")","v":"24112603"},"Water distribution kit",null,null,null,"24112603","Water distribution kit","24112603",12914,12914,12914,"24112603"]
[null,{"$f":"IFERROR(INDEX($G$7:$H$13233,$L12921,COLUMNS($B$6:B12920)),\"\")","v":"57030303"},"Water distribution kit",null,null,null,"57030303","Water distribution kit","57030303",12915,12915,12915,"57030303"]
[null,{"$f":"IFERROR(INDEX($G$7:$H$13233,$L12922,COLUMNS($B$6:B12921)),\"\")","v":"83101504"},"Water distribution management",null,null,null,"83101504","Water distribution management","83101504",12916,12916,12916,"83101504"]
[null,{"$f":"IFERROR(INDEX($G$7:$H$13233,$L12923,COLUMNS($B$6:B12922)),\"\")","v":"60104204"},"Water ecology supplies",null,null,null,"60104204","Water ecology supplies","60104204",12917,12917,12917,"60104204"]
[null,{"$f":"IFERROR(INDEX($G$7:$H$13233,$L12924,COLUMNS($B$6:B12923)),\"\")","v":"41104212"},"Water filtration cartridges",null,null,null,"41104212","Water filtration cartridges","41104212",12918,12918,12918,"41104212"]
[null,{"$f":"IFERROR(INDEX($G$7:$H$13233,$L12925,COLUMNS($B$6:B12924)),\"\")","v":"15111507"},"Water gas or producer gas",null,null,null,"15111507","Water gas or producer gas","15111507",12919,12919,12919,"15111507"]
[null,{"$f":"IFERROR(INDEX($G$7:$H$13233,$L12926,COLUMNS($B$6:B12925)),\"\")","v":"72154044"},"Water hewning or use service",null,null,null,"72154044","Water hewning or use service","72154044",12920,12920,12920,"72154044"]
[null,{"$f":"IFERROR(INDEX($G$7:$H$13233,$L12927,COLUMNS($B$6:B12926)),\"\")","v":"41104416"},"Water jacketed dual chamber three gas incubators",null,null,null,"41104416","Water jacketed dual chamber three gas incubators","41104416",12921,12921,12921,"41104416"]
[null,{"$f":"IFERROR(INDEX($G$7:$H$13233,$L12928,COLUMNS($B$6:B12927)),\"\")","v":"41104418"},"Water jacketed dual chamber three gas incubators with humidity control",null,null,null,"41104418","Water jacketed dual chamber three gas incubators with humidity control","41104418",12922,12922,12922,"41104418"]
[null,{"$f":"IFERROR(INDEX($G$7:$H$13233,$L12929,COLUMNS($B$6:B12928)),\"\")","v":"41104415"},"Water jacketed single chamber three gas incubators",null,null,null,"41104415","Water jacketed single chamber three gas incubators","41104415",12923,12923,12923,"41104415"]
[null,{"$f":"IFERROR(INDEX($G$7:$H$13233,$L12930,COLUMNS($B$6:B12929)),\"\")","v":"41104417"},"Water jacketed single chamber three gas incubators with humidity control",null,null,null,"41104417","Water jacketed single chamber three gas incubators with humidity control","41104417",12924,12924,12924,"41104417"]
[null,{"$f":"IFERROR(INDEX($G$7:$H$13233,$L12931,COLUMNS($B$6:B12930)),\"\")","v":"72141121"},"Water main construction service",null,null,null,"72141121","Water main construction service","72141121",12925,12925,12925,"72141121"]
[null,{"$f":"IFERROR(INDEX($G$7:$H$13233,$L12932,COLUMNS($B$6:B12931)),\"\")","v":"41111976"},"Water meter check system",null,null,null,"41111976","Water meter check system","41111976",12926,12926,12926,"41111976"]
[null,{"$f":"IFERROR(INDEX($G$7:$H$13233,$L12933,COLUMNS($B$6:B12932)),\"\")","v":"41112505"},"Water meter spares",null,null,null,"41112505","Water meter spares","41112505",12927,12927,12927,"41112505"]
[null,{"$f":"IFERROR(INDEX($G$7:$H$13233,$L12934,COLUMNS($B$6:B12933)),\"\")","v":"41112522"},"Water meter tester",null,null,null,"41112522","Water meter tester","41112522",12928,12928,12928,"41112522"]
[null,{"$f":"IFERROR(INDEX($G$7:$H$13233,$L12935,COLUMNS($B$6:B12934)),\"\")","v":"41112504"},"Water meters",null,null,null,"41112504","Water meters","41112504",12929,12929,12929,"41112504"]
[null,{"$f":"IFERROR(INDEX($G$7:$H$13233,$L12936,COLUMNS($B$6:B12935)),\"\")","v":"60104203"},"Water models",null,null,null,"60104203","Water models","60104203",12930,12930,12930,"60104203"]
[null,{"$f":"IFERROR(INDEX($G$7:$H$13233,$L12937,COLUMNS($B$6:B12936)),\"\")","v":"30111508"},"Water permeable concrete",null,null,null,"30111508","Water permeable concrete","30111508",12931,12931,12931,"30111508"]
[null,{"$f":"IFERROR(INDEX($G$7:$H$13233,$L12938,COLUMNS($B$6:B12937)),\"\")","v":"83101505"},"Water policy advisory services",null,null,null,"83101505","Water policy advisory services","83101505",12932,12932,12932,"83101505"]
[null,{"$f":"IFERROR(INDEX($G$7:$H$13233,$L12939,COLUMNS($B$6:B12938)),\"\")","v":"77121700"},"Water pollution",null,null,null,"77121700","Water pollution","77121700",12933,12933,12933,"77121700"]
[null,{"$f":"IFERROR(INDEX($G$7:$H$13233,$L12940,COLUMNS($B$6:B12939)),\"\")","v":"70171607"},"Water pricing services",null,null,null,"70171607","Water pricing services","70171607",12934,12934,12934,"70171607"]
[null,{"$f":"IFERROR(INDEX($G$7:$H$13233,$L12941,COLUMNS($B$6:B12940)),\"\")","v":"40151510"},"Water pumps",null,null,null,"40151510","Water pumps","40151510",12935,12935,12935,"40151510"]
[null,{"$f":"IFERROR(INDEX($G$7:$H$13233,$L12942,COLUMNS($B$6:B12941)),\"\")","v":"47101514"},"Water purification equipment",null,null,null,"47101514","Water purification equipment","47101514",12936,12936,12936,"47101514"]
[null,{"$f":"IFERROR(INDEX($G$7:$H$13233,$L12943,COLUMNS($B$6:B12942)),\"\")","v":"41104201"},"Water purification reagents",null,null,null,"41104201","Water purification reagents","41104201",12937,12937,12937,"41104201"]
[null,{"$f":"IFERROR(INDEX($G$7:$H$13233,$L12944,COLUMNS($B$6:B12943)),\"\")","v":"40161609"},"Water purification system",null,null,null,"40161609","Water purification system","40161609",12938,12938,12938,"40161609"]
[null,{"$f":"IFERROR(INDEX($G$7:$H$13233,$L12945,COLUMNS($B$6:B12944)),\"\")","v":"48101716"},"Water purifier",null,null,null,"48101716","Water purifier","48101716",12939,12939,12939,"48101716"]
[null,{"$f":"IFERROR(INDEX($G$7:$H$13233,$L12946,COLUMNS($B$6:B12945)),\"\")","v":"70171501"},"Water quality assessment services",null,null,null,"70171501","Water quality assessment services","70171501",12940,12940,12940,"70171501"]
[null,{"$f":"IFERROR(INDEX($G$7:$H$13233,$L12947,COLUMNS($B$6:B12946)),\"\")","v":"83101503"},"Water quality control management",null,null,null,"83101503","Water quality control management","83101503",12941,12941,12941,"83101503"]
[null,{"$f":"IFERROR(INDEX($G$7:$H$13233,$L12948,COLUMNS($B$6:B12947)),\"\")","v":"70171601"},"Water quality management",null,null,null,"70171601","Water quality management","70171601",12942,12942,12942,"70171601"]
[null,{"$f":"IFERROR(INDEX($G$7:$H$13233,$L12949,COLUMNS($B$6:B12948)),\"\")","v":"70171600"},"Water quality management services",null,null,null,"70171600","Water quality management services","70171600",12943,12943,12943,"70171600"]
[null,{"$f":"IFERROR(INDEX($G$7:$H$13233,$L12950,COLUMNS($B$6:B12949)),\"\")","v":"70171500"},"Water resource development service",null,null,null,"70171500","Water resource development service","70171500",12944,12944,12944,"70171500"]
[null,{"$f":"IFERROR(INDEX($G$7:$H$13233,$L12951,COLUMNS($B$6:B12950)),\"\")","v":"83101502"},"Water resource management",null,null,null,"83101502","Water resource management","83101502",12945,12945,12945,"83101502"]
[null,{"$f":"IFERROR(INDEX($G$7:$H$13233,$L12952,COLUMNS($B$6:B12951)),\"\")","v":"70171606"},"Water resource recovery services",null,null,null,"70171606","Water resource recovery services","70171606",12946,12946,12946,"70171606"]
[null,{"$f":"IFERROR(INDEX($G$7:$H$13233,$L12953,COLUMNS($B$6:B12952)),\"\")","v":"70170000"},"Water resources development and oversight",null,null,null,"70170000","Water resources development and oversight","70170000",12947,12947,12947,"70170000"]
[null,{"$f":"IFERROR(INDEX($G$7:$H$13233,$L12954,COLUMNS($B$6:B12953)),\"\")","v":"70171504"},"Water resources mapping services",null,null,null,"70171504","Water resources mapping services","70171504",12948,12948,12948,"70171504"]
[null,{"$f":"IFERROR(INDEX($G$7:$H$13233,$L12955,COLUMNS($B$6:B12954)),\"\")","v":"70171502"},"Water resources planning services",null,null,null,"70171502","Water resources planning services","70171502",12949,12949,12949,"70171502"]
[null,{"$f":"IFERROR(INDEX($G$7:$H$13233,$L12956,COLUMNS($B$6:B12955)),\"\")","v":"70171605"},"Water rights advisory services",null,null,null,"70171605","Water rights advisory services","70171605",12950,12950,12950,"70171605"]
[null,{"$f":"IFERROR(INDEX($G$7:$H$13233,$L12957,COLUMNS($B$6:B12956)),\"\")","v":"46161600"},"Water safety",null,null,null,"46161600","Water safety","46161600",12951,12951,12951,"46161600"]
[null,{"$f":"IFERROR(INDEX($G$7:$H$13233,$L12958,COLUMNS($B$6:B12957)),\"\")","v":"41104023"},"Water sampler accessories",null,null,null,"41104023","Water sampler accessories","41104023",12952,12952,12952,"41104023"]
[null,{"$f":"IFERROR(INDEX($G$7:$H$13233,$L12959,COLUMNS($B$6:B12958)),\"\")","v":"41104007"},"Water samplers",null,null,null,"41104007","Water samplers","41104007",12953,12953,12953,"41104007"]
[null,{"$f":"IFERROR(INDEX($G$7:$H$13233,$L12960,COLUMNS($B$6:B12959)),\"\")","v":"41111965"},"Water sensor",null,null,null,"41111965","Water sensor","41111965",12954,12954,12954,"41111965"]
[null,{"$f":"IFERROR(INDEX($G$7:$H$13233,$L12961,COLUMNS($B$6:B12960)),\"\")","v":"25191538"},"Water Servicing Unit ",null,null,null,"25191538","Water Servicing Unit ","25191538",12955,12955,12955,"25191538"]
[null,{"$f":"IFERROR(INDEX($G$7:$H$13233,$L12962,COLUMNS($B$6:B12961)),\"\")","v":"21101803"},"Water sprinklers",null,null,null,"21101803","Water sprinklers","21101803",12956,12956,12956,"21101803"]
[null,{"$f":"IFERROR(INDEX($G$7:$H$13233,$L12963,COLUMNS($B$6:B12962)),\"\")","v":"25101910"},"Water sprinkling truck",null,null,null,"25101910","Water sprinkling truck","25101910",12957,12957,12957,"25101910"]
[null,{"$f":"IFERROR(INDEX($G$7:$H$13233,$L12964,COLUMNS($B$6:B12963)),\"\")","v":"48101619"},"Water sterilization system",null,null,null,"48101619","Water sterilization system","48101619",12958,12958,12958,"48101619"]
[null,{"$f":"IFERROR(INDEX($G$7:$H$13233,$L12965,COLUMNS($B$6:B12964)),\"\")","v":"24111810"},"Water storage tanks",null,null,null,"24111810","Water storage tanks","24111810",12959,12959,12959,"24111810"]
[null,{"$f":"IFERROR(INDEX($G$7:$H$13233,$L12966,COLUMNS($B$6:B12965)),\"\")","v":"25101946"},"Water Tanker ",null,null,null,"25101946","Water Tanker ","25101946",12960,12960,12960,"25101946"]
[null,{"$f":"IFERROR(INDEX($G$7:$H$13233,$L12967,COLUMNS($B$6:B12966)),\"\")","v":"78111701"},"Water taxis",null,null,null,"78111701","Water taxis","78111701",12961,12961,12961,"78111701"]
[null,{"$f":"IFERROR(INDEX($G$7:$H$13233,$L12968,COLUMNS($B$6:B12967)),\"\")","v":"49241704"},"Water test kit or solutions",null,null,null,"49241704","Water test kit or solutions","49241704",12962,12962,12962,"49241704"]
[null,{"$f":"IFERROR(INDEX($G$7:$H$13233,$L12969,COLUMNS($B$6:B12968)),\"\")","v":"60104200"},"Water testing and conservation and ecology",null,null,null,"60104200","Water testing and conservation and ecology","60104200",12963,12963,12963,"60104200"]
[null,{"$f":"IFERROR(INDEX($G$7:$H$13233,$L12970,COLUMNS($B$6:B12969)),\"\")","v":"60104202"},"Water testing and sampling kits",null,null,null,"60104202","Water testing and sampling kits","60104202",12964,12964,12964,"60104202"]
[null,{"$f":"IFERROR(INDEX($G$7:$H$13233,$L12971,COLUMNS($B$6:B12970)),\"\")","v":"60104201"},"Water testing chemicals",null,null,null,"60104201","Water testing chemicals","60104201",12965,12965,12965,"60104201"]
[null,{"$f":"IFERROR(INDEX($G$7:$H$13233,$L12972,COLUMNS($B$6:B12971)),\"\")","v":"70171602"},"Water testing services",null,null,null,"70171602","Water testing services","70171602",12966,12966,12966,"70171602"]
[null,{"$f":"IFERROR(INDEX($G$7:$H$13233,$L12973,COLUMNS($B$6:B12972)),\"\")","v":"30171521"},"Water tight door",null,null,null,"30171521","Water tight door","30171521",12967,12967,12967,"30171521"]
[null,{"$f":"IFERROR(INDEX($G$7:$H$13233,$L12974,COLUMNS($B$6:B12973)),\"\")","v":"95121804"},"Water tower",null,null,null,"95121804","Water tower","95121804",12968,12968,12968,"95121804"]
[null,{"$f":"IFERROR(INDEX($G$7:$H$13233,$L12975,COLUMNS($B$6:B12974)),\"\")","v":"78102102"},"Water transport",null,null,null,"78102102","Water transport","78102102",12969,12969,12969,"78102102"]
[null,{"$f":"IFERROR(INDEX($G$7:$H$13233,$L12976,COLUMNS($B$6:B12975)),\"\")","v":"47101500"},"Water treatment and supply equipment",null,null,null,"47101500","Water treatment and supply equipment","47101500",12970,12970,12970,"47101500"]
[null,{"$f":"IFERROR(INDEX($G$7:$H$13233,$L12977,COLUMNS($B$6:B12976)),\"\")","v":"47101600"},"Water treatment consumables",null,null,null,"47101600","Water treatment consumables","47101600",12971,12971,12971,"47101600"]
[null,{"$f":"IFERROR(INDEX($G$7:$H$13233,$L12978,COLUMNS($B$6:B12977)),\"\")","v":"47101528"},"Water treatment dryers",null,null,null,"47101528","Water treatment dryers","47101528",12972,12972,12972,"47101528"]
[null,{"$f":"IFERROR(INDEX($G$7:$H$13233,$L12979,COLUMNS($B$6:B12978)),\"\")","v":"83101506"},"Water treatment services",null,null,null,"83101506","Water treatment services","83101506",12973,12973,12973,"83101506"]
[null,{"$f":"IFERROR(INDEX($G$7:$H$13233,$L12980,COLUMNS($B$6:B12979)),\"\")","v":"25101610"},"Water trucks",null,null,null,"25101610","Water trucks","25101610",12974,12974,12974,"25101610"]
[null,{"$f":"IFERROR(INDEX($G$7:$H$13233,$L12981,COLUMNS($B$6:B12980)),\"\")","v":"20111504"},"Water well drilling equipment",null,null,null,"20111504","Water well drilling equipment","20111504",12975,12975,12975,"20111504"]
[null,{"$f":"IFERROR(INDEX($G$7:$H$13233,$L12982,COLUMNS($B$6:B12981)),\"\")","v":"72152800"},"Water well drilling services",null,null,null,"72152800","Water well drilling services","72152800",12976,12976,12976,"72152800"]
[null,{"$f":"IFERROR(INDEX($G$7:$H$13233,$L12983,COLUMNS($B$6:B12982)),\"\")","v":"70171707"},"Water well maintenance or management services",null,null,null,"70171707","Water well maintenance or management services","70171707",12977,12977,12977,"70171707"]
[null,{"$f":"IFERROR(INDEX($G$7:$H$13233,$L12984,COLUMNS($B$6:B12983)),\"\")","v":"57030305"},"Water, sanitation and hygiene kit",null,null,null,"57030305","Water, sanitation and hygiene kit","57030305",12978,12978,12978,"57030305"]
[null,{"$f":"IFERROR(INDEX($G$7:$H$13233,$L12985,COLUMNS($B$6:B12984)),\"\")","v":"57030300"},"Water, sanitation and hygiene kits",null,null,null,"57030300","Water, sanitation and hygiene kits","57030300",12979,12979,12979,"57030300"]
[null,{"$f":"IFERROR(INDEX($G$7:$H$13233,$L12986,COLUMNS($B$6:B12985)),\"\")","v":"57333300"},"Water, sanitation and hygiene kits",null,null,null,"57333300","Water, sanitation and hygiene kits","57333300",12980,12980,12980,"57333300"]
[null,{"$f":"IFERROR(INDEX($G$7:$H$13233,$L12987,COLUMNS($B$6:B12986)),\"\")","v":"46181543"},"Waterproof jacket or raincoat",null,null,null,"46181543","Waterproof jacket or raincoat","46181543",12981,12981,12981,"46181543"]
[null,{"$f":"IFERROR(INDEX($G$7:$H$13233,$L12988,COLUMNS($B$6:B12987)),\"\")","v":"12164900"},"Waterproofing agents",null,null,null,"12164900","Waterproofing agents","12164900",12982,12982,12982,"12164900"]
[null,{"$f":"IFERROR(INDEX($G$7:$H$13233,$L12989,COLUMNS($B$6:B12988)),\"\")","v":"72153209"},"Waterproofing service",null,null,null,"72153209","Waterproofing service","72153209",12983,12983,12983,"72153209"]
[null,{"$f":"IFERROR(INDEX($G$7:$H$13233,$L12990,COLUMNS($B$6:B12989)),\"\")","v":"70131706"},"Watershed management",null,null,null,"70131706","Watershed management","70131706",12984,12984,12984,"70131706"]
[null,{"$f":"IFERROR(INDEX($G$7:$H$13233,$L12991,COLUMNS($B$6:B12990)),\"\")","v":"49140000"},"Watersports equipment",null,null,null,"49140000","Watersports equipment","49140000",12985,12985,12985,"49140000"]
[null,{"$f":"IFERROR(INDEX($G$7:$H$13233,$L12992,COLUMNS($B$6:B12991)),\"\")","v":"72141213"},"Waterway construction service",null,null,null,"72141213","Waterway construction service","72141213",12986,12986,12986,"72141213"]
[null,{"$f":"IFERROR(INDEX($G$7:$H$13233,$L12993,COLUMNS($B$6:B12992)),\"\")","v":"41113667"},"Watt hour meter test equipment",null,null,null,"41113667","Watt hour meter test equipment","41113667",12987,12987,12987,"41113667"]
[null,{"$f":"IFERROR(INDEX($G$7:$H$13233,$L12994,COLUMNS($B$6:B12993)),\"\")","v":"41113640"},"Wattmeters",null,null,null,"41113640","Wattmeters","41113640",12988,12988,12988,"41113640"]
[null,{"$f":"IFERROR(INDEX($G$7:$H$13233,$L12995,COLUMNS($B$6:B12994)),\"\")","v":"43222823"},"Wave division mulitplexer WDM",null,null,null,"43222823","Wave division mulitplexer WDM","43222823",12989,12989,12989,"43222823"]
[null,{"$f":"IFERROR(INDEX($G$7:$H$13233,$L12996,COLUMNS($B$6:B12995)),\"\")","v":"83112303"},"Wave division multiplexing WDM",null,null,null,"83112303","Wave division multiplexing WDM","83112303",12990,12990,12990,"83112303"]
[null,{"$f":"IFERROR(INDEX($G$7:$H$13233,$L12997,COLUMNS($B$6:B12996)),\"\")","v":"43223342"},"Waveguide and connection kit",null,null,null,"43223342","Waveguide and connection kit","43223342",12991,12991,12991,"43223342"]
[null,{"$f":"IFERROR(INDEX($G$7:$H$13233,$L12998,COLUMNS($B$6:B12997)),\"\")","v":"14121806"},"Waxed paper",null,null,null,"14121806","Waxed paper","14121806",12992,12992,12992,"14121806"]
[null,{"$f":"IFERROR(INDEX($G$7:$H$13233,$L12999,COLUMNS($B$6:B12998)),\"\")","v":"12181500"},"Waxes",null,null,null,"12181500","Waxes","12181500",12993,12993,12993,"12181500"]
[null,{"$f":"IFERROR(INDEX($G$7:$H$13233,$L13000,COLUMNS($B$6:B12999)),\"\")","v":"12180000"},"Waxes and oils",null,null,null,"12180000","Waxes and oils","12180000",12994,12994,12994,"12180000"]
[null,{"$f":"IFERROR(INDEX($G$7:$H$13233,$L13001,COLUMNS($B$6:B13000)),\"\")","v":"46151605"},"Weapon or explosives detectors and supplies",null,null,null,"46151605","Weapon or explosives detectors and supplies","46151605",12995,12995,12995,"46151605"]
[null,{"$f":"IFERROR(INDEX($G$7:$H$13233,$L13002,COLUMNS($B$6:B13001)),\"\")","v":"92111604"},"Weapons destruction",null,null,null,"92111604","Weapons destruction","92111604",12996,12996,12996,"92111604"]
[null,{"$f":"IFERROR(INDEX($G$7:$H$13233,$L13003,COLUMNS($B$6:B13002)),\"\")","v":"41114625"},"Wear testers",null,null,null,"41114625","Wear testers","41114625",12997,12997,12997,"41114625"]
[null,{"$f":"IFERROR(INDEX($G$7:$H$13233,$L13004,COLUMNS($B$6:B13003)),\"\")","v":"43211511"},"Wearable computing devices",null,null,null,"43211511","Wearable computing devices","43211511",12998,12998,12998,"43211511"]
[null,{"$f":"IFERROR(INDEX($G$7:$H$13233,$L13005,COLUMNS($B$6:B13004)),\"\")","v":"41114416"},"Weather chart recorder or scanner",null,null,null,"41114416","Weather chart recorder or scanner","41114416",12999,12999,12999,"41114416"]
[null,{"$f":"IFERROR(INDEX($G$7:$H$13233,$L13006,COLUMNS($B$6:B13005)),\"\")","v":"44101510"},"Weather facsimile or radiofax",null,null,null,"44101510","Weather facsimile or radiofax","44101510",13000,13000,13000,"44101510"]
[null,{"$f":"IFERROR(INDEX($G$7:$H$13233,$L13007,COLUMNS($B$6:B13006)),\"\")","v":"25111529"},"Weather ship",null,null,null,"25111529","Weather ship","25111529",13001,13001,13001,"25111529"]
[null,{"$f":"IFERROR(INDEX($G$7:$H$13233,$L13008,COLUMNS($B$6:B13007)),\"\")","v":"41114410"},"Weather stations",null,null,null,"41114410","Weather stations","41114410",13002,13002,13002,"41114410"]
[null,{"$f":"IFERROR(INDEX($G$7:$H$13233,$L13009,COLUMNS($B$6:B13008)),\"\")","v":"45121520"},"Web cameras",null,null,null,"45121520","Web cameras","45121520",13003,13003,13003,"45121520"]
[null,{"$f":"IFERROR(INDEX($G$7:$H$13233,$L13010,COLUMNS($B$6:B13009)),\"\")","v":"23152000"},"Web handling and control machinery and equipment and supplies",null,null,null,"23152000","Web handling and control machinery and equipment and supplies","23152000",13004,13004,13004,"23152000"]
[null,{"$f":"IFERROR(INDEX($G$7:$H$13233,$L13011,COLUMNS($B$6:B13010)),\"\")","v":"43232107"},"Web page creation and editing software",null,null,null,"43232107","Web page creation and editing software","43232107",13005,13005,13005,"43232107"]
[null,{"$f":"IFERROR(INDEX($G$7:$H$13233,$L13012,COLUMNS($B$6:B13011)),\"\")","v":"43232408"},"Web platform development software",null,null,null,"43232408","Web platform development software","43232408",13006,{"$f":"IF(ISNUMBER(SEARCH($H$4,H13012)),J13012,\"\")","v":13006},{"$f":"IFERROR(SMALL($K$7:$K$13233,J13012),\"\")","v":13006},"43232408"]
[null,{"$f":"IFERROR(INDEX($G$7:$H$13233,$L13013,COLUMNS($B$6:B13012)),\"\")","v":"81112104"},"Web search engine providers",null,null,null,"81112104","Web search engine providers","81112104",13007,13007,13007,"81112104"]
[null,{"$f":"IFERROR(INDEX($G$7:$H$13233,$L13014,COLUMNS($B$6:B13013)),\"\")","v":"11162125"},"Webbing fabrics",null,null,null,"11162125","Webbing fabrics","11162125",13008,13008,13008,"11162125"]
[null,{"$f":"IFERROR(INDEX($G$7:$H$13233,$L13015,COLUMNS($B$6:B13014)),\"\")","v":"21101504"},"Weeders",null,null,null,"21101504","Weeders","21101504",13009,13009,13009,"21101504"]
[null,{"$f":"IFERROR(INDEX($G$7:$H$13233,$L13016,COLUMNS($B$6:B13015)),\"\")","v":"49201600"},"Weight and resistance training equipment",null,null,null,"49201600","Weight and resistance training equipment","49201600",13010,13010,13010,"49201600"]
[null,{"$f":"IFERROR(INDEX($G$7:$H$13233,$L13017,COLUMNS($B$6:B13016)),\"\")","v":"41111516"},"Weight measuring instrument accessories",null,null,null,"41111516","Weight measuring instrument accessories","41111516",13011,13011,13011,"41111516"]
[null,{"$f":"IFERROR(INDEX($G$7:$H$13233,$L13018,COLUMNS($B$6:B13017)),\"\")","v":"41111500"},"Weight measuring instruments",null,null,null,"41111500","Weight measuring instruments","41111500",13012,13012,13012,"41111500"]
[null,{"$f":"IFERROR(INDEX($G$7:$H$13233,$L13019,COLUMNS($B$6:B13018)),\"\")","v":"41111523"},"Weight prototype",null,null,null,"41111523","Weight prototype","41111523",13013,13013,13013,"41111523"]
[null,{"$f":"IFERROR(INDEX($G$7:$H$13233,$L13020,COLUMNS($B$6:B13019)),\"\")","v":"40181800"},"Welded steel tubes",null,null,null,"40181800","Welded steel tubes","40181800",13014,13014,13014,"40181800"]
[null,{"$f":"IFERROR(INDEX($G$7:$H$13233,$L13021,COLUMNS($B$6:B13020)),\"\")","v":"46181540"},"Welder gloves",null,null,null,"46181540","Welder gloves","46181540",13015,13015,13015,"46181540"]
[null,{"$f":"IFERROR(INDEX($G$7:$H$13233,$L13022,COLUMNS($B$6:B13021)),\"\")","v":"23271700"},"Welding and soldering and brazing accessories",null,null,null,"23271700","Welding and soldering and brazing accessories","23271700",13016,13016,13016,"23271700"]
[null,{"$f":"IFERROR(INDEX($G$7:$H$13233,$L13023,COLUMNS($B$6:B13022)),\"\")","v":"23270000"},"Welding and soldering and brazing machinery and accessories and supplies",null,null,null,"23270000","Welding and soldering and brazing machinery and accessories and supplies","23270000",13017,13017,13017,"23270000"]
[null,{"$f":"IFERROR(INDEX($G$7:$H$13233,$L13024,COLUMNS($B$6:B13023)),\"\")","v":"23271800"},"Welding and soldering and brazing supplies",null,null,null,"23271800","Welding and soldering and brazing supplies","23271800",13018,13018,13018,"23271800"]
[null,{"$f":"IFERROR(INDEX($G$7:$H$13233,$L13025,COLUMNS($B$6:B13024)),\"\")","v":"41111640"},"Welding gauge",null,null,null,"41111640","Welding gauge","41111640",13019,13019,13019,"41111640"]
[null,{"$f":"IFERROR(INDEX($G$7:$H$13233,$L13026,COLUMNS($B$6:B13025)),\"\")","v":"23271400"},"Welding machinery",null,null,null,"23271400","Welding machinery","23271400",13020,13020,13020,"23271400"]
[null,{"$f":"IFERROR(INDEX($G$7:$H$13233,$L13027,COLUMNS($B$6:B13026)),\"\")","v":"23271712"},"Welding or soldering kit",null,null,null,"23271712","Welding or soldering kit","23271712",13021,13021,13021,"23271712"]
[null,{"$f":"IFERROR(INDEX($G$7:$H$13233,$L13028,COLUMNS($B$6:B13027)),\"\")","v":"23271812"},"Welding rod",null,null,null,"23271812","Welding rod","23271812",13022,13022,13022,"23271812"]
[null,{"$f":"IFERROR(INDEX($G$7:$H$13233,$L13029,COLUMNS($B$6:B13028)),\"\")","v":"41114626"},"Welding testing apparatus",null,null,null,"41114626","Welding testing apparatus","41114626",13023,13023,13023,"41114626"]
[null,{"$f":"IFERROR(INDEX($G$7:$H$13233,$L13030,COLUMNS($B$6:B13029)),\"\")","v":"95121805"},"Well",null,null,null,"95121805","Well","95121805",13024,13024,13024,"95121805"]
[null,{"$f":"IFERROR(INDEX($G$7:$H$13233,$L13031,COLUMNS($B$6:B13030)),\"\")","v":"71141103"},"Well abandonment platform removal services",null,null,null,"71141103","Well abandonment platform removal services","71141103",13025,13025,13025,"71141103"]
[null,{"$f":"IFERROR(INDEX($G$7:$H$13233,$L13032,COLUMNS($B$6:B13031)),\"\")","v":"71120000"},"Well drilling and construction services",null,null,null,"71120000","Well drilling and construction services","71120000",13026,13026,13026,"71120000"]
[null,{"$f":"IFERROR(INDEX($G$7:$H$13233,$L13033,COLUMNS($B$6:B13032)),\"\")","v":"20110000"},"Well drilling and operation equipment",null,null,null,"20110000","Well drilling and operation equipment","20110000",13027,13027,13027,"20110000"]
[null,{"$f":"IFERROR(INDEX($G$7:$H$13233,$L13034,COLUMNS($B$6:B13033)),\"\")","v":"81101501"},"Well engineering",null,null,null,"81101501","Well engineering","81101501",13028,13028,13028,"81101501"]
[null,{"$f":"IFERROR(INDEX($G$7:$H$13233,$L13035,COLUMNS($B$6:B13034)),\"\")","v":"71141100"},"Well plugging and abandonment services",null,null,null,"71141100","Well plugging and abandonment services","71141100",13029,13029,13029,"71141100"]
[null,{"$f":"IFERROR(INDEX($G$7:$H$13233,$L13036,COLUMNS($B$6:B13035)),\"\")","v":"11162131"},"Welting fabrics",null,null,null,"11162131","Welting fabrics","11162131",13030,13030,13030,"11162131"]
[null,{"$f":"IFERROR(INDEX($G$7:$H$13233,$L13037,COLUMNS($B$6:B13036)),\"\")","v":"42311528"},"Wet dressing systems",null,null,null,"42311528","Wet dressing systems","42311528",13031,13031,13031,"42311528"]
[null,{"$f":"IFERROR(INDEX($G$7:$H$13233,$L13038,COLUMNS($B$6:B13037)),\"\")","v":"47131618"},"Wet mops",null,null,null,"47131618","Wet mops","47131618",13032,13032,13032,"47131618"]
[null,{"$f":"IFERROR(INDEX($G$7:$H$13233,$L13039,COLUMNS($B$6:B13038)),\"\")","v":"14121603"},"Wet strength tissue papers",null,null,null,"14121603","Wet strength tissue papers","14121603",13033,13033,13033,"14121603"]
[null,{"$f":"IFERROR(INDEX($G$7:$H$13233,$L13040,COLUMNS($B$6:B13039)),\"\")","v":"70161710"},"Wetland ecology and conservation service",null,null,null,"70161710","Wetland ecology and conservation service","70161710",13034,13034,13034,"70161710"]
[null,{"$f":"IFERROR(INDEX($G$7:$H$13233,$L13041,COLUMNS($B$6:B13040)),\"\")","v":"49141506"},"Wetsuits",null,null,null,"49141506","Wetsuits","49141506",13035,13035,13035,"49141506"]
[null,{"$f":"IFERROR(INDEX($G$7:$H$13233,$L13042,COLUMNS($B$6:B13041)),\"\")","v":"78204007"},"Wgs84 Survey And Pans/Ops Procedure Services",null,null,null,"78204007","Wgs84 Survey And Pans/Ops Procedure Services","78204007",13036,13036,13036,"78204007"]
[null,{"$f":"IFERROR(INDEX($G$7:$H$13233,$L13043,COLUMNS($B$6:B13042)),\"\")","v":"50221306"},"Wheat Flour (WFP food convention)",null,null,null,"50221306","Wheat Flour (WFP food convention)","50221306",13037,13037,13037,"50221306"]
[null,{"$f":"IFERROR(INDEX($G$7:$H$13233,$L13044,COLUMNS($B$6:B13043)),\"\")","v":"10151601"},"Wheat seeds",null,null,null,"10151601","Wheat seeds","10151601",13038,13038,13038,"10151601"]
[null,{"$f":"IFERROR(INDEX($G$7:$H$13233,$L13045,COLUMNS($B$6:B13044)),\"\")","v":"50501722"},"Wheat Soya Blend (WFP food convention) ",null,null,null,"50501722","Wheat Soya Blend (WFP food convention) ","50501722",13039,13039,13039,"50501722"]
[null,{"$f":"IFERROR(INDEX($G$7:$H$13233,$L13046,COLUMNS($B$6:B13045)),\"\")","v":"50501726"},"Wheat Soya Milk (WFP food convention) ",null,null,null,"50501726","Wheat Soya Milk (WFP food convention) ","50501726",13040,13040,13040,"50501726"]
[null,{"$f":"IFERROR(INDEX($G$7:$H$13233,$L13047,COLUMNS($B$6:B13046)),\"\")","v":"22101523"},"Wheel bulldozers",null,null,null,"22101523","Wheel bulldozers","22101523",13041,13041,13041,"22101523"]
[null,{"$f":"IFERROR(INDEX($G$7:$H$13233,$L13048,COLUMNS($B$6:B13047)),\"\")","v":"22101525"},"Wheel excavators",null,null,null,"22101525","Wheel excavators","22101525",13042,13042,13042,"22101525"]
[null,{"$f":"IFERROR(INDEX($G$7:$H$13233,$L13049,COLUMNS($B$6:B13048)),\"\")","v":"22101528"},"Wheel loaders",null,null,null,"22101528","Wheel loaders","22101528",13043,13043,13043,"22101528"]
[null,{"$f":"IFERROR(INDEX($G$7:$H$13233,$L13050,COLUMNS($B$6:B13049)),\"\")","v":"24101507"},"Wheelbarrows",null,null,null,"24101507","Wheelbarrows","24101507",13044,13044,13044,"24101507"]
[null,{"$f":"IFERROR(INDEX($G$7:$H$13233,$L13051,COLUMNS($B$6:B13050)),\"\")","v":"42192208"},"Wheelchair accessories",null,null,null,"42192208","Wheelchair accessories","42192208",13045,13045,13045,"42192208"]
[null,{"$f":"IFERROR(INDEX($G$7:$H$13233,$L13052,COLUMNS($B$6:B13051)),\"\")","v":"42192214"},"Wheelchair lifts",null,null,null,"42192214","Wheelchair lifts","42192214",13046,13046,13046,"42192214"]
[null,{"$f":"IFERROR(INDEX($G$7:$H$13233,$L13053,COLUMNS($B$6:B13052)),\"\")","v":"42182807"},"Wheelchair platform scales",null,null,null,"42182807","Wheelchair platform scales","42182807",13047,13047,13047,"42182807"]
[null,{"$f":"IFERROR(INDEX($G$7:$H$13233,$L13054,COLUMNS($B$6:B13053)),\"\")","v":"42192209"},"Wheelchair ramps",null,null,null,"42192209","Wheelchair ramps","42192209",13048,13048,13048,"42192209"]
[null,{"$f":"IFERROR(INDEX($G$7:$H$13233,$L13055,COLUMNS($B$6:B13054)),\"\")","v":"42192210"},"Wheelchairs",null,null,null,"42192210","Wheelchairs","42192210",13049,13049,13049,"42192210"]
[null,{"$f":"IFERROR(INDEX($G$7:$H$13233,$L13056,COLUMNS($B$6:B13055)),\"\")","v":"25171900"},"Wheels and wheel trims",null,null,null,"25171900","Wheels and wheel trims","25171900",13050,13050,13050,"25171900"]
[null,{"$f":"IFERROR(INDEX($G$7:$H$13233,$L13057,COLUMNS($B$6:B13056)),\"\")","v":"30181806"},"Whirlpool jet",null,null,null,"30181806","Whirlpool jet","30181806",13051,13051,13051,"30181806"]
[null,{"$f":"IFERROR(INDEX($G$7:$H$13233,$L13058,COLUMNS($B$6:B13057)),\"\")","v":"60131105"},"Whistle",null,null,null,"60131105","Whistle","60131105",13052,13052,13052,"60131105"]
[null,{"$f":"IFERROR(INDEX($G$7:$H$13233,$L13059,COLUMNS($B$6:B13058)),\"\")","v":"50421857"},"White Beans (WFP food convention)",null,null,null,"50421857","White Beans (WFP food convention)","50421857",13053,13053,13053,"50421857"]
[null,{"$f":"IFERROR(INDEX($G$7:$H$13233,$L13060,COLUMNS($B$6:B13059)),\"\")","v":"30265403"},"White iron hot rolled sheet",null,null,null,"30265403","White iron hot rolled sheet","30265403",13054,13054,13054,"30265403"]
[null,{"$f":"IFERROR(INDEX($G$7:$H$13233,$L13061,COLUMNS($B$6:B13060)),\"\")","v":"44111912"},"Whiteboard eraser",null,null,null,"44111912","Whiteboard eraser","44111912",13055,13055,13055,"44111912"]
[null,{"$f":"IFERROR(INDEX($G$7:$H$13233,$L13062,COLUMNS($B$6:B13061)),\"\")","v":"50424006"},"Whole Green Peas (WFP food convention)",null,null,null,"50424006","Whole Green Peas (WFP food convention)","50424006",13056,13056,13056,"50424006"]
[null,{"$f":"IFERROR(INDEX($G$7:$H$13233,$L13063,COLUMNS($B$6:B13062)),\"\")","v":"50404509"},"Whole Red Lentils (WFP food convention)",null,null,null,"50404509","Whole Red Lentils (WFP food convention)","50404509",13057,13057,13057,"50404509"]
[null,{"$f":"IFERROR(INDEX($G$7:$H$13233,$L13064,COLUMNS($B$6:B13063)),\"\")","v":"50425408"},"Whole Yellow Peas (WFP food convention)",null,null,null,"50425408","Whole Yellow Peas (WFP food convention)","50425408",13058,13058,13058,"50425408"]
[null,{"$f":"IFERROR(INDEX($G$7:$H$13233,$L13065,COLUMNS($B$6:B13064)),\"\")","v":"80141702"},"Wholesale distribution services",null,null,null,"80141702","Wholesale distribution services","80141702",13059,13059,13059,"80141702"]
[null,{"$f":"IFERROR(INDEX($G$7:$H$13233,$L13066,COLUMNS($B$6:B13065)),\"\")","v":"81111701"},"Wide area network communications design",null,null,null,"81111701","Wide area network communications design","81111701",13060,13060,13060,"81111701"]
[null,{"$f":"IFERROR(INDEX($G$7:$H$13233,$L13067,COLUMNS($B$6:B13066)),\"\")","v":"81111804"},"Wide area network WAN maintenance or support",null,null,null,"81111804","Wide area network WAN maintenance or support","81111804",13061,13061,13061,"81111804"]
[null,{"$f":"IFERROR(INDEX($G$7:$H$13233,$L13068,COLUMNS($B$6:B13067)),\"\")","v":"41111728"},"Wide field microscopes",null,null,null,"41111728","Wide field microscopes","41111728",13062,13062,13062,"41111728"]
[null,{"$f":"IFERROR(INDEX($G$7:$H$13233,$L13069,COLUMNS($B$6:B13068)),\"\")","v":"14111545"},"Wide format printer paper",null,null,null,"14111545","Wide format printer paper","14111545",13063,13063,13063,"14111545"]
[null,{"$f":"IFERROR(INDEX($G$7:$H$13233,$L13070,COLUMNS($B$6:B13069)),\"\")","v":"10102000"},"Wild animals",null,null,null,"10102000","Wild animals","10102000",13064,13064,13064,"10102000"]
[null,{"$f":"IFERROR(INDEX($G$7:$H$13233,$L13071,COLUMNS($B$6:B13070)),\"\")","v":"70160000"},"Wildlife and flora",null,null,null,"70160000","Wildlife and flora","70160000",13065,13065,13065,"70160000"]
[null,{"$f":"IFERROR(INDEX($G$7:$H$13233,$L13072,COLUMNS($B$6:B13071)),\"\")","v":"46171648"},"Wildlife Control Equipment",null,null,null,"46171648","Wildlife Control Equipment","46171648",13066,13066,13066,"46171648"]
[null,{"$f":"IFERROR(INDEX($G$7:$H$13233,$L13073,COLUMNS($B$6:B13072)),\"\")","v":"24101608"},"Winches",null,null,null,"24101608","Winches","24101608",13067,13067,13067,"24101608"]
[null,{"$f":"IFERROR(INDEX($G$7:$H$13233,$L13074,COLUMNS($B$6:B13073)),\"\")","v":"26111603"},"Wind generators",null,null,null,"26111603","Wind generators","26111603",13068,13068,13068,"26111603"]
[null,{"$f":"IFERROR(INDEX($G$7:$H$13233,$L13075,COLUMNS($B$6:B13074)),\"\")","v":"26131509"},"Wind power plants",null,null,null,"26131509","Wind power plants","26131509",13069,13069,13069,"26131509"]
[null,{"$f":"IFERROR(INDEX($G$7:$H$13233,$L13076,COLUMNS($B$6:B13075)),\"\")","v":"41114409"},"Wind surface observing apparatus",null,null,null,"41114409","Wind surface observing apparatus","41114409",13070,13070,13070,"41114409"]
[null,{"$f":"IFERROR(INDEX($G$7:$H$13233,$L13077,COLUMNS($B$6:B13076)),\"\")","v":"41103326"},"Wind tunnel",null,null,null,"41103326","Wind tunnel","41103326",13071,13071,13071,"41103326"]
[null,{"$f":"IFERROR(INDEX($G$7:$H$13233,$L13078,COLUMNS($B$6:B13077)),\"\")","v":"41114427"},"Wind vane",null,null,null,"41114427","Wind vane","41114427",13072,13072,13072,"41114427"]
[null,{"$f":"IFERROR(INDEX($G$7:$H$13233,$L13079,COLUMNS($B$6:B13078)),\"\")","v":"72154032"},"Window and door and screening installation and repair service",null,null,null,"72154032","Window and door and screening installation and repair service","72154032",13073,13073,13073,"72154032"]
[null,{"$f":"IFERROR(INDEX($G$7:$H$13233,$L13080,COLUMNS($B$6:B13079)),\"\")","v":"72152400"},"Window and door installation and erection services",null,null,null,"72152400","Window and door installation and erection services","72152400",13074,13074,13074,"72152400"]
[null,{"$f":"IFERROR(INDEX($G$7:$H$13233,$L13081,COLUMNS($B$6:B13080)),\"\")","v":"30171908"},"Window arch",null,null,null,"30171908","Window arch","30171908",13075,13075,13075,"30171908"]
[null,{"$f":"IFERROR(INDEX($G$7:$H$13233,$L13082,COLUMNS($B$6:B13081)),\"\")","v":"44121504"},"Window envelopes",null,null,null,"44121504","Window envelopes","44121504",13076,13076,13076,"44121504"]
[null,{"$f":"IFERROR(INDEX($G$7:$H$13233,$L13083,COLUMNS($B$6:B13082)),\"\")","v":"30171900"},"Window frames",null,null,null,"30171900","Window frames","30171900",13077,13077,13077,"30171900"]
[null,{"$f":"IFERROR(INDEX($G$7:$H$13233,$L13084,COLUMNS($B$6:B13083)),\"\")","v":"76111504"},"Window or window blind cleaning services",null,null,null,"76111504","Window or window blind cleaning services","76111504",13078,13078,13078,"76111504"]
[null,{"$f":"IFERROR(INDEX($G$7:$H$13233,$L13085,COLUMNS($B$6:B13084)),\"\")","v":"30171907"},"Window sill",null,null,null,"30171907","Window sill","30171907",13079,13079,13079,"30171907"]
[null,{"$f":"IFERROR(INDEX($G$7:$H$13233,$L13086,COLUMNS($B$6:B13085)),\"\")","v":"52131700"},"Window treatment accessories and hardware",null,null,null,"52131700","Window treatment accessories and hardware","52131700",13080,13080,13080,"52131700"]
[null,{"$f":"IFERROR(INDEX($G$7:$H$13233,$L13087,COLUMNS($B$6:B13086)),\"\")","v":"72153608"},"Window treatment installation service",null,null,null,"72153608","Window treatment installation service","72153608",13081,13081,13081,"72153608"]
[null,{"$f":"IFERROR(INDEX($G$7:$H$13233,$L13088,COLUMNS($B$6:B13087)),\"\")","v":"52130000"},"Window treatments",null,null,null,"52130000","Window treatments","52130000",13082,13082,13082,"52130000"]
[null,{"$f":"IFERROR(INDEX($G$7:$H$13233,$L13089,COLUMNS($B$6:B13088)),\"\")","v":"30171600"},"Windows",null,null,null,"30171600","Windows","30171600",13083,13083,13083,"30171600"]
[null,{"$f":"IFERROR(INDEX($G$7:$H$13233,$L13090,COLUMNS($B$6:B13089)),\"\")","v":"25171500"},"Windshield wipers",null,null,null,"25171500","Windshield wipers","25171500",13084,13084,13084,"25171500"]
[null,{"$f":"IFERROR(INDEX($G$7:$H$13233,$L13091,COLUMNS($B$6:B13090)),\"\")","v":"57060102"},"Winter clothing kit for adults",null,null,null,"57060102","Winter clothing kit for adults","57060102",13085,13085,13085,"57060102"]
[null,{"$f":"IFERROR(INDEX($G$7:$H$13233,$L13092,COLUMNS($B$6:B13091)),\"\")","v":"57060101"},"Winter clothing kit for children and infants",null,null,null,"57060101","Winter clothing kit for children and infants","57060101",13086,13086,13086,"57060101"]
[null,{"$f":"IFERROR(INDEX($G$7:$H$13233,$L13093,COLUMNS($B$6:B13092)),\"\")","v":"49150000"},"Winter sports equipment",null,null,null,"49150000","Winter sports equipment","49150000",13087,13087,13087,"49150000"]
[null,{"$f":"IFERROR(INDEX($G$7:$H$13233,$L13094,COLUMNS($B$6:B13093)),\"\")","v":"57060206"},"Winterization kit for tent",null,null,null,"57060206","Winterization kit for tent","57060206",13088,13088,13088,"57060206"]
[null,{"$f":"IFERROR(INDEX($G$7:$H$13233,$L13095,COLUMNS($B$6:B13094)),\"\")","v":"30241705"},"Winterization kit for tent ",null,null,null,"30241705","Winterization kit for tent ","30241705",13089,13089,13089,"30241705"]
[null,{"$f":"IFERROR(INDEX($G$7:$H$13233,$L13096,COLUMNS($B$6:B13095)),\"\")","v":"25171507"},"Wiper blades",null,null,null,"25171507","Wiper blades","25171507",13090,13090,13090,"25171507"]
[null,{"$f":"IFERROR(INDEX($G$7:$H$13233,$L13097,COLUMNS($B$6:B13096)),\"\")","v":"41113652"},"Wire assembly board",null,null,null,"41113652","Wire assembly board","41113652",13091,13091,13091,"41113652"]
[null,{"$f":"IFERROR(INDEX($G$7:$H$13233,$L13098,COLUMNS($B$6:B13097)),\"\")","v":"44102806"},"Wire binding machine",null,null,null,"44102806","Wire binding machine","44102806",13092,13092,13092,"44102806"]
[null,{"$f":"IFERROR(INDEX($G$7:$H$13233,$L13099,COLUMNS($B$6:B13098)),\"\")","v":"41111643"},"Wire gauge",null,null,null,"41111643","Wire gauge","41111643",13093,13093,13093,"41111643"]
[null,{"$f":"IFERROR(INDEX($G$7:$H$13233,$L13100,COLUMNS($B$6:B13099)),\"\")","v":"23300000"},"Wire machinery and equipment",null,null,null,"23300000","Wire machinery and equipment","23300000",13094,13094,13094,"23300000"]
[null,{"$f":"IFERROR(INDEX($G$7:$H$13233,$L13101,COLUMNS($B$6:B13100)),\"\")","v":"39131500"},"Wire Markers and Wire Marking Devices",null,null,null,"39131500","Wire Markers and Wire Marking Devices","39131500",13095,13095,13095,"39131500"]
[null,{"$f":"IFERROR(INDEX($G$7:$H$13233,$L13102,COLUMNS($B$6:B13101)),\"\")","v":"11162108"},"Wire mesh fabric or cloth",null,null,null,"11162108","Wire mesh fabric or cloth","11162108",13096,13096,13096,"11162108"]
[null,{"$f":"IFERROR(INDEX($G$7:$H$13233,$L13103,COLUMNS($B$6:B13102)),\"\")","v":"41111628"},"Wire meter",null,null,null,"41111628","Wire meter","41111628",13097,13097,13097,"41111628"]
[null,{"$f":"IFERROR(INDEX($G$7:$H$13233,$L13104,COLUMNS($B$6:B13103)),\"\")","v":"39131600"},"Wire protection devices",null,null,null,"39131600","Wire protection devices","39131600",13098,13098,13098,"39131600"]
[null,{"$f":"IFERROR(INDEX($G$7:$H$13233,$L13105,COLUMNS($B$6:B13104)),\"\")","v":"39131700"},"Wire Raceways Conduit and Busways",null,null,null,"39131700","Wire Raceways Conduit and Busways","39131700",13099,13099,13099,"39131700"]
[null,{"$f":"IFERROR(INDEX($G$7:$H$13233,$L13106,COLUMNS($B$6:B13105)),\"\")","v":"41111819"},"Wire rope tester",null,null,null,"41111819","Wire rope tester","41111819",13100,13100,13100,"41111819"]
[null,{"$f":"IFERROR(INDEX($G$7:$H$13233,$L13107,COLUMNS($B$6:B13106)),\"\")","v":"43221527"},"Wire tapping protector",null,null,null,"43221527","Wire tapping protector","43221527",13101,13101,13101,"43221527"]
[null,{"$f":"IFERROR(INDEX($G$7:$H$13233,$L13108,COLUMNS($B$6:B13107)),\"\")","v":"23301500"},"Wire working machinery and equipment and accessories",null,null,null,"23301500","Wire working machinery and equipment and accessories","23301500",13102,13102,13102,"23301500"]
[null,{"$f":"IFERROR(INDEX($G$7:$H$13233,$L13109,COLUMNS($B$6:B13108)),\"\")","v":"30171709"},"Wired glass",null,null,null,"30171709","Wired glass","30171709",13103,13103,13103,"30171709"]
[null,{"$f":"IFERROR(INDEX($G$7:$H$13233,$L13110,COLUMNS($B$6:B13109)),\"\")","v":"43221730"},"Wired telecommunications transmitter",null,null,null,"43221730","Wired telecommunications transmitter","43221730",13104,13104,13104,"43221730"]
[null,{"$f":"IFERROR(INDEX($G$7:$H$13233,$L13111,COLUMNS($B$6:B13110)),\"\")","v":"43222640"},"Wireless access point",null,null,null,"43222640","Wireless access point","43222640",13105,13105,13105,"43222640"]
[null,{"$f":"IFERROR(INDEX($G$7:$H$13233,$L13112,COLUMNS($B$6:B13111)),\"\")","v":"43222631"},"Wireless fidelity base stations Wifi",null,null,null,"43222631","Wireless fidelity base stations Wifi","43222631",13106,13106,13106,"43222631"]
[null,{"$f":"IFERROR(INDEX($G$7:$H$13233,$L13113,COLUMNS($B$6:B13112)),\"\")","v":"43223206"},"Wireless internet gateway",null,null,null,"43223206","Wireless internet gateway","43223206",13107,13107,13107,"43223206"]
[null,{"$f":"IFERROR(INDEX($G$7:$H$13233,$L13114,COLUMNS($B$6:B13113)),\"\")","v":"43201409"},"Wireless network interface cards",null,null,null,"43201409","Wireless network interface cards","43201409",13108,13108,13108,"43201409"]
[null,{"$f":"IFERROR(INDEX($G$7:$H$13233,$L13115,COLUMNS($B$6:B13114)),\"\")","v":"46171627"},"Wireless signaler system for hearing impaired",null,null,null,"46171627","Wireless signaler system for hearing impaired","46171627",13109,13109,13109,"46171627"]
[null,{"$f":"IFERROR(INDEX($G$7:$H$13233,$L13116,COLUMNS($B$6:B13115)),\"\")","v":"43232910"},"Wireless software",null,null,null,"43232910","Wireless software","43232910",13110,13110,13110,"43232910"]
[null,{"$f":"IFERROR(INDEX($G$7:$H$13233,$L13117,COLUMNS($B$6:B13116)),\"\")","v":"46171637"},"Wiretap device",null,null,null,"46171637","Wiretap device","46171637",13111,13111,13111,"46171637"]
[null,{"$f":"IFERROR(INDEX($G$7:$H$13233,$L13118,COLUMNS($B$6:B13117)),\"\")","v":"26121700"},"Wiring harness",null,null,null,"26121700","Wiring harness","26121700",13112,13112,13112,"26121700"]
[null,{"$f":"IFERROR(INDEX($G$7:$H$13233,$L13119,COLUMNS($B$6:B13118)),\"\")","v":"41113677"},"Withstand voltage tester",null,null,null,"41113677","Withstand voltage tester","41113677",13113,13113,13113,"41113677"]
[null,{"$f":"IFERROR(INDEX($G$7:$H$13233,$L13120,COLUMNS($B$6:B13119)),\"\")","v":"80121902"},"Witness service",null,null,null,"80121902","Witness service","80121902",13114,13114,13114,"80121902"]
[null,{"$f":"IFERROR(INDEX($G$7:$H$13233,$L13121,COLUMNS($B$6:B13120)),\"\")","v":"43223107"},"WLAN mobile core network equipment and components",null,null,null,"43223107","WLAN mobile core network equipment and components","43223107",13115,13115,13115,"43223107"]
[null,{"$f":"IFERROR(INDEX($G$7:$H$13233,$L13122,COLUMNS($B$6:B13121)),\"\")","v":"43223108"},"WLAN wireless access network equipment and components",null,null,null,"43223108","WLAN wireless access network equipment and components","43223108",13116,13116,13116,"43223108"]
[null,{"$f":"IFERROR(INDEX($G$7:$H$13233,$L13123,COLUMNS($B$6:B13122)),\"\")","v":"11111613"},"Wollastonite",null,null,null,"11111613","Wollastonite","11111613",13117,13117,13117,"11111613"]
[null,{"$f":"IFERROR(INDEX($G$7:$H$13233,$L13124,COLUMNS($B$6:B13123)),\"\")","v":"94131803"},"Women liberation movements",null,null,null,"94131803","Women liberation movements","94131803",13118,13118,13118,"94131803"]
[null,{"$f":"IFERROR(INDEX($G$7:$H$13233,$L13125,COLUMNS($B$6:B13124)),\"\")","v":"53111502"},"Womens boots",null,null,null,"53111502","Womens boots","53111502",13119,13119,13119,"53111502"]
[null,{"$f":"IFERROR(INDEX($G$7:$H$13233,$L13126,COLUMNS($B$6:B13125)),\"\")","v":"93141907"},"Womens services in agricultural production or rural development",null,null,null,"93141907","Womens services in agricultural production or rural development","93141907",13120,13120,13120,"93141907"]
[null,{"$f":"IFERROR(INDEX($G$7:$H$13233,$L13127,COLUMNS($B$6:B13126)),\"\")","v":"11121600"},"Wood",null,null,null,"11121600","Wood","11121600",13121,13121,13121,"11121600"]
[null,{"$f":"IFERROR(INDEX($G$7:$H$13233,$L13128,COLUMNS($B$6:B13127)),\"\")","v":"73110000"},"Wood and paper industries",null,null,null,"73110000","Wood and paper industries","73110000",13122,13122,13122,"73110000"]
[null,{"$f":"IFERROR(INDEX($G$7:$H$13233,$L13129,COLUMNS($B$6:B13128)),\"\")","v":"30131515"},"Wood block",null,null,null,"30131515","Wood block","30131515",13123,13123,13123,"30131515"]
[null,{"$f":"IFERROR(INDEX($G$7:$H$13233,$L13130,COLUMNS($B$6:B13129)),\"\")","v":"30131611"},"Wood brick",null,null,null,"30131611","Wood brick","30131611",13124,13124,13124,"30131611"]
[null,{"$f":"IFERROR(INDEX($G$7:$H$13233,$L13131,COLUMNS($B$6:B13130)),\"\")","v":"72152508"},"Wood floor installation and refinishing service",null,null,null,"72152508","Wood floor installation and refinishing service","72152508",13125,13125,13125,"72152508"]
[null,{"$f":"IFERROR(INDEX($G$7:$H$13233,$L13132,COLUMNS($B$6:B13131)),\"\")","v":"30161702"},"Wood flooring",null,null,null,"30161702","Wood flooring","30161702",13126,13126,13126,"30161702"]
[null,{"$f":"IFERROR(INDEX($G$7:$H$13233,$L13133,COLUMNS($B$6:B13132)),\"\")","v":"24112701"},"Wood pallet",null,null,null,"24112701","Wood pallet","24112701",13127,13127,13127,"24112701"]
[null,{"$f":"IFERROR(INDEX($G$7:$H$13233,$L13134,COLUMNS($B$6:B13133)),\"\")","v":"73111500"},"Wood processing",null,null,null,"73111500","Wood processing","73111500",13128,13128,13128,"73111500"]
[null,{"$f":"IFERROR(INDEX($G$7:$H$13233,$L13135,COLUMNS($B$6:B13134)),\"\")","v":"11121607"},"Wood pulp",null,null,null,"11121607","Wood pulp","11121607",13129,13129,13129,"11121607"]
[null,{"$f":"IFERROR(INDEX($G$7:$H$13233,$L13136,COLUMNS($B$6:B13135)),\"\")","v":"70151606"},"Wood testing services",null,null,null,"70151606","Wood testing services","70151606",13130,13130,13130,"70151606"]
[null,{"$f":"IFERROR(INDEX($G$7:$H$13233,$L13137,COLUMNS($B$6:B13136)),\"\")","v":"77101905"},"Wood treatment plant site investigation",null,null,null,"77101905","Wood treatment plant site investigation","77101905",13131,13131,13131,"77101905"]
[null,{"$f":"IFERROR(INDEX($G$7:$H$13233,$L13138,COLUMNS($B$6:B13137)),\"\")","v":"11122004"},"Wood veneers",null,null,null,"11122004","Wood veneers","11122004",13132,13132,13132,"11122004"]
[null,{"$f":"IFERROR(INDEX($G$7:$H$13233,$L13139,COLUMNS($B$6:B13138)),\"\")","v":"30171504"},"Wooden doors",null,null,null,"30171504","Wooden doors","30171504",13133,13133,13133,"30171504"]
[null,{"$f":"IFERROR(INDEX($G$7:$H$13233,$L13140,COLUMNS($B$6:B13139)),\"\")","v":"44121706"},"Wooden pencils",null,null,null,"44121706","Wooden pencils","44121706",13134,13134,13134,"44121706"]
[null,{"$f":"IFERROR(INDEX($G$7:$H$13233,$L13141,COLUMNS($B$6:B13140)),\"\")","v":"30151515"},"Wooden roof tile",null,null,null,"30151515","Wooden roof tile","30151515",13135,13135,13135,"30151515"]
[null,{"$f":"IFERROR(INDEX($G$7:$H$13233,$L13142,COLUMNS($B$6:B13141)),\"\")","v":"27113402"},"Woodturning set",null,null,null,"27113402","Woodturning set","27113402",13136,13136,13136,"27113402"]
[null,{"$f":"IFERROR(INDEX($G$7:$H$13233,$L13143,COLUMNS($B$6:B13142)),\"\")","v":"60131200"},"Woodwind instruments",null,null,null,"60131200","Woodwind instruments","60131200",13137,13137,13137,"60131200"]
[null,{"$f":"IFERROR(INDEX($G$7:$H$13233,$L13144,COLUMNS($B$6:B13143)),\"\")","v":"11161600"},"Wool fabrics",null,null,null,"11161600","Wool fabrics","11161600",13138,13138,13138,"11161600"]
[null,{"$f":"IFERROR(INDEX($G$7:$H$13233,$L13145,COLUMNS($B$6:B13144)),\"\")","v":"43232104"},"Word processing software",null,null,null,"43232104","Word processing software","43232104",13139,13139,13139,"43232104"]
[null,{"$f":"IFERROR(INDEX($G$7:$H$13233,$L13146,COLUMNS($B$6:B13145)),\"\")","v":"44102607"},"Word processors",null,null,null,"44102607","Word processors","44102607",13140,13140,13140,"44102607"]
[null,{"$f":"IFERROR(INDEX($G$7:$H$13233,$L13147,COLUMNS($B$6:B13146)),\"\")","v":"46211601"},"Work area barricade tape and flags",null,null,null,"46211601","Work area barricade tape and flags","46211601",13141,13141,13141,"46211601"]
[null,{"$f":"IFERROR(INDEX($G$7:$H$13233,$L13148,COLUMNS($B$6:B13147)),\"\")","v":"46211600"},"Work area marking and visual indicators",null,null,null,"46211600","Work area marking and visual indicators","46211600",13142,13142,13142,"46211600"]
[null,{"$f":"IFERROR(INDEX($G$7:$H$13233,$L13149,COLUMNS($B$6:B13148)),\"\")","v":"46211602"},"Work area warning posts and chains",null,null,null,"46211602","Work area warning posts and chains","46211602",13143,13143,13143,"46211602"]
[null,{"$f":"IFERROR(INDEX($G$7:$H$13233,$L13150,COLUMNS($B$6:B13149)),\"\")","v":"93141813"},"Work council services",null,null,null,"93141813","Work council services","93141813",13144,13144,13144,"93141813"]
[null,{"$f":"IFERROR(INDEX($G$7:$H$13233,$L13151,COLUMNS($B$6:B13150)),\"\")","v":"60105307"},"Work ethics or attitude training instructional materials",null,null,null,"60105307","Work ethics or attitude training instructional materials","60105307",13145,13145,13145,"60105307"]
[null,{"$f":"IFERROR(INDEX($G$7:$H$13233,$L13152,COLUMNS($B$6:B13151)),\"\")","v":"94100000"},"Work related organizations",null,null,null,"94100000","Work related organizations","94100000",13146,13146,13146,"94100000"]
[null,{"$f":"IFERROR(INDEX($G$7:$H$13233,$L13153,COLUMNS($B$6:B13152)),\"\")","v":"44111814"},"Work surface protection covers",null,null,null,"44111814","Work surface protection covers","44111814",13147,13147,13147,"44111814"]
[null,{"$f":"IFERROR(INDEX($G$7:$H$13233,$L13154,COLUMNS($B$6:B13153)),\"\")","v":"56111604"},"Work surfaces for panel systems",null,null,null,"56111604","Work surfaces for panel systems","56111604",13148,13148,13148,"56111604"]
[null,{"$f":"IFERROR(INDEX($G$7:$H$13233,$L13155,COLUMNS($B$6:B13154)),\"\")","v":"93141807"},"Work time arrangements",null,null,null,"93141807","Work time arrangements","93141807",13149,13149,13149,"93141807"]
[null,{"$f":"IFERROR(INDEX($G$7:$H$13233,$L13156,COLUMNS($B$6:B13155)),\"\")","v":"53102719"},"Work uniforms",null,null,null,"53102719","Work uniforms","53102719",13150,13150,13150,"53102719"]
[null,{"$f":"IFERROR(INDEX($G$7:$H$13233,$L13157,COLUMNS($B$6:B13156)),\"\")","v":"90111901"},"Worker worksite room or unit accommodation service",null,null,null,"90111901","Worker worksite room or unit accommodation service","90111901",13151,13151,13151,"90111901"]
[null,{"$f":"IFERROR(INDEX($G$7:$H$13233,$L13158,COLUMNS($B$6:B13157)),\"\")","v":"84131605"},"Workmens insurance",null,null,null,"84131605","Workmens insurance","84131605",13152,13152,13152,"84131605"]
[null,{"$f":"IFERROR(INDEX($G$7:$H$13233,$L13159,COLUMNS($B$6:B13158)),\"\")","v":"46210000"},"Workplace safety equipment and supplies and training materials",null,null,null,"46210000","Workplace safety equipment and supplies and training materials","46210000",13153,13153,13153,"46210000"]
[null,{"$f":"IFERROR(INDEX($G$7:$H$13233,$L13160,COLUMNS($B$6:B13159)),\"\")","v":"46211504"},"Workplace safety internet based training",null,null,null,"46211504","Workplace safety internet based training","46211504",13154,13154,13154,"46211504"]
[null,{"$f":"IFERROR(INDEX($G$7:$H$13233,$L13161,COLUMNS($B$6:B13160)),\"\")","v":"46211500"},"Workplace safety training aids and materials",null,null,null,"46211500","Workplace safety training aids and materials","46211500",13155,13155,13155,"46211500"]
[null,{"$f":"IFERROR(INDEX($G$7:$H$13233,$L13162,COLUMNS($B$6:B13161)),\"\")","v":"46211501"},"Workplace safety training kit",null,null,null,"46211501","Workplace safety training kit","46211501",13156,13156,13156,"46211501"]
[null,{"$f":"IFERROR(INDEX($G$7:$H$13233,$L13163,COLUMNS($B$6:B13162)),\"\")","v":"46211503"},"Workplace safety training manual or handbook",null,null,null,"46211503","Workplace safety training manual or handbook","46211503",13157,13157,13157,"46211503"]
[null,{"$f":"IFERROR(INDEX($G$7:$H$13233,$L13164,COLUMNS($B$6:B13163)),\"\")","v":"46211502"},"Workplace safety training video",null,null,null,"46211502","Workplace safety training video","46211502",13158,13158,13158,"46211502"]
[null,{"$f":"IFERROR(INDEX($G$7:$H$13233,$L13165,COLUMNS($B$6:B13164)),\"\")","v":"24101630"},"Workshop cranes",null,null,null,"24101630","Workshop cranes","24101630",13159,13159,13159,"24101630"]
[null,{"$f":"IFERROR(INDEX($G$7:$H$13233,$L13166,COLUMNS($B$6:B13165)),\"\")","v":"25101948"},"Workshop truck",null,null,null,"25101948","Workshop truck","25101948",13160,13160,13160,"25101948"]
[null,{"$f":"IFERROR(INDEX($G$7:$H$13233,$L13167,COLUMNS($B$6:B13166)),\"\")","v":"56111500"},"Workstations and office packages",null,null,null,"56111500","Workstations and office packages","56111500",13161,13161,13161,"56111500"]
[null,{"$f":"IFERROR(INDEX($G$7:$H$13233,$L13168,COLUMNS($B$6:B13167)),\"\")","v":"93131603"},"World food program services",null,null,null,"93131603","World food program services","93131603",13162,13162,13162,"93131603"]
[null,{"$f":"IFERROR(INDEX($G$7:$H$13233,$L13169,COLUMNS($B$6:B13168)),\"\")","v":"81112103"},"World wide web WWW site design services",null,null,null,"81112103","World wide web WWW site design services","81112103",13163,13163,13163,"81112103"]
[null,{"$f":"IFERROR(INDEX($G$7:$H$13233,$L13170,COLUMNS($B$6:B13169)),\"\")","v":"81112105"},"World wide web WWW site operation host services",null,null,null,"81112105","World wide web WWW site operation host services","81112105",13164,13164,13164,"81112105"]
[null,{"$f":"IFERROR(INDEX($G$7:$H$13233,$L13171,COLUMNS($B$6:B13170)),\"\")","v":"42312312"},"Wound care or cleansing trays",null,null,null,"42312312","Wound care or cleansing trays","42312312",13165,13165,13165,"42312312"]
[null,{"$f":"IFERROR(INDEX($G$7:$H$13233,$L13172,COLUMNS($B$6:B13171)),\"\")","v":"42310000"},"Wound care products",null,null,null,"42310000","Wound care products","42310000",13166,13166,13166,"42310000"]
[null,{"$f":"IFERROR(INDEX($G$7:$H$13233,$L13173,COLUMNS($B$6:B13172)),\"\")","v":"42312300"},"Wound cleaning and debridement products",null,null,null,"42312300","Wound cleaning and debridement products","42312300",13167,13167,13167,"42312300"]
[null,{"$f":"IFERROR(INDEX($G$7:$H$13233,$L13174,COLUMNS($B$6:B13173)),\"\")","v":"42312313"},"Wound cleaning solutions",null,null,null,"42312313","Wound cleaning solutions","42312313",13168,13168,13168,"42312313"]
[null,{"$f":"IFERROR(INDEX($G$7:$H$13233,$L13175,COLUMNS($B$6:B13174)),\"\")","v":"42312310"},"Wound cleansing bottles",null,null,null,"42312310","Wound cleansing bottles","42312310",13169,13169,13169,"42312310"]
[null,{"$f":"IFERROR(INDEX($G$7:$H$13233,$L13176,COLUMNS($B$6:B13175)),\"\")","v":"42312311"},"Wound disinfectant kits",null,null,null,"42312311","Wound disinfectant kits","42312311",13170,13170,13170,"42312311"]
[null,{"$f":"IFERROR(INDEX($G$7:$H$13233,$L13177,COLUMNS($B$6:B13176)),\"\")","v":"42312108"},"Wound drainage pouches",null,null,null,"42312108","Wound drainage pouches","42312108",13171,13171,13171,"42312108"]
[null,{"$f":"IFERROR(INDEX($G$7:$H$13233,$L13178,COLUMNS($B$6:B13177)),\"\")","v":"42312309"},"Wound irrigation systems",null,null,null,"42312309","Wound irrigation systems","42312309",13172,13172,13172,"42312309"]
[null,{"$f":"IFERROR(INDEX($G$7:$H$13233,$L13179,COLUMNS($B$6:B13178)),\"\")","v":"42182706"},"Wound measuring grids or devices",null,null,null,"42182706","Wound measuring grids or devices","42182706",13173,13173,13173,"42182706"]
[null,{"$f":"IFERROR(INDEX($G$7:$H$13233,$L13180,COLUMNS($B$6:B13179)),\"\")","v":"42312400"},"Wound packing products",null,null,null,"42312400","Wound packing products","42312400",13174,13174,13174,"42312400"]
[null,{"$f":"IFERROR(INDEX($G$7:$H$13233,$L13181,COLUMNS($B$6:B13180)),\"\")","v":"42312500"},"Wound supports and supplies and accessories",null,null,null,"42312500","Wound supports and supplies and accessories","42312500",13175,13175,13175,"42312500"]
[null,{"$f":"IFERROR(INDEX($G$7:$H$13233,$L13182,COLUMNS($B$6:B13181)),\"\")","v":"82121508"},"Wrap or tag or label or seal or bag printing",null,null,null,"82121508","Wrap or tag or label or seal or bag printing","82121508",13176,13176,13176,"82121508"]
[null,{"$f":"IFERROR(INDEX($G$7:$H$13233,$L13183,COLUMNS($B$6:B13182)),\"\")","v":"14122108"},"Wrapping Crepe",null,null,null,"14122108","Wrapping Crepe","14122108",13177,13177,13177,"14122108"]
[null,{"$f":"IFERROR(INDEX($G$7:$H$13233,$L13184,COLUMNS($B$6:B13183)),\"\")","v":"23152901"},"Wrapping machinery",null,null,null,"23152901","Wrapping machinery","23152901",13178,13178,13178,"23152901"]
[null,{"$f":"IFERROR(INDEX($G$7:$H$13233,$L13185,COLUMNS($B$6:B13184)),\"\")","v":"73181103"},"Wrapping services",null,null,null,"73181103","Wrapping services","73181103",13179,13179,13179,"73181103"]
[null,{"$f":"IFERROR(INDEX($G$7:$H$13233,$L13186,COLUMNS($B$6:B13185)),\"\")","v":"27111700"},"Wrenches and drivers",null,null,null,"27111700","Wrenches and drivers","27111700",13180,13180,13180,"27111700"]
[null,{"$f":"IFERROR(INDEX($G$7:$H$13233,$L13187,COLUMNS($B$6:B13186)),\"\")","v":"54111501"},"Wrist watches",null,null,null,"54111501","Wrist watches","54111501",13181,13181,13181,"54111501"]
[null,{"$f":"IFERROR(INDEX($G$7:$H$13233,$L13188,COLUMNS($B$6:B13187)),\"\")","v":"42211710"},"Writing aids for the physically challenged",null,null,null,"42211710","Writing aids for the physically challenged","42211710",13182,13182,13182,"42211710"]
[null,{"$f":"IFERROR(INDEX($G$7:$H$13233,$L13189,COLUMNS($B$6:B13188)),\"\")","v":"82110000"},"Writing and translations",null,null,null,"82110000","Writing and translations","82110000",13183,13183,13183,"82110000"]
[null,{"$f":"IFERROR(INDEX($G$7:$H$13233,$L13190,COLUMNS($B$6:B13189)),\"\")","v":"44121710"},"Writing chalk or accessories",null,null,null,"44121710","Writing chalk or accessories","44121710",13184,13184,13184,"44121710"]
[null,{"$f":"IFERROR(INDEX($G$7:$H$13233,$L13191,COLUMNS($B$6:B13190)),\"\")","v":"44121700"},"Writing instruments",null,null,null,"44121700","Writing instruments","44121700",13185,13185,13185,"44121700"]
[null,{"$f":"IFERROR(INDEX($G$7:$H$13233,$L13192,COLUMNS($B$6:B13191)),\"\")","v":"14111511"},"Writing paper",null,null,null,"14111511","Writing paper","14111511",13186,13186,13186,"14111511"]
[null,{"$f":"IFERROR(INDEX($G$7:$H$13233,$L13193,COLUMNS($B$6:B13192)),\"\")","v":"82111804"},"Written translation services",null,null,null,"82111804","Written translation services","82111804",13187,13187,13187,"82111804"]
[null,{"$f":"IFERROR(INDEX($G$7:$H$13233,$L13194,COLUMNS($B$6:B13193)),\"\")","v":"42203201"},"X ray and fluoroscopy RF radiotherapy planning simulators",null,null,null,"42203201","X ray and fluoroscopy RF radiotherapy planning simulators","42203201",13188,13188,13188,"42203201"]
[null,{"$f":"IFERROR(INDEX($G$7:$H$13233,$L13195,COLUMNS($B$6:B13194)),\"\")","v":"46171624"},"X ray baggage inspection system",null,null,null,"46171624","X ray baggage inspection system","46171624",13189,13189,13189,"46171624"]
[null,{"$f":"IFERROR(INDEX($G$7:$H$13233,$L13196,COLUMNS($B$6:B13195)),\"\")","v":"42201817"},"X ray bone densitometers",null,null,null,"42201817","X ray bone densitometers","42201817",13190,13190,13190,"42201817"]
[null,{"$f":"IFERROR(INDEX($G$7:$H$13233,$L13197,COLUMNS($B$6:B13196)),\"\")","v":"41102704"},"X ray diffraction equipment",null,null,null,"41102704","X ray diffraction equipment","41102704",13191,13191,13191,"41102704"]
[null,{"$f":"IFERROR(INDEX($G$7:$H$13233,$L13198,COLUMNS($B$6:B13197)),\"\")","v":"45131505"},"X ray film",null,null,null,"45131505","X ray film","45131505",13192,13192,13192,"45131505"]
[null,{"$f":"IFERROR(INDEX($G$7:$H$13233,$L13199,COLUMNS($B$6:B13198)),\"\")","v":"41101802"},"X ray generators",null,null,null,"41101802","X ray generators","41101802",13193,13193,13193,"41101802"]
[null,{"$f":"IFERROR(INDEX($G$7:$H$13233,$L13200,COLUMNS($B$6:B13199)),\"\")","v":"85121808"},"X ray laboratory services",null,null,null,"85121808","X ray laboratory services","85121808",13194,13194,13194,"85121808"]
[null,{"$f":"IFERROR(INDEX($G$7:$H$13233,$L13201,COLUMNS($B$6:B13200)),\"\")","v":"41111808"},"X ray radiography examination equipment",null,null,null,"41111808","X ray radiography examination equipment","41111808",13195,13195,13195,"41111808"]
[null,{"$f":"IFERROR(INDEX($G$7:$H$13233,$L13202,COLUMNS($B$6:B13201)),\"\")","v":"83112205"},"X25 managed network services",null,null,null,"83112205","X25 managed network services","83112205",13196,13196,13196,"83112205"]
[null,{"$f":"IFERROR(INDEX($G$7:$H$13233,$L13203,COLUMNS($B$6:B13202)),\"\")","v":"83112204"},"X75 managed network services",null,null,null,"83112204","X75 managed network services","83112204",13197,13197,13197,"83112204"]
[null,{"$f":"IFERROR(INDEX($G$7:$H$13233,$L13204,COLUMNS($B$6:B13203)),\"\")","v":"81112305"},"X86 server maintenance",null,null,null,"81112305","X86 server maintenance","81112305",13198,13198,13198,"81112305"]
[null,{"$f":"IFERROR(INDEX($G$7:$H$13233,$L13205,COLUMNS($B$6:B13204)),\"\")","v":"51162747"},"Xylometazoline",null,null,null,"51162747","Xylometazoline","51162747",13199,13199,13199,"51162747"]
[null,{"$f":"IFERROR(INDEX($G$7:$H$13233,$L13206,COLUMNS($B$6:B13205)),\"\")","v":"60131406"},"Xylophones",null,null,null,"60131406","Xylophones","60131406",13200,13200,13200,"60131406"]
[null,{"$f":"IFERROR(INDEX($G$7:$H$13233,$L13207,COLUMNS($B$6:B13206)),\"\")","v":"25111808"},"Yachts",null,null,null,"25111808","Yachts","25111808",13201,13201,13201,"25111808"]
[null,{"$f":"IFERROR(INDEX($G$7:$H$13233,$L13208,COLUMNS($B$6:B13207)),\"\")","v":"11151700"},"Yarns",null,null,null,"11151700","Yarns","11151700",13202,13202,13202,"11151700"]
[null,{"$f":"IFERROR(INDEX($G$7:$H$13233,$L13209,COLUMNS($B$6:B13208)),\"\")","v":"84111601"},"Year end audits",null,null,null,"84111601","Year end audits","84111601",13203,13203,13203,"84111601"]
[null,{"$f":"IFERROR(INDEX($G$7:$H$13233,$L13210,COLUMNS($B$6:B13209)),\"\")","v":"41106221"},"Yeast competent cells",null,null,null,"41106221","Yeast competent cells","41106221",13204,13204,13204,"41106221"]
[null,{"$f":"IFERROR(INDEX($G$7:$H$13233,$L13211,COLUMNS($B$6:B13210)),\"\")","v":"41106515"},"Yeast expression kits",null,null,null,"41106515","Yeast expression kits","41106515",13205,13205,13205,"41106515"]
[null,{"$f":"IFERROR(INDEX($G$7:$H$13233,$L13212,COLUMNS($B$6:B13211)),\"\")","v":"41106622"},"Yeast expression vectors",null,null,null,"41106622","Yeast expression vectors","41106622",13206,13206,13206,"41106622"]
[null,{"$f":"IFERROR(INDEX($G$7:$H$13233,$L13213,COLUMNS($B$6:B13212)),\"\")","v":"41106223"},"Yeast nitrogen bases YNB or yeast nitrogen base YNB variants",null,null,null,"41106223","Yeast nitrogen bases YNB or yeast nitrogen base YNB variants","41106223",13207,13207,13207,"41106223"]
[null,{"$f":"IFERROR(INDEX($G$7:$H$13233,$L13214,COLUMNS($B$6:B13213)),\"\")","v":"41106222"},"Yeast transformation kits",null,null,null,"41106222","Yeast transformation kits","41106222",13208,13208,13208,"41106222"]
[null,{"$f":"IFERROR(INDEX($G$7:$H$13233,$L13215,COLUMNS($B$6:B13214)),\"\")","v":"51201625"},"Yellow fever vaccine",null,null,null,"51201625","Yellow fever vaccine","51201625",13209,13209,13209,"51201625"]
[null,{"$f":"IFERROR(INDEX($G$7:$H$13233,$L13216,COLUMNS($B$6:B13215)),\"\")","v":"92101702"},"Youth camps or facilities services",null,null,null,"92101702","Youth camps or facilities services","92101702",13210,13210,13210,"92101702"]
[null,{"$f":"IFERROR(INDEX($G$7:$H$13233,$L13217,COLUMNS($B$6:B13216)),\"\")","v":"11171701"},"Z90WDCV6542 or M2 high speed steel",null,null,null,"11171701","Z90WDCV6542 or M2 high speed steel","11171701",13211,13211,13211,"11171701"]
[null,{"$f":"IFERROR(INDEX($G$7:$H$13233,$L13218,COLUMNS($B$6:B13217)),\"\")","v":"11171702"},"Z90WDKCV65542 or M35 high speed steel",null,null,null,"11171702","Z90WDKCV65542 or M35 high speed steel","11171702",13212,13212,13212,"11171702"]
[null,{"$f":"IFERROR(INDEX($G$7:$H$13233,$L13219,COLUMNS($B$6:B13218)),\"\")","v":"51161563"},"Zafirlukast",null,null,null,"51161563","Zafirlukast","51161563",13213,13213,13213,"51161563"]
[null,{"$f":"IFERROR(INDEX($G$7:$H$13233,$L13220,COLUMNS($B$6:B13219)),\"\")","v":"51343115"},"Zalcitabine",null,null,null,"51343115","Zalcitabine","51343115",13214,13214,13214,"51343115"]
[null,{"$f":"IFERROR(INDEX($G$7:$H$13233,$L13221,COLUMNS($B$6:B13220)),\"\")","v":"51341901"},"Zanamivir",null,null,null,"51341901","Zanamivir","51341901",13215,13215,13215,"51341901"]
[null,{"$f":"IFERROR(INDEX($G$7:$H$13233,$L13222,COLUMNS($B$6:B13221)),\"\")","v":"41113333"},"Zeta potential analyzer",null,null,null,"41113333","Zeta potential analyzer","41113333",13216,13216,13216,"41113333"]
[null,{"$f":"IFERROR(INDEX($G$7:$H$13233,$L13223,COLUMNS($B$6:B13222)),\"\")","v":"26111714"},"Zinc air",null,null,null,"26111714","Zinc air","26111714",13217,13217,13217,"26111714"]
[null,{"$f":"IFERROR(INDEX($G$7:$H$13233,$L13224,COLUMNS($B$6:B13223)),\"\")","v":"26111715"},"Zinc coal battery",null,null,null,"26111715","Zinc coal battery","26111715",13218,13218,13218,"26111715"]
[null,{"$f":"IFERROR(INDEX($G$7:$H$13233,$L13225,COLUMNS($B$6:B13224)),\"\")","v":"51241263"},"Zinc oxide",null,null,null,"51241263","Zinc oxide","51241263",13219,13219,13219,"51241263"]
[null,{"$f":"IFERROR(INDEX($G$7:$H$13233,$L13226,COLUMNS($B$6:B13225)),\"\")","v":"24111514"},"Zipper bag",null,null,null,"24111514","Zipper bag","24111514",13220,13220,13220,"24111514"]
[null,{"$f":"IFERROR(INDEX($G$7:$H$13233,$L13227,COLUMNS($B$6:B13226)),\"\")","v":"41114518"},"Zipper endurance tester",null,null,null,"41114518","Zipper endurance tester","41114518",13221,13221,13221,"41114518"]
[null,{"$f":"IFERROR(INDEX($G$7:$H$13233,$L13228,COLUMNS($B$6:B13227)),\"\")","v":"51333410"},"Ziprasidone",null,null,null,"51333410","Ziprasidone","51333410",13222,13222,13222,"51333410"]
[null,{"$f":"IFERROR(INDEX($G$7:$H$13233,$L13229,COLUMNS($B$6:B13228)),\"\")","v":"51333413"},"Ziprasidone hydrochloride",null,null,null,"51333413","Ziprasidone hydrochloride","51333413",13223,13223,13223,"51333413"]
[null,{"$f":"IFERROR(INDEX($G$7:$H$13233,$L13230,COLUMNS($B$6:B13229)),\"\")","v":"51182415"},"Zoledronic acid",null,null,null,"51182415","Zoledronic acid","51182415",13224,13224,13224,"51182415"]
[null,{"$f":"IFERROR(INDEX($G$7:$H$13233,$L13231,COLUMNS($B$6:B13230)),\"\")","v":"51142413"},"Zolmitriptan",null,null,null,"51142413","Zolmitriptan","51142413",13225,13225,13225,"51142413"]
[null,{"$f":"IFERROR(INDEX($G$7:$H$13233,$L13232,COLUMNS($B$6:B13231)),\"\")","v":"85111509"},"Zoonotic disease prevention or control services",null,null,null,"85111509","Zoonotic disease prevention or control services","85111509",13226,13226,13226,"85111509"]
[null,{"$f":"IFERROR(INDEX($G$7:$H$13233,$L13233,COLUMNS($B$6:B13232)),\"\")","v":"51334306"},"Zuclopenthixol",null,null,null,"51334306","Zuclopenthixol","51334306",13227,13227,13227,"51334306"]

{"sheet":"List of Items - 2","index":2,"n_rows":13231,"n_cols":2,"rows_kept":13231,"cut":false,"hidden":false,"merged":[]}
[]
["List of Items",""]
[]
["UNSPSC","Description"]
["43223103","2,5G GPRS mobile core network equipment and components"]
["43223104","2,5G GPRS wireless access network equipment and components"]
["43223101","2G GSM mobile core network equipment and components"]
["43223102","2G GSM wireless access network equipment and components"]
["43223105","3G UMTS mobile core network equipment and components"]
["43223106","3G UMTS wireless access network equipment and components"]
["51342501","Abacavir"]
["51342506","Abacavir sulfate"]
["51343801","Abacavir/lamivudine"]
["10191510","Abamectin"]
["46111504","Abandoned Explosive Ordnance AXO"]
["76121506","Abandoned vehicle recovery and disposal service"]
["51261702","Abanoquil"]
["51203801","Abatacept"]
["51131701","Abciximab"]
["42312502","Abdominal binders"]
["42143108","Abdominal decompression chambers"]
["51112029","Abemaciclib"]
["51111830","Abiraterone"]
["78131702","Above ground storage or tankage service"]
["72103103","Aboveground conveyor service"]
["41114601","Abrasion testers"]
["23131501","Abrasive compounds"]
["31191506","Abrasive discs"]
["31191600","Abrasive wheels"]
["31191500","Abrasives and abrasive media"]
["47131901","Absorbent mats"]
["47131900","Absorbents"]
["42272502","Absorber units for gas anesthesia apparatus or machines"]
["42312301","Absorbers for wound cleansing"]
["40101713","Absorption chiller"]
["40101714","Absorption chiller heater"]
["82111503","Academic or scientific article writing"]
["51112088","Acalabrutinib"]
["51183801","Acarbose"]
["41116400","Acceleration and vibration measuring instruments"]
["41113639","Accelerometers"]
["72151701","Access control system installation service"]
["72152501","Access flooring system installation service"]
["81161500","Access management services"]
["95111503","Access roads"]
["43222625","Access servers"]
["43232901","Access software"]
["60131506","Accessories for stringed instruments"]
["57060203","Accessories for tent"]
["44102609","Accessory or supply kits for typewriters"]
["84131603","Accidental injury insurance"]
["95122100","Accommodation buildings and structures"]
["56100000","Accommodation furniture"]
["44122033","Accordion file folder"]
["84110000","Accounting and bookkeeping services"]
["14111808","Accounting forms or accounting books"]
["44101803","Accounting machines"]
["84111500","Accounting services"]
["43231601","Accounting software"]
["81112213","Accounting software maintenance"]
["51383401","Acemetacin"]
["51381701","Acetaminophen or paracetamol"]
["51162357","Acetaminophen/Caffeine/Chlorpheniramine/Phenylephrine"]
["51132225","Acetaminophen/tramadol"]
["13111203","Acetate films"]
["51141501","Acetazolamide"]
["51172332","Acetohydroxamic acid"]
["51473016","Acetone or alcohol based antiseptics"]
["51162701","Acetylcysteine"]
["15111506","Acetylene"]
["51143103","Acetylsalicylic acid or Aspirin"]
["51131665","Acetylsalicylic acid/Clopidogrel bisulfate"]
["51434964","Acetylsalicylic acid/ramipril/simvastatin"]
["51342309","Aciclovir or acyclovir"]
["51342311","Aciclovir sodium"]
["14121604","Acid free tissue papers"]
["41113301","Acid or base analyzers"]
["76121902","Acid waste collection or disposal"]
["45111725","Acoustic box"]
["81101529","Acoustic engineering"]
["41111726","Acoustic microscopes"]
["41111939","Acoustic sensors"]
["72152101","Acoustical and ceiling work service"]
["72152100","Acoustical and insulation services"]
["76111601","Acoustical tile or ceiling cleaning services"]
["81141803","Acoustics or noise control"]
["13111204","Acrylic films"]
["82151701","Acting services"]
["41114425","Actinometer calibrator"]
["51282000","Actinomycines and bacitracins and chloramphenicols and cyclic peptide antibacterials and glycylcyclines"]
["43232001","Action games"]
["47101501","Activated carbon equipment"]
["51172311","Activated carbon or activated charcoal for medical use"]
["77101804","Activity specific environmental auditing services"]
["56121501","Activity tables"]
["80101512","Actuarial consulting services"]
["42144200","Acupuncture equipment"]
["42143127","Acute care fetal or maternal monitoring unit accessories"]
["42143120","Acute care fetal or maternal monitoring units"]
["42181900","Acute care monitoring units and related products"]
["57030102","Acute watery diarrhea kits for children and infants"]
["51202401","Adalimumab"]
["42211701","Adaptive communication switches for the physically challenged"]
["41106401","Adaptors or linkers"]
["44101802","Adding machines"]
["12160000","Additives"]
["44112001","Address books or refills"]
["44102105","Addressing machines"]
["55121605","Addressing or mailing labels"]
["80141803","Addressing service"]
["51124101","Adenosine"]
["41113046","Adhesion tester"]
["44122115","Adhesive corners"]
["42311546","Adhesive dry bandages"]
["44102412","Adhesive label cartridges"]
["44122110","Adhesive mounts"]
["44121626","Adhesive remover"]
["44121634","Adhesive rollers"]
["44121635","Adhesive tape spindles"]
["31201600","Adhesives"]
["31200000","Adhesives and sealants"]
["51283402","Adicillin or penicillin n"]
["43232804","Administration software"]
["93151511","Administrative acts ratification or implementation services"]
["93151505","Administrative agencies services"]
["93151506","Administrative economic council services"]
["93151510","Administrative fees or tax collection services"]
["93151507","Administrative procedures or services"]
["93151504","Administrative reform services"]
["30131517","Adobe block"]
["57040101","Adolescent kit"]
["80121802","Adoption law services"]
["51391743","Adrenalin or adrenaline or epinephrine"]
["51261700","Adrenergic blocking agent amino alcohols and aminoquinolines and benzopyrans and bradykinin/analogs and derivatives"]
["51262000","Adrenergic blocking agent butyrophenones and carbazoles and dibenzazepines and dimethylamines"]
["51262400","Adrenergic blocking agent ethanolamines"]
["51262900","Adrenergic blocking agent phenoxypropanolamines"]
["51263000","Adrenergic blocking agent piperazines"]
["51263100","Adrenergic blocking agent propanolamines"]
["51263400","Adrenergic blocking agent pyrimidine nucleosides and quaternary ammonium compounds and secologanin tryptamine alkaloids and spiro compounds and sulfonamides"]
["51260000","Adrenergic blocking agents"]
["86111600","Adult education"]
["57030302","Adult hygiene and personal care set"]
["42231801","Adult supplemental formulas or bars or puddings for general use"]
["43232002","Adventure games"]
["82100000","Advertising"]
["82101800","Advertising agency services"]
["55121901","Advertising pillars"]
["82101700","Aerial advertising"]
["43222824","Aerial cable rollers"]
["45121510","Aerial cameras"]
["22101800","Aerial lifts"]
["82131601","Aerial photography services"]
["25101911","Aerial working platform truck"]
["81151904","Aero magnetic geophysics"]
["49201500","Aerobic training equipment"]
["81171900","Aerobiological science services"]
["39111630","Aerodrome Beacon "]
["78141805","Aerodrome or airport or aviation facility operations service"]
["25202800","Aeronautical Data Communications Equipment"]
["81102300","Aeronautical engineering"]
["81161714","Aeronautical Fixed Telecommunication Network/Aeronautical Telecommunications Network Services (AFTN and ATN)"]
["25202802","Aeronautical Fixed Telecommunications Network (AFTN)"]
["25202907","Aeronautical Information Management System (AIM)"]
["81161713","Aeronautical Information Services"]
["25202906","Aeronautical Information System (AIS) "]
["25191518","Aeronautical sensor test equipment"]
["41121602","Aerosol barrier pipette tips"]
["25200000","Aerospace systems and components and equipment"]
["51112012","Afatinib"]
["70151507","Afforestation services"]
["51241144","Aflibercept"]
["80141613","After sales programs"]
["51172485","Agalsidase alfa"]
["51171984","Agalsidase beta"]
["41105317","Agarose gel making reagents"]
["41104503","Ageing ovens"]
["51190000","Agents affecting water and electrolytes"]
["41113820","Aggregate specific gravity tester"]
["41113830","Aggregate unit weight measuring instrument"]
["30111800","Aggregates"]
["93141908","Agrarian reform or land settlement services"]
["95122500","Agricultural and farming and fishing buildings and structures"]
["21100000","Agricultural and forestry and landscape machinery and equipment"]
["72121200","Agricultural building construction services"]
["25132101","Agricultural drone"]
["95101900","Agricultural land"]
["70190000","Agricultural machinery and equipment assembly and installation services"]
["21102000","Agricultural machinery for cleaning and sorting and grading"]
["21101700","Agricultural machinery for harvesting"]
["21101600","Agricultural machinery for planting and seeding"]
["21101500","Agricultural machinery for soil preparation"]
["21102100","Agricultural processing machinery and equipment"]
["21102600","Agricultural protection materials"]
["93141905","Agricultural research services"]
["21101507","Agricultural rollers"]
["81171801","Agricultural science consultation service"]
["81171800","Agricultural science services"]
["21102305","Agricultural sun shade material"]
["25101901","Agricultural tractors"]
["25181612","Agricultural trailer"]
["86101500","Agriculture and forestry and other natural resources training services"]
["60106201","Agriculture teaching aids or materials"]
["86101504","Agriculture vocational training services"]
["27112000","Agriculture, forestry and garden handtools"]
["70131704","Agro ecological zones assessment or planning"]
["86101501","Agro industry vocational training"]
["70151902","Agroforestry resources"]
["84101600","Aid financing"]
["42301500","Aids for medical training"]
["85111501","Aids prevention or control services"]
["25181610","Air cargo trailer"]
["78101500","Air cargo transport"]
["40101600","Air circulation and parts and accessories"]
["40101602","Air circulators"]
["41114526","Air cleaner tester"]
["40161602","Air cleaners"]
["44102904","Air compressed spray"]
["72154101","Air compressor rental and maintenance service"]
["41114521","Air compressor tester"]
["40151601","Air compressors"]
["40101717","Air conditioner power saver"]
["40101701","Air conditioners"]
["72101511","Air conditioning installation or maintenance or repair service"]
["23201202","Air dryers"]
["76111602","Air duct cleaning"]
["40161505","Air filters"]
["72154061","Air filtration service"]
["40101709","Air handling unit"]
["41111633","Air micrometer"]
["24111802","Air or gas tanks or cylinders"]
["77121500","Air pollution"]
["77121504","Air pollution monitoring or measurement services"]
["77121503","Air pollution protection services"]
["77121501","Air quality management"]
["81171901","Air quality science service"]
["46101505","Air rifles or air handguns"]
["41104008","Air samplers or collectors"]
["41104009","Air sampling pumps"]
["40161608","Air sterilizer"]
["46161706","Air tent"]
["30171522","Air tight door"]
["78101901","Air to ocean transportation"]
["78101904","Air to truck transport"]
["25191547","Air Traffic Control (ATC) Simulators "]
["78141807","Air traffic control service"]
["25202900","Air Traffic Management Equipment"]
["25202903","Air Traffic Services (ATS) Consoles And Console Equipment "]
["78204003","Air Transport Demand Forecast Services"]
["78101504","Air transport of letters and parcels"]
["78101505","Air transport of livestock or live animals"]
["25191500","Air transportation support systems and equipment"]
["41112509","Air velocity and temperature monitors"]
["25130000","Aircraft"]
["25191517","Aircraft air conditioning and heating truck"]
["25191516","Aircraft air start unit"]
["25191528","Aircraft And Airborne Equipment For Fire Fighting & Rescue"]
["43221719","Aircraft antennas"]
["25191535","Aircraft Cabin Cleaning Unit "]
["25191505","Aircraft cargo handling equipment"]
["25201701","Aircraft communication systems"]
["25191507","Aircraft deicing equipment"]
["25201900","Aircraft emergency systems"]
["25191522","Aircraft engine maintenance set"]
["25201901","Aircraft fire control or extinguishing systems"]
["78181818","Aircraft fixed wing communication system repair"]
["25191504","Aircraft flight simulators or trainers"]
["25202301","Aircraft lapbelts"]
["25201800","Aircraft master control systems"]
["72151304","Aircraft painting service"]
["25191526","Aircraft Parts And Accessories"]
["25202300","Aircraft passenger restraints"]
["25191509","Aircraft pushback or tow tractors"]
["25191506","Aircraft refueling equipment"]
["25191525","Aircraft refueling truck"]
["25101719","Aircraft Rescue And Firefighting Unit, 150 Gallons (600 litres)"]
["25101718","Aircraft Rescue And Firefighting, 1500 Gallons (6000 Litres"]
["25101717","Aircraft Rescue And Firefighting, 3000 Gallons (12,000 Litres)"]
["25191514","Aircraft towbar"]
["25191519","Aircraft towing adapter"]
["25131513","Aircraft, Flight Inspection (Fully Equipped) "]
["25131512","Aircraft, Jet Widebody"]
["25131510","Aircraft, Single Engine"]
["25131511","Aircraft, Twin Engine"]
["95121613","Airfield"]
["25191524","Airfreight conveyor truck"]
["78203000","Airline Cabin And Support Services"]
["43212111","Airline ticket or boarding pass ATB printers"]
["43211733","Airline Ticket Validator "]
["25191523","Airplane baggage tug or tractor"]
["78204010","Airport And Passenger Terminals Simulation Modelling (Airside And Landside)"]
["95121611","Airport building"]
["95121612","Airport control tower"]
["81101509","Airport engineering"]
["25191530","Airport Flight Management System "]
["25191533","Airport Information System "]
["78204011","Airport Inspection And Certification "]
["39111623","Airport Lighting Lamp "]
["78201000","Airport Maintenance"]
["78204015","Airport Maps, Networks (GIS), Studies"]
["78204012","Airport Operations Readiness "]
["25191554","Airport or Aviation billing system"]
["72141101","Airport runway construction service"]
["46161501","Airport signaling systems"]
["72121410","Airport terminal and hanger construction"]
["46161528","Airport warning light"]
["78204018","Airport, Fauna Control Services"]
["25191512","Airstairs or stair trucks"]
["72154038","Airwave shielding installation for computer room service"]
["42192414","Airway management bags"]
["42271900","Airway management products"]
["78181842","Airworthiness And Aircraft Certification "]
["50301501","Akane apples"]
["46171604","Alarm systems"]
["51282902","Alatrofloxacin"]
["51451801","Albendazole"]
["14111614","Album papers or tissues"]
["51131909","Albumin human"]
["51391703","Albuterol or salbutamol"]
["51162002","Albuterol/ipratropium"]
["46151604","Alcohol analysers"]
["41113044","Alcohol hydrometer"]
["50202200","Alcoholic beverages"]
["85111616","Alcoholism prevention or control services"]
["41113038","Alcoholometer"]
["51112035","Alectinib "]
["51111778","Alemtuzumab"]
["51182406","Alendronic acid or alendronate sodium"]
["41111624","Alexometer"]
["85141602","Algae or sea weed medical cures"]
["47101601","Algaecides"]
["51171511","Algeldrate or aluminium hydroxide"]
["42311540","Alginate dressings"]
["51171973","Alglucosidase alfa"]
["93121610","Aligned countries cooperation"]
["12352000","Aliphatic and aromatic compounds"]
["51321505","Alirocumab"]
["12141800","Alkali metals"]
["26111702","Alkaline batteries"]
["51112300","Alkylating agent alkanesulfonic acids"]
["51112400","Alkylating agent amides"]
["51113000","Alkylating agent amines"]
["51112500","Alkylating agent nitrogen mustard compounds"]
["51112600","Alkylating agent nitrosourea compounds"]
["51112700","Alkylating agent organoplatinum compounds"]
["51113500","Alkylating agent piperazines"]
["51112800","Alkylating agent stilbenes"]
["51112900","Alkylating agent triazines"]
["43211521","All in one desktop computer"]
["25101905","All terrain vehicles tracked or wheeled"]
["51241660","Allantoin/clioquinol/coal tar"]
["51241603","Allantoin/coal tar"]
["85111606","Allergies prevention or control services"]
["42183201","Allergy detecting or testing instruments"]
["42183200","Allergy examining equipment and supplies"]
["51192001","Allopurinol"]
["11170000","Alloys"]
["51241262","Almond oil"]
["51142423","Almotriptan malate"]
["10101518","Alpaca"]
["51191968","Alpha keto amino acid analogs"]
["12142203","Alpha sources"]
["51401505","Alprazolam"]
["51413301","Alprostadil"]
["51412702","Alteplase"]
["23271423","Alternating current AC arc welder"]
["85140000","Alternative and holistic medicine"]
["86110000","Alternative educational systems"]
["60131700","Alternative sounds musical instruments"]
["12131506","Aluminized explosives"]
["11172001","Aluminum alloy 7178"]
["11172000","Aluminum based alloys"]
["48102108","Aluminum food wrapping foil"]
["51172410","Aluminum hydroxide/magnesium hydroxide"]
["51172413","Aluminum hydroxide/magnesium trisilicate"]
["30102306","Aluminum profiles"]
["30265001","Aluminum SAE 1000 series cold rolled sheet"]
["30265002","Aluminum SAE 1000 series hot rolled sheet"]
["30265003","Aluminum SAE 2000 series cold rolled sheet"]
["30265004","Aluminum SAE 2000 series hot rolled sheet"]
["30265005","Aluminum SAE 3000 series cold rolled sheet"]
["30265006","Aluminum SAE 3000 series hot rolled sheet"]
["30265007","Aluminum SAE 4000 series cold rolled sheet"]
["30265008","Aluminum SAE 4000 series hot rolled sheet"]
["30265009","Aluminum SAE 5000 series cold rolled sheet"]
["30265010","Aluminum SAE 5000 series hot rolled sheet"]
["30265011","Aluminum SAE 6000 series cold rolled sheet"]
["30265000","Aluminum sheets"]
["51142517","Amantadine"]
["83111902","Amateur radio networks or services"]
["43233505","Ambient music or advertising messaging software"]
["50301502","Ambrosia apples"]
["51162702","Ambroxol"]
["25175201","Ambulance Accessories"]
["53102709","Ambulance officers uniforms"]
["92101902","Ambulance services"]
["95121706","Ambulance station"]
["25101703","Ambulances"]
["42211500","Ambulation and transfer and positioning aids for the physically challenged"]
["51100000","Amebicides and trichomonacides and antiprotozoals"]
["51101600","Amebicides and Trichomonacides and Antiprotozoals"]
["51272111","Amethocaine or tetracaine"]
["51112901","Amifostine"]
["51281627","Amikacin"]
["51281632","Amikacin sulfate"]
["41115802","Amino acid analyzer accessories or supplies"]
["41116001","Amino acid analyzer reagents"]
["41115801","Amino acid analyzers"]
["51131808","Aminocaproic acid"]
["51281600","Aminoglycosides"]
["51281700","Aminopenicillins"]
["51391602","Aminophylline"]
["51123601","Amiodarone"]
["51281503","Amithiozone or thiacetazone"]
["51293002","Amitriptyline"]
["51293012","Amitriptyline hydrochloride"]
["51433902","Amlodipine"]
["51433924","Amlodipine besilate"]
["51434958","Amlodipine besilate/Irbesartan"]
["51433925","Amlodipine maleate"]
["51434907","Amlodipine/hydrochlorothiazide/olmesartan"]
["51434908","Amlodipine/hydrochlorothiazide/valsartan"]
["51434960","Amlodipine/Indapamide/Perindopril arginine"]
["51434909","Amlodipine/olmesartan"]
["51434961","Amlodipine/Perindopril arginine"]
["41113601","Ammeters"]
["47131804","Ammonia cleaners"]
["47101502","Ammonia removal equipment"]
["12131509","Ammonium nitrate and fuel oil ANFO"]
["12131507","Ammonium nitrate explosives"]
["10171601","Ammonium nitrate fertilizer"]
["10171613","Ammonium nitrate mixed with calcium carbonate fertilizer"]
["46101600","Ammunition"]
["46101700","Ammunition handling systems"]
["42143135","Amniocentesis hooks"]
["42143122","Amniocentesis kit accessories"]
["42143104","Amniocentesis kits"]
["42142501","Amniocentesis needles"]
["51101913","Amodiaquine"]
["51102905","Amodiaquine and pyrimethamine/sulfadoxine"]
["51102907","Amodiaquine/artesunate"]
["51281702","Amoxicillin"]
["51281710","Amoxicillin anhydrous"]
["51281711","Amoxicillin hydrate"]
["51281712","Amoxicillin sodium"]
["51281713","Amoxicillin trihydrate"]
["51285005","Amoxicillin trihydrate/Potassium clavulanate"]
["51285101","Amoxicillin/clarithromycin/lansoprazole"]
["51284300","Amphenicols"]
["25101909","Amphibious vehicle"]
["51302401","Amphotericin B"]
["51281703","Ampicillin"]
["51281714","Ampicillin anhydrous"]
["51281716","Ampicillin sodium"]
["51281717","Ampicillin trihydrate"]
["51285006","Ampicillin/sulbactam"]
["51341501","Amprenavir"]
["51472601","Amylmetacresol"]
["41103407","Anaerobic chamber"]
["41104308","Anaerobic environmental culture systems or supplies"]
["41104303","Anaerobic jars or accessories"]
["51271600","Anaesthetic amides"]
["51272000","Anaesthetic barbiturates"]
["51272100","Anaesthetic benzoates"]
["51272200","Anaesthetic cycloparaffins"]
["51272300","Anaesthetic dioxolanes and gases and imidazoles and isoquinolines"]
["51270000","Anaesthetic drugs and related adjuncts and analeptics"]
["51272400","Anaesthetic ethers"]
["51272900","Anaesthetic phenols"]
["51273000","Anaesthetic piperidines"]
["42182001","Anal or rectal exam speculas"]
["42221705","Analgesia infusion vial assemblies"]
["42221707","Analgesic infusion sets or kits"]
["43211517","Analog computer"]
["43191509","Analog telephones"]
["41111517","Analytical balances"]
["43232605","Analytical or scientific software"]
["42312014","Anastomosis rings"]
["51111875","Anastrozole"]
["42301502","Anatomical human mannequins for medical education or training"]
["42301501","Anatomical human models for medical education or training"]
["25111906","Anchor chocks"]
["25111907","Anchor lines"]
["30241502","Anchor plate"]
["31162100","Anchors"]
["11111805","Andalusite"]
["51182000","Androgens and androgen inhibitors"]
["41115835","Androgeny and fertility automated counter"]
["41115836","Androgeny and fertility automated counter accessories and supplies"]
["41116017","Androgeny and fertility automated counter reagent"]
["41116151","Androgeny and fertility quality controls and calibrators and standards"]
["41116162","Androgeny and fertility reagent or solution or stain"]
["41116150","Androgeny and fertility test kits and supplies"]
["41115302","Anechoic chambers"]
["41114401","Anemometers"]
["41114424","Anenometer calibrator"]
["42181601","Aneroid blood pressure units"]
["42272500","Anesthesia apparatus and accessories and supplies"]
["42272506","Anesthesia apparatus screen filters"]
["42272503","Anesthesia inhalers or inhaler units"]
["42272509","Anesthesia machine calibrators"]
["42272510","Anesthesia machine upgrade kits"]
["42142502","Anesthesia needles"]
["42142535","Anesthesia nerve block trays or needles"]
["42203407","Angiography contrast medium delivery sets"]
["42203428","Angiography control valves and hemostatic valves"]
["42203426","Angiography guidewire torque devices"]
["42203427","Angiography introducer needles"]
["42203405","Angioplasty balloon catheters"]
["42203409","Angioscopic valvulotomes"]
["30101500","Angles"]
["41111968","Angular rate sensor"]
["51283101","Anidulafungin"]
["41102604","Animal catching devices"]
["10131600","Animal containment"]
["10130000","Animal containment and habitats"]
["10191701","Animal control traps"]
["70122002","Animal disease control"]
["10120000","Animal feed"]
["41102610","Animal for research testing"]
["72154600","Animal habitat and enclosure construction and maintenance services"]
["10131700","Animal habitats"]
["70122000","Animal health"]
["70122010","Animal health information services"]
["70122005","Animal health preventive medication services"]
["11131500","Animal hides and skins and animal textile materials"]
["70122009","Animal hospital services"]
["70121604","Animal husbandry"]
["41102603","Animal identification supplies"]
["41102600","Animal laboratory equipment and accessories"]
["94131901","Animal liberation movements"]
["70122001","Animal nutrition"]
["94131900","Animal protection associations"]
["10131500","Animal shelters"]
["41102608","Animal testing equipment"]
["10131605","Animal transport cage"]
["72102105","Animal trapping"]
["70122003","Animal trypanosomiasis"]
["70122006","Animal vaccination services"]
["41111506","Animal weighing scales"]
["42241701","Ankle or foot orthopedic softgoods"]
["81112224","ANS & ATM Software Maintenance/Development Services"]
["78204006","ANS & ATM Software Maintenance/Development Services (Aviation)"]
["43191505","Answering machines"]
["51171500","Antacids and antiflatulents"]
["43221727","Antenna accessory"]
["72154001","Antenna installation service"]
["51451900","Anthelmintic amides"]
["51452100","Anthelmintic benzene derivatives"]
["51451600","Anthelmintic benzimidazoles"]
["51452200","Anthelmintic benzoates"]
["51452300","Anthelmintic benzodioxoles and butyrophenones and copper compounds and cyclohexanes and naphthalenes"]
["51452400","Anthelmintic carbamates"]
["51452500","Anthelmintic chlorinated hydrocarbons"]
["51451800","Anthelmintic from other constituents"]
["51452600","Anthelmintic guanidines"]
["51452700","Anthelmintic isoquinolines"]
["51452800","Anthelmintic macrolides"]
["51452900","Anthelmintic organophosphorus compounds"]
["51453000","Anthelmintic piperazines"]
["51453200","Anthelmintic quinolines"]
["51453400","Anthelmintic terpenes"]
["51453500","Anthelmintic thiazoles"]
["51453600","Anthelmintic thiocyanates"]
["51450000","Anthelmintics"]
["51281800","Anthracyclines"]
["93141715","Anthropological research service"]
["51143200","Anti abuse drugs"]
["41116029","Anti B serum, monoclonal"]
["41121708","Anti coagulant test tubes"]
["15121800","Anti corrosives"]
["46221503","Anti explosive device detonator"]
["12163200","Anti gas migration agents"]
["12162200","Anti oxidants"]
["94131802","Anti racism movements"]
["42211901","Anti slip materials for the physically challenged"]
["12163100","Anti sludgers"]
["46182100","Anti static equipment and supplies"]
["46182104","Anti static floor mats"]
["46182105","Anti static worktable mats"]
["51131500","Antianemic drugs"]
["51121500","Antiarrythmic agents"]
["51123500","Antiarrythmic benzazepines"]
["51123600","Antiarrythmic benzofurans"]
["51124400","Antiarrythmic cardiac glycosides or cardenolides"]
["51123900","Antiarrythmic indoles"]
["51124100","Antiarrythmic purines"]
["51120000","Antiarrythmics and antianginals and cardioplegics and drugs for heart failure"]
["51161500","Antiasthmatic drugs"]
["51285600","Antibacterial alcohols"]
["51285900","Antibacterial amines"]
["51285300","Antibacterial nitrofurans"]
["51286500","Antibacterial pyrans"]
["51287000","Antibacterial sulfones"]
["51280000","Antibacterials"]
["51285500","Antibacterials, synthesized"]
["41115832","Antibiotic detection equipment"]
["51131600","Anticoagulants"]
["51141500","Anticonvulsants"]
["51291700","Antidepressant alcohols"]
["51292000","Antidepressant amines"]
["51292900","Antidepressant dibenzazepines"]
["51293000","Antidepressant dibenzocycloheptenes"]
["51293400","Antidepressant imidazoles and isonicotinic acids and ketones and orphenadrine/analogs and derivatives and phenanthrenes"]
["51294000","Antidepressant morpholines"]
["51294400","Antidepressant piperazines"]
["51294500","Antidepressant piperidines"]
["51290000","Antidepressants"]
["51181500","Antidiabetic agents and hyperglycemic agents"]
["51183800","Antidiabetic and hyperglycemic alpha-glucosidase inhibitors"]
["51183300","Antidiabetic and hyperglycemic dipeptidyl peptidase-4 inhibitors"]
["51183500","Antidiabetic and hyperglycemic guanidines"]
["51183600","Antidiabetic and hyperglycemic peptide hormones"]
["51184000","Antidiabetic and hyperglycemic sulfonylureas"]
["51183700","Antidiabetic and hyperglycemic thiazolidinediones"]
["51171700","Antidiarrheals"]
["51172300","Antidotes and emetics"]
["51171800","Antiemetics and antinauseants and antivertigo agents"]
["51131829","Anti-factor VIII coagulant complex"]
["15121807","Antifreeze"]
["51301800","Antifungal amines"]
["51301900","Antifungal aminoacridines and azoles and benzimidazoles and benzofurans"]
["51302000","Antifungal carboxylic acids"]
["51300000","Antifungal drugs"]
["51302300","Antifungal imidazoles"]
["51302400","Antifungal macrolides"]
["51302500","Antifungal naphthalenes"]
["51302700","Antifungal phenols"]
["51302900","Antifungal pyridines"]
["51303000","Antifungal pyrimidines"]
["51303100","Antifungal pyrroles and pyrrolidinones and quinazolines and terpenes"]
["51303400","Antifungal triazoles"]
["51192000","Antigout drugs"]
["51311900","Antihistamine or H1 blocker benzopyrans"]
["51312100","Antihistamine or H1 blocker cyclic s-oxides and dibenzazepines and dibenzoxepins and glyoxylates"]
["51312200","Antihistamine or H1 blocker dibenzocycloheptenes"]
["51312300","Antihistamine or H1 blocker ethylamines"]
["51312400","Antihistamine or H1 blocker ethylenediamines"]
["51313000","Antihistamine or H1 blocker phthalazines"]
["51313100","Antihistamine or H1 blocker piperazines"]
["51313200","Antihistamine or H1 blocker piperidines"]
["51313300","Antihistamine or H1 blocker propylamines"]
["51313400","Antihistamine or H1 blocker pyridines"]
["51313700","Antihistamine or H1 blocker quinolizines and sulfonamides and thiazines and thiazoles and thiophenes"]
["51313800","Antihistamine or H1 blocker terfenadine/analogs and derivatives"]
["51310000","Antihistamines or H1 blockers"]
["51320000","Antihyperlipidemic and hypocholesterolemic agents"]
["51321600","Antihyperlipidemic and hypocholesterolemic alcohols"]
["51321900","Antihyperlipidemic and hypocholesterolemic amides"]
["51322200","Antihyperlipidemic and hypocholesterolemic azetidines and cyclohexanes and fluorobenzenes and furans"]
["51321500","Antihyperlipidemic and hypocholesterolemic benzene derivatives"]
["51321700","Antihyperlipidemic and hypocholesterolemic fatty acids"]
["51321800","Antihyperlipidemic and hypocholesterolemic fibric acids"]
["51322300","Antihyperlipidemic and hypocholesterolemic macromolecular substances"]
["51322700","Antihyperlipidemic and hypocholesterolemic naphthalenes"]
["51431500","Antihypertensive acrylates and amides and angiotensins and aromatic amino acids"]
["51431900","Antihypertensive alcohols"]
["51431600","Antihypertensive amines"]
["51431700","Antihypertensive benzazepines"]
["51431800","Antihypertensive benzene derivatives and benzimidazoles and benzofurans and catecholamines"]
["51432700","Antihypertensive bicyclo compounds"]
["51430000","Antihypertensive drugs"]
["51432300","Antihypertensive imidazoles"]
["51432400","Antihypertensive imino acids"]
["51432500","Antihypertensive indoles"]
["51432800","Antihypertensive oligopeptides"]
["51433300","Antihypertensive phthalazines"]
["51432600","Antihypertensive piperazines"]
["51433700","Antihypertensive prostaglandins and pyrazoles and pyrimidines and quinazolines"]
["51433800","Antihypertensive pyridazines"]
["51433900","Antihypertensive pyridines"]
["51434500","Antihypertensive tetrazoles"]
["51111600","Antimetabolites"]
["51110000","Antineoplastic agents"]
["51111700","Antineoplastic antibiotics"]
["51281900","Antineoplastics"]
["51142500","Antiparkinson drugs"]
["51101900","Antiprotozoals"]
["51331900","Antipsychotic anions"]
["51332000","Antipsychotic azoles"]
["51332500","Antipsychotic butyrophenones"]
["51332700","Antipsychotic dibenzazepines"]
["51333200","Antipsychotic nitrogen mustard compounds"]
["51332800","Antipsychotic phenothiazines"]
["51333400","Antipsychotic piperazines"]
["51333600","Antipsychotic pyrimidines"]
["51334200","Antipsychotic thiepins"]
["51334300","Antipsychotic thioxanthenes"]
["51330000","Antipsychotics"]
["51472000","Antiseptic aldehydes"]
["51471500","Antiseptic alkenes and amidines and amines and ammonia-based compounds"]
["51472300","Antiseptic borates and chlorine-based compounds and heavy metals and herbal preparations"]
["51472600","Antiseptic cresols"]
["51472800","Antiseptic guanidines"]
["51472900","Antiseptic halogens"]
["51473100","Antiseptic imidazoles and ketones and lipids and nitrofurans"]
["51473200","Antiseptic organometallic compounds"]
["51473300","Antiseptic phenols"]
["51473500","Antiseptic pyrimidines and silvers and ureas and waters"]
["51473000","Antiseptic quaternary ammonium compounds"]
["51473600","Antiseptic quinolines"]
["51473700","Antiseptic sulfur compounds"]
["42141507","Antiseptic Wipe with Alcohol & Chlorhexidine"]
["51470000","Antiseptics"]
["24113102","Antistatic box"]
["46182107","Antistatic maintenance kits"]
["46182101","Antistatic wrist straps"]
["51202701","Anti-thymocyte globulin"]
["51281500","Antitubercular drugs"]
["51162600","Antitussives and associated cough remedies"]
["51171900","Antiulcer and related gastrointestinal GI drugs"]
["51341600","Antiviral adamantanes"]
["51341800","Antiviral amides"]
["51341900","Antiviral amidines and amines and benzoxazines and cyclohexanes"]
["51341500","Antiviral carboxylic acids"]
["51340000","Antiviral drugs"]
["51342300","Antiviral guanines"]
["51342400","Antiviral isoquinolines"]
["51343700","Antiviral ketones and morpholines and nitriles and pyridazines"]
["51342500","Antiviral nucleosides"]
["51343500","Antiviral organophosphorus compounds"]
["51342700","Antiviral peptides"]
["51342900","Antiviral purines"]
["51343000","Antiviral pyridines"]
["51343100","Antiviral pyrimidines"]
["51343200","Antiviral pyrrolidinones and quinolines and thiazoles"]
["51283403","Apalcillin"]
["51283412","Apalcillin sodium"]
["72111106","Apartment remodeling service"]
["50301503","Api apples"]
["70121610","Apiculture"]
["51131621","Apixaban"]
["53000000","Apparel and Luggage and Personal Care Products"]
["80121502","Appellate procedure services"]
["50301500","Apples"]
["14111816","Applicant fingerprint cards"]
["81111508","Application implementation services"]
["81141902","Application or technology research and development service"]
["81111504","Application programming services"]
["43232701","Application server software"]
["81112106","Application service providers"]
["42141500","Applicator swabs and cotton balls"]
["44112005","Appointment books or refills"]
["39111624","Approach Lighting System "]
["39111625","Approach Lighting System, Mast"]
["51294001","Aprepitant"]
["51131830","Aprotinin/Fibrinogen+Calcium chloride/Thrombin"]
["70101900","Aquaculture"]
["21111600","Aquaculture equipment"]
["95121811","Aquaduct or other water supply conduit, except pipeline"]
["41102602","Aquaria equipment"]
["81171601","Aquatic ecology service"]
["72141119","Aqueduct construction service"]
["57040103","Arabic student kits and teacher kit"]
["81171702","Arboricultural science service"]
["70111506","Arborist services"]
["81151705","Archaeological services"]
["93141710","Archaic or indigenous language services"]
["44122023","Archboards"]
["81101508","Architectural engineering"]
["72152604","Architectural sheet metal service"]
["39111612","Area lighting"]
["51182102","Argipressin or vasopressin"]
["51294403","Aripiprazole"]
["41103516","Arm hood"]
["42241801","Arm orthopedic softgoods"]
["92112400","Armed conflicts and incidents"]
["78101503","Armored air transport"]
["25101713","Armored ambulance"]
["92121800","Armored car services and money transport"]
["25102002","Armored fighting vehicles"]
["25101510","Armored motor vehicle"]
["25101714","Armored recovery vehicle"]
["46151802","Armoured Container"]
["46151802","Armoured Container"]
["46101800","Arms and ammunition accessories"]
["92111601","Arms limitations"]
["51261701","Arnolol"]
["41113666","Arrester tester"]
["23221000","Arrival department machinery and equipment"]
["41113050","Arsenic detector"]
["60121300","Art and craft cutting products"]
["82141502","Art design or graphics"]
["82141500","Art design services"]
["95121712","Art gallery"]
["82151510","Art installation and picture hanging service"]
["14111606","Art or craft paper"]
["51101908","Artemether"]
["51102901","Artemether/lumefantrine"]
["41104137","Arterial and capillary blood gas collection kit"]
["42271502","Arterial blood gas monitors"]
["42221501","Arterial line catheters"]
["42221502","Arterial line continuous catheter flush valves"]
["42142503","Arterial needles"]
["42203424","Arteriotomy site closure devices"]
["51101914","Artesunate"]
["51102909","Artesunate/Pyronaridine"]
["42203418","Artherectomy catheters"]
["50401500","Artichokes"]
["82141602","Article display arrangement"]
["82111701","Article writers services"]
["42143203","Artificial insemination catheters"]
["72154002","Artificial turf installation service"]
["60120000","Arts and crafts equipment and accessories and supplies"]
["76101602","Asbestos removal or encapsulation"]
["47121706","Ash trays"]
["51111901","Asparaginase"]
["10151537","Asparagus seeds or seedlings"]
["30121601","Asphalt"]
["30111509","Asphalt based concrete"]
["41112236","Asphalt softening point tester"]
["72152502","Asphalt tile installation service"]
["30121600","Asphalts"]
["41121518","Aspirating pipette"]
["51132102","Aspirin/dipyridamole"]
["51122601","Aspirin/pravastatin"]
["73151501","Assembly line work"]
["23153400","Assembly machines"]
["73151500","Assembly services"]
["10101509","Asses"]
["85151703","Assessment of emergency food requirements"]
["80161700","Asset recovery service"]
["42211902","Assistive cooking devices for the physically challenged"]
["45111701","Assistive listening devices"]
["14111532","Assorted paper kits"]
["45121523","Astronomical camera"]
["43221805","Asynchronous transfer mode ATM network equipment"]
["43201501","Asynchronous transfer mode ATM telecommunications interface cards"]
["51342701","Atazanavir"]
["51343822","Atazanavir/ritonavir"]
["51263101","Atenolol"]
["51111784","Atezolizumab"]
["72153100","Athletic and recreational facility construction services"]
["72153106","Athletic field construction service"]
["53111900","Athletic footwear"]
["53102900","Athletic wear"]
["51201569","Atlizumab or tocilizumab"]
["83112201","ATM asynchronous transfer mode managed network services"]
["41115417","Atomic absorption AA spectrometer accessories"]
["41115407","Atomic absorption AA spectrometers"]
["26140000","Atomic and nuclear energy machinery and equipment"]
["51431602","Atomoxetine"]
["51321701","Atorvastatin"]
["51321708","Atorvastatin calcium trihydrate"]
["51434962","Atorvastatin/Acetylsalicylic acid/Ramipril"]
["51182206","Atosiban"]
["51101923","Atovaquone"]
["51151616","Atropine"]
["25202801","ATS Message Handling System (AMHS)"]
["80141705","Auction services"]
["43201502","Audio accelerator cards"]
["45111714","Audio analog to digital AD converter"]
["52161500","Audio and visual equipment"]
["45110000","Audio and visual presentation and composing equipment"]
["43201546","Audio conferencing boards"]
["45111715","Audio digital to analog DA converter"]
["45111713","Audio distribution amplifier"]
["45111707","Audio equipment connector and stage box"]
["45111702","Audio jack boxes"]
["45111704","Audio mixing consoles"]
["45111719","Audio monitor"]
["45111700","Audio presentation and composing equipment and hardware and controllers"]
["45111720","Audio spectrum analyzer"]
["41112104","Audio transducers"]
["45111815","Audio vidio console"]
["52161600","Audio visual equipment accessories"]
["80161507","Audio visual services"]
["86141702","Audio visual technology"]
["45111901","Audioconferencing systems"]
["84111600","Audit services"]
["43231516","Audit software"]
["95141707","Auditorium"]
["56112300","Auditorium or stadium or special use seating parts and accessories"]
["27111509","Augers"]
["43233201","Authentication server software"]
["82121802","Author funded publishing services"]
["26111729","Auto battery charger unit"]
["80141901","Auto shows or other exhibits"]
["42281500","Autoclave and sterilizer equipment and accessories"]
["30131512","Autoclaved lightweight aerated concrete block"]
["41111743","Autocollimator"]
["43221507","Autodialers"]
["42312304","Autolytic debridement products"]
["43221501","Automated attendant systems"]
["41115841","Automated blood culture system"]
["41115842","Automated blood culture system analyzer accessories or supplies "]
["41116021","Automated blood culture system analyzer reagent"]
["41102922","Automated cover slipping equipment"]
["45121709","Automated film processor"]
["25191536","Automated Flight Inquiry Response Systems"]
["41115853","Automated high performance chromatography HPLC analyzer system"]
["41115854","Automated high performance chromatography HPLC analyzer system accessories"]
["41116023","Automated high performance chromatography HPLC analyzer system reagent or kit"]
["41121521","Automated liquid handling system accessories"]
["41106232","Automated microbial culture plate streaker"]
["41102928","Automated microscope slide labeler"]
["41111735","Automated microscope stages"]
["41111740","Automated optical inspection system"]
["46161536","Automated Parking Control System "]
["41115868","Automated quality control manager system"]
["41112602","Automated swab test kits"]
["41121520","Automated vial or tube decapper recapper"]
["43221502","Automatic call distributor ACD"]
["25202902","Automatic Dependent Surveillance (ADS) "]
["44101730","Automatic document sorter"]
["30171510","Automatic doors"]
["24102300","Automatic guided vehicles AGV"]
["44102408","Automatic labeling systems"]
["41111525","Automatic packer scale"]
["44102109","Automatic postal or mailing machine"]
["41111526","Automatic selective scale"]
["25202905","Automatic Terminal Information Service (ATIS) Equipment "]
["25202905","Automatic Terminal Information Service (ATIS) Equipment "]
["46171628","Automatic time of day indicator"]
["46171640","Automatic traffic monitoring system"]
["41114423","Automatic weather system calibrator"]
["32150000","Automation control devices and components and accessories"]
["25181601","Automobile chassis"]
["25172504","Automobile or light truck tires"]
["25171901","Automobile rims or wheels"]
["25172502","Automobile tire tubes"]
["25101503","Automobiles or cars"]
["78181507","Automotive and light truck maintenance and repair"]
["43221720","Automotive antennas"]
["25171702","Automotive braking systems"]
["26121800","Automotive cable"]
["25181600","Automotive chassis"]
["72121300","Automotive garage and service station construction services"]
["72121301","Automotive garage construction service"]
["43202219","Automotive heating ventilation air conditioning HVAC control head assembly"]
["43202220","Automotive heating ventilation air conditioning HVAC power module"]
["43202221","Automotive heating ventilation air conditioning HVAC resistor assembly"]
["95121605","Automotive repair or servicing building"]
["72121302","Automotive service station construction service"]
["27140000","Automotive specialty tools"]
["60106101","Automotive teaching aids or materials"]
["51150000","Autonomic nervous system drugs"]
["42261605","Autopsy body boards"]
["42261503","Autopsy bullet probes"]
["42261807","Autopsy carts"]
["42261506","Autopsy chisels or osteotomes"]
["42261502","Autopsy dissection forceps for general use"]
["42261509","Autopsy dissection kits"]
["42261600","Autopsy equipment and supplies"]
["42261610","Autopsy fluid collection vacuum aspirators or tubing"]
["42261700","Autopsy furniture"]
["42261606","Autopsy hanging scales"]
["42261604","Autopsy head rests"]
["42261608","Autopsy infectious disease kits"]
["42261505","Autopsy knives or blades"]
["42261513","Autopsy saw blades"]
["42261512","Autopsy saws"]
["42261501","Autopsy scissors"]
["42261607","Autopsy specimen bags or containers"]
["42261504","Autopsy thread or needle pullers"]
["42261511","Autopsy vein directors"]
["41105341","Autoradiography film"]
["42294601","Autotransfusion blood or transfer bags"]
["42294602","Autotransfusion bowl kits or centrifugal kits"]
["42294604","Autotransfusion filters"]
["42294600","Autotransfusion products"]
["42294605","Autotransfusion reservoirs "]
["42294606","Autotransfusion tubing sets or kits"]
["42294603","Autotransfusion units"]
["42294607","Autotransfusion valves"]
["42294611","Autotransfusion waste collection systems"]
["26111611","Auxiliary generator"]
["51201704","Avian infectious bronchitis vaccines"]
["15101504","Aviation fuel"]
["43232601","Aviation ground support software"]
["78204001","Aviation Security Services"]
["86101400","Aviation Specific Training"]
["43232602","Aviation test software"]
["78204004","Aviation-Related Safety Audits Services"]
["78200000","Aviation-Related Services And Consultancy"]
["78204000","Aviation-Specific Services"]
["81102301","Avionics design"]
["51242302","Avobenzone/padimate-o"]
["49101700","Awards"]
["72154003","Awning installation service"]
["51111833","Axitinib"]
["41111518","Axle load scales"]
["51111625","Azacitidine"]
["51101636","Azanidazole"]
["51203401","Azathioprine"]
["51343116","Azidothymidine or zidovudine"]
["51282301","Azithromycin"]
["51282309","Azithromycin anhydrous"]
["51282310","Azithromycin dihydrate"]
["51284502","Aztreonam"]
["56101800","Baby and toddler furniture and accessories"]
["53131667","Baby bath tub"]
["53131664","Baby body wash"]
["53131663","Baby&infant moisturizing cream"]
["53131662","Baby/infant shampoo "]
["51102818","Bacitracin/diperodon/neomycin/polymyxin b"]
["51102811","Bacitracin/hydrocortisone/neomycin/polymyxin b"]
["51102821","Bacitracin/neomycin/polymyxin b"]
["51102822","Bacitracin/polymyxin b"]
["51102823","Bacitracin/polymyxin b/pramoxine"]
["42241802","Back or lumbar or sacral orthopedic softgoods"]
["83112500","Backbone capacities"]
["60121606","Background screens"]
["22101509","Backhoes"]
["46191612","Backpack water pump"]
["53121603","Backpacks"]
["43201610","Backplane or panels or assemblies"]
["43233415","Backup or archival software"]
["85111703","Bacteria management or control services"]
["41106203","Bacteria transformation kits"]
["85111506","Bacterial disease prevention or control services"]
["41106501","Bacterial expression kits"]
["47101605","Bacterial removal chemicals"]
["47101504","Bacterial removal equipment"]
["85121802","Bacteriological laboratory services"]
["55121804","Badges or badge holders"]
["49161602","Badminton rackets"]
["44122116","Bag clips"]
["43212109","Bag tag printer"]
["25191534","Baggage And Cargo Handling Systems "]
["24101751","Baggage Conveyor"]
["25191537","Baggage Handling System (BHS) "]
["25191537","Baggage Handling System (BHS) "]
["25191537","Baggage Handling System (BHS) "]
["25191539","Baggage Reconciliation System"]
["41111528","Baggage Scale, Cargo "]
["41111529","Baggage Scale, Check-In Counter "]
["24111500","Bags"]
["30241503","Bail ring"]
["50181710","Bakers yeast"]
["73152106","Baking and heating equipment maintenance and repair service"]
["50181708","Baking mixes"]
["50181700","Baking mixes and supplies"]
["50181709","Baking supplies"]
["93171802","Balance of trade projections"]
["41111515","Balance weighing containers or bowls or boats or papers"]
["72154048","Balcony and external walkway service"]
["50301504","Baldwin apples"]
["21101709","Baler"]
["31171504","Ball bearings"]
["11111809","Ball clay"]
["20101709","Ball mills"]
["44121704","Ball point pens"]
["72153001","Ballistic resistant glazing installation service"]
["46151509","Ballistic/Fragmentation Equipment"]
["24113105","Ballot box"]
["44121908","Ballpoint pen ink refill"]
["11121608","Bamboo"]
["43212101","Band printers"]
["42311539","Bandage applicators"]
["42311502","Bandage or dressing trays"]
["42311503","Bandage rollers"]
["42311537","Bandage scissors or its supplies"]
["42311500","Bandages and dressings and related products"]
["53102511","Bandannas"]
["45101901","Banding machines"]
["42152902","Bands for dental matrix"]
["60131306","Banjoes"]
["72121401","Bank building construction service"]
["64100000","Bank offered products "]
["55101529","Bankbook or passbook"]
["44101903","Bankbook or passbook update machine"]
["84120000","Banking and investment"]
["84121500","Banking institutions"]
["72151801","Banking machine installation and maintenance"]
["80121602","Bankruptcy law services"]
["82101701","Banner advertising services"]
["14111613","Banner paper"]
["55121706","Banners"]
["90101600","Banquet and catering services"]
["90101601","Banquet facilities"]
["55121608","Bar code labels"]
["43212115","Bar code printer"]
["43211701","Bar code reader equipment"]
["43231509","Bar coding software"]
["48102005","Bar stools"]
["48101527","Barbecues"]
["43211520","Barebone computer"]
["25111507","Barges"]
["51112033","Baricitinib"]
["55121902","Barker stands or stalls"]
["10151603","Barley seeds"]
["41114420","Barometer calibrator"]
["41114402","Barometers"]
["41114426","Baroswitch"]
["46151501","Barricades"]
["46151505","Barriers"]
["90101502","Bars"]
["42181907","Basal metabolism apparatus"]
["11111609","Basalt"]
["41104203","Base exchange equipment"]
["11101700","Base Metals"]
["30241504","Base plate"]
["44101604","Base protection boards"]
["49161506","Baseball bats"]
["49161503","Baseballs"]
["60105302","Basic job skills instructional materials"]
["11171500","Basic steels"]
["51202402","Basiliximab"]
["42295101","Basin or pail stands for surgical use"]
["42141600","Basins and bedpans and urinals and admission kits"]
["49161603","Basketballs"]
["23191000","Batch mixers"]
["53131600","Bath and body"]
["53131649","Bath and body powder"]
["53131612","Bath gels"]
["42132201","Bathophenanthroline, Colorimetry, Iron (Non-Heme)"]
["42211600","Bathroom and bathing aids for the physically challenged"]
["30181507","Bathtub or shower enclosures"]
["30181613","Bathtub or whirlpool apron or skirt"]
["72153601","Bathtub refinishing and repair service"]
["30181501","Bathtubs"]
["81151805","Bathymetric surveys"]
["26111700","Batteries and cells and accessories"]
["26110000","Batteries and generators and kinetic power transmission"]
["41103302","Battery acid hydrometers"]
["26111722","Battery adapter or accessories"]
["26111723","Battery cabinets or covers or doors"]
["26111704","Battery chargers"]
["26111727","Battery discharger"]
["44111913","Battery driven whiteboard eraser"]
["26111720","Battery holders"]
["42295401","Battery operated surgical cautery pencils"]
["26111719","Battery testers"]
["11162400","Batting"]
["92111607","Battle area clearance BAC service"]
["41114637","Beam test apparatus"]
["30101700","Beams"]
["10152301","Bean seeds or seedlings"]
["31171500","Bearings"]
["31170000","Bearings and bushings and wheels and gears"]
["51162041","Beclometasone dipropionate/formoterol fumarate"]
["51162040","Beclometasone dipropionate/Formoterol fumarate/Glycopyrronium bromide"]
["51422302","Beclometasone or Beclomethasone"]
["51162042","Beclomethasone dipropionate/formoterol fumarate/glycopyrronium bromide"]
["90111503","Bed and breakfast inns"]
["51281518","Bedaquiline"]
["52121500","Bedclothes"]
["52120000","Bedclothes and table and kitchen linen and towels"]
["56101539","Bedframes or parts or accessories"]
["42141608","Bedpan liners or bags"]
["42141602","Bedpans"]
["56101515","Beds"]
["42191901","Bedside clinical cabinets"]
["50111513","Beef, minimally processed without additions"]
["21102401","Beekeeping equipment"]
["10101903","Bees"]
["10151522","Beet seeds or seedlings"]
["51202403","Belimumab"]
["60131402","Bells"]
["46191508","Belt monitoring system"]
["41114527","Belt tester"]
["53102501","Belts or suspenders"]
["23241401","Bench grinder"]
["41122301","Bench protectors or liners"]
["41115312","Bench refractometers or polarimeters"]
["41111507","Bench scales"]
["56112109","Benches"]
["41103903","Benchtop centrifuges"]
["41103026","Benchtop ice bucket or chilling container"]
["41122810","Benchtop reagent storage rack"]
["51112503","Bendamustine"]
["51112508","Bendamustine hydrochloride"]
["42272007","Bender tools"]
["51101915","Benflumetol or lumefantrine"]
["11111804","Bentonite"]
["51473001","Benzalkonium Chloride"]
["15101507","Benzene"]
["51303611","Benzoic acid/salicylic acid"]
["51162603","Benzonatate"]
["51241237","Benzoyl peroxide"]
["51452202","Benzyl benzoate"]
["51283405","Benzylpenicillin or penicillin g"]
["51283414","Benzylpenicillin potassium"]
["51283416","Benzylpenicillin sodium"]
["51283424","Benzylpenicillin sodium/Procaine benzylpenicillin or procaine penicillin G"]
["51161702","Beractant"]
["42201851","Beta or gamma counters for clinical use"]
["12142204","Beta sources"]
["51313415","Betahistine dihydrochloride"]
["51282100","Beta-lactams"]
["51422303","Betamethasone"]
["51422327","Betamethasone dipropionate"]
["51422331","Betamethasone valerate"]
["51241605","Betamethasone/calcipotriene"]
["51111731","Bevacizumab"]
["30171703","Beveled glass"]
["73131500","Beverage processing"]
["50200000","Beverages"]
["51321901","Bezafibrate"]
["41104802","Bi distillation units"]
["84101602","Bi lateral or multi lateral aid"]
["42272225","Bi level positive airway pressure Bi PAP accessories"]
["41111915","Bi metallic sensors"]
["13111212","Biaxially orientated polypropylene"]
["41102428","Bibulous paper"]
["51111802","Bicalutamide"]
["84131518","Bicycle insurance"]
["78102206","Bicycle or scooter messenger services"]
["25172506","Bicycle tires"]
["25172505","Bicycle tubes"]
["25161507","Bicycles"]
["30181502","Bidets"]
["93171604","Bilateral trade agreements"]
["42295910","Biliary stents"]
["42295484","Biliary stone dislodgers"]
["93101703","Bill drafting services"]
["14111809","Bill of lading forms or bill of lading books"]
["64101701","Bill paying application"]
["44111614","Bill strap racks"]
["55121904","Billboards"]
["49181501","Billiard tables"]
["43231606","Billing and Invoicing Software"]
["84111506","Billing services"]
["14111804","Bills or bill books"]
["51241103","Bimatoprost"]
["41111971","Binary counter"]
["44122024","Binder handles"]
["44122028","Binder mounting channels"]
["44122105","Binder or bulldog clips"]
["44122025","Binder pockets or accessories"]
["44122120","Binder posts"]
["44122003","Binders"]
["44102800","Binding and lamination machines"]
["44103504","Binding coils or wire loops"]
["44103505","Binding combs or strips"]
["44103502","Binding covers"]
["44103508","Binding die punch"]
["11162122","Binding fabrics"]
["44103507","Binding Kits"]
["44103500","Binding machine supplies"]
["44102805","Binding punch machine"]
["82121905","Binding restoration or repair"]
["44103503","Binding spines or snaps"]
["44103506","Binding tape"]
["41111709","Binocular light compound microscopes"]
["41111717","Binoculars"]
["24112000","Bins and baskets"]
["12352200","Biochemicals"]
["15101801","Biodiesel"]
["42182314","Biofeedback devices"]
["41103704","Biological baths"]
["70141602","Biological control services"]
["42311541","Biological dressings"]
["85121803","Biological laboratory services"]
["41103517","Biological safety cabinet"]
["81170000","Biological science services"]
["86101604","Biology vocational training services"]
["41115866","Biomagnetic separation analyzer"]
["41115867","Biomagnetic separation analyzer accessories"]
["43211714","Biometric identification equipment"]
["92121708","Biometric Security Systems"]
["41123312","Bioprocess container or bag for molecular biology platform"]
["42142518","Biopsy aspirator products "]
["42142504","Biopsy needles"]
["42292803","Biopsy sealing and marking devices"]
["41104913","Bioseparation filters"]
["60106202","Biotechnology teaching aids or materials"]
["51151617","Biperiden"]
["10121600","Bird and fowl food"]
["72102101","Bird proofing services"]
["10191507","Bird repellents"]
["10101600","Birds and fowl"]
["10102100","Birds and fowl hatching eggs"]
["14111826","Birth certificate"]
["93141603","Birth reporting or control services"]
["51171614","Bisacodyl"]
["11162102","Bismalemide fabric or cloth"]
["51143104","Bismuth subsalicylate"]
["51263105","Bisoprolol"]
["51263151","Bisoprolol fumarate"]
["42272003","Bite blocks"]
["30121504","Bitumen"]
["30121500","Bituminous derivatives"]
["82121701","Black and white copy or collating services"]
["45131502","Black and white film"]
["43202009","Blank audio tape"]
["43202002","Blank tapes"]
["45131604","Blank video tapes"]
["52121508","Blankets"]
["24131607","Blast freezers"]
["46151801","Blast guard container"]
["30171519","Blast proof door"]
["41113674","Blasting machine tester"]
["72141508","Blasting service except building demolition"]
["14121501","Bleached paperboard"]
["47131807","Bleaches"]
["30171518","Blem door"]
["51111733","Bleomycin"]
["51201571","Blinatumomab"]
["51201571","Blinatumomab"]
["52131600","Blinds and shades"]
["41105329","Blocking agents"]
["30131500","Blocks"]
["24101613","Blocks or pulleys"]
["42222300","Blood administration and transfusion products"]
["42222303","Blood administration or transfusion identification systems"]
["42222304","Blood administration or transfusion tubing"]
["42222305","Blood administration or transfusion tubing clamps"]
["85121801","Blood analysis laboratory services"]
["41115804","Blood bank analyzer accessories or supplies"]
["41116002","Blood bank analyzer reagents"]
["41115803","Blood bank analyzers"]
["41115839","Blood bank apheresis and donor unit processing analyzer"]
["41115840","Blood bank apheresis and donor unit processing analyzer accessories and supplies"]
["41103208","Blood bank cell washers"]
["41103015","Blood bank freezers"]
["41103716","Blood bank plasma thawing bath"]
["41116103","Blood bank quality controls or calibrators or standards"]
["41116102","Blood bank reagents or solutions"]
["41103010","Blood bank refrigerators"]
["41116101","Blood bank test kits or supplies"]
["41116222","Blood bilirubin test monitor or meter"]
["41116223","Blood bilirubin test monitor or meter accessories"]
["41116208","Blood chemistry multiple parameter monitor or meter"]
["41116209","Blood coagulation multiple parameter monitor or meter"]
["41104138","Blood collection needle holders"]
["42142521","Blood collection needles"]
["42142616","Blood collection syringes"]
["41123310","Blood collection tube dispenser"]
["41104110","Blood culture bottles"]
["41104130","Blood culture collection kit"]
["42192101","Blood drawing or phlebotomy chairs"]
["41122417","Blood drop dispenser device"]
["42142618","Blood gas analysis syringe kits"]
["41115806","Blood gas analyzer accessories or supplies"]
["41116003","Blood gas analyzer reagents"]
["41115805","Blood gas analyzers"]
["41116216","Blood lead test monitor or meter"]
["41116217","Blood lead test monitor or meter accessories"]
["85121809","Blood or sperm or transplant organ banks services"]
["51131900","Blood plasma substitutes and extenders and expanders"]
["42181604","Blood pressure air release valves or inflation bulbs"]
["42181610","Blood pressure cuff kits"]
["42181605","Blood pressure cuffs or bladders"]
["42181606","Blood pressure inflation hoses or pneumatic hoses or adapters"]
["42181608","Blood pressure measuring instruments accessories"]
["42191911","Blood pressure mobile stands"]
["42181609","Blood pressure monitor dome kits"]
["42181607","Blood pressure recording units"]
["42181600","Blood pressure units and related products"]
["42222301","Blood transfusion administration kits"]
["42222302","Blood transfusion filters or screens"]
["41104109","Blood unit collection bags"]
["41103027","Blood unit storage boot"]
["41112240","Blood unit temperature verification strip"]
["41102429","Blood unit tubing heat sealer"]
["41111981","Blood utilization management system"]
["42222307","Blood warming or transfusion systems"]
["25101938","Bloodmobile"]
["14111520","Blotter paper"]
["41105339","Blotting membranes"]
["41105310","Blotting or transfer accessories"]
["41105311","Blotting or transfer apparatus"]
["40101601","Blowers"]
["52161553","Blu ray video disc player or recorder"]
["43211614","Bluetooth universal serial bus USB adapter"]
["42142506","Blunt needles"]
["44111909","Board cleaning kits or accessories"]
["60141102","Board games"]
["44111900","Boards"]
["46151504","Body armour"]
["42182705","Body composition analyzers"]
["49211809","Body measurement tool"]
["30181812","Body spray head"]
["60104100","Body systems and related materials"]
["27141000","Body tools"]
["42261810","Body transport containers"]
["41111508","Bodyweight measuring scales"]
["72151000","Boiler and furnace construction and maintenance services"]
["72151002","Boiler installation and setup service"]
["72151001","Boiler maintenance service"]
["72151005","Boiler pressure controller installation"]
["72151006","Boiler pressure controller maintenance or repair or operation"]
["40102000","Boilers"]
["11162120","Bolting cloth"]
["31161600","Bolts"]
["46151608","Bomb protection devices and supplies"]
["46111500","Bombs and grenades"]
["41114530","Bonding stress tester"]
["85111601","Bone disease prevention or control services"]
["42261601","Bone dust collectors"]
["42295471","Bone marrow aspiration systems"]
["41104119","Bone tissue collection containers"]
["56121700","Book and general storage units for classrooms"]
["82111702","Book authors services"]
["45101800","Book binding and sewing equipment and accessories"]
["45101801","Book creasing machines"]
["45101802","Book cutting machines"]
["44111507","Book ends"]
["45101807","Book folding machines"]
["45101806","Book gathering machines"]
["44111522","Book holder"]
["45101805","Book jogging machines"]
["44122034","Book page separator"]
["45101803","Book punching machines"]
["44122117","Book rings"]
["45101804","Book stitching machines"]
["82121900","Bookbinding"]
["56101507","Bookcases"]
["14111819","Booking forms or reservation books"]
["84111504","Bookkeeping services"]
["44121627","Bookmarks"]
["60131701","Boomwhackers"]
["48102002","Booths"]
["53111500","Boots"]
["41113901","Bore measuring instruments"]
["41111716","Borescope inspection equipment"]
["51111838","Bortezomib"]
["51313702","Bosentan"]
["81171700","Botanical science services"]
["41121516","Bottle top dispensers"]
["41106204","Bottled agar media or stabs for bacteria"]
["48101711","Bottled water dispensers or accessories"]
["24122000","Bottles"]
["41104914","Bottletops or filtration cups"]
["51152005","Botulinum toxin"]
["49141501","Bouyancy compensators"]
["70121608","Bovine production services"]
["11131609","Bovine semen"]
["72153101","Bowling alley installation service"]
["44122036","Box file"]
["24113103","Box lid"]
["24113107","Box partition"]
["78101601","Boxcar transport services"]
["24113100","Boxes"]
["49171600","Boxing equipment"]
["49171601","Boxing rings"]
["53111503","Boys boots"]
["42202102","Brachytherapy catheters or syringes or inserters or applicators"]
["42202101","Brachytherapy intracavity containers or seeds"]
["42202100","Brachytherapy products"]
["42202104","Brachytherapy seed capture kits"]
["42202103","Brachytherapy seed storage containers"]
["42202105","Brachytherapy units"]
["70111504","Bracing services"]
["31162500","Brackets and braces"]
["50301505","Braeburn apples"]
["30103700","Braid"]
["30131516","Braille block"]
["42211702","Braille devices for the physically challenged"]
["42211703","Braille writing paper or plastic for physically challenged"]
["41113687","Brake testing machine"]
["41111962","Brake wear sensor"]
["25171700","Braking systems and components"]
["50301506","Bramley apples"]
["50301507","Bramley seedling apples"]
["80141401","Brand measurement"]
["80141604","Branding of product naming services"]
["60131100","Brass instruments"]
["23271500","Brazing machinery"]
["50180000","Bread and bakery products"]
["50181900","Bread and biscuits and cookies"]
["95121620","Breakwater"]
["42231900","Breast feeding equipment and accessories and supplies"]
["42231904","Breast feeding pillows"]
["42231903","Breast pump kits"]
["42231901","Breast pumps"]
["42231902","Breast shells or shields"]
["42272223","Breathing apparatus accessories or supplies"]
["51111783","Brentuximab vedotin"]
["30151512","Brick roofing tile"]
["30121708","Brick tile"]
["72151903","Bricklaying service"]
["30131600","Bricks"]
["72141107","Bridge construction and repair service"]
["30121715","Bridge expansion joint"]
["72151305","Bridge painting service"]
["30121703","Bridge rail"]
["30121716","Bridge seat mounting"]
["43232913","Bridge software"]
["53121701","Briefcases"]
["51241131","Brimonidine tartrate"]
["51241513","Brimonidine/timolol"]
["50401501","Brittany artichokes"]
["43222632","Broadband aggregators"]
["43222801","Broadband or narrowband digital cross connect DCX equipment"]
["82101600","Broadcast advertising"]
["45111708","Broadcast domain controller"]
["72154053","Broadcasting station repair service"]
["10151525","Broccoli seeds or seedlings"]
["51401501","Bromazepam"]
["51162704","Bromhexine"]
["51142501","Bromocriptine"]
["42296305","Bronchoscopes"]
["82121906","Bronzing or gilding or edging or deckling"]
["47131604","Brooms"]
["47131600","Brooms and mops and brushes and accessories"]
["27113000","Brushes"]
["10151531","Brussel sprout seeds or seedlings"]
["48101921","Bucket, Food proof plastic"]
["50221111","Buckwheat (WFP food convention)"]
["50221111","Buckwheat (WFP food convention)"]
["51421802","Budesonide"]
["51162012","Budesonide/formoterol"]
["93151603","Budget or public investment management"]
["84111703","Budget preparation or review services"]
["12161700","Buffers"]
["22000000","Building and Construction Machinery and Accessories"]
["72000000","Building and Facility Construction and Maintenance Services "]
["72100000","Building and facility maintenance and repair services"]
["72154039","Building board up service"]
["76111501","Building cleaning services"]
["76111600","Building component cleaning services"]
["81102502","Building consent and permit engineering peer review service"]
["81102503","Building consent processing and support service"]
["22101900","Building construction machinery and accessories"]
["81101513","Building construction management"]
["22102000","Building demolition machinery and equipment"]
["39121803","Building environmental control system"]
["72153501","Building exterior cleaning service"]
["72153502","Building exterior sandblasting service"]
["72153503","Building exterior steam cleaning service"]
["72153206","Building fireproofing service"]
["72101521","Building framing service"]
["81141805","Building inspection service"]
["72152103","Building insulation service"]
["72101500","Building maintenance and repair services"]
["72101507","Building maintenance service"]
["72154004","Building mover service"]
["84131501","Building or building contents insurance"]
["93151516","Building permit"]
["72153900","Building site preparation services"]
["50221112","Bulgur Wheat (WFP food convention)"]
["78101602","Bulk cargo rail transport services"]
["25111524","Bulk carrier"]
["20102304","Bulk material carriers"]
["78131700","Bulk storage"]
["24101502","Bulk transporters"]
["46181502","Bullet proof vests"]
["44111907","Bulletin boards or accessories"]
["51191504","Bumetanide"]
["44102301","Bundling machines"]
["25111520","Buoy"]
["51271622","Bupivacaine hydrochloride"]
["51271623","Bupivacaine hydrochloride monohydrate"]
["51273921","Bupivacaine/dextrose"]
["51372003","Buprenorphine"]
["51372022","Buprenorphine hydrochloride"]
["51293402","Bupropion"]
["92121502","Burglary protection services"]
["48131500","Burial or grave products"]
["11162116","Burlap cloth"]
["41112416","Bursting pressure tester"]
["95121604","Bus garage"]
["95121603","Bus station"]
["70161705","Bush and forest ecology and conservation service"]
["31171600","Bushings"]
["80160000","Business administration services"]
["80101500","Business and corporate management consultation services"]
["80171909","Business and utility provider relations consultation and engagement"]
["44111518","Business card holders"]
["43211722","Business card scanner"]
["14111604","Business cards"]
["53121700","Business cases"]
["84141700","Business credit agencies"]
["84141701","Business credit gathering or reporting services"]
["60105309","Business etiquette instructional materials"]
["80161600","Business facilities oversight"]
["14111806","Business forms or questionnaires"]
["43231500","Business function specific software"]
["43232314","Business intelligence and data analysis software"]
["80101508","Business intelligence consulting services"]
["84131507","Business interruption insurance"]
["80121600","Business law services"]
["14111828","Business letterhead paper"]
["14111800","Business use papers"]
["G","Business, Communication & Technology Equipment & Supplies"]
["25101502","Busses"]
["51112301","Busulfan"]
["15111505","Butane"]
["14121807","Butcher papers"]
["51301802","Butenafine hydrochloride"]
["51151625","Butylscopolamine"]
["51151675","Butylscopolamine/metamizole sodium (dipyrone)"]
["46171607","Buzzers"]
["80161701","Byproduct disposal or sale service"]
["25102104","Cab over engine tractors with sleeper"]
["25102105","Cab over engine tractors without sleeper"]
["51111728","Cabazitaxel"]
["10151526","Cabbage seeds or seedlings"]
["23131700","Cabbing equipment"]
["51141535","Cabergoline"]
["95141603","Cabin"]
["30162300","Cabinet accessories"]
["72152303","Cabinet building and installation service"]
["41123002","Cabinet desiccators"]
["93101601","Cabinet officers services"]
["30161800","Cabinetry"]
["43222602","Cable head end equipment"]
["43222626","Cable modems"]
["43222643","Cable network tester"]
["41111629","Cable or wire extension linear position sensor"]
["24141510","Cable protectors"]
["72154005","Cable splicingservice"]
["72151601","Cable television installation service"]
["83111801","Cable television services"]
["51112026","Cabozantinib"]
["43222607","Cache engine equipment"]
["42261802","Cadaver carriers"]
["42261809","Cadaver lifter or transfer devices"]
["42261803","Cadaver scissor lift trolleys"]
["42261801","Cadaver storage racks"]
["42261613","Cadaver tissue builder kits"]
["42261800","Cadaver transport and storage equipment and supplies"]
["42261808","Cadaver trays"]
["56121400","Cafeteria and lunchroom furnishings"]
["90101700","Cafeteria services"]
["51144601","Caffeine or trimethylxanthine"]
["51143409","Caffeine/Dihydroergotamine/Paracetamol"]
["51143406","Caffeine/ergotamine"]
["10131601","Cages or its accessories"]
["10151536","Caigua seeds or seedlings"]
["72141201","Caisson drilling service"]
["48101817","Cake decorating equipment or moulds"]
["51241205","Calamine"]
["41104020","Calcine element flow tray"]
["51181613","Calcitonin"]
["51181625","Calcitonin salmon"]
["51241235","Calcitriol"]
["42312401","Calcium alginate wound packing"]
["51192458","Calcium carbonate/calcium gluconate  lactate"]
["51192429","Calcium carbonate/vitamin d"]
["10171611","Calcium fertilizer"]
["51172338","Calcium folinate"]
["51172340","Calcium folinate"]
["51191915","Calcium gluconate"]
["12352324","Calcium HC, chemical pool product"]
["51101607","Calcium oxide"]
["51182400","Calcium regulators and calcium salts"]
["44101800","Calculating machines and accessories"]
["14111515","Calculator or cash register paper"]
["44101805","Calculator ribbons"]
["43232108","Calendar and scheduling software"]
["44112002","Calendars"]
["41113622","Calibrated inductance coils or boxes"]
["41113635","Calibrated resistance measuring equipment"]
["24111804","Calibrating tanks"]
["41112521","Calibration column"]
["41112244","Calibration reference thermometer"]
["12142208","Calibration sources"]
["41111505","Calibration weights or weight sets"]
["41113822","California bearing ratio tester"]
["41111621","Calipers"]
["44121614","Call bells"]
["83111507","Call centre bureau services"]
["43221500","Call management systems or accessories"]
["43221529","Call meter"]
["41112201","Calorimeters"]
["50301508","Calville blanche d'hiver apples"]
["10101517","Camels"]
["50301509","Cameo apples"]
["45121600","Camera accessories"]
["45121608","Camera assemblies"]
["45121617","Camera bags"]
["43211718","Camera based vision systems for automated data collection"]
["45121607","Camera blocks or holders"]
["45121609","Camera brackets"]
["45121610","Camera cables"]
["45121623","Camera controllers"]
["45121613","Camera enclosures or covers"]
["45121627","Camera flash diffuser"]
["45121601","Camera flashes or lighting"]
["45121606","Camera harnesses"]
["45121518","Camera kits"]
["45121603","Camera lens"]
["45121618","Camera lens adapters"]
["45121622","Camera lens cleaners"]
["45121628","Camera lens filter"]
["45141607","Camera obscura"]
["45121630","Camera parasol reflector"]
["45121620","Camera power adapters"]
["45121615","Camera rings"]
["45121604","Camera shutters"]
["45121612","Camera tables"]
["45121629","Camera track motor"]
["45121602","Camera tripods"]
["45121500","Cameras"]
["11162127","Camouflage cloth"]
["49121500","Camping and outdoor equipment"]
["49120000","Camping and outdoor equipment and accessories"]
["90111700","Camping and wilderness facilities"]
["49121601","Camping chairs or stools"]
["49121603","Camping cots"]
["49121600","Camping furniture"]
["49121509","Camping or outdoor stoves"]
["49121602","Camping tables"]
["90111701","Campsites"]
["42211903","Can openers for the physically challenged"]
["72141202","Canal construction service"]
["70171701","Canal maintenance or management services"]
["85111602","Cancer or leukemia prevention or control services"]
["42211501","Canes"]
["81102811","Canine explosive detection team"]
["50121541","Canned Fish (WFP food convention)"]
["50361501","Canned or jarred akane apples"]
["50361500","Canned or jarred apples"]
["50461500","Canned or jarred artichokes"]
["50461501","Canned or jarred brittany artichokes"]
["50466818","Canned or jarred chickpeas"]
["50360000","Canned or jarred fruit"]
["50466800","Canned or jarred nominant vegetables"]
["50371501","Canned or jarred organic akane apples"]
["50371500","Canned or jarred organic apples"]
["50471500","Canned or jarred organic artichokes"]
["50471501","Canned or jarred organic brittany artichokes"]
["50370000","Canned or jarred organic fruit"]
["50470000","Canned or jarred organic vegetables"]
["50465307","Canned or jarred Peanut Butter (WFP food convention) "]
["50465300","Canned or jarred peanuts"]
["50460000","Canned or jarred vegetables"]
["55121604","Canning or bottling labels"]
["25111804","Canoes or kayaks"]
["50151517","Canola Oil (WFP food convention)"]
["24112200","Cans and pails"]
["10151534","Cantaloupe seeds or seedlings"]
["24111501","Canvas bags"]
["41113604","Capacitance meters"]
["41113668","Capacitor tester"]
["78204009","Capacity Analysis (Aviation)"]
["51112001","Capecitabine"]
["41105308","Capillaries or cartridges"]
["41121709","Capillary or hematocrit tubes"]
["41122113","Capillary pipette or tube puller"]
["41112418","Capillary pressure tester"]
["11121623","Capirona wood"]
["80161702","Capital asset disposal or sale service"]
["93161503","Capital gains tax"]
["48101705","Cappuccino or espresso machines"]
["53102516","Caps"]
["41104915","Capsules filters"]
["51432401","Captopril"]
["76111801","Car or boat detailing"]
["84131503","Car or truck insurance"]
["55121801","Car tax discs"]
["51141513","Carbamazepine"]
["51473503","Carbamide peroxide or hydrogen peroxide"]
["51284600","Carbapenems"]
["51282404","Carbenicillin"]
["51182207","Carbetocin"]
["51143501","Carbidopa/entacapone/levodopa"]
["51143502","Carbidopa/levodopa"]
["51181614","Carbimazole"]
["64111705","Carbon credit permit or certificate"]
["41104425","Carbon dioxide incubator"]
["41103508","Carbon filtered enclosures"]
["47101503","Carbon filtration equipment"]
["14121810","Carbon papers"]
["48101701","Carbonated beverage dispenser"]
["14111527","Carbonless paper"]
["51112701","Carboplatin"]
["24111811","Carboys"]
["43201617","Card cages"]
["44122020","Card pockets"]
["14121503","Cardboard"]
["42203416","Cardiac ablation catheters"]
["42203415","Cardiac catheterization lab equipment"]
["41116218","Cardiac marker panel test monitor or meter"]
["41116219","Cardiac marker panel test monitor or meter accessories"]
["42181903","Cardiac output CO monitoring units"]
["42203501","Cardiac pacemaker generators or cardiac resynchronization therapy pacemakers CRT-P"]
["42203500","Cardiac pacemakers and related products"]
["42203503","Cardiac pacing lead introducers or sets"]
["42203502","Cardiac pacing leads or electrodes"]
["42203504","Cardiac recorders"]
["42301503","Cardio pulmonary resuscitation CPR training aids"]
["60105915","Cardio pulmonary resusitation or basic life support instructional materials"]
["42203410","Cardiovascular catheter sheathes"]
["42203447","Cardiovascular catheterization kits or sets"]
["42296000","Cardiovascular implants"]
["42203408","Cardiovascular sheath kits"]
["14111519","Cardstock papers"]
["93141810","Career development services"]
["60105300","Career education instructional materials"]
["60105301","Career education or planning or decision making skills instructional materials"]
["51283404","Carfecillin"]
["51283417","Carfecillin sodium"]
["51111779","Carfilzomib"]
["24102101","Cargo handling equipment"]
["84131504","Cargo insurance"]
["25131505","Cargo jet aircraft"]
["25111503","Cargo or container ships"]
["41111531","Cargo scale"]
["78141602","Cargo survey services"]
["25131602","Cargo transport helicopters"]
["25181604","Cargo truck body"]
["25101611","Cargo trucks"]
["51112601","Carmustine"]
["27113403","Carpenter pencil"]
["72152300","Carpentry services"]
["27113400","Carpentry Tools"]
["72152503","Carpet laying service"]
["47121606","Carpet sweepers"]
["42241513","Carrier and storage cases for splints or precut splints or splint systems"]
["43222826","Carrier terminal"]
["10152404","Carrot seeds or seedlings"]
["90101800","Carryout and takeaway services"]
["25191553","Cart, Baggage - Accessories"]
["25191552","Cart, Baggage (Passenger)"]
["81151600","Cartography"]
["24102107","Cartoning machinery"]
["82151503","Cartoonists services"]
["46101802","Cartridge belt"]
["46191623","Cartridges For Extinguishers"]
["24101501","Carts"]
["51262002","Carvedilol"]
["82121908","Case making services"]
["56111700","Casegood and non modular systems"]
["30171903","Casement window frames"]
["42211712","Cases for hearing aids"]
["42293524","Cases for medical suction cannulae"]
["42271716","Cases for nasal insufflators"]
["42192431","Cases for postmortem surgical instruments"]
["42171922","Cases for splints"]
["70142005","Cash grain crops market preparation services"]
["70141901","Cash grains harvesting services"]
["44111600","Cash handling supplies"]
["84131508","Cash in transit insurance"]
["44111605","Cash or ticket boxes"]
["44101806","Cash register ribbons"]
["44101804","Cash registers"]
["84122000","Cash vault services"]
["24112101","Casks"]
["24112100","Casks and barrels and drums"]
["51283107","Caspofungin acetate"]
["50221307","Cassava Flour"]
["10152057","Cassava seed or cutting"]
["45111722","Cassette deck"]
["44103600","Cassette disposal equipment and accessories"]
["44103601","Cassette or tape shredders"]
["52161502","Cassette players or recorders"]
["41105313","Cassettes or related detection accessories"]
["42241602","Cast cutters or saws"]
["42241606","Cast impression trays"]
["42241512","Cast or splint bonding materials"]
["42192409","Cast or splint carts or stands"]
["42241502","Cast or splint padding materials"]
["42241503","Cast or splint protectors"]
["42241504","Cast or splint stockinet or liners"]
["42241603","Cast removal systems"]
["42241517","Cast spreaders"]
["42241604","Cast vacuums"]
["60131404","Castanets"]
["42241500","Casting and splinting supplies"]
["42241600","Casting equipment and parts and accessories"]
["31100000","Castings and casting assemblies"]
["10152048","Castor oil bush seed or cutting"]
["10151608","Castor oil seeds"]
["11121622","Catahua wood"]
["44121507","Catalog or clasp envelopes"]
["55101503","Catalogs"]
["72154054","Catalyst loading or removal service"]
["43232301","Categorization or classification software"]
["48102107","Catering gloves or glove dispensers"]
["25191540","Catering Service Unit "]
["90101603","Catering services"]
["30171712","Cathedral glass"]
["42192429","Catheter carts"]
["95122008","Catheter room"]
["42221516","Catheter tip occluders"]
["41111651","Cathetometer"]
["43211901","Cathode ray tube CRT monitors"]
["45111613","Cathode ray tube projector"]
["41113701","Cathode ray tube tester"]
["10101501","Cats"]
["10101516","Cattle"]
["10151523","Cauliflower seeds or seedlings"]
["72153205","Caulking service"]
["41113662","Cavity resonator"]
["81112008","Cd rom mastering services"]
["92111503","Cease fire agreements or truce supervision"]
["51283701","Cefaclor"]
["51282502","Cefadroxil"]
["51282523","Cefalexin monohydrate"]
["51282506","Cefalotin or cephalothin"]
["51283702","Cefamandole"]
["51282511","Cefazolin or cefazoline or cephazolin"]
["51284103","Cefdinir"]
["51284104","Cefditoren"]
["51282602","Cefepime"]
["51282610","Cefepime hydrochloride"]
["51284106","Cefixime"]
["51283705","Cefminox"]
["51283717","Cefminox sodium"]
["51283706","Cefonicid"]
["51283718","Cefonicid monosodium"]
["51283719","Cefonicid sodium"]
["51284121","Cefoperazone"]
["51284135","Cefoperazone sodium"]
["51284109","Cefotaxime"]
["51284136","Cefotaxime sodium"]
["51282201","Cefotetan"]
["51282202","Cefoxitin"]
["51282208","Cefoxitin sodium"]
["51283709","Cefprozil"]
["51282517","Cefradine or cephradine"]
["51284108","Ceftazidime"]
["51284141","Ceftazidime pentahydrate"]
["51284115","Ceftibuten"]
["51285004","Ceftolozane/Tazobactam"]
["51284119","Ceftriaxone"]
["51284150","Ceftriaxone sodium"]
["51283712","Cefuroxime"]
["51283724","Cefuroxime axetil"]
["51283725","Cefuroxime pivoxetil"]
["51283726","Cefuroxime sodium"]
["72152605","Ceiling erection and repair service"]
["40101609","Ceiling fan"]
["30161600","Ceiling materials"]
["41114413","Ceilometer"]
["51384607","Celecoxib"]
["10151503","Celery seeds or seedlings"]
["41122112","Cell culture glass capillary tube"]
["41104819","Cell harvester"]
["41115845","Cell metabolism analyzer"]
["41115846","Cell metabolism analyzer accessories"]
["41122103","Cell scrapers"]
["41104932","Cell strainer"]
["43221723","Cellular antenna"]
["43221749","Cellular Equipment"]
["43221750","Cellular Radio-Mobile Systems And Terminals "]
["83111603","Cellular telephone services"]
["30111601","Cement"]
["23151600","Cement and ceramics and glass industry machinery and equipment and supplies"]
["30111600","Cement and lime"]
["41114639","Cement flow tester"]
["24111817","Cement silo"]
["41114643","Cement soundness tester"]
["41112307","Cement water retentivity tester"]
["93151519","Censorship service"]
["51140000","Central nervous system drugs"]
["43201538","Central processing unit coolers"]
["43201503","Central processing unit CPU processors"]
["72154036","Central vacuum cleaning system installation service"]
["42221515","Central venous catheter repair kit or sets"]
["42221503","Central venous catheters"]
["42181611","Central venous pressure CVP manometers"]
["51151900","Centrally acting skeletal muscle relaxants"]
["43191616","Centrex phone console"]
["41122415","Centrifugal bioseparation crystals"]
["72154107","Centrifugal compressor rental and maintenance service"]
["41104916","Centrifugal filters"]
["41114515","Centrifugal force tester"]
["40101711","Centrifugal liquid chiller"]
["72154109","Centrifugal pump maintenance or repair service"]
["40151503","Centrifugal pumps"]
["41103911","Centrifuge adapters"]
["41103912","Centrifuge brushes"]
["41103910","Centrifuge buckets"]
["41103916","Centrifuge control board or printed circuit board"]
["41103917","Centrifuge microplate carrier or sealing lid"]
["41103909","Centrifuge rotors"]
["41121703","Centrifuge tubes"]
["10151540","Centrocema or butterfly pea seed or seedlings"]
["51282514","Cephalexin"]
["51282200","Cephamycins"]
["30131504","Ceramic blocks"]
["30131602","Ceramic bricks"]
["41122202","Ceramic crucibles"]
["72152504","Ceramic floor tile installation service"]
["30151513","Ceramic roof tile"]
["72152204","Ceramic tile installation service"]
["41114800","Ceramics and glass testing instruments"]
["82151505","Ceramics makers services"]
["50220000","Cereal and pulse products"]
["50221102","Cereal flour"]
["10151600","Cereal seeds"]
["50221100","Cereals"]
["70141516","Cereals production"]
["42295600","Cerebral spinal fluid CSF drainage products and accessories"]
["51112020","Ceritinib"]
["86111503","Certificated distance learning services"]
["51202405","Certolizumab"]
["51202406","Certolizumab pegol"]
["42241803","Cervical collars or neck braces"]
["51313101","Cetirizine"]
["51313111","Cetirizine dihydrochloride"]
["51313112","Cetirizine hydrochloride"]
["51473003","Cetrimonium"]
["51473020","Cetrimonium bromide"]
["51111736","Cetuximab"]
["31151600","Chains"]
["56101504","Chairs"]
["11101506","Chalk"]
["44111906","Chalk boards or accessories"]
["41113052","Chalking tester"]
["42281701","Chamber cleaners for autoclaves or sterilizers"]
["83121601","Chambers of Commerce"]
["11111807","Chamotte"]
["23191001","Change can mixers"]
["80172103","Change management communication and advisory service"]
["43201540","Channel converter"]
["43201541","Channel to channel interface mainframe"]
["30101800","Channels"]
["43211906","Character displays"]
["45111817","Character generator"]
["15101605","Charcoal"]
["10151520","Chard seeds or seedlings"]
["94131600","Charity organizations"]
["94131601","Charity organizations shelter services"]
["50301510","Charles ross apples"]
["44111914","Chart hanger"]
["82141504","Chart or graph design services"]
["41111947","Chart recorder pens"]
["41111906","Chart recorders"]
["78111503","Chartered airplane travel"]
["78111803","Chartered bus services"]
["43232105","Charting software"]
["55101501","Charts or maps or atlases"]
["43201600","Chassis components"]
["43201603","Chassis stacking components"]
["44101900","Check endorsing and writing machines"]
["44101901","Check endorsing machines"]
["44111607","Check files"]
["44111616","Check separators"]
["44101902","Check writing machines"]
["14111805","Checks or check books"]
["50131800","Cheese"]
["11162101","Cheese cloth or fabric"]
["23181514","Cheese making machine"]
["46171635","Chemical agent detector"]
["46171634","Chemical agent detector paper"]
["46151900","Chemical biological control equipment and accessories and supplies"]
["46151901","Chemical biological decontamination trailer"]
["76121903","Chemical detoxification"]
["81101800","Chemical engineering"]
["41103201","Chemical engineering washers"]
["41113000","Chemical evaluation instruments and supplies"]
["10171600","Chemical fertilizers and plant nutrients"]
["72121501","Chemical plant construction service"]
["53131634","Chemical protection products"]
["46181541","Chemical resistant gloves"]
["46182407","Chemical spill safety kit"]
["24111805","Chemical tanks"]
["41113035","Chemical test strips or papers"]
["76121702","Chemical treatment services"]
["77101904","Chemical works or oil refinery waste site investigation"]
["73101600","Chemicals and fertilizers production"]
["12165100","Chemicals for enhanced oil recovery"]
["12000000","Chemicals including Bio Chemicals and Gas Materials"]
["41113002","Chemiluminescence or bioluminescence analyzers"]
["41115808","Chemistry analyzer accessories or supplies"]
["41116004","Chemistry analyzer reagents"]
["41115807","Chemistry analyzers"]
["41116107","Chemistry quality controls or calibrators or standards"]
["41116105","Chemistry reagents or solutions"]
["41116104","Chemistry test kits or supplies"]
["41116106","Chemistry test strips or test paper"]
["86101603","Chemistry vocational training services"]
["42143301","Chemotherapy administration sets or kits"]
["42143300","Chemotherapy equipment and supplies"]
["42143302","Chemotherapy prep mats"]
["42143304","Chemotherapy preparation pads"]
["42143303","Chemotherapy transport bags"]
["24131601","Chest freezers"]
["42144103","Chest tube kits"]
["42144102","Chest tubes"]
["56101516","Chests"]
["10102101","Chicken hatching eggs"]
["23220000","Chicken processing machinery and equipment"]
["10151538","Chickpea seeds or seedlings"]
["60105904","Child development instructional materials"]
["60105906","Childbirth education instructional materials"]
["85111614","Childhood disease prevention or control services"]
["94132001","Children rights defense services"]
["95122103","Childrens home"]
["10151504","Chili seeds or seedlings"]
["83101510","Chilled water"]
["41103007","Chilling units or cold water circulators"]
["45111710","Chime and siren unit"]
["76111603","Chimney cleaning"]
["72151904","Chimney construction and maintenance service"]
["51361501","Chloral hydrate"]
["51112505","Chlorambucil"]
["51282004","Chloramphenicol or chloramphenicolum"]
["51241555","Chloramphenicol or chloramphenicolum/Sulfacetamide sodium"]
["51102832","Chloramphenicol/hydrocortisone/polymyxin b"]
["51472803","Chlorhexidine"]
["51472805","Chlorhexidine digluconate"]
["51472802","Chlorhexidine gluconate"]
["30111602","Chlorinated lime"]
["47101576","Chlorine Granules"]
["51302701","Chlorocresol"]
["51312401","Chloropyramine"]
["51312405","Chloropyramine hydrochloride"]
["51101905","Chloroquine"]
["51473302","Chloroxylenol"]
["51313421","Chlorphenamine maleate"]
["51313401","Chlorphenamine or chlorpheniramine or dexchlorpheniramine"]
["51313422","Chlorphenamine tannate"]
["51313424","Chlorpheniramine maleate"]
["10191515","Chlorphyriphos"]
["51332807","Chlorpromazine"]
["51332840","Chlorpromazine hydrochloride"]
["51286801","Chlorquinaldol"]
["51191502","Chlortalidone or chlorthalidone"]
["51284002","Chlortetracycline"]
["50160000","Chocolate and sugars and sweeteners and confectionary products"]
["50161500","Chocolate and sugars and sweetening products"]
["51182441","Cholecalciferol/Risedronate sodium or risedronic acid"]
["51201658","Cholera vaccine"]
["41116202","Cholesterol monitors or meters"]
["51322301","Cholestyramine or colestyramine"]
["51151600","Cholinergic blocking agents"]
["51151500","Cholinergic drugs and cholinesterase inhibitors"]
["42211904","Choppers for the physically challenged"]
["82151706","Choreographic services"]
["51181901","Choriogonadotropin alfa or chorionic gonadotropin"]
["41115700","Chromatographic measuring instruments and accessories"]
["23151816","Chromatography columns"]
["23151817","Chromatography media"]
["41105106","Chromatography pumps"]
["41103014","Chromatography refrigerators"]
["41122002","Chromatography syringe needles"]
["41122001","Chromatography syringes"]
["41106601","Chromosome targeting vectors"]
["72152607","Chute installation service"]
["51302901","Ciclopirox"]
["51203101","Ciclosporin or cyclosporine"]
["51343502","Cidofovir"]
["41111638","Cigarette circumference tester"]
["41112419","Cigarette filter draw resistance meter"]
["51284903","Cilastatin/imipenem"]
["51412004","Cilostazol"]
["51171901","Cimetidine"]
["51182426","Cinacalcet"]
["82101904","Cinema placement"]
["45121505","Cinematographic cameras"]
["51171932","Cinitapride"]
["51171807","Cinnarizine"]
["51282901","Cinoxacin"]
["41113008","Cintigraphic analyzers"]
["51321804","Ciprofibrate"]
["51282909","Ciprofloxacin"]
["32101500","Circuit assemblies and radio frequency RF components"]
["39121901","Circuit breaker lockout"]
["41113657","Circuit breaker tester"]
["39121600","Circuit protection devices and accessories"]
["43222802","Circuit switchboard equipment"]
["41113642","Circuit tester"]
["41113644","Circuit tracers"]
["41103701","Circulating baths"]
["51171905","Cisapride"]
["51152006","Cisatracurium"]
["51152051","Cisatracurium besilate"]
["51112702","Cisplatin"]
["51292019","Citalopram hydrobromide"]
["83121704","Citizen warning systems"]
["81101524","City development planning service"]
["95121711","Civic center"]
["94130000","Civic organizations and associations and movements"]
["78204017","Civil Aviation Master Plan Development"]
["81101500","Civil engineering"]
["80121700","Civil liability services"]
["25131600","Civilian and commercial rotary wing aircraft"]
["51203402","Cladribine"]
["84131613","Claims payment processing or administration"]
["41113678","Clamp tester"]
["31162900","Clamps"]
["60131201","Clarinets"]
["51282302","Clarithromycin"]
["44122103","Clasp fasteners"]
["44122029","Classification folder"]
["56120000","Classroom and instructional and institutional furniture and fixtures"]
["45111400","Classroom And Language Laboratory Equipment & Interpretation Systems"]
["56121503","Classroom benches"]
["56121502","Classroom chairs"]
["60110000","Classroom decoratives and supplies"]
["56121504","Classroom stools"]
["56121505","Classroom tables"]
["60131302","Clavichords"]
["42241804","Clavicle orthopedic softgoods"]
["30131607","Clay brick"]
["14121801","Clay coated papers"]
["11111800","Clays"]
["41103415","Clean benches"]
["95141704","Clean room"]
["47131800","Cleaning and disinfecting solutions"]
["47121500","Cleaning and janitorial carts and accessories"]
["76110000","Cleaning and janitorial services"]
["47130000","Cleaning and janitorial supplies"]
["47131605","Cleaning brushes"]
["47131502","Cleaning cloths or wipes"]
["47121801","Cleaning dusters"]
["47121800","Cleaning equipment"]
["47121900","Cleaning equipment accessories"]
["47000000","Cleaning Equipment and Supplies"]
["47132100","Cleaning kits"]
["21102001","Cleaning machines for seed or grain or dried leguminous vegetables"]
["47121501","Cleaning or janitorial cart"]
["47121502","Cleaning or janitorial cart accessories"]
["47121804","Cleaning pails or buckets"]
["47121810","Cleaning rag dispenser"]
["47131500","Cleaning rags and cloths and wipes"]
["47121812","Cleaning scrapers"]
["76111507","Cleaning services for parks and outdoor public venues"]
["47121816","Cleaning solution dispenser and accessories"]
["44102912","Cleaning solutions for office equipment"]
["44102911","Cleaning wipes for office machines"]
["21102009","Cleaning, sorting, and grading machine parts and accessories"]
["46181512","Cleanroom apparel"]
["46181603","Cleanroom footwear"]
["41104504","Cleanroom ovens"]
["55101517","Clearance or dimensional drawings"]
["80161504","Clerical services"]
["86101705","Clerical training"]
["81111506","Client or server programming services"]
["81151501","Climatology"]
["51283002","Clindamycin"]
["51283003","Clindamycin hydrochloride"]
["51283006","Clindamycin phosphate"]
["95122001","Clinic"]
["41116000","Clinical and diagnostic analyzer reagents"]
["41115800","Clinical and diagnostic analyzers and accessories and supplies"]
["42191803","Clinical bassinets or cribs or pediatric beds"]
["42191900","Clinical cabinetry"]
["41115872","Clinical Chemistry Analyser, portable"]
["42192107","Clinical examination chairs"]
["42261900","Clinical forensics equipment and supplies"]
["42192302","Clinical hydraulic lifts"]
["42191814","Clinical incubator or infant warmer accessories"]
["42191802","Clinical incubators or infant warmers"]
["41151500","Clinical laboratory and toxicology testing systems, components, and supplies"]
["41150000","Clinical laboratory and toxicology testing systems, components, and supplies"]
["41151600","Clinical laboratory instruments"]
["42230000","Clinical nutrition"]
["42191501","Clinical pneumatic tube systems"]
["42192000","Clinical procedure and examination tables"]
["42192100","Clinical seating and stools and related products"]
["42191806","Clinical trapeze bars"]
["41114001","Clinometers"]
["51473602","Clioquinol"]
["44121628","Clip holders or dispensers"]
["44122012","Clipboards"]
["42311501","Clips for bandages or dressings"]
["46171603","Clock timers"]
["54111600","Clocks"]
["51111629","Clofarabine"]
["51283110","Clofazimine"]
["51285502","Clofoctol"]
["51181927","Clomifene citrate"]
["51401516","Clonazepam"]
["51131629","Clopidogrel"]
["46171622","Closed circuit television CCTV system"]
["83111802","Closed circuit television services"]
["72151702","Closed circuit television system installation service"]
["72153602","Closet organizer installation and repair service"]
["47111503","Clothes dryers"]
["53100000","Clothing"]
["53102500","Clothing accessories"]
["53103300","Clothing and Textiles kit for Newborn Infants"]
["53103300","Clothing and Textiles kit for Newborn Infants"]
["53103300","Clothing and Textiles kit for Newborn Infants"]
["42192415","Clothing cases"]
["55121602","Clothing labels"]
["51302308","Clotrimazole"]
["81162202","Cloud storage as a service"]
["43233513","Cloud-based data access and sharing software"]
["81162200","Cloud-based infrastructure as a service"]
["81162100","Cloud-based platform as a service"]
["81162000","Cloud-based software as a service"]
["51283501","Cloxacillin"]
["51283507","Cloxacillin sodium"]
["51332703","Clozapine"]
["94120000","Clubs"]
["41121714","Cluster tube or tube strip or cap"]
["43232302","Clustering software"]
["26112000","Clutch parts and accessories"]
["26112003","Clutch plates"]
["26112004","Clutch repair kits"]
["26111900","Clutches"]
["84101601","Co financing"]
["81111814","Co location service"]
["51131800","Coagulants and systemic hemostatic agents"]
["41115810","Coagulation analyzer accessories or supplies"]
["41116005","Coagulation analyzer reagents"]
["41115809","Coagulation analyzers"]
["51131819","Coagulation factor ix"]
["51131820","Coagulation factor vii"]
["51131821","Coagulation factor viii"]
["51131832","Coagulation factor VIII/Von Willebrand Factor Human"]
["41116110","Coagulation quality controls or calibrators or standards"]
["41116109","Coagulation reagents or solutions"]
["41116108","Coagulation test kits or supplies"]
["41115100","Coal and ore testing instruments"]
["15111508","Coal gas"]
["81102601","Coal sampling service"]
["25111722","Coast guard boat or cutter"]
["78101709","Coastal and transoceanic transport by tankers"]
["78101710","Coastal and transoceanic water transport by refrigerator vessels"]
["78111706","Coastal and transoceanic water transport of passengers by ferry"]
["70161706","Coastal ecology and conservation service"]
["81102101","Coastal engineering"]
["95121709","Coastguard building"]
["56101503","Coat racks"]
["11162112","Coated fabrics"]
["14121800","Coated papers"]
["72153200","Coating and caulking and weather water and fireproofing services"]
["23281500","Coating or plating machines"]
["73181100","Coating services"]
["23153800","Coating systems"]
["53101800","Coats and jackets"]
["11172100","Cobalt based super alloys"]
["12142205","Cobalt sources"]
["48101713","Cocktail shakers or accessories"]
["55101530","Code book"]
["43233416","Codec stacks"]
["50301511","Codlin apples"]
["13111205","Coextruded films"]
["50201706","Coffee"]
["50201700","Coffee and tea"]
["90101901","Coffee machine and grinder rental and maintenance service"]
["90101902","Coffee or hot drink vending machine rental and maintenance service"]
["10152008","Coffee seed or seedlings"]
["50201717","Coffee, green"]
["48131502","Coffin"]
["72151503","Cogeneration plant construction service"]
["42251500","Cognitive and dexterity and perceptual and sensory evaluation and therapy products"]
["42251502","Cognitive or dexterity or perceptual or sensory evaluation or testing products"]
["44111612","Coin bag seal"]
["44111608","Coin banks"]
["44111617","Coin inspection machine"]
["44111603","Coin sorters"]
["44111610","Coin trays"]
["44102503","Coin wrapper machines"]
["44111604","Coin wrappers or bill straps"]
["41113608","Coincidence or anticoincidence counters"]
["51192002","Colchicine"]
["24121512","Cold pack or ice brick"]
["42281600","Cold sterilization and disinfectant solutions"]
["24113104","Cold storage box"]
["24131516","Cold storage room"]
["41111811","Cold testing equipment station"]
["41103024","Cold traps"]
["51283108","Colistimethate sodium"]
["41104006","Coliwasas"]
["51386615","Collagen/polyvinylpyrrolidone"]
["44111519","Collating racks"]
["44102307","Collators"]
["49101600","Collectibles"]
["49100000","Collectibles and awards"]
["47101523","Collection tanks"]
["83121502","College or university libraries"]
["12161800","Colloids"]
["42143903","Colon catheters or rectal tubes"]
["41113040","Colony counter"]
["12171700","Color compounds and dispersions"]
["45121711","Color controller"]
["82121702","Color copy or collating services"]
["41113048","Color fastness tester"]
["45131501","Color film"]
["44101701","Color options or upgrades"]
["41111940","Color sensors"]
["82131504","Color separation"]
["12170000","Colorants"]
["14121902","Colored newsprint"]
["44121707","Colored pencils"]
["41115318","Colorimeters"]
["42271517","Colorimetric End Tidal CO2 detector"]
["42182003","Colposcopes or vaginoscopes"]
["10151602","Colza seeds"]
["43202214","Comb assemblies"]
["44102804","Comb binding machine"]
["82121904","Comb or clamp type binding"]
["22101534","Combat earthmovers"]
["41113681","Combi tester"]
["51273900","Combination anesthetics and adjuncts"]
["51172400","Combination antacid, antidiarrheal, anti-flatulence, digestive, and gastric preparations"]
["51162000","Combination antiasthma agents"]
["51303600","Combination antifungals"]
["51241500","Combination antiglaucoma, ophthalmic, and eye-related agents and preparations"]
["51434900","Combination antihypertensives"]
["51102800","Combination anti-infectives"]
["51386600","Combination anti-inflammatory agents"]
["51122600","Combination antilipemic agents"]
["51102900","Combination antimalarials"]
["51284900","Combination antimicrobials"]
["51143400","Combination antimigraine agents"]
["51143500","Combination antiparkinson agents"]
["51241600","Combination antipsoriatics"]
["51474000","Combination antiseptics, ceruminolytics, and disinfectants"]
["51182500","Combination antithyroid agents and supplements"]
["51162100","Combination antituberculars"]
["51343800","Combination antivirals"]
["45111706","Combination audio mixer and amplifier"]
["51172800","Combination cariostatics, dental or mouthwashes or oral agents"]
["56112108","Combination chair with desk"]
["51162300","Combination cold remedies"]
["51352400","Combination contraceptives and estrogens"]
["51241800","Combination dermatologicals"]
["42203709","Combination displays and printers for x ray system calibrator sets"]
["51192300","Combination electrolytes/minerals"]
["41111710","Combination electron and light microscopes"]
["51285000","Combination extended spectrum penicillins"]
["30181805","Combination fixed and hand held shower head"]
["51285100","Combination H. pylori agents"]
["51132100","Combination hematolic drugs"]
["51461600","Combination herbs/alternative therapies"]
["51132200","Combination non-opioid analgesics"]
["51192400","Combination nutritional therapy products"]
["51373300","Combination opioid analgesics"]
["51182700","Combination oral hypoglycemic agents"]
["51242200","Combination otic agents"]
["44121717","Combination pen and highlighter"]
["44121715","Combination pen or pencil"]
["42201818","Combination step wedges and spin tops for radiographic units"]
["51242300","Combination sun protectants or screens"]
["51132300","Combination volume expanders"]
["51132300","Combination volume expanders"]
["24131501","Combined refrigerator freezers"]
["43223341","Combiner"]
["41105312","Combs or plates or spacers or trays"]
["41113049","Combustion analyzer"]
["41112228","Combustion efficiency analyzer"]
["82151702","Comedians services"]
["55101505","Comic books"]
["78111502","Commercial airplane travel"]
["95121500","Commercial and entertainment buildings and structures"]
["56110000","Commercial and industrial furniture"]
["25000000","Commercial and Military and Private Vehicles and their Accessories and Components"]
["72121100","Commercial and office building construction services"]
["72121101","Commercial and office building new construction service"]
["72121102","Commercial and office building prefabricated erection service"]
["72121103","Commercial and office building renovation and repair service"]
["48101546","Commercial decoction machine"]
["39111530","Commercial downlighting fixture"]
["39111531","Commercial downlighting trim"]
["21111501","Commercial fish hooks"]
["21111500","Commercial fishing equipment"]
["21111504","Commercial fishing nets"]
["70101501","Commercial fishing operations"]
["48101820","Commercial kitchen hood"]
["95101600","Commercial land parcels"]
["25111500","Commercial marine craft"]
["84121903","Commercial mortgage finance"]
["48101821","Commercial nut cracker or opener"]
["80131502","Commercial or industrial facility rental"]
["72151302","Commercial painting service"]
["25131506","Commercial passenger jet aircraft"]
["25131504","Commercial passenger propeller aircraft"]
["85121902","Commercial pharmaceutical services"]
["48101531","Commercial salmon poachers or kettles"]
["90140000","Commercial sports"]
["48101501","Commercial use bain maries"]
["48101502","Commercial use barbeque ovens"]
["48101601","Commercial use blenders"]
["48101534","Commercial use boiling table"]
["48101503","Commercial use broilers"]
["48101806","Commercial use cake or pie pans"]
["48101504","Commercial use charcoal grills"]
["48101541","Commercial use chip and french fry storage and scuttle"]
["48101604","Commercial use coffee grinders"]
["48101505","Commercial use coffee or iced tea makers"]
["48101506","Commercial use coffee warmers"]
["48101533","Commercial use combination oven"]
["48101507","Commercial use convection ovens"]
["48101508","Commercial use conveyer toasters"]
["48101537","Commercial use conveyor oven"]
["48101532","Commercial use cotton candy machines or accessories"]
["48101528","Commercial use crepe machines"]
["48101801","Commercial use cutlery"]
["48101816","Commercial use cutlery pouch"]
["48101509","Commercial use deep fryers"]
["48101544","Commercial use direct heat boiling pan"]
["48101615","Commercial use dishwashers"]
["48101618","Commercial use dishwashing machine parts"]
["48101538","Commercial use double contact grill"]
["48101613","Commercial use dough machines"]
["48101602","Commercial use electric can openers"]
["48101603","Commercial use food choppers or cubers or dicers"]
["48101605","Commercial use food grinders"]
["48101612","Commercial use food processors"]
["48101616","Commercial use food slicers"]
["48101510","Commercial use food warmers"]
["48101606","Commercial use graters"]
["48101511","Commercial use griddles"]
["48101512","Commercial use grills"]
["48101513","Commercial use heat lamps"]
["48101514","Commercial use high pressure steamers"]
["48101515","Commercial use hot dog grills"]
["48101614","Commercial use icing sets or bags"]
["48101543","Commercial use jacketed boiling pan"]
["48101542","Commercial use jacketed tilting kettle"]
["48101607","Commercial use juicers"]
["48101815","Commercial use ladles"]
["48101804","Commercial use measuring cups"]
["48101516","Commercial use microwave ovens"]
["48101608","Commercial use mixers"]
["48101805","Commercial use mixing bowls"]
["48101802","Commercial use molds"]
["48101539","Commercial use oil fat filtration unit"]
["48101545","Commercial use oven stand"]
["48101517","Commercial use ovens"]
["48101518","Commercial use pasta cookers"]
["48101609","Commercial use pasta machines"]
["48101536","Commercial use pastry oven"]
["48101610","Commercial use peelers"]
["48101519","Commercial use pizza ovens"]
["48101807","Commercial use pizza pans"]
["48101617","Commercial use plastic shovels"]
["48101520","Commercial use popcorn machines"]
["48101810","Commercial use pot or pan covers"]
["48101521","Commercial use ranges"]
["48101530","Commercial use rice cookers"]
["48101811","Commercial use rolling pins"]
["48101522","Commercial use rotisseries"]
["48101535","Commercial use salamander grill"]
["48101808","Commercial use sauce or saute pans"]
["48101611","Commercial use scales"]
["48101803","Commercial use scoops"]
["48101523","Commercial use smokers or smoke ovens"]
["48101524","Commercial use steamers"]
["48101809","Commercial use stock or sauce pots"]
["48101812","Commercial use strainers"]
["48101525","Commercial use toasters"]
["48101526","Commercial use waffle irons"]
["48101813","Commercial use whisks"]
["48101540","Commercial use wok heating unit"]
["48101814","Commercial use woks"]
["72151401","Commercial wall covering construction service"]
["84121802","Commodities or futures market services"]
["80151501","Commodity policy or projections services"]
["80141503","Commodity price forecasting"]
["11111808","Common clay"]
["25191531","Common Use Terminal Equipment (CUTE) "]
["43211522","Common User Self Service Kiosk (CUSS)"]
["42211700","Communication aids for the physically challenged"]
["73171506","Communication equipment manufacture services"]
["80171505","Communication planning"]
["25151701","Communication satellites"]
["25202803","Communications Control And Monitoring Equipment "]
["43190000","Communications Devices and Accessories"]
["43232902","Communications server software"]
["60106203","Communications teaching aids or materials"]
["86101701","Communications vocational training services"]
["93140000","Community and social services"]
["86121601","Community colleges"]
["92101503","Community outreach programs"]
["80171907","Community relations consultation and engagement"]
["43201817","Compact disc CD drive"]
["43233404","Compact disc CD or DVD or sound card software"]
["43212113","Compact disc CD or labeling printers"]
["43233401","Compact disc CD server software"]
["44102908","Compact disc cleaners or scratch removers"]
["44102913","Compact disc destroyer"]
["44102909","Compact disc drive cleaner"]
["43202107","Compact disc or digital versatile disc CD/DVD briefcase"]
["43211725","Compact disc or digital versatile disc CD/DVD cleaner"]
["44102413","Compact disc or digital versatile disc CD/DVD labeling system kit"]
["43202101","Compact disk cases"]
["52161515","Compact disk players or recorders"]
["43201826","Compact disk read only memory CD ROM array"]
["43202001","Compact disks CDs"]
["57050203","Compact food"]
["22101511","Compactors"]
["41113702","Comparators"]
["44111803","Compasses"]
["80121900","Compensated legal participation services"]
["80111502","Compensation or benefits planning"]
["43232409","Compiler and decompiler software"]
["41105902","Complementary deoxyribonucleic acid cDNA libraries"]
["41105903","Complementary deoxyribonucleic acid cDNA synthesis kits"]
["41111936","Complementary metal oxide semiconductor CMOS image sensors"]
["20121400","Completion tools and equipment"]
["41112904","Complex controlling devices"]
["43232606","Compliance software"]
["C","Components & Supplies"]
["43200000","Components for information technology or broadcasting or telecommunications"]
["45102000","Composing machines and accessories"]
["14121509","Composite paper or paperboard without surface coating"]
["10171504","Compost"]
["21101806","Composter"]
["41112223","Compound gauge"]
["12350000","Compounds and mixtures"]
["85100000","Comprehensive health services"]
["84131509","Comprehensive projects insurance"]
["46182008","Compressed Air Breathing Apparatus (CABA)"]
["42271651","Compressible self-refilling ventilation bag "]
["42311506","Compression bandages"]
["41114602","Compression testers"]
["41111652","Compressometer"]
["44101711","Compressor assembly"]
["40151600","Compressors"]
["43211600","Computer accessories"]
["43211612","Computer accessory kits"]
["43232614","Computer aided design CAD and computer aided manufacturing CAM system"]
["43232604","Computer aided design CAD software"]
["43232612","Computer aided manufacturing CAM software"]
["53121706","Computer bags"]
["43232502","Computer based training software"]
["81112310","Computer cabinet maintenance"]
["43202222","Computer cable"]
["43202218","Computer cable cover"]
["43202217","Computer cable holder"]
["43201601","Computer chassis"]
["43201619","Computer cooling fan"]
["43211610","Computer country or localization kits"]
["43201611","Computer cradles"]
["43211800","Computer data input device accessories"]
["43211801","Computer data input device covers"]
["43211700","Computer data input devices"]
["43212200","Computer data storage management systems"]
["43212000","Computer display accessories"]
["43212001","Computer display glare screens"]
["43211900","Computer displays"]
["43210000","Computer Equipment and Accessories"]
["43201612","Computer faceplates"]
["43233005","Computer firmware"]
["43232000","Computer game or entertainment software"]
["81112219","Computer game or entertainment software maintenance"]
["82141505","Computer generated design services"]
["81111512","Computer graphics service"]
["81112300","Computer hardware maintenance and support "]
["81111812","Computer hardware maintenance support service"]
["81112401","Computer hardware rental"]
["81112400","Computer hardware rental or leasing services"]
["43211514","Computer kiosk"]
["43211708","Computer mouse or trackballs"]
["81111801","Computer or network or internet security"]
["43211613","Computer or notebook stands"]
["44102906","Computer or office equipment cleaning kit"]
["43211724","Computer peripheral kit"]
["72151504","Computer power conditioning service"]
["43212100","Computer printers"]
["14111506","Computer printout paper"]
["86141703","Computer programmed instruction"]
["81111600","Computer programmers"]
["43201618","Computer rack component"]
["60106204","Computer science teaching aids or materials"]
["43211501","Computer servers"]
["81110000","Computer services"]
["81112500","Computer software licensing rental or leasing service"]
["81112501","Computer software licensing service"]
["81112502","Computer software rental or leasing service"]
["43211607","Computer speakers"]
["56112000","Computer support furniture"]
["43211601","Computer switch boxes"]
["27113203","Computer tool kits"]
["86101601","Computer vocational training services"]
["43211515","Computer workstation"]
["72151508","Computerized controls installation service"]
["83121603","Computerized information retrieval systems"]
["43211500","Computers"]
["41103319","Concentration measurement instrument"]
["41114644","Concrete air measuring instrument"]
["30110000","Concrete and cement and plaster"]
["30111500","Concrete and mortars"]
["30131511","Concrete armor unit"]
["30131518","Concrete block for bridges"]
["30131510","Concrete block for revetment"]
["72151905","Concrete block masonry service"]
["30131502","Concrete blocks"]
["30131603","Concrete bricks"]
["30121706","Concrete curb"]
["41114650","Concrete cylinder mold"]
["72154012","Concrete forms erection and dismantling service"]
["72152700","Concrete installation and repair services"]
["22101901","Concrete mixers or plants"]
["41114603","Concrete or cement testing instruments"]
["41114648","Concrete or cement vibration tester"]
["72152711","Concrete patio construction service"]
["22101537","Concrete pile cutter"]
["25101613","Concrete pump truck"]
["72152709","Concrete pumping service"]
["30111900","Concrete reinforcement hardware"]
["72152902","Concrete reinforcement placing service"]
["30151511","Concrete roofing tile"]
["30121704","Concrete slab"]
["30131703","Concrete tiles or flagstones"]
["25101612","Concrete transport truck"]
["15101510","Condensate"]
["40101704","Condensing units"]
["48102008","Condiment counters"]
["72111108","Condominium remodeling service"]
["53131622","Condoms"]
["30111502","Conductive concrete"]
["42201728","Conductive gel container"]
["41115609","Conductivity meters"]
["50161800","Confectionary products"]
["83111506","Conference calling services"]
["90111601","Conference centers"]
["80141635","Conference fees"]
["44122032","Conference folder"]
["56111513","Conference or non modular room packages"]
["56101706","Conferencing tables"]
["43232401","Configuration management software"]
["46161715","Confined space rescue equipment"]
["41111637","Conical cup tester"]
["51351635","Conjugated estrogens/medroxyprogesterone acetate"]
["41105327","Conjugated nucleotides or oligomers"]
["42271728","Connector biconical"]
["31163100","Connectors"]
["70151801","Conservation of forest genetic resources"]
["95141709","Conservatory"]
["43201539","Console controller mainframe"]
["43201614","Console extenders"]
["41113816","Consolidation tester"]
["30190000","Construction and maintenance support equipment"]
["72141702","Construction equipment rental or leasing service"]
["72141700","Construction machinery and equipment rental or leasing services"]
["72141701","Construction machinery rental or leasing service"]
["72154604","Construction of zoo habitat and enclosure for aquatic and amphibious species"]
["72154601","Construction of zoo habitat and enclosure for birds and flying species"]
["72154602","Construction of zoo habitat and enclosure for insects and invertebrates"]
["72154603","Construction of zoo habitat and enclosure for land mammals and primates"]
["72154605","Construction of zoo habitat and enclosure for reptiles"]
["90101604","Construction or work site catering services"]
["14111610","Construction paper"]
["30191700","Construction sheds and trailers"]
["72153505","Construction site clean up service"]
["72153507","Construction site haul away service"]
["60106102","Construction teaching aids or materials"]
["D","Construction, Transportation & Facility Equipment & Supplies"]
["93121502","Consular services"]
["80141507","Consumer based research or clinics or focus groups"]
["91111700","Consumer buying and bartering services"]
["84141601","Consumer credit gathering or reporting services"]
["52160000","Consumer electronics"]
["43232903","Contact center software"]
["45121716","Contact printer"]
["41113665","Contact resistance tester"]
["51204204","Contagious bovine pleuropneumonia CBPP vaccines"]
["85111500","Contagious disease prevention and control"]
["24101663","Container handler/Side loader"]
["25181701","Container trailers"]
["95141803","Container unit"]
["78121501","Containerization of goods"]
["24110000","Containers and storage"]
["24111812","Containment basin"]
["41103401","Contamination control screens"]
["43232100","Content authoring and editing software"]
["81112214","Content authoring and editing software maintenance"]
["43222604","Content delivery networking equipment"]
["43232200","Content management software"]
["81112215","Content management software maintenance"]
["81112009","Content or data classification services"]
["81112007","Content or data standardization services"]
["43222621","Content switch"]
["43232201","Content workflow software"]
["78111603","Continental or inter continental rail services"]
["42161501","Continuous ambulatory peritoneal dialysis CAPD transfer sets"]
["41104302","Continuous culture apparatus"]
["20101501","Continuous mining equipment"]
["23191100","Continuous mixers"]
["42161800","Continuous renal replacement therapy CRRT equipment and supplies"]
["42143119","Contraceptive device accessories for female users"]
["42143109","Contraceptive device removers"]
["42143103","Contraceptive devices for female users"]
["80121704","Contract law services"]
["84131510","Contractors all risks insurance"]
["14111823","Control forms or control books"]
["41105330","Control proteins or cell lysates or tissue lysates"]
["43201542","Control unit"]
["72154105","Control valve maintenance and repair service"]
["92121710","Controlled Access Identification System "]
["51371600","Controlled substance analgesic alcohols"]
["51371900","Controlled substance analgesic methadones"]
["51372000","Controlled substance analgesic morphinans"]
["51372100","Controlled substance analgesic morphine derivatives"]
["51373200","Controlled substance analgesic phenols"]
["51372300","Controlled substance analgesic piperidines"]
["51370000","Controlled substance analgesics"]
["41113689","Controller testing equipment"]
["25202901","Controller Workstation "]
["39121801","Controlling units or devices"]
["92111602","Conventional arms disarmament"]
["24101625","Conventional truck cranes"]
["25173117","Conventional VHF Omnidirectional Range (CVOR) And HF Omnidirectional Range (VOR)/Distance Measuring Equipment (DME) Systems "]
["46110000","Conventional war weapons"]
["43191618","Conversation recording units"]
["86111701","Conversational foreign language instruction"]
["41113688","Converter testing equipment"]
["73151800","Converting services"]
["46171609","Convex security mirrors"]
["72103100","Conveyance systems installation and repair"]
["41111520","Conveyor weighting scale"]
["24101700","Conveyors and accessories"]
["48101500","Cooking and warming equipment"]
["50171551","Cooking or table salt"]
["48101800","Cookware and kitchen tools"]
["48102106","Cool containers"]
["41103022","Cool transport or storage"]
["41104404","Cooled biological oxygen demand BOD incubators"]
["40101700","Cooling equipment and parts and accessories"]
["40101702","Cooling exchangers"]
["70142011","Cooling or refrigeration services"]
["40101716","Cooling tower"]
["40101707","Cooling tower accessories"]
["72111107","Cooperative apartment remodeling service"]
["41111920","Coordinate measuring machines CMM"]
["11121624","Copaiba wood"]
["23101501","Coping machines"]
["51452305","Copper napthanate or copper naphthenate"]
["43201560","Coprocessor"]
["44101713","Copy counters"]
["44111521","Copy holders"]
["44101719","Copy or scan accessories"]
["82111704","Copywriting"]
["31152100","Cords"]
["72154006","Core drilling and cutting service"]
["45101515","Core printer"]
["11121606","Cork"]
["10151513","Corn seeds or seedlings"]
["50501710","Corn Soya Blend (WFP food convention)"]
["50221303","Corn starch or corn flour"]
["50501717","Corn-Soya Milk (WFP food convention) "]
["42295912","Coronary stents"]
["42294402","Coronary visualization systems"]
["80101503","Corporate divestiture consultation services"]
["77101802","Corporate environmental auditing services"]
["84111700","Corporate finance"]
["80101502","Corporate mergers consultation services"]
["80101505","Corporate objectives or policy development"]
["93101702","Corporate states"]
["53102710","Corporate uniforms"]
["44121801","Correction film or tape"]
["44121802","Correction fluid"]
["44121800","Correction media"]
["44121806","Correction pen refills"]
["44121805","Correction pens"]
["14111813","Correspondence forms or correspondence books"]
["47101606","Corrosion control chemicals"]
["47101506","Corrosion control equipment"]
["72153203","Corrosion control service"]
["12163600","Corrosion inhibitors"]
["41114604","Corrosion testers"]
["30265012","Corrugated aluminum sheet"]
["24112500","Corrugated and other supplies for distribution"]
["14122107","Corrugated base paper"]
["14121506","Corrugated fiberboard or container board CCM"]
["30171711","Corrugated glass"]
["51421500","Corticosteroid androstadienes"]
["51421800","Corticosteroid glucocorticoids"]
["51422100","Corticosteroid pregnadienediols"]
["51422200","Corticosteroid pregnadienes"]
["51422300","Corticosteroid pregnadienetriols"]
["51422400","Corticosteroid pregnenediones"]
["51420000","Corticosteroids"]
["50301512","Cortland apples"]
["42151501","Cosmetic dentistry curing lights "]
["42151500","Cosmetic dentistry equipment and supplies"]
["42151502","Cosmetic dentistry mixing wells"]
["43221736","Cospas/Sarsat System (Search & Rescue Satellite System Complete)"]
["43221737","Cospas-Sarsat Ground Stations"]
["43232620","Cospas-Sarsat Software "]
["84111501","Cost accounting service"]
["50301513","Costard apples"]
["56101513","Cots or accessories"]
["90111504","Cottage rental services"]
["24111513","Cotton bag"]
["11161700","Cotton fabrics"]
["42141501","Cotton or fiber balls "]
["10152201","Cotton seeds or seedlings"]
["51161800","Cough and cold and antiallergy products"]
["41101803","Coulometers"]
["81102810","Counter improvised explosive device IED training"]
["81102810","Counter improvised explosive device IED training"]
["72153603","Counter top installation service"]
["44111609","Counterfeit bill detectors or supplies"]
["41111901","Counters"]
["92111506","Counterterrorism"]
["30162200","Countertops "]
["43201543","Coupler facility mainframe"]
["31163000","Couplings"]
["10151505","Courgette seeds or seedlings"]
["95121703","Court building"]
["50301514","Court pendu plat apples"]
["82111603","Court reporting services"]
["92101800","Court system"]
["14111609","Cover paper"]
["42142101","Covers for heat or cold therapy products"]
["42182808","Covers or liners for weighing scales"]
["51201659","COVID 19 - Unspecified"]
["51201655","COVID19 - AstraZeneca"]
["51201656","COVID19 - Johnson & Johnson"]
["51201653","COVID19 - Moderna"]
["51201652","COVID19 - Pfizer Biontech"]
["51201654","COVID19 - Sputnik V"]
["50301515","Cox's orange pippin apples"]
["50301516","Crab apples"]
["41114605","Crack or corrosion detectors"]
["72154502","Crane maintenance and repair service"]
["72154503","Crane rental service"]
["41111519","Crane scale"]
["25101933","Crane truck"]
["20102302","Crane vehicles"]
["42296701","Cranial repair resin kits"]
["43202210","Crash stops"]
["23221001","Crate unloading system"]
["24112900","Crates"]
["25101923","Crawler type tractor"]
["44121709","Crayons"]
["44102004","Creative foils"]
["80141402","Creative fundraising services - Individual Giving"]
["80141403","Creative fundraising services - Private Partnerships and Philanthropies"]
["82111700","Creative writing"]
["56101701","Credenzas"]
["84140000","Credit agencies"]
["44111613","Credit card holders"]
["84141602","Credit card service providers"]
["84121503","Credit unions"]
["41114606","Creep testers"]
["24101508","Creepers"]
["92101504","Crime deterrence programs"]
["80121500","Criminal law services"]
["80172101","Crisis management and recovery service"]
["80172102","Crisis planning and avoidance service"]
["50301517","Crispin apples"]
["78131807","Critical spare part storage service"]
["51112032","Crizotinib"]
["51311901","Cromoglicic acid or cromolyn"]
["70142010","Crop cleaning services"]
["70141803","Crop cultivating services"]
["70141900","Crop harvesting"]
["70141700","Crop management"]
["70141800","Crop planting and cultivation"]
["70141804","Crop planting services"]
["70142003","Crop processing services"]
["70141500","Crop production"]
["70140000","Crop production and management and protection"]
["70141600","Crop protection"]
["70141601","Crop spraying services"]
["41113611","Cross talk meters"]
["83112505","Crossconnection functionality"]
["95111609","Crossroad"]
["46151500","Crowd control equipment"]
["25101932","Crowd control truck"]
["42151503","Crowns or crown forms"]
["41104605","Crucible furnaces"]
["41122200","Crucibles"]
["15101508","Crude oil"]
["25111509","Cruise ships"]
["20101700","Crushers and breakers and grinders"]
["23181507","Crushing machinery"]
["42211502","Crutches "]
["41103034","Cryobead system for microbial organism cryogenic storage"]
["41103006","Cryogenic or liquid nitrogen freezers"]
["41103030","Cryogenic storage bag or overwrap"]
["41123304","Cryogenic storage boxes"]
["41103029","Cryogenic storage cane"]
["41112214","Cryogenic temperature controllers"]
["41103032","Cryogenic tube or vial permanent marker or label"]
["41121704","Cryogenic tubes"]
["41122806","Cryoracks"]
["41103003","Cryostats"]
["41102701","Crystal lattice models"]
["41102705","Crystallizers"]
["41102700","Crystallography equipment"]
["57050204","CSB Plus"]
["10151507","Cucumber seeds or seedlings"]
["50403400","Cucumbers"]
["42143134","Culdocentesis kits"]
["21101503","Cultivators"]
["80171904","Cultural and ethnic group relations consultation and engagement"]
["93141701","Cultural events organizations"]
["93141707","Cultural heritage preservation or promotion services"]
["93141709","Cultural policy services"]
["93141700","Culture"]
["60103905","Culture kits or supplies"]
["93141702","Culture promotional services"]
["41104128","Culture specimen collector without swabs"]
["41121706","Culture tubes"]
["48102010","Cup collection cart"]
["48101712","Cup dispenser"]
["30241505","Cupola"]
["51241886","Cupric sulfate/zinc sulfate/camphor"]
["42211905","Cups or mugs for the physically challenged"]
["82151512","Curatorial service for art gallery and museum exhibitions and collections"]
["72152704","Curb construction service"]
["12162300","Curing agents"]
["93151700","Currency"]
["44111601","Currency bags or wallets"]
["84121605","Currency conversion service"]
["82121601","Currency engraving"]
["64101702","Currency exchange application"]
["81121607","Currency exchange markets"]
["84121603","Currency exchange services"]
["43211704","Currency recognition equipment"]
["41113671","Current divider"]
["41113654","Current loop meter"]
["41103327","Current meter"]
["41111928","Current sensors"]
["41112109","Current transducer"]
["41113679","Current transformer and potential transformer test equipment"]
["52131500","Curtains and draperies"]
["44111805","Curves"]
["41111625","Curvimeter"]
["24141600","Cushioning supplies"]
["93161608","Custom tax or duty"]
["83112600","Customer access"]
["80141619","Customer relationship center CRC management services"]
["43232303","Customer relationship management CRM software"]
["81112212","Customer relationship management software maintenance"]
["24113110","Customised, Multipurpose Box e.g Baby box, school box"]
["93171700","Customs administration and compliance"]
["78131802","Customs bonded storage services"]
["78141502","Customs brokerage services"]
["80151605","Customs consulting service"]
["53102702","Customs uniforms"]
["30121604","Cutback products"]
["42211906","Cutlery or utensil holders for the physically challenged"]
["42211907","Cutlery or utensils for the physically challenged"]
["27111500","Cutting and crimping and punching tools"]
["20101500","Cutting equipment"]
["41114516","Cutting force measuring instrument"]
["42211908","Cutting or paring boards for the physically challenged"]
["41121813","Cuvettes"]
["51101928","Cycloguanil"]
["51112507","Cyclophosphamide"]
["51283301","Cycloserine"]
["41111636","Cylinder diameter measuring equipment"]
["41111632","Cylinder gauge"]
["26101764","Cylinder liners"]
["14121702","Cylinder papers or multi layer heavyweight paper"]
["60131401","Cymbals"]
["51111828","Cyproterone"]
["51352435","Cyproterone/Estradiol + Estradiol"]
["51172319","Cysteamine or mercaptamine"]
["42143801","Cystometry systems"]
["42143802","Cystometry transducers"]
["42296311","Cystoscopes or cystourethroscopes"]
["51111602","Cytarabine"]
["41103914","Cytocentrifuge"]
["41103915","Cytocentrifuge cytofunnel or filter card or clamp"]
["41106101","Cytogenetics kits"]
["41104111","Cytology collection kits or containers"]
["41116112","Cytology quality controls or calibrators or standards"]
["41116113","Cytology reagents or solutions or stains"]
["41116111","Cytology test kits or supplies"]
["51131631","Dabigatran"]
["51131624","Dabigatran etexilate mesilate"]
["51112402","Dacarbazine"]
["51341807","Daclatasvir"]
["51343827","Daclatasvir/Sofosbuvir"]
["51282001","Dactinomycin"]
["73131800","Dairy and eggs processing"]
["70121505","Dairy farm in house processing"]
["70121501","Dairy herd management"]
["70121502","Dairy industry development"]
["86101502","Dairy industry vocational training"]
["70121504","Dairy laboratories services"]
["50130000","Dairy products and eggs"]
["70121503","Dairy technology"]
["70121500","Dairying"]
["51283801","Dalfopristin"]
["51102842","Dalfopristin/quinupristin"]
["95121807","Dam"]
["72141203","Dam construction service"]
["81101507","Dam engineering"]
["70171702","Dam maintenance or management services"]
["11162132","Damask fabric"]
["72153204","Damp proofing service"]
["51182024","Danazol"]
["86131602","Dance education"]
["82151703","Dancers services"]
["60131801","Dancing scarves"]
["51181578","Dapagliflozin"]
["51287004","Dapsone"]
["51202416","Daratumumab"]
["51131507","Darbepoetin alfa"]
["83112301","Dark fiber"]
["41111719","Darkfield microscopes"]
["45141600","Darkroom supplies"]
["51341801","Darunavir"]
["51341803","Darunavir ethanolate"]
["51343810","Darunavir/Cobicistat"]
["51343828","Darunavir/Ritonavir"]
["51112002","Dasatinib"]
["43201416","Data acquisition board"]
["43211730","Data acquisition system"]
["80161506","Data archiving services"]
["43232304","Data base management system software"]
["43232305","Data base reporting software"]
["43232306","Data base user interface and query software"]
["81112003","Data center services"]
["81161801","Data communication equipment or platform rental or leasing service"]
["43233403","Data compression software"]
["81112010","Data conversion service"]
["43233402","Data conversion software"]
["41111979","Data logger for clinical temperature controlled equipment"]
["43232300","Data management and query software"]
["43232307","Data mining software"]
["81112002","Data processing or preparation services"]
["81112000","Data services"]
["81112006","Data storage service"]
["81161800","Data voice or multimedia network equipment or platform rental or leasing services"]
["43220000","Data Voice or Multimedia Network Equipment or Platforms and Accessories"]
["81111806","Database analysis service"]
["81111704","Database design"]
["81111901","Database information retrieval"]
["81112223","Database Management Software Publishing"]
["81112205","Database management system software maintenance"]
["43223300","Datacom and network connectivity installation devices and equipment"]
["43223301","Datacom cross connect system and accessories"]
["43223302","Datacom label"]
["43223303","Datacom patch cord"]
["10152055","Date palm cutting"]
["60105900","Dating and sex and teen pregnancy and parenting skills and child development instructional materials"]
["44102402","Dating or numbering machines"]
["43201507","Daughterboards"]
["51281805","Daunorubicin"]
["51111740","Daunorubicin hydrochloride"]
["95122104","Daycare center"]
["76121604","Dead animal disposal services"]
["78141704","Dead man anchor service"]
["85170000","Death and dying support services"]
["14111827","Death certificate"]
["42312302","Debridement sponges"]
["25111532","Debris collection vessel"]
["84101704","Debt collection services"]
["84101700","Debt management"]
["84101701","Debt negotiation"]
["84101702","Debt reorganization"]
["84101703","Debt servicing"]
["55121607","Decals"]
["41111771","Decibel Meter "]
["51162700","Decongestants, expectorants, and mucolytics"]
["46182400","Decontamination aids and safety cleaning equipment"]
["76100000","Decontamination services"]
["46182401","Decontamination shower"]
["56140000","Decorative adornments"]
["42141700","Decubitus prevention products"]
["70101504","Deep sea fishing operations"]
["46000000","Defense and Law Enforcement and Security and Safety Equipment and Supplies"]
["46200000","Defense and law enforcement and security and safety training equipment"]
["95122700","Defense buildings and structures"]
["80121503","Defense or criminal law services"]
["H","Defense, Security & Safety Equipment & Supplies"]
["51172320","Deferasirox"]
["51172321","Deferiprone"]
["42192416","Defibrillator cases"]
["51422408","Deflazacort"]
["25171600","Defrosting and defogging systems"]
["51111842","Degarelix"]
["72154060","Degassing service"]
["47121809","Degreasing pans"]
["40101902","Dehumidifiers"]
["41104208","Dehydrators"]
["41104202","Deionization or demineralization equipment"]
["51281519","Delamanid"]
["45111718","Delay unit"]
["90101802","Delivered meals services"]
["14111822","Delivery forms or delivery books"]
["42295150","Delivery room or cesarean section patient procedure table accessories"]
["25101604","Delivery trucks"]
["10191513","Deltamethrin"]
["41113643","Demand meters or registers"]
["51284004","Demeclocycline"]
["81102801","Demining environmental impact assessment EIA service"]
["46221500","Demining equipment and related products"]
["81102802","Demining feasibility study FS service"]
["81111709","Demining geographical or geospatial information system GIS"]
["46221502","Demining machine"]
["46221507","Demining machine parts and accessories"]
["81102804","Demining non technical survey NTS service"]
["81102805","Demining operational analysis (OA) or operational research service"]
["92111611","Demining post design service PDS"]
["92111612","Demining preliminary development PD service"]
["81102807","Demining risk analysis or assessment or evaluation service"]
["81102808","Demining technical survey"]
["93141610","Demographic studies"]
["72141510","Demolition services"]
["56121900","Demonstration furnishings"]
["41113054","Demulsibility tester"]
["47101611","Demulsifiers"]
["51182428","Denosumab"]
["83112302","Dense wavelength division multiplexing DWDM"]
["41103303","Densitometers"]
["41104811","Density gradient fractionators"]
["41103320","Density measurement instrument"]
["53131500","Dental"]
["42152506","Dental absorbent pellets"]
["42152434","Dental amalgamators"]
["42152900","Dental and subspecialty instrument and device accessories"]
["42151600","Dental and subspecialty instruments and devices"]
["42152502","Dental bibs"]
["42151614","Dental burs"]
["42152446","Dental cavities lining or thinner materials or sets"]
["42152424","Dental cements"]
["42151700","Dental clinical furniture"]
["42152503","Dental dam supplies"]
["42152511","Dental dishes"]
["42152504","Dental dressings"]
["42150000","Dental equipment and supplies"]
["42152505","Dental examination chair headrest covers"]
["42151800","Dental fillers and finishing and polishing supplies"]
["53131504","Dental floss"]
["42151900","Dental hygiene and preventive care equipment and supplies"]
["85122002","Dental hygienist services"]
["42152000","Dental imaging equipment and supplies"]
["42152100","Dental impression and forming equipment and supplies"]
["53131506","Dental kits"]
["42152200","Dental laboratory and sterilization equipment and supplies"]
["42152300","Dental lasers and illumination and fiber optic equipment and supplies"]
["42152465","Dental lubricants"]
["42152400","Dental materials"]
["42152513","Dental measuring cups"]
["42152600","Dental operatory specific supplies"]
["42152423","Dental pit or fissure sealants"]
["42151901","Dental plate or denture brushes"]
["42152501","Dental preassembled disposable kits or trays"]
["42152507","Dental rolls"]
["85122000","Dental services"]
["42152508","Dental syringes or needles or syringes with needles"]
["42152512","Dental tongs"]
["95141903","Dental unit"]
["42151504","Dental veneers"]
["42152008","Dental x ray units"]
["42152016","Dental x ray viewer accessories"]
["85122001","Dentist services"]
["85122003","Dentist support staff services"]
["53131510","Denture adhesive"]
["53131508","Denture cleaning tablets"]
["42152425","Denture resins"]
["53131606","Deodorants"]
["41104209","Deoxiders"]
["41106100","Deoxyribonucleic acid DNA analysis kits"]
["41105501","Deoxyribonucleic acid DNA cleanup or gel extraction kits"]
["41105521","Deoxyribonucleic acid DNA detection system"]
["41105334","Deoxyribonucleic acid DNA quantitation markers"]
["41116006","Deoxyribonucleic acid DNA sequence analyzer reagents"]
["41105600","Deoxyribonucleic acid DNA sequencing products"]
["41105335","Deoxyribonucleic acid DNA size markers or standards"]
["41106103","Deoxyribonucleic acid DNA typing kits"]
["41115812","Deoxyribonucleic sequence analyzer accessories or supplies"]
["41115811","Deoxyribonucleic sequence analyzers"]
["24102104","Depalletizers"]
["15131506","Depleted plutonium"]
["15131502","Depleted uranium"]
["44111615","Deposit bags"]
["14111817","Deposit verification form"]
["84122001","Deposit verification services"]
["41112401","Depth gauges"]
["41103313","Depth indicators"]
["64111700","Derivative securities"]
["51241200","Dermatologic agents"]
["42182004","Dermatoscopes"]
["47101508","Desalination equipment"]
["83101507","Desalination services"]
["46161701","Descending life line"]
["70131501","Desertification assessment or control services"]
["51272401","Desflurane"]
["41123003","Desiccants"]
["41123006","Desiccator accessories"]
["44111502","Desk drawer organizers"]
["44111523","Desk organizer accessories kit"]
["44121621","Desk pads or its accessories"]
["44121600","Desk supplies"]
["56112200","Desking systems"]
["56101703","Desks"]
["44101809","Desktop calculator"]
["43232702","Desktop communications software"]
["43211507","Desktop computers"]
["56101716","Desktop organizer hutches"]
["43232112","Desktop publishing software"]
["44111503","Desktop trays or organizers"]
["51182101","Desmopressin"]
["51182108","Desmopressin acetate"]
["51352422","Desogestrel and ethinyl estradiol"]
["51161708","Desoxyribonuclease or dornase alfa"]
["50192300","Desserts and dessert toppings"]
["41111919","Detection apparatus for non metallic objects"]
["92121601","Detective agencies"]
["92121600","Detective services"]
["72141400","Detention facility construction and repair services"]
["72141401","Detention facility construction service"]
["72141402","Detention facility remodeling and repair"]
["84131511","Deterioration of stocks insurance"]
["12131708","Detonator box"]
["12131702","Detonators"]
["12142201","Deuterated solvents"]
["44103108","Developer for printers or photocopiers"]
["45141501","Developer solution"]
["45141606","Developing tank reel"]
["45141602","Developing tanks"]
["45141603","Developing tongs"]
["45141601","Developing trays"]
["84101500","Development assistance"]
["77101506","Development consent or approval processing service"]
["43232402","Development environment software"]
["84100000","Development finance"]
["84121504","Development finance institutions"]
["93171504","Development of small scale industries"]
["43232400","Development software"]
["81112209","Development software maintenance"]
["60100000","Developmental and professional teaching aids and materials and accessories and supplies"]
["43233405","Device drivers or system software"]
["47101525","Dewatering equipment"]
["72154007","Dewatering service"]
["41112237","Dewpoint thermometer"]
["51422306","Dexamethasone"]
["51422340","Dexamethasone phosphate"]
["51422342","Dexamethasone sodium phosphate"]
["51102844","Dexamethasone/neomycin/polymyxin b"]
["51171935","Dexlansoprazole"]
["51361809","Dexmedetomidine hydrochloride"]
["51202206","Dexrazoxane"]
["51202207","Dexrazoxane hydrochloride"]
["51131911","Dextran"]
["51162626","Dextromethorphan"]
["51191607","Dextrose"]
["51192317","Dextrose/Sodium chloride"]
["85380000","Diagnoses of certain conditions originating in the perinatal period"]
["85260000","Diagnoses of endocrine, nutritional and metabolic diseases  "]
["85217100","Diagnoses of human immunodeficiency virus hiv disease and related conditions"]
["85210000","Diagnoses of infectious and parasitic diseases-part a"]
["85261600","Diagnoses of iodine-deficiency-related thyroid disorders and allied conditions"]
["85270000","Diagnoses of mental and behavioral disorders  "]
["85383300","Diagnoses of neonatal aspiration syndromes"]
["51441600","Diagnostic agents and radiopharmaceuticals"]
["41170000","Diagnostic and microbiological devices"]
["42181500","Diagnostic assessment and exam products for general use"]
["41116206","Diagnostic beverages for laboratory testing"]
["42203403","Diagnostic or interventional vascular catheter introducers"]
["42203402","Diagnostic or interventional vascular catheters for general use"]
["42203421","Diagnostic or interventional vascular trays or packs"]
["42192402","Diagnostic or monitoring equipment specific carts or stands"]
["42142530","Diagnostic procedure needles"]
["95122005","Diagnostic screening room"]
["83112604","Dial access services"]
["42221901","Dial calibrated intravenous flowmeters or regulators"]
["41111630","Dial indicator or dial gauge"]
["41123103","Dialysis cassette"]
["41123105","Dialysis cassette holder"]
["41123102","Dialysis clamps"]
["42160000","Dialysis equipment and supplies"]
["41123106","Dialysis flask"]
["41123104","Dialysis membrane"]
["41123101","Dialysis tubing"]
["10171616","Diammonium hydrogenorthophosphate fertilizer"]
["72154008","Diamond drilling and sawing service"]
["42182801","Diaper weight scales"]
["44112006","Diaries or refills"]
["57030112","Diarrheal disease kit"]
["85111615","Diarrheal disease prevention or control services"]
["42141808","Diathermy electrodes"]
["42141806","Diathermy units"]
["51401518","Diazepam"]
["23181601","Dicing machinery"]
["51383304","Diclofenac"]
["51383315","Diclofenac sodium"]
["51283502","Dicloxacillin"]
["51283509","Dicloxacillin sodium"]
["44102605","Dictation machines"]
["55101526","Dictionaries"]
["43232507","Dictionary software"]
["51342901","Didanosine"]
["51351606","Dienogest"]
["26101504","Diesel engines"]
["25121501","Diesel freight locomotives"]
["15101505","Diesel fuel"]
["15101513","Diesel fuel off road"]
["26111601","Diesel generators"]
["26131501","Diesel power plants"]
["72153302","Diesel pump installation service"]
["41113043","Dietary fiber determination system"]
["51452402","Diethylcarbamazine"]
["51171808","Difenidol or diphenidol"]
["41106102","Differential display or subtraction kits"]
["25173135","Differential Global Positioning System (DGPS) - Ground Station"]
["41112413","Differentialpressure gauge"]
["41113714","Differentiator"]
["41101810","Diffractometers"]
["41104304","Digestion systems"]
["85111610","Digestive system disease prevention or control services"]
["72141511","Digging services"]
["41113001","Digital Analyzer controllers"]
["45111716","Digital audio workstation DAW"]
["45121516","Digital camcorders or video cameras"]
["45121626","Digital camera back"]
["45121504","Digital cameras"]
["43222623","Digital cross connects DCX equipment"]
["44103126","Digital duplicating machine ink"]
["44101505","Digital duplicators"]
["43191512","Digital enhanced cordless telecommunications DECT cordless phones"]
["43211732","Digital film reader"]
["25173112","Digital global navigation satellite system (DGNSS) Local Area Augmentation System (LAAS) "]
["43212114","Digital image printers"]
["42203602","Digital Imaging Communications in Medicine DICOM standard system equipment"]
["42203601","Digital imaging network DIN system equipment"]
["43222803","Digital loop carrier DLCs"]
["80141404","Digital media buying services"]
["43223100","Digital mobile network infrastructure equipment and components"]
["14111538","Digital paper"]
["43211726","Digital pen"]
["45121719","Digital photo printing kiosk"]
["82121503","Digital printing"]
["41111907","Digital readout recorders"]
["44101504","Digital senders"]
["43221600","Digital subscriber loop DSL access equipment and components and accessories"]
["43221601","Digital subscriber loop DSL captive office plain old telephone system POTS splitter"]
["43221602","Digital subscriber loop DSL captive office splitter shelf"]
["43221603","Digital subscriber loop DSL customer premise equipment CPE plain old telephone system POTS splitter"]
["43221604","Digital subscriber loop or line XDSL equipment"]
["43191508","Digital telephones"]
["41111917","Digital testers"]
["43201833","Digital to analog conversion system"]
["43202003","Digital versatile disks DVDs"]
["43201828","Digital video disc audio DVD A"]
["43201904","Digital video disc audio video DVD AV"]
["43201818","Digital video disc DVD drive"]
["43201829","Digital video disc video DVD V"]
["52161516","Digital video disk players or recorders"]
["45111814","Digital video effects DVE equipment"]
["52161535","Digital voice recorders"]
["25202904","Digital Voice Recording And Playback System "]
["42201848","Digital x ray imaging systems"]
["51124404","Digoxin"]
["51102910","Dihydroartemisinin/Piperaquine"]
["70171706","Dike or embankment maintenance or management services"]
["51101614","Diloxanide furoate"]
["51431708","Diltiazem hydrochloride"]
["51171820","Dimenhydrinate"]
["51241243","Dimethyl fumarate"]
["25111807","Dinghies"]
["56101543","Dining table"]
["51182201","Dinoprostone"]
["24111806","Dip tanks"]
["51312304","Diphenhydramine"]
["51312309","Diphenhydramine hydrochloride"]
["51201604","Diphteria vaccine"]
["51201629","Diphtheria and tetanus toxoids absorbed"]
["93121500","Diplomacy"]
["93121504","Diplomatic privileges or immunities services"]
["93121501","Diplomatic services"]
["93121503","Diplomats security services"]
["51201632","Diptheria and tetanus and wholecell pertussis vaccine"]
["51201631","Diptheria and tetanus toxoids and acellular pertussis vaccine"]
["51131705","Dipyridamole"]
["80141606","Direct marketing fulfillment"]
["80141630","Direct marketing print service"]
["80141405","Direct marketing/mailing specific to fundraising"]
["80141406","Direct response TV services"]
["80141701","Direct sales services"]
["25173130","Direction Finder "]
["41112901","Direction finding compasses"]
["25173129","Direction Finding Equipment "]
["25173132","Direction Finding Equipment, Accessories "]
["25173132","Direction Finding Equipment, Accessories "]
["41113703","Directional coupler"]
["83112506","Directional radio backbone capacity technical infrastructure service"]
["83112606","Directional radio capacity customer access service"]
["83112206","Directional radio capacity disaster recovery management service"]
["55101502","Directories"]
["83111505","Directory assistance services"]
["51282303","Dirithromycin"]
["11111500","Dirt and soil"]
["84131604","Disability insurance"]
["92111600","Disarmament"]
["92111605","Disarmament negotiations or agreements"]
["46201002","Disaster management training simulation system"]
["93131800","Disaster preparedness and relief"]
["93131802","Disaster preparedness response services"]
["72101504","Disaster proofing or contingency services"]
["81112004","Disaster recovery services"]
["93131801","Disaster warning services"]
["25171713","Disc brake pads"]
["43202213","Disc motor drives"]
["43201825","Disc publisher"]
["60131702","Disco taps"]
["32121700","Discrete components"]
["32110000","Discrete semiconductor devices"]
["85110000","Disease prevention and control"]
["93131704","Disease prevention or control services"]
["42132300","Disease prevention textiles"]
["85111700","Disease vectors management and control"]
["52152200","Dishwashing and dish storage accessories"]
["47131810","Dishwashing products"]
["42281801","Disinfectant test strips"]
["42281700","Disinfecting or presterilization cleaning equipment and solutions"]
["76101500","Disinfection"]
["85111513","Disinsectization services"]
["81112301","Disk storage system maintenance"]
["42142520","Dispensing pins or needles"]
["27112900","Dispensing tools"]
["21101800","Dispersing and spraying appliances for agriculture"]
["43201508","Dispersion compensation fiber module DCFMs"]
["93131507","Displaced persons assistance services"]
["41111816","Displacement measuring instrument"]
["41112111","Displacement transducer"]
["48102101","Display cases"]
["44111511","Display systems or its accessories"]
["43211910","Display tilt mechanism"]
["41106604","Display vector maps or sequences"]
["45121503","Disposable cameras"]
["53103200","Disposable clothes"]
["42152509","Disposable dental tray covers"]
["44121719","Disposable fountain pen"]
["53131624","Disposable personal wipes"]
["53103201","Disposable work coat"]
["92111501","Dispute mediation or conciliation or negotiation or settlement"]
["41122807","Dissecting trays"]
["42261514","Dissection boards or pads"]
["41113902","Dissolution or disintegration testers"]
["45111612","Dissolve controls"]
["41113119","Dissolved carbon dioxide analyzers"]
["41104210","Dissolvers"]
["86111505","Distance learning assessment services"]
["86111501","Distance learning guidance services"]
["86111500","Distance learning services"]
["45111806","Distance learning systems"]
["25173121","Distance Measuring Equipment (DME) System"]
["41111613","Distance meters"]
["86111502","Distance teaching services"]
["41104812","Distillation pipings or columns or fittings"]
["41104213","Distilled or deionized water"]
["41113727","Distortion meter"]
["80141700","Distribution"]
["72154100","Distribution and conditioning system equipment maintenance and repair services"]
["40000000","Distribution and Conditioning Systems and Equipment and Components"]
["39121100","Distribution and control centers and accessories"]
["39121001","Distribution power transformers"]
["30181518","Distribution Water Stand with Taps"]
["80141502","Distributive or service trade statistics"]
["83101903","District heating"]
["22101516","Ditchers"]
["51191500","Diuretics"]
["49141509","Diver hood"]
["44122010","Dividers"]
["49241701","Diving boards"]
["49141508","Diving boot"]
["49141504","Diving instruments or accessories"]
["80121801","Divorce law services"]
["51392408","Dobutamine hydrochloride"]
["51101929","Docetaxel"]
["72141204","Dock construction service"]
["24101800","Dock equipment"]
["43211602","Docking stations"]
["45101612","Doctor blade"]
["53102707","Doctors coat"]
["45121517","Document camera"]
["80161508","Document destruction services"]
["44122016","Document holder"]
["43232202","Document management software"]
["81112005","Document scanning service"]
["78131804","Document storage services"]
["10121800","Dog and cat food"]
["10101502","Dogs"]
["24101503","Dollies"]
["51343204","Dolutegravir"]
["51343809","Dolutegravir/Abacavir/Lamivudine"]
["78101501","Domestic air cargo transport"]
["91110000","Domestic and personal assistance"]
["52140000","Domestic appliances"]
["52000000","Domestic Appliances and Supplies and Consumer Electronic Products"]
["52151900","Domestic bakeware"]
["78101703","Domestic barge transport services"]
["52141700","Domestic bath appliances"]
["52152101","Domestic coffee or tea cups"]
["52151800","Domestic cookware"]
["30161803","Domestic cupboard"]
["52152000","Domestic dishes and servingware and storage containers"]
["52151501","Domestic disposable cookware"]
["52151504","Domestic disposable cups or glasses or lids"]
["52151500","Domestic disposable kitchenware"]
["52152100","Domestic drink ware"]
["52141804","Domestic electric fan"]
["52151700","Domestic flatware and cutlery"]
["52141500","Domestic kitchen appliances"]
["52152300","Domestic kitchen supplies"]
["52151600","Domestic kitchen tools and utensils"]
["52150000","Domestic kitchenware and kitchen supplies"]
["52141600","Domestic laundry appliances and supplies"]
["83112602","Domestic leased lines"]
["52141502","Domestic microwave ovens"]
["72153609","Domestic or commercial appliance installation service"]
["10110000","Domestic pet products"]
["52141501","Domestic refrigerators"]
["78101701","Domestic vessel transport services"]
["52170000","Domestic wall treatments"]
["72152801","Domestic water well drilling service"]
["51141538","Donepezil"]
["51141590","Donepezil hydrochloride"]
["80141407","Donor acquisition services"]
["41122418","Donor blood unit segment sampler"]
["80141408","Donor care services"]
["80141409","Donor retention services"]
["30171520","Door and window loop"]
["46171618","Door bells"]
["46171605","Door chimes"]
["30171514","Door closers"]
["46171617","Door eyes"]
["30171507","Door frames"]
["30171512","Door openers"]
["42212001","Door openers for the physically challenged"]
["30171516","Door screen"]
["30171500","Doors"]
["30170000","Doors and windows and glass"]
["51392403","Dopamine"]
["51392412","Dopamine hydrochloride"]
["25173131","Doppler Direction Finder "]
["25173118","Doppler VHF Omnidirectional Range (DVOR) And DVOR/DME Systems"]
["25173119","Doppler VHF Omnidirectional Range (DVOR) Complete Ground Station "]
["25173120","Doppler VHF Omnidirectional Range (DVOR)/Distance Measuring Equipment (DME) Systems "]
["72111109","Dormitory remodeling service"]
["51241133","Dorzolamide hydrochloride"]
["51241522","Dorzolamide/timolol"]
["26141700","Dosimetry equipment"]
["41123401","Dosing cups"]
["41123400","Dosing devices"]
["41123403","Dosing droppers"]
["41123402","Dosing spoons"]
["11162130","Dossal"]
["23153605","Dot marking machine"]
["43212102","Dot matrix printers"]
["30171901","Double hung window frames"]
["90111802","Double room"]
["31201505","Double sided tape"]
["41101516","Dounce homogenizers"]
["45111813","Down stream keyer"]
["51281806","Doxorubicin"]
["51281818","Doxorubicin hydrochloride"]
["51284006","Doxycycline"]
["51284027","Doxycycline hyclate"]
["41103322","Draft gauge"]
["44111817","Drafting divider"]
["44111813","Drafting dots or tapes"]
["44111802","Drafting films"]
["44111812","Drafting kits or sets"]
["44111804","Drafting papers"]
["44111800","Drafting supplies"]
["44111815","Drafting table covers"]
["56101707","Drafting tables"]
["22101513","Draglines"]
["30181605","Drain"]
["72103305","Drain laying service"]
["47121808","Drain or pipe cleaning equipment"]
["47121807","Drain or toilet plunger"]
["30121720","Drain pipe odor suppression device"]
["72151906","Drain tile installation service"]
["30121721","Drainage earth and sand barrel"]
["70171800","Drainage services"]
["72141205","Drainage system construction service"]
["86131603","Drama studies"]
["72153604","Drapery track installation service"]
["78141702","Drawbridge operations"]
["45101905","Drawing or retouching boards"]
["22101514","Dredgers"]
["25111504","Dredging craft"]
["72141206","Dredging service"]
["56101509","Dressers or armoires"]
["53102000","Dresses and skirts and saris and kimonos"]
["42211800","Dressing and grooming aids for the physically challenged"]
["42311531","Dressing covers for general use"]
["42251501","Dressing education products"]
["42311543","Dressing retainers"]
["50321501","Dried akane apples"]
["50321500","Dried apples"]
["50421500","Dried artichokes"]
["50421800","Dried beans"]
["50421501","Dried brittany artichokes"]
["50121542","Dried Fish (WFP food convention)"]
["50320000","Dried fruit"]
["50424000","Dried green peas"]
["50421834","Dried lima beans"]
["50331501","Dried organic akane apples"]
["50331502","Dried organic ambrosia apples"]
["50331500","Dried organic apples"]
["50431500","Dried organic artichokes"]
["50431501","Dried organic brittany artichokes"]
["50330000","Dried organic fruit"]
["50430000","Dried organic vegetables"]
["50425400","Dried peas"]
["50425600","Dried potatoes"]
["50420000","Dried vegetables"]
["41111650","Drill gauge"]
["20111500","Drilling and exploration equipment"]
["20111700","Drilling and operation accessories"]
["20111600","Drilling and operation machinery"]
["20121600","Drilling bits"]
["25101947","Drilling truck/Auger truck"]
["49121510","Drink coolers"]
["42211909","Drink holders for the physically challenged"]
["48101710","Drinking fountains or bubblers"]
["43201615","Drive bay cover kits"]
["26111800","Drive components"]
["25173800","Drivetrain systems"]
["72152706","Driveway construction service"]
["86131700","Driving and flying and sailing"]
["41114520","Drop tester"]
["41121513","Dropping pipettes"]
["41112238","Dropping point tester"]
["51352404","Drospirenone/estradiol"]
["93131705","Drug abuse prevention or control programs"]
["85111617","Drug addiction prevention or control services"]
["42192417","Drug cases"]
["42192604","Drug delivery systems"]
["85121810","Drug or alcohol screening"]
["51240000","Drugs affecting the ears, eye, nose and skin"]
["51170000","Drugs affecting the gastrointestinal system"]
["51160000","Drugs affecting the respiratory tract"]
["51000000","Drugs and Pharmaceutical Products"]
["51182200","Drugs for inducing labor"]
["51172200","Drugs that treat interstitial cystitis"]
["51161700","Drugs used for respiratory tract disorders"]
["51142400","Drugs used for vascular and migraine headaches"]
["24101900","Drum handling equipment"]
["60131520","Drum stick"]
["60131405","Drums"]
["41102422","Dry baths or heating blocks"]
["26111705","Dry cell batteries"]
["47111700","Dry cleaning equipment"]
["72121001","Dry cleaning plant construction and remodeling service"]
["77101907","Dry cleaning plants site investigation"]
["95121602","Dry dock"]
["44111905","Dry erase boards or accessories"]
["10121801","Dry food for dogs"]
["24112801","Dry freight container"]
["47131808","Dry germicidal"]
["73171502","Dry or storage battery manufacture services"]
["41104414","Dry wall dual chamber carbon dioxide incubators with humidity control"]
["41104420","Dry wall dual chamber three gas incubators"]
["41104413","Dry wall single chamber carbon dioxide incubators with humidity control"]
["41104419","Dry wall single chamber three gas incubators"]
["41104510","Drying cabinets or ovens"]
["42295458","Drying or powdering equipment for surgical gloves"]
["41122805","Drying racks"]
["41102427","Drying tower"]
["49141507","Drysuits"]
["72152001","Drywall installation and repair service"]
["83112406","DSL digital subscriber line"]
["42301506","Dual earpiece stethoscopes"]
["47121811","Duct cleaning machines"]
["30265401","Ductile iron hot rolled sheet"]
["41114607","Ductility testing machines"]
["40141900","Ducts"]
["53121602","Duffel bags"]
["51402206","Duloxetine hydrochloride"]
["24101644","Dumb waiter"]
["49201601","Dumbbells"]
["46171641","Dummy security camera"]
["25181605","Dump truck body"]
["25101601","Dump trucks"]
["44101702","Duplexer trays"]
["44101703","Duplexer units"]
["44101500","Duplicating machines"]
["50221113","Durum Wheat (WFP food convention)"]
["51111780","Durvalumab"]
["47131601","Dust brushes or pans"]
["41104012","Dust fall holders or jars"]
["47131617","Dust mops"]
["47121814","Dust separator"]
["21101802","Dusters"]
["51182014","Dutasteride"]
["43212103","Dye sublimination printers"]
["31220000","Dyeing and tanning extracts"]
["12171500","Dyes"]
["70151604","Dyes production"]
["12131501","Dynamite"]
["41114501","Dynamometers"]
["51201702","E Coli vaccines"]
["11171501","E24-2 or A37-2 steel"]
["46181902","Ear muffs"]
["42143500","Ear nose and throat ENT treatment products and accessories"]
["42143516","Ear nose throat ENT examining unit accessories and related products"]
["42143523","Ear plugs"]
["42295435","Ear protectors or shields"]
["42182017","Ear specula sets"]
["57040300","Early childhood development"]
["57444300","Early childhood development"]
["57040301","Early childhood development kit"]
["57070101","Early identification kit for unaccompanied children"]
["11110000","Earth and stone"]
["46182505","Earth leakage detector and fire alarm"]
["41113645","Earth leakage devices"]
["12141500","Earth metals"]
["22101500","Earth moving machinery"]
["41113612","Earth resistance testers"]
["81150000","Earth science services"]
["22101539","Earthmoving machinery parts and accessories"]
["72141505","Earthmoving service"]
["41114102","Earthquake simulators"]
["81101522","Earthworks engineering"]
["44111903","Easels or accessories"]
["93121606","East west cooperation services"]
["42211900","Eating and drinking and food preparation aids for the physically challenged"]
["90101500","Eating and drinking establishments"]
["51201660","Ebola vaccine"]
["57030401","Ebola, personal protective kit"]
["41103501","Ebuliometer"]
["11111603","Ecaussine or alabaster"]
["41114513","Eccentricity measuring instrument"]
["70161701","Ecodevelopment services"]
["94131702","Ecofeminists associations"]
["94131703","Ecological political organizations"]
["81171600","Ecological science services"]
["77101707","Ecology advisory services"]
["81121503","Econometrics"]
["81121500","Economic analysis"]
["93142102","Economic cooperation services"]
["81121505","Economic development consultancy"]
["81121504","Economic forecasts"]
["80101603","Economic or financial evaluation of projects"]
["93121703","Economic or social council services"]
["81120000","Economics"]
["70161700","Ecosystems"]
["70161704","Ecosystems protection services"]
["27111913","Edge trimmer"]
["50151604","Edible animal oils"]
["50151600","Edible animal oils and fats"]
["70151605","Edible forestry production"]
["50150000","Edible oils and fats"]
["50151500","Edible vegetable and plant oils and fats"]
["50151514","Edible vegetable or plant fats"]
["50151513","Edible vegetable or plant oils"]
["82111801","Editing services"]
["82000000","Editorial and Design and Graphic and Fine Art Services"]
["82111800","Editorial and support services"]
["82111405","Editorial Services - Arabic"]
["82111406","Editorial Services - Chinese"]
["82111401","Editorial Services - English"]
["82111402","Editorial Services - French"]
["82111404","Editorial Services - Russian"]
["82111403","Editorial Services - Spanish"]
["86000000","Education and Training Services"]
["86141501","Educational advisory services"]
["95121900","Educational and research buildings and structures"]
["86111800","Educational exchanges"]
["86111802","Educational exchanges between schools"]
["86111801","Educational exchanges between universities"]
["86140000","Educational facilities"]
["86141500","Educational guidance services"]
["86120000","Educational institutions"]
["57040100","Educational kits"]
["57444100","Educational kits"]
["57040000","Educational or recreational items"]
["43232500","Educational or reference software"]
["81112216","Educational or reference software maintenance"]
["55101509","Educational or vocational textbooks"]
["86132200","Educational support services"]
["86141700","Educational technology"]
["51341903","Efavirenz"]
["51343803","Efavirenz/emtricitabine/tenofovir"]
["51101602","Eflornithine"]
["21101906","Egg inspection or collecting equipment"]
["10151508","Eggplant seeds or seedlings"]
["50131600","Eggs and egg substitutes"]
["44111818","Eidograph"]
["11162115","Elastic braid"]
["13101700","Elastomers"]
["41114502","Elastometers"]
["42241805","Elbow orthopedic softgoods"]
["93111607","Election analysis services"]
["93111608","Election organization services"]
["26101100","Electric alternating current AC motors"]
["26101200","Electric direct current DC motors"]
["53131643","Electric hair clipper"]
["44121636","Electric pencil sharpener"]
["72141122","Electric power line construction service"]
["39121040","Electric power saver"]
["72151502","Electric power system construction service"]
["41113682","Electric power tester"]
["41112112","Electric power transducer"]
["83101804","Electric power transmission services"]
["24101517","Electric tow tractor"]
["83101800","Electric utilities"]
["25175000","Electric vehicle charging systems"]
["73171510","Electrical accessories or supplies manufacture services"]
["41111944","Electrical admittance sensors"]
["81101700","Electrical and electronic engineering"]
["39121300","Electrical boxes and enclosures and fittings and accessories"]
["26121600","Electrical cable and accessories"]
["72141115","Electrical cable laying service"]
["41111933","Electrical charge sensors"]
["41116502","Electrical clip"]
["25173900","Electrical components"]
["39121500","Electrical controls and accessories "]
["72154065","Electrical copying equipment maintenance"]
["81101701","Electrical engineering services"]
["39120000","Electrical equipment and components and supplies"]
["73152108","Electrical equipment maintenance and repair service"]
["43233600","Electrical Equipment software"]
["44121808","Electrical erasers"]
["39121701","Electrical hangers"]
["39121700","Electrical hardware and supplies"]
["73171507","Electrical household appliances manufacture services"]
["41111946","Electrical inductance sensors"]
["72151515","Electrical inspection service"]
["39121721","Electrical insulators"]
["39121400","Electrical lugs plugs and connectors"]
["41113600","Electrical measuring and testing equipment and accessories"]
["41111634","Electrical micrometer"]
["39121402","Electrical plugs"]
["41111930","Electrical power sensors"]
["81102400","Electrical power transmission engineering"]
["39121406","Electrical receptacles"]
["39122300","Electrical relays and accessories"]
["41111943","Electrical resistance or conductance sensors"]
["39121900","Electrical safety devices and accessories"]
["39122200","Electrical switches and accessories"]
["72151500","Electrical system services"]
["39000000","Electrical Systems and Lighting and Components and Accessories and Supplies"]
["73171503","Electrical tools manufacture services"]
["39122100","Electrical transmission and distribution equipment "]
["41113613","Electrical value recorders"]
["39122000","Electrical Variable Speed Drives"]
["26121500","Electrical wire"]
["26120000","Electrical wire and cable and harness"]
["39130000","Electrical wire management devices and accessories and supplies"]
["25101509","Electrically powered vehicle"]
["27113204","Electrician kits"]
["41112107","Electro pneumatic transducers"]
["42181701","Electrocardiography EKG units"]
["42181700","Electrocardiography EKG units and related products"]
["41115600","Electrochemical measuring instruments and accessories"]
["42141813","Electroconvulsive devices"]
["42182308","Electroencephalograph EEGs"]
["42182315","Electroencephalographic spectrum analysers"]
["41113003","Electrogravimetry analyzers"]
["41115849","Electrolyte analyzer"]
["41116016","Electrolyte analyzer reagent"]
["51191600","Electrolytes"]
["42221904","Electromagnetic blood flowmeters"]
["41113614","Electromagnetic field meters"]
["41113803","Electromagnetic geophysical instruments"]
["41113728","Electromagnetic shield environmental chamber"]
["42141816","Electromagnetic therapy stimulators"]
["41113615","Electrometers"]
["42181541","Electromyograph electrodes or sets"]
["41101807","Electron diffraction apparatus"]
["41101801","Electron guns"]
["41111711","Electron microscopes"]
["41101811","Electron probe x ray micro analyzer"]
["41115415","Electron spectroscopy system for chemical analysis"]
["41115416","Electron spin resonance spectrometer"]
["32140000","Electron tube devices and accessories"]
["41113700","Electronic and communication measuring and testing instruments"]
["26111706","Electronic batteries"]
["42181602","Electronic blood pressure units"]
["81101702","Electronic circuit design"]
["41111904","Electronic columns"]
["81101711","Electronic component manufacturing service"]
["32131000","Electronic component parts and raw materials and accessories"]
["32000000","Electronic Components and Supplies"]
["73171512","Electronic computers or data processing equipment manufacture services"]
["72151507","Electronic controls installation service"]
["44111902","Electronic copyboards or accessories"]
["41111902","Electronic counters"]
["81111703","Electronic data interchange EDI design"]
["55111501","Electronic directories"]
["43201604","Electronic equipment bays or baskets"]
["84131512","Electronic equipment insurance"]
["73171511","Electronic equipment manufacture services"]
["64101700","Electronic fund transfer and payment products"]
["32130000","Electronic hardware and component parts and accessories"]
["41113616","Electronic loads"]
["81161600","Electronic mail and messaging services"]
["81112102","Electronic mail service provider"]
["43233501","Electronic mail software"]
["23210000","Electronic manufacturing machinery and equipment and accessories"]
["81101713","Electronic measurement and recording instrument engineering and design service"]
["41111905","Electronic measuring probes"]
["43201814","Electronic media or data duplicating equipment"]
["42182201","Electronic medical thermometers"]
["41121508","Electronic multichannel pipetters"]
["55111500","Electronic publications and music"]
["43211519","Electronic reader or E-reader"]
["55110000","Electronic reference material"]
["41121507","Electronic single channel pipetters"]
["42182101","Electronic stethoscopes"]
["41111501","Electronic toploading balances"]
["45121631","Electronic viewfinder"]
["43211723","Electronic voting or vote-counting equipment"]
["41111530","Electronic weigh scale "]
["60106104","Electronics or electricity teaching aids or materials"]
["86101606","Electronics vocational training services"]
["41105323","Electrophoresis premade buffers or solutions"]
["41105344","Electrophoresis sample applicator or blade"]
["41105340","Electrophoresis system"]
["41105305","Electrophoresis system accessories"]
["41105303","Electrophoresis system power supplies"]
["42203430","Electrophysiology catheters"]
["41106224","Electroporation system"]
["41101804","Electroscopes"]
["42295104","Electrosurgical or electrocautery equipment"]
["42141801","Electrotherapy combination units"]
["42141802","Electrotherapy electrodes"]
["42141800","Electrotherapy equipment"]
["42141803","Electrotherapy lead wires or cables"]
["41113041","Elemental analyzer"]
["86121500","Elementary and secondary schools"]
["95121909","Elementary school"]
["12140000","Elements and gases"]
["95121647","Elevated roadway or highway"]
["20102306","Elevating platform vehicles or scissor lifts"]
["22101518","Elevating scrapers"]
["72152903","Elevator front installation service"]
["72154010","Elevator installation maintenance and repair service"]
["72101506","Elevator maintenance services"]
["24101601","Elevators"]
["51172483","Elosulfase alfa"]
["51131817","Eltrombopag"]
["51131827","Eltrombopag olamine"]
["42262000","Embalming equipment and supplies"]
["92111507","Embargoes"]
["93121506","Embassies or Ambassadors services"]
["43232204","Embedded text entry software"]
["42203422","Embolization glues"]
["42203423","Embolization spheres"]
["82121512","Embossing"]
["44121624","Embossing tools"]
["23121501","Embroidery making machines"]
["42143204","Embryo transfer catheters"]
["11131607","Embryos"]
["57060100","Emergency clothing kits"]
["57666100","Emergency clothing kits"]
["57080103","Emergency computer equipment for UN staff"]
["93131602","Emergency food supply services"]
["57030105","Emergency health kit"]
["93131803","Emergency housing services"]
["57888100","Emergency IT equipment kits"]
["57080100","Emergency IT equipment kits"]
["57333200","Emergency latrine facility"]
["57030200","Emergency latrine facility"]
["39111700","Emergency lighting and accessories"]
["43221738","Emergency Locating Transmitter (ELT) "]
["57555100","Emergency nutritional kits"]
["57050100","Emergency nutritional kits"]
["57080102","Emergency operations room equipment kit"]
["42192401","Emergency or resuscitation carts"]
["85101501","Emergency or surgical hospital services"]
["57050205","Emergency ration"]
["95141804","Emergency Shelter Kit"]
["57080101","Emergency telecommunications equipment"]
["95141802","Emergency tent or hall"]
["90121801","Emergency travel agent assistance"]
["90121800","Emergency travel assistance services"]
["42141603","Emesis basins"]
["51131831","Emicizumab"]
["77102002","Emission reporting compliance service"]
["51181579","Empagliflozin"]
["84131609","Employee assistance programs"]
["86111604","Employee education"]
["80111717","Employee physical screening service"]
["80111719","Employee psychometric testing service"]
["80111718","Employee skill testing and assessment service"]
["84131701","Employer administered pension funds"]
["93141800","Employment"]
["80121706","Employment law services"]
["93141801","Employment promotion or planning services"]
["93141806","Employment statistics or forecasting services"]
["51343804","Emtricitabine/tenofovir"]
["51343811","Emtricitabine/Tenofovir Alafenamide/Bictegravir"]
["51343811","Emtricitabine/Tenofovir Alafenamide/Bictegravir"]
["12161804","Emulsions"]
["51432803","Enalapril"]
["51432806","Enalapril maleate"]
["43211608","Encoder decoder equipment"]
["43232506","Encyclopedia software"]
["55101525","Encyclopedias"]
["42271503","End tidal carbon dioxide monitors"]
["94131902","Endangered species protection associations"]
["77111507","Endangered species protection services"]
["10151509","Endive seeds or seedlings"]
["42271905","Endobronchial tubes"]
["85111603","Endocrine disease prevention or control services"]
["42203417","Endografts"]
["44102201","Endorsers"]
["42295001","Endoscope maintenance units"]
["42296401","Endoscope or instrument positioners or holders"]
["42295002","Endoscope storage cabinets"]
["42295013","Endoscope tip protector or covers"]
["42295003","Endoscope wall hangers"]
["42296300","Endoscopes"]
["42294944","Endoscopic accessory kits"]
["42294902","Endoscopic applicators or elevators"]
["42294903","Endoscopic aspiration or biopsy needles"]
["42294941","Endoscopic biliary drainage sets"]
["42294904","Endoscopic bite blocks or straps"]
["42295440","Endoscopic catheter adapters"]
["42294908","Endoscopic clamp or dissector or grasper or forceps"]
["42294905","Endoscopic cleaning brushes or related products"]
["42296411","Endoscopic converters"]
["42294906","Endoscopic cutting instruments"]
["42294907","Endoscopic cytology or microbiology brushes"]
["42296412","Endoscopic diaphragms"]
["42294909","Endoscopic dilators or inflation devices"]
["42294950","Endoscopic drills or drill bits"]
["42296400","Endoscopic equipment"]
["42295000","Endoscopic equipment accessories and related products"]
["42295004","Endoscopic equipment or procedure carts"]
["42295005","Endoscopic equipment sets"]
["42294953","Endoscopic extractors"]
["42296402","Endoscopic fluid management systems or accessories"]
["42294946","Endoscopic gages"]
["42294949","Endoscopic guidewire handles"]
["42294919","Endoscopic guidewire or glidewire"]
["42294956","Endoscopic guidewire tracers"]
["42295006","Endoscopic heater probe units or heater probes"]
["42294913","Endoscopic hemostatic balloons or needles or tubes or accessories"]
["42294955","Endoscopic hooks"]
["42296404","Endoscopic imaging systems or accessories"]
["42295014","Endoscopic instrument cases"]
["42294927","Endoscopic instrument packs or trays or kits"]
["42294942","Endoscopic instrument seals"]
["42294914","Endoscopic instrument sets"]
["42294915","Endoscopic instrument spreaders"]
["42294900","Endoscopic instruments"]
["42296413","Endoscopic insufflation filters"]
["42294917","Endoscopic insufflation needles"]
["42296406","Endoscopic insufflation or distention units or accessories"]
["42296414","Endoscopic insufflation tubing"]
["42294921","Endoscopic knot pushers or delivery systems"]
["42294920","Endoscopic laser instruments"]
["42295015","Endoscopic lenses"]
["42294922","Endoscopic ligators"]
["42294923","Endoscopic manipulators"]
["42294910","Endoscopic monopolar or bipolar cable"]
["42294924","Endoscopic monopolar or bipolar hand instruments"]
["42294948","Endoscopic mouthpieces"]
["42294925","Endoscopic needles or punches"]
["42294972","Endoscopic or surgical light sources"]
["42294926","Endoscopic overtubes"]
["42296407","Endoscopic printers or film or accessories"]
["42294928","Endoscopic probes"]
["42294929","Endoscopic retractors"]
["42294952","Endoscopic retrievers or sets"]
["42294957","Endoscopic shaver blades"]
["42294951","Endoscopic small joint instrument sets"]
["42294930","Endoscopic snares or snare wires"]
["42294931","Endoscopic specimen retrieval forceps"]
["42294959","Endoscopic sphincterotomes"]
["42294933","Endoscopic suction or irrigation tips or coagulation probes"]
["42294934","Endoscopic suturing devices"]
["42294954","Endoscopic tissue or specimen removing devices"]
["42294978","Endoscopic trocars or sheathes or obturators or cannulae"]
["42294943","Endoscopic valve units"]
["42294939","Endoscopic valves"]
["42294958","Endoscopic vessel sealing and cutting attachments"]
["42296408","Endoscopic video cameras or recorders or adapters or accessories"]
["42296409","Endoscopic water bottles or accessories"]
["42294936","Endoscopic working elements or working channels"]
["42271903","Endotracheal tubes"]
["42141904","Enema accessories"]
["42141900","Enema administration supplies"]
["42141903","Enema kits"]
["42141905","Enema soaps"]
["60104700","Energy and power physics materials"]
["83101900","Energy conservation"]
["83101901","Energy conservation programs"]
["72151509","Energy management controls installation service"]
["60106205","Energy or power teaching aids or materials"]
["81101516","Energy or utility consulting service"]
["86101602","Energy related vocational training services"]
["83101902","Energy use reduction measures"]
["51342702","Enfuvirtide"]
["26101700","Engine components and accessories"]
["25174000","Engine coolant system"]
["15121501","Engine oil"]
["26101513","Engine Repair Kit"]
["11122000","Engineered wood products"]
["81000000","Engineering and Research and Technology Based Services"]
["73152103","Engineering equipment maintenance services"]
["81101703","Engineering testing services"]
["86101610","Engineering vocational training services"]
["26101500","Engines"]
["82121602","Engraved roll printing"]
["82121600","Engraving"]
["14111830","Engrossing paper"]
["83112200","Enhanced telecommunications services"]
["51321501","Eniclobrate"]
["45101904","Enlargers"]
["51282953","Enoxacin"]
["51131607","Enoxaparin"]
["15131505","Enriched plutonium"]
["15131503","Enriched uranium"]
["51282916","Enrofloxacin"]
["42296324","ENT Laryngoscopes"]
["51342304","Entecavir"]
["42231500","Enteral feeding equipment and supplies"]
["42231510","Enteral feeding infusion pump tubing sets"]
["42231501","Enteral feeding infusion pumps"]
["42231505","Enteral feeding set adapters or connectors or extensions"]
["42231504","Enteral nutrition bags or containers"]
["43232403","Enterprise application integration software"]
["43231602","Enterprise resource planning ERP software"]
["81112211","Enterprise resource planning software maintenance"]
["43233701","Enterprise system management software"]
["90150000","Entertainment services"]
["41102508","Entomological aspirators"]
["41102507","Entomological catching equipment"]
["41102509","Entomological dippers"]
["41102513","Entomological display units"]
["41102510","Entomological monocups"]
["41102505","Entomological mounting materials"]
["41102504","Entomological pinning equipment"]
["41102511","Entomological sticky traps"]
["41102506","Entomological trays"]
["72152403","Entryway and exit framing service"]
["77101700","Environmental advisory services"]
["77101800","Environmental auditing"]
["77101702","Environmental chemistry advisory services"]
["25172700","Environmental control systems"]
["77111602","Environmental decontamination services"]
["77101705","Environmental economics advisory services"]
["77101703","Environmental ethics advisory services"]
["77101500","Environmental impact assessment"]
["77101504","Environmental Impact Assessment EIA services"]
["78204014","Environmental Impact Studies - Airports"]
["77101503","Environmental indicators analysis"]
["77101801","Environmental information systems"]
["77101605","Environmental institution building or planning"]
["77140000","Environmental laboratory services"]
["77101706","Environmental law advisory services"]
["77100000","Environmental management"]
["64141700","Environmental mitigation banking products"]
["64141701","Environmental mitigation credit"]
["77101505","Environmental monitoring"]
["94131501","Environmental non governmental services"]
["77101600","Environmental planning"]
["77110000","Environmental protection"]
["77101805","Environmental quality control services"]
["41116117","Environmental reagents or solutions or stains"]
["77111600","Environmental rehabilitation"]
["77102000","Environmental reporting services"]
["77111500","Environmental safety services"]
["77101701","Environmental sciences advisory services"]
["77101806","Environmental security control services"]
["77000000","Environmental Services"]
["77101502","Environmental standards"]
["72151510","Environmental system control installation service"]
["60106206","Environmental teaching aids or materials"]
["77101704","Environmental technology advisory services"]
["25191520","Environmental test chamber"]
["41116116","Environmental test kits or supplies"]
["86101508","Environmental vocational training services"]
["51111877","Enzalutamide"]
["42312305","Enzymatic debridement products"]
["41113309","Enzyme analyzers"]
["41106516","Enzyme expression consumables"]
["41116158","Enzyme linked immunosorbent assay ELISA kit"]
["41106605","Enzyme reporter vector maps or sequences"]
["78204008","E-Passport, Id, E-Health Services, Surveys, Planning & Studies (Aviation)"]
["51391717","Ephedrine"]
["85111514","Epidemic prevention or control services"]
["57030106","Epidemy health kit"]
["45111610","Epidiascopes"]
["42142509","Epidural anesthesia kit or tray"]
["51312105","Epinastine hydrochloride"]
["51273937","Epinephrine/lidocaine"]
["51281803","Epirubicin"]
["51281819","Epirubicin hydrochloride"]
["51432606","Eplerenone"]
["72154011","Epoxy application service"]
["51141566","Epsom salt or magnesium sulfate"]
["53121705","Equipment cases"]
["44102907","Equipment dust covers"]
["81141804","Equipment inspection service"]
["81141504","Equipment test calibration or repair"]
["24112412","Equipment transportation case"]
["44121721","Erasable ink pen"]
["44121809","Eraser holder"]
["44121807","Eraser refills"]
["44121804","Erasers"]
["84131513","Erection all risks insurance"]
["51182222","Ergometrine maleate"]
["46182200","Ergonomic support aids"]
["51111742","Eribulin"]
["41114634","Erichsen tester"]
["51112014","Erlotinib hydrochloride"]
["70131503","Erosion control services"]
["81111507","ERP or database applications programming services"]
["51284603","Ertapenem"]
["51284610","Ertapenem sodium"]
["51282304","Erythromycin"]
["51282317","Erythromycin ethyl succinate"]
["51282327","Erythromycin stearate"]
["51282300","Erythromycins"]
["51131506","Erythropoietin"]
["72154046","Escalator installation service"]
["24101626","Escalator or walkways"]
["51292023","Escitalopram oxalate"]
["80131703","Escrow account services"]
["80131700","Escrow and title services"]
["51263122","Esmolol"]
["51263162","Esmolol hydrochloride"]
["51171909","Esomeprazole or omeprazole"]
["42271504","Esophageal stethoscopes"]
["42271902","Esophageal tubes"]
["42296318","Esophagoscopes or oesophagoscopes"]
["70151602","Essential oils production"]
["51351637","Estradiol cypionate/medroxyprogesterone acetate"]
["51351605","Estradiol or oestradiol"]
["51351627","Estradiol valerate"]
["51352426","Estradiol/norethindrone"]
["51351636","Estradiol/trimegestone"]
["51111803","Estramustine"]
["51351608","Estriol"]
["51351600","Estrogen, progestin, or internal contraceptive estrenes"]
["51351800","Estrogen, progestin, or internal contraceptive gonadal hormones"]
["51351900","Estrogen, progestin, or internal contraceptive norpregnanes"]
["51352000","Estrogen, progestin, or internal contraceptive norpregnenes"]
["51351500","Estrogen, progestin, or internal contraceptive pregnanes"]
["51350000","Estrogens and progestins and internal contraceptives"]
["51351804","Estrogens conjugated"]
["81151802","Estuarine oceanography"]
["41111620","Etalon wedge"]
["51202306","Etanercept"]
["51281501","Ethambutol"]
["51281513","Ethambutol hydrochloride"]
["51162104","Ethambutol/isoniazid/pyrazinamide/rifampicin"]
["51162106","Ethambutol/isoniazid/pyrazinamide/rifampicin"]
["15101802","Ethanol"]
["41116211","Ethanol breathalyzer"]
["43233406","Ethernet driver software"]
["51352413","Ethinyl estradiol/levonorgestrel"]
["51352414","Ethinyl estradiol/norelgestromin"]
["51352436","Ethinylestradiol/cyproterone acetate "]
["51281507","Ethionamide"]
["94131805","Ethnic minorities cultural preservation services"]
["15111504","Ethylene"]
["13111217","Ethylene vinyl alcohol film"]
["51381502","Etofenamate"]
["51272302","Etomidate"]
["51352005","Etonogestrel"]
["51111739","Etoposide"]
["51384802","Etoricoxib"]
["51343704","Etravirine"]
["11121625","Eucalyptus wood"]
["41106502","Eucariotic transfection reagents"]
["42192418","Evacuation bags or liners"]
["46182307","Evacuation harnesses"]
["85151705","Evaluation of food aid nutritional impact"]
["40101703","Evaporative coolers"]
["86111601","Evening courses"]
["80141607","Events management"]
["51202603","Everolimus"]
["46151714","Evidence drying cabinets"]
["42182316","Evoked response detectors"]
["51321904","Evolocumab"]
["42181503","Exam or personal lubricants or jellies"]
["14111533","Examination booklets or forms"]
["80161703","Excess or obsolete non capital material disposal or sale service"]
["93161504","Excess profits tax"]
["43201534","Exchange component CODEC interfaces"]
["43201509","Exchange datacom modules"]
["86132001","Executive coaching service"]
["51111824","Exemestane"]
["51183601","Exenatide"]
["55101523","Exercise books"]
["25173700","Exhaust and emission controls"]
["76111605","Exhaust hood or fan clearing"]
["26131600","Exhaust structures or screening equipment"]
["44122027","Expandable file folders"]
["43201605","Expanders"]
["24111807","Expansion tanks"]
["85131500","Experimental medicine services"]
["43231511","Expert system software"]
["80121903","Expert witness service"]
["20102000","Exploration and development systems"]
["41103421","Explosion environmental chamber"]
["41103013","Explosion proof refrigerators or refrigerator freezers"]
["12131502","Explosive cartridges"]
["12131504","Explosive charges"]
["81102815","Explosive Detection Dogs (EDD) with handler"]
["46171642","Explosive Detection System, Ctx"]
["12131704","Explosive initiators"]
["20102200","Explosive loading machinery"]
["12130000","Explosive materials"]
["92111608","Explosive ordnance disposal EOD service"]
["12131705","Explosive primers"]
["46111505","Explosive remnants of war ERW"]
["12131709","Explosive tamper"]
["46171643","Explosive Vapour Detector"]
["12131500","Explosives"]
["46151800","Explosives control equipment and accessories and supplies"]
["12131703","Explosives fuses"]
["84111508","Export administration and accounting service"]
["80151601","Export development"]
["93171602","Export policy"]
["80151603","Export projections"]
["41106606","Expression complementary deoxyribonucleic acid cDNA vectors"]
["51282400","Extended-spectrum penicillins"]
["43191634","Extension board for keyphone system"]
["41114503","Extensometers"]
["72152701","Exterior concrete stucco service"]
["30150000","Exterior finishing materials"]
["72102905","Exterior grounds maintenance"]
["72152102","Exterior insulation and finishing service"]
["39111600","Exterior lighting fixtures and accessories "]
["72151907","Exterior marble masonry service"]
["72152904","Exterior metal wall system installation service"]
["25172900","Exterior vehicle lighting"]
["72102103","Extermination or fumigation services"]
["42294202","External fixation instrument sets or systems"]
["42144000","External hearing device parts and accessories"]
["83112605","External international lines"]
["43202204","External ringer or its parts"]
["42161600","Extracorporeal hemodialysis equipment and supplies"]
["42141811","Extracorporeal shock wave therapy systems"]
["41104806","Extracting equipment for laboratories"]
["71101700","Extraction"]
["41104817","Extraction thimbles"]
["93111501","Extremist movements"]
["42143603","Extremity restraints"]
["42192419","Extrication product cases or bags"]
["31110000","Extrusions"]
["53131610","Eye care supplies"]
["85111611","Eye disease prevention or control services"]
["42142902","Eyeglass lenses"]
["42142901","Eyeglasses"]
["46181801","Eyewear holders or cases"]
["51322201","Ezetimibe"]
["51122606","Ezetimibe/Atorvastatin"]
["51122603","Ezetimibe/simvastatin"]
["76111505","Fabric and furniture cleaning services"]
["41102503","Fabric or netting for entomology"]
["31320000","Fabricated bar stock assemblies"]
["30131609","Fabricated brick"]
["31310000","Fabricated pipe assemblies"]
["31360000","Fabricated plate assemblies"]
["31340000","Fabricated sheet assemblies"]
["31330000","Fabricated structural assemblies"]
["31350000","Fabricated tube assemblies"]
["11160000","Fabrics and leather materials"]
["73141700","Fabrics and leather production"]
["11162000","Fabrics of vegetable material other than cotton"]
["46181700","Face and head protection"]
["23131600","Faceting equipment and accessories"]
["53131613","Facial care products"]
["43232615","Facial recognition software"]
["46181702","Facial shields"]
["42312504","Facial support garments"]
["14111701","Facial tissues"]
["81141800","Facilities management"]
["43232603","Facilities management software"]
["72102900","Facility maintenance and repair services"]
["81112222","Facility operation and maintenance management software maintenance"]
["41113831","Facing sand water measuring instrument"]
["83111700","Facsimile and telegraph services"]
["44101704","Facsimile handsets"]
["14111508","Facsimile paper"]
["44103117","Facsimile ribbons"]
["83111701","Facsimile transmission services"]
["44101714","Facsimile units for office machines"]
["82111802","Fact checking services"]
["92111504","Fact finding missions"]
["81131501","Factor analysis"]
["85141500","Faith healers"]
["46182300","Fall protection and rescue equipment"]
["46182302","Fall protection lanyard"]
["51342902","Famciclovir"]
["57060208","Family kit"]
["80121800","Family law services"]
["93141612","Family planning programs or services"]
["43232004","Family software"]
["41103004","Fan circulated ovens"]
["40101604","Fans"]
["72121201","Farm building construction service"]
["84141501","Farm credit services"]
["78131500","Farm products warehousing"]
["70121605","Farm rearing systems"]
["93141906","Farmers or peasants organizations services"]
["70000000","Farming and Fishing and Forestry and Wildlife Contracting Services"]
["21000000","Farming and Fishing and Forestry and Wildlife Machinery and Accessories"]
["51282109","Faropenem sodium"]
["90101503","Fast food establishments"]
["27112400","Fastener setting tools"]
["44122100","Fastening supplies"]
["41114608","Fatigue testers"]
["41113310","Fatty acid analyzers"]
["30181802","Faucet aerator"]
["30181800","Faucet and shower heads, jets and parts and accessories"]
["30181804","Faucet handle"]
["30181811","Faucet repair kit"]
["30181810","Faucet trim"]
["30181702","Faucet unit"]
["30181700","Faucets or taps"]
["70161500","Fauna"]
["70161501","Fauna protection"]
["10151539","Fava or broad bean seeds or seedlings"]
["81161701","Fax Administration Service"]
["43201545","Fax boards"]
["43232904","Fax software"]
["81161702","Fax Support Service"]
["44101506","Faxswitch machines"]
["80101601","Feasibility studies or screening of project ideas"]
["11131501","Feathers"]
["51452601","Febantel"]
["42143901","Fecal incontinence collection bags"]
["42143900","Fecal incontinence products"]
["42143902","Fecal management systems or kits"]
["41112704","Feed analyzers"]
["41111617","Feeler gauges"]
["51433915","Felodipine"]
["11162124","Felt fabrics"]
["44121711","Felt pen"]
["44121906","Felt pen cartridge"]
["51273950","Felypressin/prilocaine"]
["53131665","Female hygiene and personal care set"]
["57030301","Female hygiene and personal care set"]
["53131615","Feminine hygiene products"]
["42241708","Femoral fracture pillows"]
["51283421","Fenbenicillin"]
["72154013","Fence construction service"]
["30152000","Fencing"]
["72154069","Fencing and railing service"]
["10191514","Fenitrothion"]
["51321808","Fenofibrate"]
["51372305","Fentanyl"]
["51372321","Fentanyl citrate"]
["41104300","Fermentation equipment"]
["32121703","Ferrites"]
["51131525","Ferrous fumarate"]
["51191917","Ferrous sulfate"]
["51192443","Ferrous sulfate/folic acid"]
["42143200","Fertility and Sterility treatment equipment and supplies"]
["70131601","Fertilizer application services"]
["70141702","Fertilizer services"]
["21101804","Fertilizer spreaders or distributors"]
["10170000","Fertilizers and plant nutrients and herbicides"]
["42143128","Fetal acoustic stimulators"]
["42143111","Fetal blood samplers or collecting kits"]
["42143123","Fetal electroencephalographic monitors"]
["42143129","Fetal monitoring transducers"]
["42143121","Fetal scalp electrodes"]
["51313801","Fexofenadine"]
["51313802","Fexofenadine hydrochloride"]
["24111511","Fiber mesh bag"]
["43223323","Fiber optic adapter"]
["43223311","Fiber optic attenuator"]
["43223317","Fiber optic buffer remover"]
["72151602","Fiber optic cable installation service"]
["43223312","Fiber optic cable stripper"]
["43223338","Fiber optic connection closure"]
["43223310","Fiber optic connector"]
["43223330","Fiber optic connector assembly tool"]
["43223321","Fiber optic connector clip"]
["43223320","Fiber optic continuity tester"]
["43223313","Fiber optic crimper"]
["43223319","Fiber optic detector"]
["43223339","Fiber optic distribution box"]
["43223318","Fiber optic emitter"]
["43223337","Fiber optic enclosure"]
["43223327","Fiber optic fault locator"]
["41113716","Fiber optic fault locators"]
["43223340","Fiber optic fusion splicer"]
["43223331","Fiber optic insert"]
["43223329","Fiber optic light source"]
["43223335","Fiber optic music wire"]
["43223326","Fiber optic patch cord"]
["43223328","Fiber optic patch panel"]
["43223324","Fiber optic polishing film"]
["43223314","Fiber optic polishing fixture"]
["43223336","Fiber optic scope adapter"]
["43223333","Fiber optic scope eyepiece"]
["43223316","Fiber optic scribe"]
["43223322","Fiber optic support grip"]
["43223325","Fiber optic swab"]
["41113717","Fiber optic test sources"]
["43223334","Fiber optic tool and die set"]
["43223315","Fiber optic tool blade set"]
["43223332","Fiber optic tool kit"]
["73141500","Fiber production"]
["41112103","Fiber sensors"]
["83112300","Fiber telecommunications services"]
["42141502","Fiber tipped sticks"]
["14121505","Fiberboards"]
["72154014","Fiberglass installation and maintenance service"]
["42182202","Fiberoptic medical thermometers"]
["11151500","Fibers"]
["73140000","Fibers and textiles and fabric industries"]
["11150000","Fibers and threads and yarns"]
["41111738","Fiberscopes"]
["43201558","Fibre channel controller"]
["51131801","Fibrinogen"]
["51131828","Fibrinogen/Factor XIII+Aprotinin+Thrombin+Calcium chloride"]
["51131833","Fibrinogen+calcium chloride/thrombin"]
["10152200","Fibrous crop seeds and seedlings"]
["84131514","Fidelity guarantee insurance"]
["49160000","Field and court sports equipment"]
["70141903","Field crop harvesting services"]
["70142004","Field crops market preparation services"]
["57010102","Field Kits for UN staff"]
["49161500","Field sports equipment"]
["41113617","Field strength measuring equipment"]
["78131602","File archive storage"]
["44122015","File backers"]
["44122018","File inserts or tabs"]
["44122019","File pockets or accessories"]
["44111515","File storage boxes or organizers"]
["43232203","File versioning software"]
["43233001","Filesystem software"]
["51201802","Filgrastim"]
["56101702","Filing cabinets or accesories"]
["23181501","Filling machinery"]
["73152000","Filling Services"]
["82160000","Film and theater production support services"]
["41113327","Film applicator"]
["45121718","Film densitometer"]
["45141609","Film developing machine worktable"]
["45121701","Film driers"]
["45121712","Film editing desk"]
["45121704","Film editors"]
["45121715","Film hanger"]
["45121713","Film inspection machine"]
["45121720","Film loader"]
["45121717","Film platemaking system"]
["82131505","Film post production service"]
["82131500","Film processing services"]
["45111608","Film projectors"]
["45121714","Film reader"]
["45111619","Film reel"]
["45121703","Film splicers"]
["45131509","Film spotting color"]
["45141608","Film squeegee"]
["45121702","Film washers"]
["40161800","Filter media"]
["42142510","Filter needles"]
["41104927","Filter support screens"]
["41121601","Filter tip pipette tips"]
["40161500","Filters"]
["41104011","Filters or other spare parts for samplers"]
["72154110","Fin fan cooling tower maintenance and repair service"]
["43231600","Finance accounting and enterprise resource planning ERP software"]
["84111502","Financial accounting service"]
["43231604","Financial analysis software"]
["84000000","Financial and Insurance Services"]
["84121706","Financial asset management service"]
["84101501","Financial assistance"]
["64000000","Financial Instruments, Products, Contracts and Agreements"]
["86131500","Fine arts"]
["42132202","Finger cots"]
["44121620","Finger stalls"]
["46151702","Fingerprint applicators or brushes"]
["46151715","Fingerprint equipment"]
["46151703","Fingerprint ink"]
["46151704","Fingerprint ink removers"]
["46151706","Fingerprint latent print kits"]
["46151707","Fingerprint lifters"]
["46151709","Fingerprint marking pens"]
["46151705","Fingerprint or palmprint ink rollers"]
["46151710","Fingerprint powders"]
["92121602","Fingerprint services"]
["44103206","Fingerprint time attendance and access control machine"]
["51203302","Fingolimod"]
["72152302","Finish carpentry service"]
["30151900","Finishing materials and products"]
["10191511","Fipronil"]
["46182504","Fire alarm control panel"]
["92121702","Fire alarm maintenance or monitoring"]
["46191505","Fire alarm systems"]
["46191604","Fire blankets"]
["46191607","Fire breathing apparatus"]
["72151703","Fire detection and burglar alarm systems installation service"]
["30171523","Fire door"]
["46191609","Fire escape equipment"]
["72154015","Fire escape installation service"]
["46191618","Fire extinguisher base"]
["72101516","Fire extinguisher inspection maintenance and repair service"]
["46191621","Fire extinguisher storage box"]
["46191601","Fire extinguishers"]
["46191625","Fire Extinguishers Recharge System "]
["46191613","Fire extinguishing agent"]
["25101706","Fire fighting chemical truck"]
["46191600","Fire fighting equipment"]
["25101707","Fire fighting ladder truck"]
["25101704","Fire fighting pump truck"]
["86101711","Fire fighting training services"]
["25101711","Fire fighting truck with remote control nozzle"]
["25175202","Fire Fighting Vehicle Accessories"]
["25101705","Fire fighting water tank truck"]
["25111602","Fire fighting watercraft"]
["46191614","Fire foam liquid proportioner"]
["46191611","Fire hose cart"]
["46191617","Fire hose washer"]
["46191603","Fire hoses or nozzles"]
["46191511","Fire hot spot detector"]
["84131519","Fire insurance"]
["25101712","Fire investigation car"]
["41116304","Fire point tester"]
["46191500","Fire prevention"]
["92101603","Fire prevention services"]
["46190000","Fire protection"]
["72101509","Fire protection system and equipment maintenance or repair service"]
["41112520","Fire pump flow meter"]
["46191503","Fire resistant coatings or putties or sealants"]
["46181508","Fire retardant apparel"]
["46181601","Fire retardant footwear"]
["92101600","Fire services"]
["46191610","Fire sprinkler heads"]
["72151102","Fire sprinkler system installation service"]
["46191602","Fire sprinkler systems"]
["95121705","Fire station"]
["72121402","Fire station construction service"]
["46191606","Fire suppression foam or similar compounds"]
["46191605","Fire suppression hand tools"]
["46191608","Fire suppression system"]
["46191619","Fire water monitor"]
["46101500","Firearms"]
["11111802","Fireclay"]
["53102718","Firefighter uniform"]
["46191615","Firefighting standpipe"]
["40102100","Fireplaces and accessories"]
["43222501","Firewall network security equipment"]
["46201102","Firing or shooting range"]
["81112203","Firmware patching or upgrade service"]
["42192420","First aid kit cases or bags"]
["51282500","First generation cephalosporins"]
["50121500","Fish"]
["41102605","Fish aeration systems"]
["70101905","Fish farming"]
["10121700","Fish food"]
["70101803","Fish hatcheries"]
["70101802","Fish pond resources"]
["70101703","Fish production"]
["70101804","Fish ranches"]
["70101704","Fish storage"]
["70100000","Fisheries and aquaculture"]
["81101530","Fisheries engineering"]
["70101500","Fisheries operations"]
["70101600","Fisheries oversight"]
["70101806","Fisheries resource evaluation"]
["70101800","Fisheries resources"]
["70101805","Fishery by product resources"]
["70101702","Fishery by products production services"]
["70101603","Fishery data collection or distribution"]
["70101700","Fishery industry and technology"]
["70101601","Fishery information or documentation services"]
["70101602","Fishery research or experimentation services"]
["25111725","Fishery research ship"]
["70101607","Fishery resources protection or conservation"]
["25111724","Fishery training ship"]
["86101507","Fishery vocational training services"]
["21110000","Fishing and aquaculture equipment"]
["49130000","Fishing and hunting equipment"]
["25111502","Fishing boats"]
["70101510","Fishing nets"]
["70101503","Fishing onshore facilities"]
["70101502","Fishing port services"]
["49131501","Fishing rods"]
["49131500","Fishing tackle"]
["70101701","Fishing technology services"]
["15131600","Fission fuel assemblies"]
["42142512","Fistula needles"]
["49200000","Fitness equipment"]
["45141502","Fixative"]
["12352500","Fixatives"]
["43221700","Fixed network equipment and components"]
["72121516","Fixed oil and gas offshore production facilities fabrication service"]
["25191546","Fixed Passenger Walkway "]
["43191504","Fixed phones"]
["30171906","Fixed window frames"]
["78181800","Fixed wing aircraft maintenance and repair services"]
["25131509","Fixed wing training aircraft or trainer"]
["72154042","Flag pole erection service"]
["55121906","Flag stands"]
["55121905","Flagpoles or parts or accessories"]
["55121715","Flags or accessories"]
["46191506","Flame arrestor"]
["46191504","Flame detectors"]
["41113056","Flame experiment wire"]
["41113004","Flame ionization analyzers"]
["41115857","Flame photometer analyzer"]
["41115858","Flame photometer analyzer accessories"]
["41116025","Flame photometer analyzer reagent or kit"]
["12162100","Flame retardants"]
["41116303","Flammability tester"]
["41103017","Flammable material storage freezers"]
["41103012","Flammable material storage refrigerators or refrigerator freezers"]
["46171644","Flammable Vapour Detector"]
["43202005","Flash memory storage card"]
["41116301","Flash point testers"]
["39111610","Flashlight"]
["41104801","Flask or retort units"]
["41122421","Flask ring stabilizer or weight"]
["20102303","Flat deck material carriers"]
["95122102","Flat or apartment"]
["25101917","Flatbed truck"]
["80161505","Fleet management services"]
["13111215","Flexible polyvinyl chloride film"]
["84131610","Flexible spending accounts FSA"]
["45101510","Flexographic printer"]
["41114623","Flexure or transverse testing machines"]
["78202000","Flight Calibration Services"]
["25201700","Flight communications related systems"]
["25201801","Flight computer systems"]
["43232607","Flight control software"]
["25201702","Flight data recorders"]
["25191549","Flight Information Display System (FIDS) "]
["46171650","Flight Inspection Equipment (Airborne and Ground Based)"]
["25202100","Flight instrumentation"]
["78204002","Flight Operations Automation, Design And Construction"]
["25202910","Flight Progress Strips"]
["60101734","Flip chart"]
["30171708","Float glass"]
["41103321","Floating body stability measurement apparatus"]
["72121510","Floating oil and gas production storage and offloading system construction service"]
["72121515","Floating oil and gas production system hull fabrication service"]
["95121812","Floating structure"]
["39111628","Flood light "]
["70171803","Flood protection or control services"]
["70171603","Floodplain management"]
["41103905","Floor centrifuges"]
["47131801","Floor cleaners"]
["72101508","Floor cleaning services"]
["52100000","Floor coverings"]
["72152500","Floor laying services"]
["72152509","Floor leveling service"]
["47121608","Floor machine pads"]
["47121600","Floor machines and accessories"]
["41111509","Floor or platform scales"]
["47121605","Floor scrubbers"]
["76111604","Floor waxing or carpet cleaning"]
["30161700","Flooring"]
["95141714","Flooring system Mobile Storage Unit (MSU)"]
["43202102","Floppy disk cases"]
["43202004","Floppy disks"]
["43201801","Floppy drives"]
["70161600","Flora"]
["70161601","Flora protection"]
["10160000","Floriculture and silviculture products"]
["50221300","Flour and milled products"]
["13111206","Flouropolymer films"]
["41112512","Flow computers or totalizers"]
["41115413","Flow cytometer"]
["41115834","Flow cytometer accessories or supplies"]
["41115852","Flow cytometry analyzer"]
["41116015","Flow cytometry analyzers reagents or antibodies"]
["41116152","Flow cytometry quality controls and calibrators and standards"]
["41116148","Flow cytometry test kits or supplies"]
["41103309","Flow injection analysis equipment"]
["41111931","Flow sensors"]
["42271707","Flow sensors or regulators or components"]
["41112516","Flow transmitters"]
["10151900","Flower seeds and bulbs and seedlings and cuttings"]
["70111600","Flowering plants"]
["41112501","Flowmeters"]
["51303402","Fluconazole"]
["51303001","Flucytosine"]
["51442001","Fludarabine"]
["51422421","Fludrocortisone acetate"]
["40140000","Fluid and gas distribution"]
["40142200","Fluid and gas regulators"]
["42295459","Fluid decanting devices for surgical use"]
["12162700","Fluid loss additives"]
["41103300","Fluid mechanics equipment"]
["41104912","Fluid presses filter"]
["23201203","Fluidbed dryers"]
["51401525","Flumazenil"]
["51453404","Flumethrin"]
["51422205","Flunarizine"]
["51422206","Fluocinolone acetonide"]
["51242209","Fluocinolone/lidocaine/neomycin/polymyxin"]
["41111820","Fluorescence detector"]
["26111726","Fluorescent ballast battery unit"]
["39101605","Fluorescent lamps"]
["41111722","Fluorescent microscopes"]
["41106607","Fluorescent protein vector maps or sequences"]
["42201849","Fluorescent scanners"]
["42201852","Fluorescent screens"]
["51442000","Fluorine-based medical imaging agents, media, and tracers"]
["51422202","Fluorometholone"]
["95122006","Fluoroscopy room"]
["51442004","Fluorouracil"]
["51292011","Fluoxetine"]
["51292012","Fluoxetine hydrochloride"]
["51334303","Flupentixol"]
["51182027","Flutamide"]
["51421501","Fluticasone"]
["51421504","Fluticasone furoate"]
["51421505","Fluticasone propionate"]
["51162030","Fluticasone/salmeterol"]
["41101805","Fluxmeters"]
["10191704","Fly swatters"]
["10191703","Flying insect control traps"]
["42311510","Foam dressings"]
["30111501","Foamed concrete"]
["13111300","Foams"]
["80171502","Focus group and public feedback meeting facilitation and analysis"]
["21101805","Fog or mist generators"]
["42294937","Fog reduction devices for endoscopes or mirrors"]
["30102000","Foil"]
["44122022","Folder binding accessories"]
["44122030","Folder kit"]
["44122011","Folders"]
["44122000","Folders and binders and indexes"]
["56101542","Folding chairs"]
["30171526","Folding door"]
["48101926","Folding table"]
["56101547","Folding table"]
["51191918","Folic acid"]
["51172310","Folinic acid or leucovorin"]
["53102200","Folkloric clothing"]
["51181912","Follitropin or follitropin alfa and follitropin beta"]
["46161538","Follow Me Sign System"]
["51131615","Fondaparinux"]
["43232205","Fonts software"]
["85151702","Food aid global information or early warning systems services"]
["93131609","Food aid policies or programs"]
["48101700","Food and beverage dispensing equipment"]
["90101900","Food and beverage equipment rental or leasing and maintenance services"]
["73130000","Food and beverage industries"]
["93131600","Food and nutrition policy planning and programs"]
["85150000","Food and nutrition services"]
["11141700","Food and tobacco waste and scrap"]
["50000000","Food Beverage and Tobacco Products"]
["42211910","Food catchers or bibs for the physically challenged"]
["85151502","Food contamination control services"]
["23181700","Food cooking and smoking machinery"]
["23181600","Food cutting machinery"]
["23201204","Food drying equipment"]
["57555300","Food emergency kits"]
["57050300","Food emergency kits"]
["57555200","Food emergency rations"]
["57050200","Food emergency rations"]
["42211911","Food guards for the physically challenged"]
["85151501","Food hygiene control services"]
["12164500","Food or drug additives"]
["77111503","Food or feed contamination protection services"]
["93131610","Food planning services"]
["85151700","Food policy planning and aid"]
["48101600","Food preparation equipment"]
["23181500","Food preparation machinery"]
["85151503","Food preservation management or control services"]
["77101910","Food processing plant site investigation"]
["72121002","Food product manufacturing or packing plant construction and remodeling service"]
["94131602","Food relief services"]
["93131611","Food security services"]
["48101908","Food service chafers"]
["48101909","Food service coffee or tea pots"]
["48101912","Food service condiment dispensers"]
["48101905","Food service cups or mugs"]
["48101901","Food service dinnerware"]
["72154017","Food service equipment installation service"]
["48101902","Food service flatware"]
["48101917","Food service fondue pots"]
["90101605","Food service for transportation operators"]
["48101903","Food service glasses"]
["48101919","Food service glasses or cups or mugs or container lids"]
["48101911","Food service ice buckets or wine coolers"]
["48101916","Food service napkin dispensers"]
["48101907","Food service pitchers"]
["48101913","Food service punch bowls"]
["48101906","Food service serving baskets"]
["48101910","Food service soup crocks"]
["48101904","Food service stemware"]
["48101918","Food service table covering rolls"]
["48101915","Food service trays"]
["48101914","Food service wine carafes"]
["48102009","Food serving or dispensing table"]
["85151701","Food standards"]
["85151500","Food technology"]
["41116118","Food test kits or supplies"]
["41116119","Food test kits reagents or solutions or stains"]
["47121710","Food waste meter"]
["F","Food, Cleaning & Service Industry Equipment & Supplies"]
["14111524","Foolscap sheets"]
["53131614","Foot care products"]
["70122004","Foot or mouth control services"]
["49161501","Football blocking sleds"]
["49161504","Footballs"]
["95121627","Footbridge"]
["46151711","Footprint lifters"]
["53110000","Footwear"]
["46181606","Footwear covers"]
["41111934","Force or torque sensors"]
["41104402","Forced air or mechanical convection general purpose incubators"]
["42241806","Forearm or wrist or thumb orthopedic softgoods"]
["81121606","Foreign exchange control"]
["86111702","Foreign language immersion instruction"]
["43232501","Foreign language software"]
["60103700","Foreign languages resources"]
["46151712","Forensic chemical workstations"]
["46151700","Forensic equipment and supplies and accessories"]
["46151713","Forensic latent print chemicals"]
["46151708","Forensic magnifiers"]
["60106301","Forensic science kits"]
["60106302","Forensic science teaching aids or materials"]
["60106300","Forensic science teaching equipment and supplies"]
["70151803","Forest arid land rehabilitation"]
["77101602","Forest conservation strategy planning"]
["70151703","Forest harvesting specialized operations"]
["70151505","Forest inventory"]
["70151506","Forest monitoring or evaluation"]
["92101604","Forest or wilderness firefighting services"]
["70151802","Forest protection services"]
["70151805","Forest reserves or parks conservation services"]
["70151901","Forest resources development"]
["70151501","Forest resources management services"]
["70151510","Forest sectoral planning"]
["70151804","Forest wind breaks or shelter belts"]
["70150000","Forestry"]
["11121700","Forestry byproducts"]
["70151800","Forestry conservation services"]
["70151700","Forestry harvesting"]
["70151600","Forestry industry"]
["21102200","Forestry machinery and equipment"]
["70151500","Forestry management"]
["70151900","Forestry resources"]
["70151807","Forestry torrent control"]
["86101506","Forestry vocational training services"]
["70151806","Forestry watershed management"]
["23251700","Forging machines"]
["41114609","Forging testing apparatus"]
["31130000","Forgings"]
["24101629","Forklift or elevator accessories or supplies"]
["24101603","Forklifts"]
["51474001","Formaldehyde/isopropyl alcohol/sodium nitrite"]
["27111600","Forming tools"]
["42231800","Formulas and products for nutritional support"]
["93171503","Formulation of national commodity policies"]
["51171838","Fosaprepitant or ivemend"]
["72152710","Foundation and footing construction service"]
["72151901","Foundation building service"]
["23161501","Foundry blowers"]
["23161700","Foundry dies and tooling"]
["23161500","Foundry machines and equipment"]
["23160000","Foundry machines and equipment and supplies"]
["77101908","Foundry site investigation"]
["23161600","Foundry supplies"]
["41114610","Foundry testing apparatus"]
["72154018","Fountain installation service"]
["44121907","Fountain pen ink refill"]
["44121703","Fountain pens"]
["42142617","Fountain syringes"]
["51282600","Fourth generation cephalosporins"]
["41104021","Fraction collector"]
["41104810","Fractionation apparatus"]
["83112202","Frame relay public managed network services"]
["83111511","Frame relay telecommunications service"]
["45111825","Frame synchronizer"]
["30241701","Framing beam or rail or tubing"]
["80141704","Franchise operations"]
["44102101","Franking or postage machines"]
["94131804","Fraternal associations"]
["54111603","Free standing clocks"]
["45111501","Free standing lecterns"]
["94132004","Freedom of speech defense associations"]
["56111800","Freestanding furniture"]
["42182601","Freestanding medical exam lights or lamps"]
["41104702","Freeze dryer glassware"]
["41104704","Freeze dryer or lyopholizer accessories"]
["41104701","Freeze dryers or lyopholizers"]
["24131604","Freeze drying equipment"]
["41113606","Freeze watch indicators"]
["14121808","Freezer paper"]
["41113331","Freezing and thawing tester"]
["41112232","Freezing point measuring instrument"]
["24112800","Freight containers"]
["78121603","Freight fee"]
["78141501","Freight forwarders services"]
["78141510","Freight including insurance services"]
["78121601","Freight loading or unloading"]
["41104114","Frepp Sepp collection containers"]
["41115303","Frequency analyzers"]
["41113647","Frequency calibrator or simulator"]
["41113675","Frequency control test equipment"]
["41115304","Frequency counters or timer or dividers"]
["72152002","Fresco installation and repair service"]
["50181901","Fresh bread"]
["50121539","Fresh fish"]
["41103035","Fresh frozen plasma storage carton or frame"]
["50380000","Fresh fruit purees"]
["50300000","Fresh fruits"]
["50171548","Fresh herbs"]
["50131701","Fresh milk or butter products"]
["10121701","Fresh or frozen brine"]
["50191505","Fresh prepared soups or stews"]
["50400000","Fresh vegetables"]
["12162800","Friction reducers"]
["22101501","Front end loaders"]
["21101808","Frost protection equipment"]
["50341501","Frozen akane apples"]
["50341500","Frozen apples"]
["50441500","Frozen artichokes"]
["50441501","Frozen brittany artichokes"]
["50121537","Frozen fish"]
["50340000","Frozen fruit"]
["50451500","Frozen organic artichokes"]
["50451501","Frozen organic brittany artichokes"]
["50450000","Frozen organic vegetables"]
["50191506","Frozen prepared soups or stews"]
["50440000","Frozen vegetables"]
["70142007","Fruit crops market preparation services"]
["41112421","Fruit hardness tester"]
["70141902","Fruit or tree nuts harvesting services"]
["50201715","Fruit tea"]
["10152001","Fruit tree seeds or cuttings"]
["73131700","Fruits and vegetables processing"]
["51191549","Frusemide or furosemide"]
["15111700","Fuel additives"]
["41112523","Fuel flowmeter"]
["15130000","Fuel for nuclear reactors"]
["41113055","Fuel gum tester"]
["26101740","Fuel injectors"]
["41111963","Fuel level sensor"]
["15101700","Fuel Oils"]
["41111959","Fuel pressure sensor"]
["24111808","Fuel storage tanks"]
["25172406","Fuel tanks"]
["25172400","Fuel tanks and systems"]
["78181704","Fuel top up card service / Fuel prepaid card service"]
["70151903","Fuel wood resources"]
["15100000","Fuels"]
["15000000","Fuels and Fuel Additives and Lubricants and Anti corrosive Materials"]
["42143606","Full body restraints"]
["11111810","Fullers earth"]
["51351609","Fulvestrant"]
["41103502","Fume hoods or cupboards"]
["10191708","Fumigation backpack"]
["24141521","Fumigation sheet"]
["51283422","Fumoxicillin"]
["41115323","Function generator"]
["41113650","Functional tester"]
["80141400","Fundraising Services"]
["84121601","Funds clearance services"]
["84121600","Funds transfer and clearance and exchange services"]
["85171500","Funeral and associated services"]
["48130000","Funeral equipment and materials"]
["25101934","Funeral vehicle or hearse"]
["85111503","Fungal disease prevention or control services"]
["10171702","Fungicides"]
["30241506","Funicular bell"]
["51285302","Furazolidone"]
["40101805","Furnaces"]
["56101500","Furniture"]
["56000000","Furniture and Furnishings"]
["56101535","Furniture carts"]
["80161603","Furniture project administration or management"]
["56101532","Furniture set"]
["78131603","Furniture storage"]
["23261501","Fused deposition modeling machine"]
["44103001","Fuser cleaning pads or filters"]
["44103005","Fuser lamps or assemblies"]
["44103002","Fuser oil"]
["44103003","Fuser wiper"]
["44103004","Fusers"]
["44103000","Fusers and accessories"]
["41106608","Fusion vectors"]
["51362601","Gabapentin"]
["30241507","Gable"]
["41111635","Gage block comparator"]
["41111618","Gage block set"]
["41113618","Gain measuring instruments"]
["42251704","Gait bars for rehabilitation or therapy"]
["42251701","Gait belts for rehabilitation or therapy"]
["42251700","Gait training products"]
["42251706","Gait training walkers or bikers or exercisers"]
["51151541","Galantamine hydrobromide"]
["51201810","Galsulfase"]
["42141804","Galvanic or faradic stimulators"]
["41113619","Galvanometers"]
["48120000","Gambling or wagering equipment"]
["14111820","Game of chance forms or coupons"]
["43211705","Game pads or joy sticks"]
["60141100","Games"]
["51201806","Gamma IGG or immunoglobulin"]
["42202200","Gamma radiation therapy products"]
["41111812","Gamma ray radiography examination equipment"]
["12142206","Gamma sources"]
["51342305","Ganciclovir"]
["51342313","Ganciclovir sodium"]
["95141604","Garage"]
["72152401","Garage door installation or erection service"]
["30172100","Garage doors and operators"]
["76121501","Garbage collection or destruction or processing or disposal"]
["76121601","Garbage dump"]
["70111703","Garden planting or maintenance services"]
["10151510","Garlic seeds or seedlings"]
["53121501","Garment bags"]
["41113100","Gas analyzers and monitors"]
["42272501","Gas anesthesia apparatus or machines"]
["42272505","Gas anesthesia apparatus tubes or tubing assemblies or tube fittings"]
["41102401","Gas burners"]
["42192421","Gas casualty treatment set cases"]
["41115703","Gas chromatographs"]
["41113116","Gas detector tubes"]
["46171613","Gas detectors"]
["26101503","Gas engines"]
["83101605","Gas facility charge"]
["72101519","Gas fitting installation service"]
["41112508","Gas gauges"]
["26111604","Gas generators"]
["72154019","Gas leak detection service"]
["23201000","Gas liquid contacting systems"]
["72141111","Gas main construction service"]
["46182003","Gas masks"]
["41103310","Gas or vapour concentration measuring instruments"]
["83101604","Gas pipeline services"]
["26131504","Gas power plants"]
["26111609","Gas turbine generator"]
["15111500","Gaseous fuels"]
["15110000","Gaseous fuels and additives"]
["31400000","Gaskets"]
["41115859","Gas-liquid chromatography and mass spectrometry analyzer"]
["41116026","Gas-liquid chromatography and mass spectrometry analyzer reagent"]
["15101506","Gasoline or Petrol"]
["26101515","Gasoline outboard motor"]
["72153301","Gasoline pump installation service"]
["42231703","Gastric decompression tubes"]
["42231613","Gastric lavage tubes or kits"]
["42231600","Gastrostomy and jejunostomy access devices or accessories"]
["42231601","Gastrostomy tubes or kits for general use"]
["77101903","Gasworks site investigation"]
["30172000","Gates"]
["43232912","Gateway software"]
["51282921","Gatifloxacin"]
["41111626","Gauge block"]
["42311512","Gauze sponges"]
["45111503","Gavels or sounding blocks"]
["94131801","Gay or lesbian or bisexual or transgender movements"]
["95141605","Gazebo"]
["23242200","Gear manufacturing machines"]
["41114522","Gear tester"]
["72154104","Gearbox maintenance and repair service"]
["31171700","Gears"]
["51112004","Gefitinib"]
["41105301","Gel boxes"]
["41105315","Gel documentation accessories"]
["41105314","Gel documentation systems"]
["42311513","Gel dressings"]
["41105302","Gel dryers"]
["41104902","Gel filtration equipment"]
["41121606","Gel loading pipette tips"]
["41113023","Gel partition equipment"]
["51111617","Gemcitabine"]
["54120000","Gemstones"]
["41105700","Gene arrays"]
["41106302","Gene specific polymerase chain reaction PCR kits"]
["41106609","Gene targeting vectors"]
["93121706","General assembly services"]
["76111500","General building and office cleaning and maintenance services"]
["56121500","General classroom furnishings"]
["41106610","General cloning vectors"]
["42152500","General dental supplies"]
["56101900","General furniture parts and accessories"]
["78131600","General goods storage"]
["42222011","General hospital analytical sampling infusion pumps"]
["41121800","General laboratory glassware and plasticware and supplies"]
["41123300","General laboratory storage containers and cabinets"]
["81102803","General mine action assessment GMAA service"]
["83121501","General municipal public use libraries"]
["72154066","General office equipment maintenance "]
["47131805","General purpose cleaners"]
["47132102","General purpose cleaning kits"]
["41103011","General purpose refrigerators or refrigerator freezers"]
["41122808","General purpose trays"]
["72111111","General residential construction contractor service"]
["42294203","General surgical instrument sets"]
["27113201","General tool kits"]
["42142301","General use medical labels"]
["26131511","Generating Set, Gasoline "]
["41113655","Generator test set"]
["77111504","Genetic resources protection services"]
["41115860","Genomic analysis analyzer"]
["41115861","Genomic analysis analyzer accessories"]
["41105504","Genomic deoxyribonucleic acid DNA purification kits"]
["51281607","Gentamicin"]
["51281651","Gentamicin sulfate"]
["43232510","Geographic information system"]
["81101512","Geographic information system GIS services"]
["41113801","Geological compasses"]
["81151704","Geological exploration"]
["41113802","Geological prospecting apparatus"]
["81151703","Geological surveys"]
["81151700","Geology"]
["60104400","Geology and earth science"]
["30121701","Geomesh"]
["41113800","Geophysical and geotechnical instruments"]
["81151902","Geophysical exploration"]
["81151903","Geophysical photo interpretation"]
["81151901","Geophysical surveys"]
["81151900","Geophysics"]
["81101514","Geotechnical or geoseismic engineering"]
["30121702","Geotextile"]
["26131502","Geothermal power plants"]
["72152802","Geothermal water well drilling service"]
["42192203","Geriatric chairs"]
["41113641","GFI circuit testers"]
["14111608","Gift certificate"]
["14111601","Gift wrapping paper or bags or boxes"]
["43222637","Gigabyte passive optical network GPON"]
["30121603","Gilsonite"]
["30241508","Gin pole and accessories"]
["70142009","Ginning services"]
["53111504","Girls boots"]
["72153000","Glass and glazing services"]
["41121817","Glass bell jar"]
["30131508","Glass block"]
["82151506","Glass blowers services"]
["24122003","Glass bottles"]
["48102105","Glass chilling equipment"]
["41122201","Glass crucibles"]
["30171501","Glass doors"]
["11162105","Glass fabric or cloth"]
["47131824","Glass or window cleaners"]
["30171700","Glass products"]
["41114802","Glass testing instruments"]
["41112239","Glass thermometer"]
["72154021","Glass tinting service"]
["51201901","Glatiramer acetate"]
["72153002","Glazing installation and repair service"]
["72153207","Glazing of concrete surfaces service"]
["51343812","Glecaprevir/Pibrentasvir"]
["51184004","Glibenclamide or glyburide"]
["51184007","Gliclazide"]
["51182711","Glimepiride/metformin"]
["25173113","Global navigation satellite system (GNSS) Wide Area Augmentation System (WAAS) "]
["25173134","Global Positioning System (GPS) Complete "]
["25173116","Global Positioning System (GPS) Receiver Autonomous Integrity Monitoring"]
["43221722","Global positioning system GPS antenna"]
["52161518","Global positioning system GPS receiver"]
["93171603","Global trade policies or procedures"]
["53102504","Gloves or mittens"]
["41115830","Glucose analyzers"]
["41116224","Glucose and beta hemoglobin test monitor or meter accessories"]
["41116201","Glucose monitors or meters"]
["41116215","Glucose test monitor or meter accessories"]
["44121631","Glue dispensers or refills"]
["82121903","Glued binding"]
["11122005","Glued laminated timber"]
["51472002","Glutaraldehyde"]
["51411605","Glyceryl trinitrate or glyceryltrinitrate or nitroglycerin"]
["51282700","Glycopeptides"]
["41116213","Glycosolated hemoglobin HBA1C test meter"]
["41116214","Glycosolated hemoglobin HBA1C test meter accessories"]
["25101906","Go cart"]
["41111619","Go or no go gauge"]
["10101508","Goats"]
["46181804","Goggles"]
["25101904","Golf carts"]
["72153107","Golf course construction service"]
["49211600","Golf equipment"]
["51202417","Golimumab"]
["51181900","Gonadotropic hormones and ovarian stimulants and inhibitors"]
["41115102","Goniometer"]
["42182701","Goniometers or arthrometers"]
["51111805","Goserelin"]
["51111878","Goserelin acetate"]
["93151606","Government accounting services"]
["80101509","Government affairs and community relations consultation service"]
["84101604","Government aid"]
["80121601","Government antitrust or regulations law services"]
["93151607","Government auditing services"]
["84121803","Government bonds"]
["93151602","Government budgeting services"]
["93151508","Government departments services"]
["93151605","Government finance services"]
["93151509","Government information services"]
["93151608","Government or central bank services"]
["90111702","Government owned parks"]
["80171906","Government relations consultation and engagement"]
["84141500","Governmental credit agencies"]
["95101800","Governmental land parcels"]
["64140000","Governmental property right conferrals"]
["93101602","Governors services"]
["22101502","Graders"]
["21101506","Graders or land levelers"]
["55101532","Graduation album or yearbook"]
["92101505","Graffiti and vandalism deterrence support service"]
["72154068","Graffiti removal and treatment service"]
["41112701","Grain analyzers"]
["70142002","Grain dryers services"]
["72121003","Grain elevator construction and remodeling service"]
["78131502","Grain elevator services"]
["70141512","Grain or legume production"]
["73131900","Grains and sugar and oils and fat processing"]
["51283112","Gramicidin"]
["51102852","Gramicidin/neomycin/polymyxin b"]
["30241600","Grandstand bleacher and stair structural components"]
["30241601","Grandstand footboard and accessories"]
["95131500","Grandstands and bleachers"]
["11111604","Granite"]
["47131902","Granular absorbent"]
["14111512","Graph paper"]
["82140000","Graphic design"]
["82141600","Graphic display services"]
["41111908","Graphic recorders"]
["43232404","Graphical user interface development software"]
["43233407","Graphics card driver software"]
["43232102","Graphics or photo imaging software"]
["43201401","Graphics or video accelerator cards"]
["43211712","Graphics tablets"]
["11162104","Graphite fabric or cloth"]
["10151700","Grass and forage seeds and seedlings"]
["70141503","Grass or fodder production"]
["30103200","Grating"]
["85171501","Grave digging"]
["72154051","Grave relocation service"]
["11111611","Gravel"]
["72141106","Gravel or dirt road construction service"]
["41113808","Gravimeters"]
["41104401","Gravity convection general purpose incubators"]
["41104502","Gravity convection ovens"]
["41113804","Gravity geophysical instruments"]
["30265402","Gray iron hot rolled sheet"]
["15121900","Greases"]
["94131704","Green activists movements or services"]
["94131700","Green associations"]
["95141502","Greenhouse"]
["72121202","Greenhouse construction service"]
["21102300","Greenhouse equipment"]
["70141701","Greenhouse services"]
["14111605","Greeting or note or post cards"]
["31190000","Grinding and polishing and smoothing materials"]
["23131500","Grinding and sanding and polishing equipment and supplies"]
["23131503","Grinding wheels"]
["51301904","Griseofulvin"]
["47101507","Grit chambers"]
["25191515","Ground controlled approach system"]
["41113812","Ground friction tester"]
["25173110","Ground Navigational Aids and Landing Aids"]
["70171506","Ground or surface water modeling services"]
["70171503","Ground or surface water surveying"]
["41113809","Ground penetrating radar"]
["25191510","Ground power units for aircraft"]
["25191502","Ground support test or maintenance systems"]
["25191501","Ground support training systems"]
["25191513","Ground support vehicle maintenance kit"]
["25191542","Ground Vehicle Tracking System "]
["72154045","Ground water level reduction service"]
["46182103","Grounding hardware"]
["77121708","Groundwater pollution drainage services"]
["77121707","Groundwater pollution monitoring or control services"]
["77121709","Groundwater pollution treatment or rehabilitation"]
["30111506","Grout"]
["72152702","Grouting service"]
["51182300","Growth hormones and their inhibitors"]
["43223113","GSM UMT LAN antenna"]
["51162713","Guaiacol"]
["84101503","Guarantee agreements"]
["92121503","Guard dog rental"]
["25101924","Guard rail cleaning vehicle"]
["92121500","Guard services"]
["95141705","Guardhouse"]
["80121804","Guardianship or custody law services"]
["30121717","Guardrail"]
["90121700","Guides and interpreters"]
["60121301","Guillotine paper trimmers"]
["10101513","Guinea pigs"]
["60131303","Guitars"]
["51201703","Gumboro vaccines"]
["72152703","Gunite installation service"]
["42192202","Gurneys or scissor lifts"]
["72152602","Gutter and downspout service"]
["49171501","Gymnastic bars or beams"]
["49171503","Gymnastic vaulting equipment"]
["49170000","Gymnastics and boxing equipment"]
["49171500","Gymnastics equipment"]
["85101509","Gynecological or obstetrical hospital services"]
["42143125","Gynecology drainage kit accessories"]
["42143106","Gynecology drainage kits"]
["11111601","Gypsum"]
["30111701","Gypsum plaster"]
["41111918","Gyroscopic instruments"]
["50421853","Habes Beans (WFP food convention)"]
["51201627","Haemophilus B vaccine"]
["51201633","Haemophilus influenzae b with diptheria and tetanus and acellular pertussis"]
["51201634","Haemophilus influenzae B with diptheria and tetanus and wholecell pertussis conjugated vaccine"]
["53131602","Hair care supplies"]
["53131604","Hair combs or brushes"]
["53131625","Hair or beard nets"]
["50161816","Halawa / Halva"]
["92101703","Half way house services"]
["41113311","Halide detector lamp"]
["51101911","Halofantrine"]
["39101601","Halogen lamps"]
["51332501","Haloperidol"]
["53131627","Hand cleaner"]
["27112841","Hand drill bit for metal"]
["45121515","Hand held camcorders or video cameras"]
["42182102","Hand held dopplers"]
["30181803","Hand held shower unit"]
["53131607","Hand or body lotion or oil"]
["42241807","Hand or finger orthopedic softgoods"]
["40151506","Hand pumps"]
["53131626","Hand sanitizer"]
["30181809","Hand shower repair kit"]
["48101819","Hand sterilizer"]
["27110000","Hand tools"]
["24101504","Hand trucks or accessories"]
["53121601","Handbags or purses"]
["86101712","Handcrafts vocational training services"]
["46151601","Handcuffs"]
["46101504","Handguns"]
["41111766","Handheld digital microscope"]
["43211611","Handheld PDA Starter Kits"]
["41112213","Handheld thermometer"]
["43191621","Handset adapters"]
["43233417","Handwriting recognition software components"]
["72101501","Handyman services"]
["44122017","Hanging folders or accessories"]
["44111510","Hanging organizers or accessories"]
["44111910","Hanging rails or holders"]
["72141207","Harbor construction service"]
["81101503","Harbor or water ports engineering"]
["43201802","Hard disk arrays"]
["43201616","Hard disk drive array towers"]
["43201803","Hard disk drives"]
["43201414","Hard disk protector"]
["45111723","Hard disk recorder"]
["46181701","Hard hats"]
["50221115","Hard Wheat (WFP food convention)"]
["41114611","Hardness testers"]
["31160000","Hardware"]
["40141700","Hardware and fittings"]
["43201552","Hardware or telephony adapters"]
["11121610","Hardwoods"]
["60131207","Harmonicas"]
["60131305","Harps"]
["60131301","Harpsichords"]
["21101502","Harrows"]
["21101703","Harvesters"]
["11111811","Haydite"]
["30131505","Haydite block"]
["76101600","Hazardous material decontamination"]
["46181509","Hazardous material protective apparel"]
["46181602","Hazardous material protective footwear"]
["24112402","Hazardous materials cabinets"]
["78131803","Hazardous materials storage"]
["47121709","Hazardous waste container"]
["76121900","Hazardous waste disposal"]
["76121904","Hazardous waste water disposal"]
["41115330","Haze meter"]
["43202207","Head mount arms and assembly"]
["43211907","Head mounted displays"]
["43202209","Head stack assemblies"]
["52161514","Headphones"]
["42211704","Headpointers or mouthsticks for the physically challenged"]
["93101603","Heads of states services"]
["43191635","Headset With Microphone"]
["85101700","Health administration services"]
["86101706","Health assistance vocational training services"]
["60105600","Health education and nutrition and food preparation instructional materials"]
["57333100","Health emergency kits"]
["57030100","Health emergency kits"]
["85101702","Health legislation or regulations"]
["91101501","Health or fitness clubs"]
["84131602","Health or hospitalization insurance"]
["85101701","Health policy"]
["93131700","Health programs"]
["86101806","Health sector manpower development"]
["85101703","Health service planning"]
["85101707","Health system evaluation services"]
["85101500","Healthcare centers"]
["80121611","Healthcare claim law services"]
["85121700","Healthcare provider specialist services"]
["85101600","Healthcare provider support persons"]
["85000000","Healthcare Services"]
["42211705","Hearing aids for the physically challenged"]
["46181900","Hearing protectors"]
["42182400","Hearing testing products"]
["85111604","Heart disease prevention or control services"]
["42142100","Heat and cold therapy products"]
["46191502","Heat detectors"]
["41114629","Heat distortion tester"]
["72154102","Heat exchanger maintenance or repair service"]
["40101802","Heat exchangers"]
["41112234","Heat flowmeter"]
["41112229","Heat meter"]
["40101806","Heat pumps"]
["41113726","Heat resistance tester"]
["41113607","Heat stress monitors"]
["41112202","Heat tracing equipment"]
["44103119","Heat transfer paper for copiers"]
["48102102","Heated display cases"]
["41103409","Heated reach in environmental or growth chambers"]
["41103412","Heated walk in environmental or growth chambers"]
["72151200","Heating and cooling and air conditioning HVAC construction and maintenance services"]
["72151207","Heating and cooling and air conditioning HVAC installation and maintenance service"]
["40100000","Heating and ventilation and air circulation"]
["40101800","Heating equipment and parts and accessories"]
["41102405","Heating mantles or tapes"]
["41102426","Heating or drying equipment or accessories"]
["41111974","Heating sensor tester"]
["40101808","Heating stoves"]
["72151003","Heating system maintenance and repair service"]
["22100000","Heavy construction machinery and equipment"]
["72140000","Heavy construction services"]
["22101700","Heavy equipment components"]
["72154500","Heavy equipment installation and maintenance services"]
["72154501","Heavy equipment maintenance and repair service"]
["78181508","Heavy truck maintenance and repair"]
["25172509","Heavy truck tire tube"]
["25172503","Heavy truck tires"]
["12142202","Heavy water"]
["27112035","Hedge trimmer"]
["41104103","Heel warmers"]
["41111614","Height gauges"]
["46191616","Helicopter fire extinguishing water tank"]
["25191527","Helicopter Parts and Accessories"]
["78111501","Helicopter services"]
["45101501","Heliographic printers"]
["39111621","Heliport Lighting Systems "]
["46151508","Helmet, bullet proof"]
["43231501","Helpdesk or call center software"]
["51130000","Hematolic drugs"]
["41115816","Hematology analyzer accessories or supplies"]
["41116008","Hematology analyzer reagents"]
["41115815","Hematology analyzers"]
["41103809","Hematology or chemistry mixers"]
["41116122","Hematology quality controls or calibrators or standards"]
["41116121","Hematology reagents or solutions or stains"]
["41105202","Hematology slide stainers"]
["41116120","Hematology test kits or supplies"]
["41122608","Hemocytometer cover glass"]
["41122604","Hemocytometers"]
["42161601","Hemodialysis administration kits or sets"]
["42161635","Hemodialysis apparatus cartridges"]
["42161633","Hemodialysis apparatus dialyzer membranes"]
["42161602","Hemodialysis blood bag samplers"]
["42161603","Hemodialysis blood oxygen demand apparatus"]
["42161659","Hemodialysis catheters"]
["42161604","Hemodialysis chairs"]
["42161605","Hemodialysis dialysate conductivity meters"]
["42161606","Hemodialysis dialysate level detectors"]
["42161607","Hemodialysis dialysate pressure pumps"]
["42161608","Hemodialysis dialysate solutions"]
["42161609","Hemodialysis dialysate tanks"]
["42161610","Hemodialysis dialysate tubing"]
["42161611","Hemodialysis dialysate warming baths"]
["42161612","Hemodialysis dialyzer celluloid filters"]
["42161613","Hemodialysis dialyzer collodion filters"]
["42161614","Hemodialysis dialyzer hollow filament filters"]
["42161615","Hemodialysis dialyzer reprocessing systems"]
["42161634","Hemodialysis procedure trays"]
["42161616","Hemodialysis unit air bubble or foam or clot detectors or traps or alarms"]
["42161617","Hemodialysis unit arterial pressure monitors"]
["42161618","Hemodialysis unit blood line clamps"]
["42161619","Hemodialysis unit blood port caps"]
["42161620","Hemodialysis unit blood pumps"]
["42161621","Hemodialysis unit dialysate port caps"]
["42161622","Hemodialysis unit disinfectants or cleansers"]
["42161623","Hemodialysis unit heparin infusion pumps"]
["42161624","Hemodialysis unit single needle controllers"]
["42161625","Hemodialysis unit single pass converters"]
["42192410","Hemodialysis unit stands or supports or carts"]
["42161627","Hemodialysis unit temperature monitors"]
["42161628","Hemodialysis unit test equipment"]
["42161629","Hemodialysis unit transducer filters"]
["42161630","Hemodialysis unit transducer protectors"]
["42161631","Hemodialysis unit water purification systems"]
["42161632","Hemodialysis units"]
["42161701","Hemofilters"]
["42161702","Hemofiltrate collection bags"]
["42161700","Hemofiltration equipment and supplies"]
["42161703","Hemofiltration infusion ports"]
["42161704","Hemofiltration sampling ports"]
["41116207","Hemoglobin or hematocrit monitor or meter"]
["42181514","Hemoglobin photometers"]
["51201606","Hemophilus influenzae vaccine"]
["51132000","Hemorrheologic agents"]
["42311600","Hemostatic agents"]
["41103507","HEPA filtered enclosures"]
["51131602","Heparin"]
["51201626","Hepatitis A virus vaccine"]
["51201607","Hepatitis B virus vaccine"]
["51460000","Herbal drugs"]
["85141601","Herbal medicine or herbalists services"]
["85141600","Herbal treatments"]
["70141604","Herbicide services"]
["10171700","Herbicides"]
["50171500","Herbs and spices and extracts"]
["70121704","Herd management"]
["42241811","Hernia truss"]
["51131908","Hetastarch"]
["51452101","Hexylresorcinol"]
["43221745","HF Transceiver"]
["43221739","HF Transmitter and Associated Equipment "]
["14121903","High brightness newsprint"]
["43202007","High capacity removable media blank disks"]
["43201813","High capacity removable media drives"]
["43211502","High end computer servers"]
["50501718","High Energy Biscuits (WFP food convention) "]
["42141815","High frequency electromagnetic wave stimulators"]
["43191517","High Frequency Radio Set, Desktop"]
["43191518","High Frequency Radio Set, Mobile"]
["42272207","High frequency ventilators"]
["41115707","High pressure liquid chromatograph chromatography"]
["41115709","High pressure liquid chromatography HPLC columns"]
["41115708","High pressure thin layer chromatograph TLC"]
["72153504","High pressure water blasting"]
["95121911","High school"]
["45121511","High speed cameras"]
["83112401","High speed circuit switched dial up services"]
["41114512","High speed rotational balance tester"]
["11171700","High speed steels"]
["31211523","High temperature paint"]
["41112227","High temperature thermocouple sensor"]
["41103308","High vacuum combustion apparatus"]
["41103305","High vacuum equipment"]
["41113620","High voltage cable detection"]
["81102401","High voltage overhead line construction"]
["81102402","High voltage overhead line maintenance and repair"]
["44121716","Highlighters"]
["72141000","Highway and road construction services"]
["72141003","Highway and road maintenance service"]
["72141001","Highway and road new construction service"]
["72141103","Highway and road paving service"]
["72141104","Highway and road resurfacing service"]
["72141002","Highway and road sign or guardrail construction and repair service"]
["81101510","Highway engineering"]
["70111707","Highway lawn maintenance services"]
["95111504","Highway ramp or slip road"]
["72141004","Highway reflector installation service"]
["42241702","Hip orthopedic softgoods"]
["41102912","Histological glass knife makers"]
["41102913","Histological hones or straps or compounds"]
["41102911","Histological knives or knife holders or blades"]
["41102905","Histological staining apparatus"]
["41115818","Histology analyzer accessories or supplies"]
["41116009","Histology analyzer reagents"]
["41115817","Histology analyzers"]
["41102900","Histology equipment"]
["41104125","Histology or pathology preservative specimen container"]
["41104126","Histology or pathology specimen container"]
["41123305","Histology or tissue cassette cabinets"]
["41102921","Histology paraffin"]
["41116125","Histology quality controls or calibrators or standards"]
["41116124","Histology reagents or solutions or stains"]
["41102915","Histology sampling and dissecting stations"]
["41123313","Histology specimen container storage tray"]
["41116123","Histology test kits or supplies"]
["41123306","Histology tissue cassette accessories"]
["41123307","Histology tissue cassette storage tray or box"]
["41102920","Histology tissue cassettes"]
["41103718","Histology tissue freezing bath"]
["93141713","Historic sites or monuments protection services"]
["21101505","Hoeing machines"]
["72101512","Hoist construction service"]
["24101633","Hoist drums"]
["24101602","Hoists"]
["42211912","Holders for kitchen devices for the physically challenged"]
["42281901","Holders or carts for sterilization wrappers or pouches"]
["27112100","Holding and clamping tools"]
["23153000","Holding and positioning and guiding systems and devices"]
["41111647","Hole gauge"]
["44101716","Hole punching units"]
["44122111","Hole reinforcements"]
["95141606","Home kitchen"]
["46171623","Home security alarm"]
["85141700","Homeopathic practice"]
["84131502","Homeowners or renters insurance"]
["41101504","Homogenizers"]
["30103500","Honeycomb core"]
["11162114","Hook and loop fabrics or tapes"]
["44122109","Hook and loop fastener"]
["31162600","Hooks"]
["41111522","Hopper scale"]
["25101916","Hopper truck"]
["30171904","Horizontal slider window frames"]
["41116019","Hormone analyzer reagent"]
["51111800","Hormones and antihormones"]
["51180000","Hormones and hormone antagonists"]
["50421854","Horse Beans (WFP food convention)"]
["10101506","Horses"]
["60131703","Horses hoofs"]
["70111704","Horticultural counseling services"]
["81171701","Horticultural science service"]
["70110000","Horticulture"]
["40142000","Hoses"]
["53102400","Hosiery"]
["85171601","Hospice administration service"]
["85171600","Hospice care"]
["42191902","Hospital armoires"]
["42132109","Hospital bath mats"]
["42132105","Hospital bed sheets or mattress covers"]
["42132110","Hospital bed skirts or dust ruffles"]
["42132106","Hospital bedspreads or duvet covers"]
["42132111","Hospital bio-hazard bags"]
["42132107","Hospital blankets or duvets or quilts"]
["42132112","Hospital blockade or hamper or laundry bags"]
["95122000","Hospital buildings and structures"]
["42132113","Hospital cleanup or room turnover kits"]
["72121403","Hospital construction service"]
["42192005","Hospital diaper or dressing tables"]
["42191603","Hospital equipment instrument panels"]
["42191605","Hospital equipment power columns"]
["42192108","Hospital folding cots"]
["42132100","Hospital housekeeping textiles"]
["42191612","Hospital intercom systems"]
["42132108","Hospital pillow covers or pillowcases"]
["42132104","Hospital pillows"]
["42192110","Hospital recliner accessories"]
["42192102","Hospital recliners"]
["42131509","Hospital robes"]
["25111518","Hospital ship"]
["42132114","Hospital towels "]
["42132101","Hospital underpads"]
["42192006","Hospital utility tables"]
["42132115","Hospital wall coverings"]
["42132116","Hospital window treatments"]
["95122106","Hostel"]
["41102412","Hot air blowers"]
["26141800","Hot cell devices"]
["45101513","Hot stamp printer"]
["72154062","Hot tapping service"]
["41111810","Hot testing equipment station"]
["48101714","Hot water dispenser"]
["24111814","Hot water tank"]
["72111110","Hotel or motel remodeling service"]
["90111800","Hotel rooms"]
["90111501","Hotels"]
["90110000","Hotels and lodging and meeting facilities"]
["90111500","Hotels and motels and inns"]
["41111949","Hour meter"]
["95141601","House"]
["91111600","Household assistance and care"]
["47131803","Household disinfectants"]
["42212000","Housekeeping and homemaking aids for the physically challenged"]
["84121901","Housing finance"]
["31260000","Housings and cabinets and casings"]
["25111517","Hovercraft"]
["49211802","Hula hoops or hoop equipment"]
["51182302","Human growth hormone or somatotropin or somatropin"]
["80111500","Human resource development"]
["80101511","Human resources consulting service"]
["80111505","Human resources productivity audits"]
["80110000","Human resources services"]
["43231505","Human resources software"]
["94132000","Human rights advocacy and defense associations"]
["93131503","Human rights education or information dissemination services"]
["92121709","Human Security Screening System "]
["42295502","Human tissue implants"]
["93130000","Humanitarian aid and relief"]
["57030000","Humanitarian health supplies"]
["57080000","Humanitarian IT equipment"]
["57020102","Humanitarian logistic delivery and warehousing"]
["57070000","Humanitarian logistics supplies"]
["57020100","Humanitarian operational services"]
["57222100","Humanitarian operational services"]
["57020101","Humanitarian relief flight operations"]
["57050000","Humanitarian relief food"]
["57000000","Humanitarian Relief Items, Kits, or Accessories"]
["41112215","Humidifier temperature controllers"]
["40101903","Humidifiers"]
["41111951","Humidistat"]
["41112300","Humidity and moisture measuring instruments"]
["41112306","Humidity calibrator"]
["40101900","Humidity control"]
["41112305","Humidity controller"]
["41111966","Humidity sensor"]
["41112106","Humidity transmitters"]
["10171506","Humus"]
["93131601","Hunger eradication programs"]
["72151206","HVAC heating system construction service"]
["72151201","HVAC mechanical construction service"]
["72151202","HVAC process piping construction service"]
["72151205","HVAC refrigeration construction service"]
["72151203","HVAC solar energy construction service"]
["72151204","HVAC ventilation and duct work construction service"]
["51202002","Hyaluronan or hyaluronate or hyaluronic acid"]
["41106611","Hybrid system vectors or kits"]
["41104920","Hybridization filters"]
["41104511","Hybridization ovens or incubators"]
["41105326","Hybridization reagents or buffers"]
["51433303","Hydralazine"]
["51433305","Hydralazine hydrochloride"]
["30111604","Hydrated lime"]
["41114517","Hydraulic bulge tester"]
["26101501","Hydraulic engines"]
["72154022","Hydraulic equipment installation and maintenance service"]
["26111606","Hydraulic generators"]
["30111603","Hydraulic lime"]
["27120000","Hydraulic machinery and equipment"]
["81102001","Hydraulic mining"]
["25172804","Hydraulic Motor"]
["15121504","Hydraulic oil"]
["23251501","Hydraulic press brake"]
["27121500","Hydraulic presses"]
["41112422","Hydraulic pressure tester"]
["40151583","Hydraulic Pump"]
["46161705","Hydraulic rescue equipment set"]
["25172805","Hydraulic Servicing Unit "]
["25172800","Hydraulic systems and components"]
["41114524","Hydraulic tester"]
["26101511","Hydraulic turbine engines"]
["86101608","Hydraulics vocational training services"]
["26111602","Hydro electric generators"]
["26131503","Hydro power plants"]
["12191500","Hydrocarbonated solvents"]
["51191515","Hydrochlorothiazide"]
["51434938","Hydrochlorothiazide/irbesartan"]
["51434931","Hydrochlorothiazide/losartan"]
["51434945","Hydrochlorothiazide/olmesartan"]
["51434949","Hydrochlorothiazide/telmisartan"]
["42311515","Hydrocolloid dressings"]
["51422415","Hydrocortisone"]
["51422425","Hydrocortisone acetate"]
["51422417","Hydrocortisone butyrate"]
["51422434","Hydrocortisone sodium succinate"]
["51386609","Hydrocortisone/lidocaine"]
["51102856","Hydrocortisone/neomycin/polymyxin b"]
["51102858","Hydrocortisone/polymyxin b"]
["26101509","Hydroelectric engines"]
["72154026","Hydrogen cell refueling service"]
["41114429","Hydrogen Generator"]
["51172833","Hydrogen peroxide/sodium bicarbonate"]
["41111952","Hydrogen sulfide sensor"]
["81101521","Hydrogeology assessment service"]
["41114300","Hydrological instruments"]
["81151804","Hydrological surveys"]
["81101520","Hydrology assessment service"]
["81151503","Hydrometeorology"]
["41113024","Hydrometers"]
["51372107","Hydromorphone"]
["51372125","Hydromorphone hydrochloride"]
["72151004","Hydronics heating system maintenance and repair service"]
["51241209","Hydroquinone"]
["42131511","Hydrotherapy garments"]
["42142200","Hydrotherapy products"]
["41113810","Hydrothermal testing equipment"]
["51191970","Hydroxocobalamin or vitamin B12a"]
["51111606","Hydroxycarbamide or hydroxyurea"]
["51101912","Hydroxychloroquine"]
["51171839","Hydroxyzine"]
["41112600","Hygiene monitoring and testing equipment"]
["47121708","Hygienic bags"]
["41114421","Hygrometer calibrator"]
["41112301","Hygrometers"]
["51171840","Hyoscine or levo-duboisine or scopolamine"]
["42143400","Hyperhidrosis control equipment and supplies"]
["51362600","Hypnotic acetates"]
["51361500","Hypnotic alcohols"]
["51361800","Hypnotic azoles"]
["51361900","Hypnotic barbiturates"]
["51360000","Hypnotics"]
["42142614","Hypodermic injection apparatus"]
["42142523","Hypodermic needle"]
["42142119","Hypothermia apparatus"]
["51241128","Hypromellose"]
["51112022","Ibrutinib"]
["51384509","Ibuprofen"]
["51261704","Icatibant"]
["51261705","Icatibant acetate"]
["49121505","Ice chests"]
["48102104","Ice cream display cases"]
["48101709","Ice dispensers"]
["24131900","Ice makers"]
["48101715","Ice shaver machines or accessories"]
["25111514","Icebreaker"]
["51281801","Idarubicin"]
["51281821","Idarubicin hydrochloride"]
["51132308","Idarucizumab"]
["55121808","Identification badge clip"]
["46151610","Identification Card Consumables"]
["46151609","Identification card discriminator"]
["55121802","Identification cards or bands or similar products"]
["55121800","Identification documents"]
["44102403","Identification ID press machines"]
["55121807","Identification product holders or accessories"]
["55121503","Identification tags"]
["51343101","Idoxuridine"]
["51172484","Iduronidase"]
["51172486","Idursulfase"]
["51112510","Ifosfamide"]
["12131700","Igniters"]
["55121703","Illuminated signs"]
["41111704","Illuminators for microscopes"]
["51131642","Iloprost"]
["43211731","Image analyzer"]
["51112005","Imatinib"]
["51112015","Imatinib mesiate or mesylate"]
["51282800","Imidazoles"]
["51171974","Imiglucerase"]
["51292921","Imipramine hydrochloride"]
["51333202","Imiquimod"]
["50131803","Imitation cheese"]
["46201101","Imitation rifle"]
["57050202","Immediate response ration (IRR)"]
["41103712","Immersion circulators"]
["80121803","Immigration or naturalization law"]
["42192422","Immobilization set carrying or storage cases"]
["85111512","Immunization services"]
["41105206","Immunohistochemistry autostainer"]
["41105207","Immunohistochemistry autostainer accessory"]
["41116153","Immunohistochemistry quality controls and calibrators and standards"]
["85111605","Immunologic prevention or control services"]
["41115820","Immunology analyzer accessories or supplies"]
["41116010","Immunology analyzer reagents"]
["41115819","Immunology analyzers"]
["41116128","Immunology or serology quality controls or calibrators or standards"]
["41116127","Immunology or serology reagents or solutions or stains"]
["41116126","Immunology or serology test kits or supplies"]
["51200000","Immunomodulating drugs"]
["51202000","Immunomodulating drugs based on tyrosine Inhibitors and kinase Inhibitors"]
["51201800","Immunostimulating agents"]
["51201500","Immunosuppressants"]
["51202200","Immunosupressant amides"]
["51202300","Immunosupressant amino acids"]
["51202400","Immunosupressant antibodies"]
["51202500","Immunosupressant azoles"]
["51203600","Immunosupressant carboxylic acids"]
["51202600","Immunosupressant imides"]
["51203800","Immunosupressant immunoconjugates"]
["51202700","Immunosupressant immunoglobulins"]
["51202800","Immunosupressant macrolides"]
["51203100","Immunosupressant peptides"]
["51203200","Immunosupressant phenols"]
["51203300","Immunosupressant phthalimides"]
["51203400","Immunosupressant purines"]
["51204000","Immunosupressant pyridines"]
["41114612","Impact testers"]
["41113621","Impedance meters"]
["42203506","Implantable cardiac defibrillator device ICD or cardiac resynchronization therapy defibrillator CRT D leads or electrodes"]
["42203505","Implantable cardioverter defibrillators ICD or cardiac resynchronization therapy defibrillators CRT-D"]
["80151602","Import planning"]
["80151604","Import procurement services"]
["42144500","Impotence and sexual disorder devices and supplies"]
["14122204","Impressed stamp paper"]
["26111612","Impulse generator"]
["41113653","In circuit tester ICT"]
["78131701","In ground storage services"]
["43223110","IN mobile core equipment"]
["82112001","In person afghan or pashto or pushto interpretation service"]
["82112002","In person albanian interpretation service"]
["82112029","In person american indian interpretation service"]
["82112003","In person amharic interpretation service"]
["82112004","In person arabic interpretation service"]
["82112005","In person armenian interpretation service"]
["82112006","In person bangledesh interpretation service"]
["82112007","In person belarussian interpretation service"]
["82112008","In person bengali interpretation service"]
["82112009","In person bosnian interpretation service"]
["82112010","In person bulgarian interpretation service"]
["82112011","In person cambodian interpretation service"]
["82112012","In person chinese interpretation service"]
["82112013","In person creole interpretation service"]
["82112014","In person croatian interpretation service"]
["82112015","In person czech interpretation service"]
["82112016","In person danish interpretation service"]
["82112017","In person dinka interpretation service"]
["82112018","In person dutch interpretation service"]
["82112042","In person eastern panjabi interpretation service"]
["82112019","In person egyptian interpretation service"]
["82112020","In person fanti interpretation service"]
["82112021","In person fanti or persian interpretation service"]
["82112022","In person french interpretation service"]
["82112023","In person german interpretation service"]
["82112024","In person greek interpretation service"]
["82112025","In person gugarati interpretation service"]
["82112026","In person hebrew interpretation service"]
["82112027","In person hindi interpretation service"]
["82112028","In person hmong interpretation service"]
["82112066","In person hungarian interpretation service"]
["82112030","In person indonesian interpretation service"]
["82112031","In person italian interpretation service"]
["82112032","In person jamaican interpretation service"]
["82112033","In person japanese interpretation service"]
["82112034","In person kirghiz interpretation service"]
["82112035","In person korean interpretation service"]
["82112036","In person kurdish interpretation service"]
["82112000","In person language interpretation services"]
["82112037","In person lithuanian interpretation service"]
["82112038","In person malayalam interpretation service"]
["82112039","In person mandingo interpretation service"]
["82112040","In person native american interpretation service"]
["82112041","In person pakistani interpretation service"]
["82112044","In person polish interpretation service"]
["82112045","In person portuguese interpretation service"]
["82112046","In person romanian interpretation service"]
["82112047","In person romany interpretation service"]
["82112048","In person russian interpretation service"]
["82112049","In person rwandan interpretation service"]
["82112050","In person samoan interpretation service"]
["82112051","In person serbian interpretation service"]
["82112052","In person serbo croatian interpretation service"]
["82112067","In person sign language interpretation service"]
["82112053","In person slovenian interpretation service"]
["82112054","In person somali interpretation service"]
["82112055","In person spanish interpretation service"]
["82112056","In person swahili interpretation service"]
["82112057","In person swedish interpretation service"]
["82112058","In person taiwanese interpretation service"]
["82112059","In person thai interpretation service"]
["82112060","In person tibetan interpretation service"]
["82112061","In person turkish interpretation service"]
["82112062","In person ukranian interpretation service"]
["82112063","In person vietnamese interpretation service"]
["82112043","In person western panjabi interpretation service"]
["82112064","In person yiddish interpretation service"]
["82112065","In person yugoslavian interpretation service"]
["95141701","In plant office"]
["86101800","In service training and manpower development"]
["12164100","In situ"]
["41122114","In situ culture harvester"]
["43223109","IN SSP switching equipment"]
["41104306","In vitro culture equipment"]
["41105800","In vitro transcription and translation products"]
["80141625","Incentive program management service"]
["47101529","Incinerators"]
["42182707","Inclinometers"]
["41116302","Incombustibility tester"]
["93161500","Income tax"]
["11171801","Inconel 600 super alloy"]
["41104424","Incubator accessories"]
["21101903","Incubators or brooders for poultry"]
["51393604","Indacaterol"]
["51393606","Indacaterol maleate"]
["51162038","Indacaterol/Glycopyrronium bromide"]
["51434959","Indapamide/Perindopril arginine"]
["83112504","Indefeasible rights of use IRU for submarine cable or terrestrial cable systems"]
["42210000","Independent living aids for the physically challenged"]
["44122001","Index card files"]
["14111518","Index cards"]
["50501723","Indiamix (WFP food convention)"]
["41111900","Indicating and recording instruments"]
["39121534","Indicator or pilot lights"]
["12161500","Indicators and Reagents"]
["80171905","Indigenous peoples relations consultation and engagement"]
["85122201","Individual health assessment"]
["85122200","Individual health screening and assessment services"]
["57010103","Individual kit"]
["53121503","Individual luggage pieces"]
["51383507","Indometacin or indomethacin"]
["41103417","Indoor air quality monitor"]
["72153102","Indoor sport court construction service"]
["41113805","Induced polarization IP geophysical instruments"]
["41104508","Induction dryers"]
["41115411","Inductively coupled plasma ICP spectrometers"]
["32121702","Inductors"]
["72154043","Industrial and commercial sprayingservice"]
["23181800","Industrial beverage processing machinery"]
["26112100","Industrial braking systems"]
["95122400","Industrial buildings and structures"]
["47132101","Industrial cleaning kits"]
["76000000","Industrial Cleaning Services"]
["43232608","Industrial control software"]
["72154009","Industrial dock and dock equipment installation service"]
["23291500","Industrial drilling tools"]
["23201200","Industrial drying equipment"]
["83101805","Industrial electric power distribution"]
["B","Industrial Equipment & Tools"]
["41111747","Industrial fiberscope"]
["40160000","Industrial filtering and purification"]
["23180000","Industrial food and beverage equipment"]
["24131600","Industrial freezers"]
["56111900","Industrial furniture"]
["27121504","Industrial hydraulic press"]
["81141802","Industrial hygiene or ventilation"]
["95101700","Industrial land parcels"]
["47110000","Industrial laundry and dry cleaning equipment"]
["23290000","Industrial machine tools"]
["23153100","Industrial machinery components and accessories"]
["80101700","Industrial management"]
["23000000","Industrial Manufacturing and Processing Machinery and Accessories"]
["26141900","Industrial nucleonic instruments"]
["31240000","Industrial optics"]
["72151303","Industrial painting service"]
["72121500","Industrial plant construction services"]
["73151900","Industrial printing services"]
["23150000","Industrial process machinery and equipment and supplies"]
["73000000","Industrial Production and Manufacturing Services"]
["40150000","Industrial pumps and compressors"]
["24130000","Industrial refrigeration"]
["24131500","Industrial refrigerators"]
["73141715","Industrial sewing services"]
["24102403","Industrial shredder"]
["24102106","Industrial shrink wrap equipment"]
["45101613","Industrial sign and label benchtop printer accessories"]
["45101520","Industrial sign and label portable printer"]
["45101614","Industrial sign and label portable printer accessories"]
["45101710","Industrial sign and label printer ink"]
["45101711","Industrial sign and label printer ribbon"]
["77101901","Industrial site investigation"]
["77111601","Industrial site rehabilitation"]
["24101500","Industrial trucks"]
["12142100","Industrial use gases"]
["14120000","Industrial use papers"]
["86101609","Industrial vocational training services"]
["77101902","Industrial waste site investigation"]
["73152109","Industrial weight scale maintenance and rental service"]
["31171800","Industrial wheels"]
["43232600","Industry specific software"]
["81112217","Industry specific software maintenance"]
["53102305","Infant diapers"]
["50193000","Infant foods and beverages"]
["53131647","Infant hygiene and personal care set"]
["42191812","Infant incubator supply kits"]
["42191811","Infant positioning cradles"]
["42182802","Infant scales"]
["42192305","Infant slings"]
["53131505","Infant soother or pacifier or dummy"]
["53111505","Infants boots"]
["25111516","Inflatable rubber boat"]
["51202409","Infliximab"]
["51201608","Influenza virus vaccine"]
["83121600","Information centers"]
["43233500","Information exchange software"]
["43232309","Information retrieval or search software"]
["81112206","Information retrieval or search software maintenance"]
["81111900","Information retrieval systems"]
["83120000","Information services"]
["43000000","Information Technology Broadcasting and Telecommunications"]
["80101507","Information technology consultation services"]
["81160000","Information Technology Service Delivery"]
["44101718","Infrared adapters"]
["45121522","Infrared camera"]
["43232916","Infrared data transfer irda software"]
["41102410","Infrared dryers"]
["41115321","Infrared imagers"]
["41115408","Infrared spectrometers"]
["41111956","Infrared temperature sensor"]
["42182211","Infrared thermography systems"]
["41112224","Infrared thermometer"]
["72141100","Infrastructure building and surfacing and paving services"]
["72103300","Infrastructure maintenance and repair services"]
["42222008","Infusion pump kits"]
["50202312","Infusions"]
["42271717","Inhalators or sets"]
["93161607","Inheritance or transfer tax"]
["42142500","Injection and aspiration needles and accessories"]
["42142613","Injection guns"]
["44121900","Ink and lead refills"]
["44103105","Ink cartridges"]
["44121905","Ink or stamp pads"]
["44121904","Ink refills"]
["44103111","Ink rolls"]
["44103106","Ink sticks"]
["50501711","Inka Mix (WFP food convention)"]
["44101507","Inkjet fax machine"]
["45101511","Inkjet printer for commercial printing applications"]
["43212104","Inkjet printers"]
["14111543","Inkstone"]
["70101801","Inland water fishery resources"]
["78101708","Inland water transport by refrigerator vessels"]
["78111707","Inland water transport of passengers by ferry"]
["81102203","Inland waterways"]
["41122106","Inoculating devices"]
["12352300","Inorganic compounds"]
["76121905","Inorganic hazardous waste collection and disposal"]
["76121505","Inorganic waste collection and disposal"]
["21102400","Insect equipment"]
["41106505","Insect expression kits"]
["41106612","Insect expression vectors"]
["41106506","Insect media"]
["41106507","Insect medium supplements or reagents"]
["53131648","Insect repellant"]
["41102512","Insect test kits"]
["10191509","Insecticides"]
["42132301","Insecticide-treated bed net"]
["42132303","Insectiside-treated fabric"]
["10101900","Insects"]
["78141600","Inspection"]
["45121521","Inspection camera"]
["30171515","Inspection door"]
["41104305","Inspissators"]
["42182602","Installed medical exam lights or lamps"]
["50201709","Instant coffee"]
["81161601","Instant Messaging Administration Service"]
["43223205","Instant messaging platform"]
["43233504","Instant messaging software"]
["50193100","Instant mixes and supplies"]
["45131503","Instant picture film"]
["45121502","Instant print cameras"]
["50201711","Instant tea"]
["53102704","Institutional food preparation or service attire"]
["48100000","Institutional food services equipment"]
["47131704","Institutional soap or lotion dispensers"]
["55101520","Instruction sheets or booklets"]
["82111501","Instruction writing services"]
["42281703","Instrument care kits"]
["42281704","Instrument cleaners or detergents"]
["42282000","Instrument cleaning devices and accessories"]
["72154201","Instrument or meter maintenance and repair service"]
["41116500","Instrument parts and accessories"]
["42261516","Instrument rolls for postmortem surgical instruments"]
["42241514","Instrument rolls for splint sets"]
["60131503","Instrument strings or picks"]
["25173123","Instrument Landing System (ILS)"]
["25173125","Instrument Landing System (ILS) Glide Path Equipment "]
["25173124","Instrument Landing System (ILS) Localizer Equipment "]
["25173126","Instrument Landing System (ILS)/Distance Measuring Equipment (DME)"]
["25173122","Instrument Landing System And Instrument Landing System/Distance Measuring Equipment (DME) System"]
["41105307","Instrumentation for capillary electrophoresis"]
["72154200","Instrumentation installation maintenance and repair services"]
["24113108","Insulated box for vaccines"]
["41103031","Insulated transport cooler or tote"]
["30111503","Insulating concrete"]
["30131610","Insulating fire brick"]
["30171710","Insulating glass"]
["30140000","Insulation"]
["72153208","Insulation of pipes and boilers service"]
["24121514","Insulation pack"]
["41113623","Insulation resistance meters"]
["41113624","Insulation testers"]
["51183603","Insulin"]
["51183607","Insulin aspart"]
["51183622","Insulin aspart/Insulin aspart protamine"]
["51183608","Insulin beef"]
["51183623","Insulin degludec"]
["51183610","Insulin glargine"]
["51183613","Insulin glulisine"]
["51183614","Insulin human"]
["51183615","Insulin lispro"]
["42142627","Insulin syringe"]
["64120000","Insurable interest contracts"]
["84130000","Insurance and retirement services"]
["80121708","Insurance law service"]
["84131500","Insurance services for structures and property and possessions"]
["41113704","Integrated circuit testers"]
["32101600","Integrated circuits"]
["25191503","Integrated maintenance information systems"]
["70141605","Integrated pest management services"]
["43222627","Integrated services digital network ISDN access devices"]
["22101527","Integrated tool carriers"]
["93101705","Intelligence services"]
["39121800","Intelligent Building Installations IBI"]
["95122004","Intensive care unit"]
["42272205","Intensive care ventilators"]
["43221520","Interactive voice recognition equipment"]
["83111510","Interactive voice response service"]
["43232703","Interactive voice response software"]
["44111911","Interactive whiteboards or accessories"]
["43221537","Intercom System Maintenance Tools and Accessories"]
["43221525","Intercom systems"]
["43201544","Interface bus converter or controller"]
["43201549","Interface bus switches"]
["45111807","Interfaces"]
["51342709","Interferon beta-1a"]
["51342710","Interferon beta-1b"]
["72153612","Interior design or decorating"]
["72153600","Interior finishing and furnishing and remodeling services"]
["30160000","Interior finishing materials"]
["30162000","Interior laminates"]
["39111500","Interior lighting fixtures and accessories "]
["72152201","Interior marble installation service"]
["76111506","Interior plant landscaping services"]
["25173000","Interior vehicle lighting"]
["78101900","Intermodal cargo transport"]
["84111603","Internal audits"]
["26101900","Internal combustion engine components"]
["80172001","Internal communication service"]
["42295446","Internal organ retainers"]
["80171903","Internal stakeholder relations consultation and engagement"]
["83112603","International access lines"]
["94131605","International aid assistance services"]
["78101502","International air cargo transport"]
["78101704","International barge transport services"]
["83111905","International bilateral services and international private leased lines"]
["93121709","International charity organizations services"]
["93171601","International commodity agreements"]
["93121607","International cooperation services"]
["93121707","International court of justice services"]
["93121604","International economic cooperation services"]
["93121710","International human relief organizations services"]
["93141804","International labor registration services"]
["93141814","International labor services"]
["93141803","International labor standards services"]
["93121508","International law prescription services"]
["93121509","International law promotion or recognition services"]
["93121700","International organizations"]
["93121708","International political organizations services"]
["93120000","International relations"]
["93121600","International relations and cooperation"]
["93171600","International trade"]
["80151600","International trade services"]
["78101702","International vessel transport services"]
["93121614","International watercourse cooperation services"]
["82101603","Internet advertising"]
["80141506","Internet based market research"]
["43232705","Internet browser software"]
["43232704","Internet directory services software"]
["81112107","Internet domain names"]
["81111509","Internet or intranet client application development services"]
["81111510","Internet or intranet server application development services"]
["82101903","Internet placement"]
["43222639","Internet protocol IP multimedia subsystem hardware"]
["43232805","Internet protocol IP multimedia subsystem software"]
["43222641","Internet protocol sharing device"]
["83121703","Internet related services"]
["43222606","Internet service node startup kits"]
["81112101","Internet service providers ISP"]
["81112100","Internet services"]
["45111402","Interpretation Equipment, Wireless  (Audio)"]
["45111401","Interpretation Systems (Audio)"]
["45102001","Intertype composing machines"]
["60105305","Interview skills instructional materials"]
["42181908","Intracompartmental pressure monitoring sets"]
["42181902","Intracranial pressure ICP monitoring units"]
["42142620","Intraosseous needle drivers or injection guns"]
["42142534","Intraosseous needles"]
["42143101","Intrauterine catheters or catheterization kits"]
["42143130","Intrauterine pressure monitoring cables"]
["42143116","Intrauterine pressure monitoring catheters"]
["42143131","Intrauterine pressure monitors"]
["42143132","Intrauterine pressure recorders"]
["42143133","Intrauterine pressure transducers"]
["42220000","Intravenous and arterial administration products"]
["42221500","Intravenous and arterial cannulas and catheters and accessories"]
["42221800","Intravenous and arterial catheter and needle positioning aids"]
["42222100","Intravenous and arterial equipment suspension and transport systems"]
["42221700","Intravenous and arterial infusion bags and containers and related products"]
["42221600","Intravenous and arterial tubing and administration sets and related products"]
["42221512","Intravenous catheters"]
["42221902","Intravenous drop counters or regulators"]
["42222103","Intravenous infusion poles for wheelchairs"]
["42222006","Intravenous infusion pump analyzers or sensors"]
["42222007","Intravenous infusion pump transducers"]
["42222000","Intravenous infusion pumps and its analyzers and sensors and its accessories"]
["42222001","Intravenous infusion pumps for general use"]
["42192423","Intravenous IV cases"]
["42221601","Intravenous or arterial administration air bubble detectors"]
["42221602","Intravenous or arterial administration ports or injection sites or caps or protectors"]
["42221801","Intravenous or arterial arm board covers"]
["42221802","Intravenous or arterial arm boards"]
["42221803","Intravenous or arterial catheter positioning tapes or dressings or straps or cuffs"]
["42221508","Intravenous or arterial catheter skin care kits or sets"]
["42221509","Intravenous or arterial catheter trays"]
["42221603","Intravenous or arterial extension tubing"]
["42221900","Intravenous or arterial flow measurement and regulation products"]
["42221703","Intravenous or arterial fluid warmers"]
["42221701","Intravenous or arterial infusion bags or containers"]
["42221706","Intravenous or arterial infusion transfer bags or container spouts"]
["42222101","Intravenous or arterial line equipment hangers"]
["42222104","Intravenous or arterial line poles or stands"]
["42221704","Intravenous or arterial pressure infusion bags"]
["42221618","Intravenous or arterial procedure trays"]
["42221507","Intravenous or arterial start kit without catheters"]
["42221604","Intravenous or arterial tubing adapters or connectors or locks or caps or protectors"]
["42221609","Intravenous or arterial tubing administration sets"]
["42221605","Intravenous or arterial tubing check valves"]
["42221606","Intravenous or arterial tubing clamps"]
["42221616","Intravenous or arterial tubing extension sets"]
["42221607","Intravenous or arterial tubing filters or screens for general use"]
["42221608","Intravenous or arterial tubing identification labels or tapes"]
["42221612","Intravenous or arterial tubing needleless injection ports or stopcocks or manifolds"]
["42222005","Intravenous pump parts or accessories"]
["42222002","Intravenous syringe infusion pumps"]
["42221610","Intravenous tubing spike entry ports or caps or protectors"]
["42221611","Intravenous tubing spikes or caps or protectors"]
["42221613","Intravenous tubing transfer leg closures or snaps"]
["42221614","Intravenous tubing with catheter administration kits"]
["42272006","Introducers"]
["42294222","Introducers or guide pins or guidewires or glidewires or guide rods"]
["46221505","Intrusive demining machine"]
["42272005","Intubation forceps"]
["42272008","Intubation gauges or guides"]
["42272001","Intubation laryngoscopes "]
["42272004","Intubation stylets"]
["42272000","Intubation supplies"]
["42272017","Intubator components"]
["84111507","Inventory accounting service"]
["14111812","Inventory forms or inventory books"]
["43231508","Inventory management software"]
["41111712","Inverted microscopes"]
["39122001","Inverter drive AC"]
["32121705","Inverters"]
["84121700","Investment advice"]
["84121701","Investment advisers"]
["84121704","Investment agreements"]
["84121703","Investment analysis"]
["84121702","Investment policy"]
["93161804","Investment tax credit"]
["80171902","Investor and shareholder relations consultation and engagement"]
["84111702","Investor relations services or programs"]
["14111611","Invitation or announcement cards"]
["51472901","Iodine"]
["51472902","Iodoform"]
["51101620","Iodoquinol"]
["41113005","Ion analyzers"]
["41115704","Ion chromatographs"]
["41111977","Ion counter"]
["41101902","Ion exchange apparatus"]
["41101903","Ion implantation equipment"]
["41111701","Ion microscopes"]
["41101901","Ion sources"]
["41113625","Ionization chambers"]
["41113626","Ionmeters"]
["42141810","Iontophoresis electrodes"]
["43191511","IP phones"]
["51111746","Ipilimumab"]
["51161705","Ipratropium bromide"]
["51162043","Ipratropium bromide/fenoterol hydrobromide"]
["51431801","Irbesartan"]
["15131504","Iridium"]
["51111642","Irinotecan"]
["12164300","Iron controllers"]
["51131524","Iron Dextran"]
["47101510","Iron removal equipment"]
["30265400","Iron sheets"]
["47111600","Ironing equipment"]
["26142000","Irradiation equipment"]
["70171708","Irrigation advisory services"]
["95121810","Irrigation and flood control waterworks"]
["42142525","Irrigation needles"]
["21102502","Irrigation overheads"]
["21102503","Irrigation parts and accessories"]
["40151507","Irrigation pumps"]
["72151103","Irrigation sprinkler system installation service"]
["42142612","Irrigation syringe sets"]
["70171710","Irrigation system construction service"]
["70171700","Irrigation system maintenance and management services"]
["21102500","Irrigation systems and equipment"]
["70171709","Irrigation systems management services"]
["21102501","Irrigation trickles"]
["42192405","Irrigator mobile stands"]
["83112402","ISDN integrated services digital network services"]
["51453601","Isobornyl thiocyanoacetate"]
["51302309","Isoconazole"]
["51302336","Isoconazole nitrate"]
["41105336","Isoelectric focusing IEF markers"]
["51272406","Isoflurane"]
["42192435","Isolation and Treatment Stretcher"]
["41103406","Isolation glove boxes"]
["51281502","Isoniazid"]
["51162101","Isoniazid/pyrazinamide/rifampin"]
["51162103","Isoniazid/rifampin"]
["51162107","Isoniazid/rifapentine"]
["51191517","Isosorbide"]
["51191554","Isosorbide dinitrate"]
["51191555","Isosorbide mononitrate"]
["12142200","Isotopes"]
["51241232","Isotretinoin"]
["80172100","Issues and crisis management services"]
["80172104","Issues management and mitigation advisory service"]
["57080104","IT kit for office"]
["51303403","Itraconazole"]
["51123501","Ivabradine"]
["51452801","Ivermectin"]
["51201580","Ixekizumab"]
["53101807","Jacket, Winter"]
["24101612","Jacks"]
["92101700","Jail and prison system"]
["92101701","Jail or prison or penitentiary services"]
["50192400","Jams and jellies and nut and sweet spreads and fruit conserves"]
["47120000","Janitorial equipment"]
["41123001","Jar desiccators"]
["42171805","Jaw spreaders"]
["57060201","Jerry cans"]
["24112209","Jerrycans"]
["25191508","Jetways"]
["41114635","Jewel appraising tester"]
["84131515","Jewelers block insurance"]
["54100000","Jewelry"]
["80111510","Job description development and writing service"]
["80111509","Job evaluation service"]
["60105303","Job search skills instructional materials"]
["73151502","Joint sealing services"]
["42211913","Jumbo digit timers for the physically challenged"]
["49201512","Jump ropes"]
["49161702","Jumping bars"]
["86121600","Junior colleges"]
["95121910","Junior high or middle school"]
["80121901","Jury member service"]
["80121501","Juvenile justice law services"]
["51281616","Kanamycin"]
["11111803","Kaolin or other kaolinic clays"]
["14121508","Kaolin treated paperboard"]
["41115601","Karl Fischer titration equipment"]
["10131602","Kennels"]
["70121803","Kennels services"]
["14111618","Kent paper"]
["15101502","Kerosene"]
["51272207","Ketamine hydrochloride"]
["51302318","Ketoconazole"]
["51384511","Ketoprofen"]
["51383510","Ketorolac tromethamine"]
["51313709","Ketotifen fumarate"]
["43211803","Key board skins"]
["46171525","Key card for lock"]
["43191633","Key phone subset"]
["42212002","Key turners or holders for the physically challenged"]
["43211804","Keyboard drawers or shelves"]
["80161503","Keyboard entry services"]
["60131000","Keyboard instruments"]
["43202215","Keyboard or mouse cable"]
["43211806","Keyboard wrist rest"]
["43211706","Keyboards"]
["43202205","Keycaps or keytops or keys"]
["43191516","Keyphone system"]
["30171513","Kick plates"]
["23221100","Killing and defeathering department machinery and equipment"]
["26111500","Kinetic power transmission"]
["41105342","Kit and reagent for agarose gel electrophoresis"]
["41105343","Kit and reagent for tape based electrophoresis"]
["44103116","Kit for printer"]
["72153605","Kitchen and bathroom remodeling service"]
["72153611","Kitchen cabinet installation service"]
["57060202","Kitchen set, varying sizes"]
["60105613","Kitchen utensils instructional aids"]
["41105502","Kits for deoxyribonucleic acid DNA extraction from food"]
["42301504","Kits for medical education or training"]
["41105517","Kits for nucleic acid extraction from plant cells or tissue"]
["41105511","Kits for plasmids deoxyribonucleic acid DNA extraction from yeast"]
["41106303","Kits for polymerase chain reaction PCR purification"]
["41106511","Kits for protein extraction from bacteria"]
["41106510","Kits for protein extraction from mammalian cells or tissues"]
["41106512","Kits for protein extraction from yeast"]
["41105506","Kits for purification of messenger ribonucleic acid mRNA"]
["41105601","Kits or enzymes for sequencing"]
["41105309","Kits or reagents for capillary electrophoresis"]
["10151612","Kiwicha seeds or seedlings"]
["41104815","Kjeldahl nitrogen determination apparatus"]
["42241703","Knee braces or supports"]
["42212003","Knob turners for the physically challenged"]
["14111542","Korean paper for stationery"]
["14121605","Kraft tissue paper"]
["46181532","Lab coats"]
["41103212","Lab glassware cleaning brush"]
["41151629","Lab screening test kit"]
["44102404","Label applying machines"]
["44102411","Label dispensers"]
["44102405","Label making machines"]
["43231510","Label making software"]
["14111537","Label papers"]
["55121601","Label removing kits"]
["41105513","Labeled nucleic acid purification kits"]
["44102400","Labeling machines"]
["41122702","Labeling tapes"]
["55121600","Labels"]
["51262404","Labetalol"]
["51262410","Labetalol hydrochloride"]
["80121707","Labor disputes law services"]
["93141812","Labor inspection services"]
["80111503","Labor or union relations"]
["80111511","Labor training impact assessment"]
["80111504","Labor training or development"]
["41121815","Laboratory adapters or connectors or fittings"]
["41104911","Laboratory air filtration systems"]
["41121807","Laboratory ampoules"]
["41000000","Laboratory and Measuring and Observing and Testing Equipment"]
["41100000","Laboratory and scientific equipment"]
["41102606","Laboratory animal restraints or harnesses"]
["41101709","Laboratory asphalt and concrete mixer"]
["41104005","Laboratory bailers"]
["41111502","Laboratory balances"]
["41103715","Laboratory bath accessories or supplies"]
["41103700","Laboratory baths"]
["41121803","Laboratory beakers"]
["41122300","Laboratory bench protectors and liners"]
["41101518","Laboratory blenders or emulsifiers"]
["41101500","Laboratory blending and dispersing and homogenizing equipment and supplies"]
["41103510","Laboratory blowers"]
["41104124","Laboratory bone marrow biopsy trays"]
["41101700","Laboratory boring and grinding and cutting and crushing and pressing equipment"]
["41122420","Laboratory bottle carrier"]
["41104928","Laboratory bottle receiver"]
["41104601","Laboratory box furnaces"]
["41113603","Laboratory bridges"]
["95121906","Laboratory building"]
["41121808","Laboratory burets"]
["41102601","Laboratory cages for small animals"]
["41121820","Laboratory carboy or spout"]
["41104908","Laboratory cartridge element filters"]
["41101519","Laboratory cell disruptor"]
["41114641","Laboratory cement curing equipment"]
["41105103","Laboratory centrifugal pumps"]
["41103913","Laboratory centrifuge accessories"]
["41103900","Laboratory centrifuges and accessories"]
["41103023","Laboratory chillers"]
["41122413","Laboratory clamps"]
["41103000","Laboratory cooling equipment"]
["41103025","Laboratory cooling equipment accessories"]
["41122503","Laboratory cork borers"]
["41122501","Laboratory corks"]
["41122500","Laboratory corks and stoppers and accessories"]
["41102918","Laboratory cover slippers"]
["41101705","Laboratory crushers or pulverizers"]
["41104800","Laboratory decanting and distilling and evaporating and extracting equipment and supplies"]
["41123000","Laboratory desiccators and desiccants"]
["41103033","Laboratory dewar flask"]
["41123100","Laboratory dialysis supplies"]
["41121502","Laboratory diluters"]
["41121812","Laboratory dishes"]
["41101706","Laboratory disintegrators"]
["41121819","Laboratory dropper bottle and dropper cap"]
["41105107","Laboratory drum pumps"]
["41101800","Laboratory electron and solid state physics equipment"]
["41105300","Laboratory electrophoresis and blotting system and supplies"]
["41103511","Laboratory enclosure accessories"]
["41103500","Laboratory enclosures and accessories"]
["41102500","Laboratory entomological equipment and accessories"]
["41103400","Laboratory environmental conditioning equipment"]
["41103414","Laboratory environmental conditioning equipment accessories"]
["41104917","Laboratory environmental filters"]
["81101706","Laboratory equipment maintenance"]
["73171605","Laboratory equipment manufacture services"]
["85121811","Laboratory equipment rental service"]
["41104803","Laboratory evaporators"]
["41104127","Laboratory feeder"]
["41104909","Laboratory filter holders or cyclones"]
["41104929","Laboratory filter papers"]
["41104900","Laboratory filtering equipment and supplies"]
["41104925","Laboratory filtration hardware or accessories"]
["41116300","Laboratory flash point testers"]
["41121804","Laboratory flasks"]
["41122405","Laboratory forceps"]
["41104820","Laboratory fractional distillation apparatus"]
["41104700","Laboratory freeze dryers and lyopholizers and accessories"]
["41112220","Laboratory freezer or refrigerator thermometers"]
["41121809","Laboratory funnels"]
["41104612","Laboratory furnace accessories"]
["41104610","Laboratory furnace hearthplates"]
["41104611","Laboratory furnace replacement insulation"]
["41104600","Laboratory furnaces and accessories"]
["56122000","Laboratory furniture"]
["41103515","Laboratory gas generator"]
["41102430","Laboratory general purpose heat sealer"]
["41105108","Laboratory general purpose tubing"]
["41104918","Laboratory glass filters"]
["41121816","Laboratory glass tube"]
["41121805","Laboratory graduated cylinders"]
["41101708","Laboratory grinder or polisher"]
["41112243","Laboratory heat block thermometer"]
["41104814","Laboratory heat exchange condensers"]
["41102404","Laboratory heaters"]
["41102400","Laboratory heating and drying equipment"]
["41104919","Laboratory HEPA filters"]
["41104613","Laboratory hot press"]
["41102406","Laboratory hotplates"]
["41122400","Laboratory implements"]
["41102403","Laboratory incinerators"]
["41104400","Laboratory incubating equipment"]
["41112221","Laboratory incubator thermometers"]
["41102501","Laboratory insect containers"]
["41101900","Laboratory ionic equipment"]
["41122406","Laboratory knives"]
["41121814","Laboratory lids or covers or coverslips"]
["41104901","Laboratory line filters"]
["41104501","Laboratory mechanical convection ovens"]
["41104921","Laboratory membrane filters"]
["41121811","Laboratory microchemistry kits"]
["41111739","Laboratory microscope replacement bulbs"]
["41122600","Laboratory microscope slides and supplies"]
["41104507","Laboratory microwave ovens"]
["41101701","Laboratory mills"]
["41103801","Laboratory mixers"]
["41103800","Laboratory mixing and stirring and shaking equipment and supplies"]
["41104910","Laboratory multi sheet or press filters"]
["41122000","Laboratory or sampling syringes"]
["41104512","Laboratory oven accessories"]
["41112241","Laboratory oven thermometer"]
["41104500","Laboratory ovens and accessories"]
["41103021","Laboratory plate freezers"]
["41101707","Laboratory presses"]
["41105100","Laboratory pumps and tubing"]
["41104505","Laboratory quartz oven pots"]
["41103817","Laboratory reactor"]
["41104609","Laboratory safety furnaces"]
["41104506","Laboratory safety ovens"]
["41122407","Laboratory scalpels"]
["41122408","Laboratory scissors"]
["41122419","Laboratory scoop"]
["41103509","Laboratory scrubbers"]
["41122410","Laboratory sealing film"]
["41112700","Laboratory seed and feed testing equipment"]
["41105001","Laboratory separators"]
["41105000","Laboratory sieves and sifting equipment and supplies"]
["41105002","Laboratory sifting equipment"]
["41105204","Laboratory slide stainer accessories"]
["41105200","Laboratory slide stainer equipment and accessories"]
["41122403","Laboratory spatulas"]
["41122414","Laboratory spoon"]
["41101503","Laboratory sprayers"]
["41121810","Laboratory staining dishes or jars"]
["41105208","Laboratory staining rack and tray"]
["41122800","Laboratory stands and racks and trays"]
["41103514","Laboratory steam generator"]
["41121802","Laboratory stirring rods"]
["41122502","Laboratory stoppers"]
["41121818","Laboratory storage bottle"]
["41120000","Laboratory supplies and fixtures"]
["41103213","Laboratory surface and glassware decontaminant"]
["41122700","Laboratory tapes and labels"]
["41122411","Laboratory timers or watches"]
["41122404","Laboratory tongs"]
["41122409","Laboratory tools"]
["41103807","Laboratory touch mixers"]
["41122412","Laboratory tube sealants"]
["41103210","Laboratory ultraviolet UV sterilizers"]
["95141902","Laboratory unit"]
["41105101","Laboratory vacuum pumps"]
["41121806","Laboratory vials"]
["41103805","Laboratory vibrators"]
["41103209","Laboratory wash bottles"]
["41103200","Laboratory washing and cleaning equipment"]
["41103206","Laboratory washing detergents"]
["41103202","Laboratory washing machines"]
["41103211","Laboratory wastewater treatment equipment"]
["41121801","Laboratory watch glasses"]
["41104200","Laboratory water purification equipment and supplies"]
["41112242","Laboratory waterbath thermometer"]
["41103324","Laboratory wave generator"]
["41101813","Laboratory X ray equipment controller"]
["11162109","Lace"]
["51141563","Lacosamide"]
["41113312","Lactate analyzers"]
["50501719","Lacto Soya Blend"]
["51171605","Lactulose"]
["25101912","Ladder lift truck"]
["30191500","Ladders and scaffolding"]
["30191600","Ladders and scaffolding accessories"]
["41103504","Laminar flow cabinets or stations"]
["14121703","Laminated aluminum foil paper"]
["30171705","Laminated glass"]
["14121700","Laminated papers"]
["44102000","Laminating supplies"]
["44102001","Lamination film"]
["44102002","Laminator pouches"]
["44102910","Laminator trays"]
["44102801","Laminators"]
["51343110","Lamivudine"]
["51343820","Lamivudine/nevirapine/zidovudine"]
["51343816","Lamivudine/tenofovir DF"]
["51343806","Lamivudine/zidovudine"]
["51141504","Lamotrigine"]
["39101900","Lamp Ballasts and Lamp Transformers"]
["39101800","Lamp components and accessories"]
["41111922","Lamp failure sensor"]
["39111810","Lamp starter"]
["41113683","Lamp tester"]
["39101600","Lamps and lightbulbs"]
["39100000","Lamps and lightbulbs and lamp components"]
["43232905","LAN software"]
["41104102","Lancets"]
["93141909","Land administration services"]
["95000000","Land and Buildings and Structures and Thoroughfares"]
["70131700","Land and soil management"]
["70131600","Land and soil preparation"]
["70130000","Land and soil preparation and management and protection"]
["70131500","Land and soil protection"]
["70171801","Land drainage services"]
["70131702","Land evaluation"]
["72141102","Land grading service"]
["80131503","Land leases"]
["95100000","Land parcels"]
["72141502","Land pre-construction assessment service"]
["72141500","Land preparation services"]
["70131703","Land reclamation"]
["77111603","Land rehabilitation services"]
["81151604","Land surveying"]
["41114200","Land surveying instruments"]
["93161602","Land tax"]
["70131701","Land use planning"]
["76122003","Landfill for hazardous waste"]
["76122004","Landfill for low risk hazardous or universal waste"]
["76122001","Landfill for non hazardous generic waste"]
["76122002","Landfill for non hazardous special waste"]
["76122000","Landfill services"]
["81101517","Landscape architecture and design service"]
["30121800","Landscape architecture materials"]
["72102906","Landscape architecture service"]
["77111501","Landscape protection services"]
["72102902","Landscaping services"]
["44101720","Language fonts"]
["95121905","Language laboratory"]
["86111700","Language schooling"]
["82111400","Language Specific Editorial and Writing Services"]
["51111855","Lanreotide"]
["49211805","Lanyard"]
["42296323","Laparoscopes or laparoscopic telescopes"]
["42295406","Laparotomy or surgical x-ray detectable sponges or towels"]
["51111856","Lapatinib"]
["23130000","Lapidary machinery and equipment"]
["10191705","Lariats"]
["51172490","Laronidase"]
["42271729","Laryngeal mask airway (LMA)"]
["42182006","Laryngeal or oropharyngeal exam speculas"]
["42192617","Laryngeal sprays"]
["41115322","Laser beam analyzers"]
["42221905","Laser blood flowmeters"]
["44101508","Laser fax machine"]
["41111615","Laser measuring systems"]
["43212105","Laser printers"]
["44103114","Laserjet coating kits"]
["41115307","Lasers"]
["51241110","Latanoprost"]
["41111967","Lateral long yaw sensor"]
["14121805","Latex treated coated paper"]
["14122105","Latex treated crepe paper"]
["14122106","Latex treated uncoated paper"]
["23242300","Lathes and turning centers"]
["30181519","Latrine / squatting plate"]
["46140000","Launchers"]
["91111500","Laundering services"]
["47111507","Laundry drying stand"]
["47131811","Laundry products"]
["91111502","Laundry services"]
["47111501","Laundry type combined washing or drying machines"]
["47111502","Laundry type washing machines"]
["47111510","Laundry wash tub or basin"]
["47111509","Laundry work table"]
["25191511","Lavatory service equipment for aircraft"]
["55101531","Law book"]
["46150000","Law enforcement"]
["86101714","Law enforcement vocational training services"]
["86101713","Law vocational training services"]
["70111706","Lawn care services"]
["51171600","Laxatives"]
["82141501","Layout or graphics editing services"]
["43211913","LCD active display"]
["43211914","LCD passive display"]
["41111772","LCR Meter "]
["26111707","Lead acid batteries"]
["43202208","Lead assemblies"]
["80141410","Lead generation"]
["44121902","Lead refills"]
["26142302","Lead screens"]
["30171704","Leaded glass"]
["50201710","Leaf tea"]
["72154059","Leak detection sealing and repair service"]
["41111809","Leak testing equipment"]
["30111605","Lean lime"]
["80131500","Lease and rental of property or building"]
["14111617","Leathack paper"]
["23141601","Leather fleshing machines"]
["23141600","Leather preparing machinery and accessories"]
["31151902","Leather straps"]
["23141700","Leather working and repairing machinery and accessories"]
["11162300","Leathers"]
["23140000","Leatherworking repairing machinery and equipment"]
["45111500","Lecterns and sound systems and accessories"]
["95121903","Lecture theater"]
["14111513","Ledger paper"]
["10151511","Leek seeds or seedlings"]
["51202501","Leflunomide"]
["42241705","Leg orthopedic softgoods"]
["80141411","Legacy marketing"]
["94131603","Legal assistance services"]
["43232616","Legal management software"]
["80121609","Legal Research Services"]
["80122000","Legal review and inquiry services"]
["80120000","Legal services"]
["10191706","Leghold traps"]
["93101700","Legislative bodies and practice"]
["93101704","Legislative hearings services"]
["93101706","Legislators services"]
["10152300","Legume seeds and seedlings"]
["42212100","Leisure and recreational aids for the physically challenged"]
["55101510","Leisure reading books"]
["51203301","Lenalidomide"]
["41111600","Length and thickness and distance measuring instruments"]
["45121611","Lens cover"]
["50404500","Lentils"]
["51112031","Lenvatinib"]
["85111505","Leprosy prevention or control services"]
["51111820","Letrozole"]
["44111904","Letter boards or accessories"]
["44102106","Letter folders"]
["84121602","Letter of credit services"]
["78102205","Letter or small parcel local delivery services"]
["78102204","Letter or small parcel worldwide delivery services"]
["42211706","Letter or symbol boards for the physically challenged"]
["82111601","Letter writing services"]
["44102406","Lettering equipment"]
["45101503","Letterpress equipment"]
["82121504","Letterpress or screen printing"]
["10151512","Lettuce seeds or seedlings"]
["51111876","Leuprorelin"]
["51391722","Levarterenol or noradrenaline or norepinephrine"]
["72141209","Levee construction service"]
["41113636","Level generators"]
["41111950","Level indicator"]
["41113710","Level meter"]
["41111938","Level sensors or transmitters"]
["44122035","Lever arch file"]
["51141518","Levetiracetam"]
["51241560","Levobunolol/polyvinyl alcohol"]
["51313205","Levocabastine"]
["51313218","Levocabastine hydrochloride"]
["51313120","Levocetirizine dihydrochloride"]
["51282926","Levofloxacin"]
["51332855","Levomepromazine hydrochloride"]
["51332814","Levomepromazine or methotrimeprazine"]
["51352006","Levonorgestrel"]
["51433804","Levosimendan"]
["51181608","Levothyroxine or thyroxine or triiodothyronine"]
["51181629","Levothyroxine sodium"]
["51182501","Levothyroxine/liothyronine"]
["84131607","Liability insurance"]
["83121500","Libraries"]
["41105900","Libraries and related materials"]
["95121904","Library"]
["14111536","Library book or borrowers cards"]
["56121000","Library furnishings"]
["86141704","Library or documentation services"]
["86101703","Library or documentation training"]
["43232609","Library software"]
["43231512","License management software"]
["93151517","License or registration fee"]
["46161516","License plate recognition system"]
["51271613","Lidocaine"]
["51271629","Lidocaine hydrochloride"]
["92121603","Lie detection services"]
["46151716","Lie detector"]
["84131600","Life and health and accident insurance"]
["46161605","Life buoy"]
["46161711","Life detector"]
["84131601","Life insurance"]
["46161714","Life line"]
["46161602","Life rings"]
["92101903","Life saving helicopter services"]
["42192424","Life support cases"]
["46161604","Life vests or preservers"]
["95121708","Lifeboat station"]
["25111601","Lifeboats or liferafts"]
["92101904","Lifeguard services for pool or beach"]
["46182301","Lifelines or lifeline equipment"]
["72154047","Lift table service"]
["24101600","Lifting equipment and accessories"]
["24101658","Lifting magnet"]
["24101604","Lifts"]
["41115301","Light absorption meters"]
["41115300","Light and wave generating and measuring equipment"]
["30131507","Light concrete block"]
["46171615","Light enhancing cameras or vision devices"]
["72141601","Light rail construction service"]
["78111601","Light rail vehicle transport LRV services"]
["41102703","Light scattering equipment"]
["43211707","Light stylus"]
["42212004","Light switch extensions for the physically challenged"]
["25101507","Light trucks or sport utility vehicles"]
["46100000","Light weapons and ammunition"]
["41111768","Lighted box agglutination viewer"]
["41111769","Lighted mirror agglutination viewer"]
["12131707","Lighters"]
["95121624","Lighthouse"]
["39111800","Lighting accessories"]
["45111808","Lighting controls"]
["81101518","Lighting engineering service"]
["39110000","Lighting Fixtures and Accessories"]
["72151501","Lighting installation services"]
["76111503","Lighting maintenance services"]
["45111504","Lighting or power or data components for lecterns"]
["56111605","Lighting or power or data components for panel systems"]
["72151511","Lighting system maintenance or repair service"]
["25101930","Lighting truck"]
["41115308","Lightmeters"]
["41114415","Lightning analysis system"]
["72154023","Lightning conductor erection service"]
["39121621","Lightning protection apparatus and accessories"]
["50501712","Likuni Phala (WFP food convention) "]
["11111608","Limestone"]
["11111612","Limestone dust or mine rock dust"]
["95111500","Limited traffic thoroughfares"]
["78111810","Limousine or town car service"]
["25101506","Limousines"]
["41116149","Limulus amebocyte lysate LAL tester"]
["51183301","Linagliptin"]
["51284500","Lincomycins and monobactam antibacterials and polymyxin antibacterials and polysaccharide antibacterials"]
["51283000","Lincosamides"]
["51452502","Lindane"]
["43222901","Line conditioners"]
["45111804","Line doublers"]
["41113627","Line earth loop testers"]
["43212106","Line matrix printers"]
["41113669","Line voltage detector"]
["41111945","Linear position sensors"]
["51283303","Linezolid"]
["14111616","Lining papers"]
["72152505","Linoleum installation service"]
["45102002","Linotype composing machines"]
["10151607","Linseed seeds"]
["47121802","Lint removers"]
["53131630","Lip balm"]
["51201831","Lipegfilgrastim"]
["41116220","Lipid profile or at risk liver enzyme test monitor or meter"]
["41116221","Lipid profile or at risk liver enzyme test monitor or meter accessories"]
["51283100","Lipopeptides"]
["15111511","Liquefied natural gas LNG"]
["42311517","Liquid adhesives for bandages or dressings"]
["41112500","Liquid and gas flow measuring and observing instruments"]
["41113300","Liquid and solid and elemental analyzers"]
["41115705","Liquid chromatographs"]
["24112600","Liquid containers"]
["43211902","Liquid crystal display LCD panels or monitors"]
["45111606","Liquid crystal display projection panels"]
["45111614","Liquid crystal display projector"]
["41111932","Liquid leak detectors"]
["41112407","Liquid level controls or instruments"]
["41101515","Liquid measuring cans"]
["72121517","Liquid natural gas LNG plant construction service"]
["41103028","Liquid nitrogen measuring stick"]
["24131502","Liquid nitrogen refrigerators"]
["42271720","Liquid oxygen converters"]
["41113332","Liquid ration analyzer"]
["40101719","Liquid refrigerant receiver"]
["41103301","Liquid scintillation counters"]
["41111954","Liquid sensor"]
["76121502","Liquid waste collection or processing or disposal"]
["76121700","Liquid waste treatment"]
["80121605","Liquidation law services"]
["25111515","Liquified gas carrier"]
["24111816","Liquified gas tank or cylinder"]
["15111510","Liquified petroleum gas"]
["51183611","Liraglutide"]
["51432805","Lisinopril"]
["45111703","Listening centers"]
["86101708","Literacy services"]
["44111512","Literature rack"]
["26111711","Lithium batteries"]
["51331901","Lithium carbonate"]
["82151502","Lithographers services"]
["45101504","Lithographic equipment"]
["10100000","Live animals"]
["10101601","Live chickens"]
["10101602","Live ducks"]
["10101700","Live fish"]
["10121601","Live food for birds"]
["10101604","Live geese"]
["10101607","Live guinea fowl"]
["10101605","Live pheasants"]
["10000000","Live Plant and Animal Material and Accessories and Supplies"]
["10210000","Live plants of high species or variety count flowers"]
["10220000","Live plants of low species or variety count flowers"]
["10200000","Live rose bushes"]
["10101701","Live salmon"]
["10101801","Live shrimp"]
["10101603","Live turkeys"]
["10101500","Livestock"]
["70121601","Livestock breeding"]
["70121705","Livestock breeding or grooming services"]
["10121500","Livestock feed"]
["70121602","Livestock genetics services"]
["70121706","Livestock identification and recording service"]
["21101905","Livestock identification equipment"]
["70121600","Livestock industry"]
["70121700","Livestock management"]
["78101603","Livestock rail transport"]
["70121701","Livestock selection"]
["70120000","Livestock services"]
["70121703","Livestock slaughtering services"]
["10131506","Livestock stables"]
["25181703","Livestock trailers"]
["60103900","Living organisms and preserved specimens and related materials"]
["39121101","Load centers"]
["41114613","Load frame"]
["25101614","Load motovan"]
["41114638","Load tester"]
["41112108","Loadcells"]
["24101605","Loading equipment"]
["24101615","Loading ramps"]
["78141804","Loading terminal facility management"]
["83111500","Local and long distance telephone communications"]
["81111702","Local area network communications design"]
["81111803","Local area network LAN maintenance or support"]
["78101801","Local area trucking services"]
["83112601","Local loop capacities"]
["83111501","Local telephone service"]
["25173100","Location and navigation systems and components"]
["43223209","Location based messaging service platforms"]
["56101520","Lockers"]
["46171500","Locks and security hardware and accessories"]
["72101505","Locksmith services"]
["25121500","Locomotives and electric trolleys"]
["90111502","Lodges or resorts"]
["30131606","Loess brick"]
["14111531","Log books or pads"]
["23231000","Log debarkers and accessories"]
["41114302","Logging instruments for water wells"]
["70151701","Logging or felling"]
["41113705","Logic state testers"]
["57070102","Logistic power supplies"]
["81141601","Logistics"]
["57070100","Logistics emergency kits"]
["57777100","Logistics emergency kits"]
["45111816","Logo generator"]
["11121603","Logs"]
["42192425","Long distance response LDR trauma cases or bags"]
["83111502","Long distance telephone services"]
["42212005","Long handled dustpans or brushes for the physically challenged"]
["25102102","Long nose tractors with sleeper"]
["25102103","Long nose tractors without sleeper"]
["20101502","Longwall shears"]
["51171724","Loperamide hydrochloride"]
["51343821","Lopinavir/ritonavir"]
["51343814","Lopinavir/ritonavir"]
["51283711","loracarbef"]
["51312204","Loratadine"]
["51401533","Lorazepam"]
["51191967","L-ornitin/ L-aspartate"]
["51432305","Losartan"]
["51432313","Losartan potassium"]
["52161512","Loudspeakers"]
["41111714","Loupes"]
["25102101","Low cab forward tractors"]
["42202900","Low energy medical x ray equipment"]
["42202902","Low energy medical x ray unit accessories"]
["42202901","Low energy medical x ray units"]
["41114419","Low level wind shear alert system"]
["45121519","Low light camera"]
["41121603","Low retention pipette tips"]
["24131603","Low temperature freezers"]
["41112226","Low temperature thermocouple sensor"]
["41113676","Low voltage tester"]
["15120000","Lubricants and oils and greases and anti corrosives"]
["41113320","Lubricating oil testing kit"]
["15121500","Lubricating preparations"]
["53121500","Luggage"]
["53120000","Luggage and handbags and packs and cases"]
["53121502","Luggage sets"]
["55121501","Luggage tags"]
["51181931","Lutropin (LH)/Follitropin (FSH)"]
["51181932","Lutropin alfa"]
["51383905","Lysine clonixinate"]
["14122102","Machine finished or glazed kraft paper"]
["72151800","Machine installation and maintenance and repair services"]
["31270000","Machine made parts"]
["31290000","Machined extrusions"]
["31300000","Machined forgings"]
["31230000","Machined raw stock"]
["73160000","Machinery and transport equipment manufacture"]
["72151802","Machinery component refurbishing and repair service"]
["23101500","Machinery for working wood and stone and ceramic and the like"]
["73180000","Machining and processing services"]
["23242400","Machining centers"]
["73152107","Machining equipment rebuild and refurbishment service"]
["31390000","Machinings"]
["51433707","Macitentan"]
["81121501","Macro economic analysis"]
["50501700","Macro nutrient supplements"]
["51283200","Macrolides"]
["44122005","Magazine or book covers"]
["56101529","Magazine racks"]
["55101506","Magazines"]
["11172200","Magnesium based alloys"]
["51172487","Magnesium hydroxide"]
["41104513","Magnesium melt oven"]
["51171510","Magnesium trisilicate"]
["14111528","Magnet paper"]
["44111908","Magnetic boards or accessories"]
["41111975","Magnetic field monitor"]
["45111724","Magnetic head"]
["43211727","Magnetic ink character recognition MICR device"]
["44101710","Magnetic pickup assemblies"]
["42221906","Magnetic resonance blood flowmeters"]
["55121707","Magnetic signs"]
["41122402","Magnetic spin bar retrievers or stir bar retrievers"]
["41122401","Magnetic spin bars or stir bars or stirring beads"]
["41103806","Magnetic stirrers"]
["43201413","Magnetic stripe card"]
["43211702","Magnetic stripe readers and encoders"]
["41111909","Magnetic tape recorders"]
["44122122","Magnetic thumbtack"]
["43202006","Magneto Optical MO disks"]
["43201812","Magneto optical MO drives"]
["41113806","Magnetometer geophysical instruments"]
["41101806","Magnetometers"]
["42141817","Magnetotherapy pulse stimulators"]
["31380000","Magnets and magnetic materials"]
["41111713","Magnifiers"]
["78100000","Mail and cargo transport"]
["24113101","Mail box"]
["44102108","Mail machine accessories"]
["44102100","Mail machines"]
["44102102","Mail opening machines"]
["44102103","Mail sealing machines"]
["56101715","Mail sorters or organizers"]
["44101712","Mailbox stackers"]
["44121512","Mailer tube caps"]
["44121501","Mailer tubes"]
["44121503","Mailers"]
["43231515","Mailing and shipping software"]
["44121509","Mailing bags"]
["44121511","Mailing boxes"]
["80141801","Mailing list compilation services"]
["80141802","Mailing list management service"]
["78102203","Mailing or mail pick up or delivery services"]
["44121510","Mailing seals"]
["80141800","Mailing services"]
["44121500","Mailing supplies"]
["81111802","Mainframe administration services"]
["81112303","Mainframe computer maintenance"]
["43211512","Mainframe computers"]
["43211510","Mainframe console or dumb terminals"]
["81111501","Mainframe software applications design"]
["92111500","Maintenance of international peace and security"]
["81112201","Maintenance or support fees"]
["10151609","Maize seeds"]
["53131629","Makeup kits"]
["51201657","Malaria vaccine"]
["10191516","Malathion"]
["51452901","Malathion topical antiparasitic"]
["42142720","Male external urinary catheters"]
["30265404","Malleable iron hot rolled sheet"]
["80121701","Malpractice or negligence law services"]
["41106508","Mammalian cell expression kits"]
["41106509","Mammalian cells"]
["42312501","Mammary support binders"]
["42201803","Mammography x ray units"]
["43222638","Managed lease line network MLLN equipment"]
["80100000","Management advisory services"]
["80000000","Management and Business Professionals and Administrative Services"]
["80111501","Management development"]
["86132000","Management education and training services"]
["81111700","Management information systems MIS"]
["80161500","Management support services"]
["60131307","Mandolins"]
["11172300","Manganese based alloys"]
["26111717","Manganese batteries"]
["70161711","Mangrove swamp ecology and conservation service"]
["30121714","Manhole box"]
["72141123","Manhole construction service"]
["30121713","Manhole cover"]
["30121605","Manhole frames with covers"]
["53131617","Manicure implements"]
["41111958","Manifold ambient pressure sensor"]
["24101610","Manipulators"]
["51191509","Mannitol"]
["41103311","Manometers"]
["41112402","Manostats"]
["72152003","Mantel installation and repair service"]
["41116165","Manual blood culture system"]
["44121617","Manual letter openers"]
["41111978","Manual microhematocrit tube reader"]
["41111753","Manual microscope nosepiece"]
["41121503","Manual multichannel air displacement pipetters"]
["41111948","Manual or electronic hematology differential cell counters"]
["44121619","Manual pencil sharpener"]
["42202106","Manual radionuclide applicator systems or guides "]
["41121504","Manual single channel air displacement pipetters"]
["41121505","Manual single channel positive displacement pipetters"]
["41121506","Manual single channel repeating pipetters"]
["41112601","Manual swab test kits"]
["41116100","Manual test kits and quality controls and calibrators and standards"]
["82111502","Manual writing services"]
["73171500","Manufacture of electrical goods"]
["73170000","Manufacture of electrical goods and precision instruments"]
["73161500","Manufacture of machinery"]
["73171600","Manufacture of precision instruments"]
["73161600","Manufacture of transport equipment"]
["31000000","Manufacturing Components and Supplies"]
["73152100","Manufacturing equipment maintenance and repair services"]
["73152101","Manufacturing equipment maintenance services"]
["73152102","Manufacturing equipment repair services"]
["43232613","Manufacturing execution system MES software"]
["73150000","Manufacturing support services"]
["23152200","Manufacturing tables and stands"]
["81140000","Manufacturing technologies"]
["81141900","Manufacturing technology research and development services"]
["10171501","Manure or guano"]
["43233506","Map creation software"]
["81151602","Map production"]
["81151601","Mapping"]
["51341904","Maraviroc"]
["11111605","Marble"]
["70101901","Mariculture"]
["72141210","Marina construction service"]
["25111905","Marine ballast systems"]
["81171501","Marine biology consultation service"]
["81171500","Marine biology services"]
["78101700","Marine cargo transport"]
["77101603","Marine conservation strategy planning"]
["72141200","Marine construction services"]
["25111901","Marine craft communications systems"]
["78111704","Marine craft rental or leasing service"]
["25111900","Marine craft systems and subassemblies"]
["70161702","Marine ecosystem management services"]
["15101509","Marine fuel"]
["84131505","Marine insurance"]
["78141703","Marine navigational or communication services"]
["25111726","Marine pollution control ship"]
["26131505","Marine power plants"]
["25111902","Marine propellers"]
["46161503","Marine signaling systems"]
["25110000","Marine transport"]
["25175103","Marine transport repair part kits"]
["42241516","Marker for splinting materials"]
["44121712","Marker refills"]
["44121708","Markers"]
["84121705","Market data"]
["80141509","Market intelligence or competitive analysis"]
["80141500","Market research"]
["80141514","Market research mail surveys"]
["80141512","Market research on location surveys"]
["80141513","Market research one on one interviews"]
["80141511","Market research paper surveys"]
["80141510","Market research telephone surveys"]
["80141501","Marketing analysis"]
["80140000","Marketing and distribution"]
["80141505","Marketing plans"]
["27112300","Marking tools"]
["90111604","Marquees"]
["11162129","Marquisette cloth"]
["46182005","Mask or respirators filters or accessories"]
["14121809","Masking paper"]
["46182001","Masks or accessories"]
["49141505","Masks or fins or snorkels"]
["27112200","Masonry and concrete tools"]
["72151900","Masonry and stonework services"]
["83121700","Mass communication services"]
["41115404","Mass spectrometers"]
["23200000","Mass transfer equipment"]
["72141600","Mass transit system construction services"]
["30241509","Mast section and king pole"]
["25173300","Master control systems"]
["12131706","Matches"]
["72103101","Material conveyance system installation"]
["72103102","Material conveyance system repair"]
["24000000","Material Handling and Conditioning and Storage Machinery and their Accessories and Supplies"]
["24100000","Material handling machinery and equipment"]
["24112007","Material handling racks"]
["78121600","Material handling services"]
["78120000","Material packing and handling"]
["73151700","Material treatment"]
["81141503","Materials or product inspection"]
["43231506","Materials requirements planning logistics and supply chain software"]
["81141502","Materials synthesis"]
["81141501","Materials testing"]
["57040102","Math teaching kit"]
["56101508","Mattresses or sleep sets"]
["72121407","Mausoleum construction service"]
["51201628","Measles and mumps and rubella virus vaccine"]
["51201646","Measles and rubella virus vaccine"]
["51201609","Measles virus vaccine"]
["42211914","Measuring aids for the physically challenged"]
["27111800","Measuring and layout tools"]
["41110000","Measuring and observing and testing instruments"]
["73171504","Measuring or testing instruments manufacture services"]
["41114202","Measuring rods"]
["41114203","Measuring tables"]
["41114201","Measuring tapes"]
["41111616","Measuring wheels for distance"]
["73131600","Meat and poultry and seafood processing"]
["50110000","Meat and poultry products"]
["86101503","Meat industry vocational training"]
["41115829","Meat or dairy product analyzers"]
["51452401","Mebendazole"]
["41111503","Mechanical balances"]
["31151700","Mechanical cable"]
["42312306","Mechanical debridement products"]
["41112113","Mechanical energy transducer"]
["81101600","Mechanical engineering"]
["41114500","Mechanical instruments"]
["44121623","Mechanical letter opener"]
["44121705","Mechanical pencils"]
["31151800","Mechanical wire"]
["20101800","Mechanized ground support systems"]
["49101701","Medals"]
["45111801","Media control systems"]
["41106212","Media ingredients or additives for bacteria"]
["41106211","Media ingredients or additives schizosaccharomyces pombe"]
["80171801","Media monitoring service"]
["41106210","Media or supplements for schizosaccharomyces pombe"]
["82101900","Media placement and fulfillment"]
["41104426","Media preparation apparatus"]
["80171802","Media relations and advisory service"]
["80171800","Media relations services"]
["44101721","Media spindles"]
["45131700","Media storage"]
["43201900","Media storage device accessories"]
["43201800","Media storage devices"]
["86131504","Media studies"]
["80171803","Media training and coaching service"]
["42182103","Medical acoustic stethoscopes"]
["42271712","Medical aerosol tents"]
["42192800","Medical and pharmaceutical biohazard disposal products"]
["42311552","Medical and surgical adherent tapes for general use"]
["42130000","Medical apparel and textiles"]
["42201824","Medical arthrography sets"]
["42142601","Medical aspiration or irrigation syringes"]
["42261602","Medical body bags"]
["42142602","Medical bulb syringes"]
["42201804","Medical c arm x ray units"]
["85161501","Medical capital equipment maintenance or repair"]
["42192407","Medical cart accessories"]
["42142603","Medical cartridge syringes"]
["42192404","Medical carts"]
["42142604","Medical catheter tip syringes"]
["42191908","Medical chart caddies"]
["42201805","Medical cinefluoroscopy units"]
["84131608","Medical Claims Review and Management"]
["42280000","Medical cleaning and sterilization products"]
["42142102","Medical cold storage chilling units"]
["42201502","Medical computed tomography CT or CAT mobile or transportable or van units"]
["42201508","Medical computed tomography CT or CAT monitors"]
["42203801","Medical computed tomography CT or CAT positioning aids"]
["42201509","Medical computed tomography CT or CAT power conditioners"]
["42201501","Medical computed tomography CT or CAT stationary units"]
["42201500","Medical computed tomography CT or CAT systems and related products"]
["42202000","Medical diagnostic gamma cameras and related products"]
["42200000","Medical diagnostic imaging and nuclear medicine products"]
["42182301","Medical diagnostic pinwheels"]
["42201841","Medical diagnostic x ray papers"]
["42201800","Medical diagnostic x ray products"]
["42201844","Medical diagnostic x ray rulers"]
["85121600","Medical doctor specialist services"]
["42142300","Medical documentation products"]
["42142605","Medical ear syringes"]
["60105627","Medical educational or information material"]
["42201838","Medical enteroclysis catheters or catheters kits"]
["42000000","Medical Equipment and Accessories and Supplies"]
["42282010","Medical equipment and instrument disinfectant washing equipment"]
["42192426","Medical equipment bag or case accessories"]
["42192502","Medical equipment bags"]
["42171900","Medical equipment bags and cases and carriers and related products"]
["42192501","Medical equipment covers"]
["42192500","Medical equipment protectors"]
["42192400","Medical equipment transport and transfer and storage products"]
["85131600","Medical ethics"]
["78111506","Medical evacuation by air ambulance"]
["78111815","Medical evacuation by ambulance"]
["42182600","Medical exam lights or lamps"]
["42132203","Medical exam or non surgical procedure gloves"]
["42192002","Medical exam or procedure table accessories for general use excluding cover sheets"]
["42192001","Medical exam or procedure tables for general use"]
["42182603","Medical exam or surgical headlights or headlamps"]
["42182604","Medical exam penlights or flashlights"]
["42182700","Medical exam size measuring devices"]
["42181502","Medical exam transilluminators"]
["25101937","Medical examination and treatment bus"]
["42311518","Medical eye pads or patches"]
["42191600","Medical facility building systems"]
["42191500","Medical facility materials handling and distribution equipment"]
["42190000","Medical facility products"]
["42293519","Medical fluid solidifiers"]
["42201908","Medical fluoroscopic screen hoods"]
["42191705","Medical gas alarms"]
["42191710","Medical gas cylinder carts or stands"]
["42271701","Medical gas cylinders or related devices"]
["42191701","Medical gas or electric service tracks"]
["42191700","Medical gas products"]
["72154020","Medical gas system installation service"]
["42132204","Medical glove liners"]
["42132200","Medical gloves and accessories"]
["42271711","Medical head hoods"]
["42142103","Medical heat lamps"]
["42142104","Medical hydrocollators"]
["42271713","Medical hyperbaric chambers"]
["42201809","Medical imaging contrast agent injectors or accessories"]
["42203705","Medical imaging dry laser printers or imagers"]
["42201839","Medical imaging procedure trays"]
["42203700","Medical imaging processing equipment and supplies"]
["42203702","Medical imaging wet darkroom or daylight processors"]
["42271714","Medical incubators"]
["42192403","Medical isolation carts"]
["85121800","Medical laboratories"]
["39101602","Medical lamps"]
["42202303","Medical linear accelerator intensity modulated radiation therapy IMRT collimators"]
["42202300","Medical linear accelerator intensity modulated radiation therapy IMRT products"]
["42202302","Medical linear accelerator intensity modulated radiation therapy IMRT three dimensional units"]
["42202301","Medical linear accelerator intensity modulated radiation therapy IMRT two dimensional units"]
["42203000","Medical linear accelerators and related products"]
["42201602","Medical magnetic resonance imaging MRI mobile or transportable or van systems"]
["42201607","Medical magnetic resonance imaging MRI monitors"]
["42203802","Medical magnetic resonance imaging MRI positioning aids"]
["42201600","Medical magnetic resonance imaging MRI products"]
["42201609","Medical magnetic resonance imaging MRI scanners"]
["42201601","Medical magnetic resonance imaging MRI stationary units"]
["42201611","Medical magnetic resonance imaging MRI tables"]
["84131611","Medical malpractice insurance"]
["42142606","Medical metered delivery syringes"]
["42142607","Medical micro syringes"]
["85161502","Medical minor equipment maintenance or repair"]
["42141605","Medical mixing or solution basins or bowls"]
["42191903","Medical monitor cabinets"]
["14111539","Medical monitoring or tracing or recording paper"]
["42141606","Medical multipurpose basins"]
["42271709","Medical nasal cannulae"]
["42271710","Medical nasal catheters or catheterization kits"]
["42203903","Medical neutron radiation therapy systems"]
["42311519","Medical non adherent straps"]
["42311520","Medical non adherent tapes"]
["42231806","Medical nutrition food or liquid thickeners"]
["85101503","Medical office services"]
["73171602","Medical or dental equipment manufacture services"]
["25131604","Medical or rescue helicopters"]
["42191804","Medical or surgical bedside rails"]
["85161505","Medical or surgical equipment or implant rental and shipping fee"]
["85161500","Medical or surgical equipment repair"]
["85161504","Medical or surgical equipment service agreement"]
["42293525","Medical or surgical floor suction mats or apparatus"]
["85161503","Medical or surgical instrument maintenance or repair"]
["42191907","Medical or surgical instrument storage cabinets or chests"]
["42293514","Medical or surgical suction container liners"]
["42293521","Medical or surgical suction containers"]
["42293511","Medical or surgical suction or vacuum appliance accessories"]
["42293522","Medical or surgical suction or vacuum appliances"]
["42293523","Medical or surgical suction sets or kits"]
["42293515","Medical or surgical suction tubings"]
["42311548","Medical or surgical tape dispensers"]
["42311551","Medical or surgical tape removers"]
["42271708","Medical oxygen masks or parts"]
["42271715","Medical oxygen tubing or connectors"]
["42142302","Medical paper charting systems"]
["42203603","Medical picture archiving computer systems PACS"]
["42202400","Medical positron emission tomography PET equipment and related products"]
["85120000","Medical practice"]
["42203900","Medical radiation detection or monitoring products"]
["42203901","Medical radiation dosimeters"]
["42203902","Medical radiation films or badges"]
["42201820","Medical radiographic equipment grids"]
["42201834","Medical radiographic x ray apparatus rectifier assemblies"]
["42201807","Medical radioisotope scanners"]
["42203600","Medical radiological imaging information and archiving products"]
["42203800","Medical radiological positioning aids"]
["42203803","Medical radiological positioning aids for general radiological use"]
["42204000","Medical radiological shielding and protection products"]
["42204001","Medical radiological shielding apron racks"]
["42204002","Medical radiological shielding aprons or masks or drapes"]
["42204008","Medical radiological shielding chambers or rooms or safes or cabinets"]
["42204004","Medical radiological shielding earplugs"]
["42204009","Medical radiological shielding eyewears"]
["42204006","Medical radiological shielding freestanding or portable screens or curtains"]
["42204005","Medical radiological shielding gloves"]
["42204003","Medical radiological shielding portable containers for radioactive materials"]
["42204007","Medical radiological shielding wall or ceiling or floor installed panels"]
["42204101","Medical radiological syringe or vial shield or holders or carriers"]
["42201806","Medical radiology and fluoroscopy RF units"]
["85131700","Medical science and research"]
["85130000","Medical science research and experimentation"]
["42202500","Medical single photon emission computed tomography SPECT equipment and related products"]
["43232610","Medical software"]
["42131601","Medical staff aprons or bibs"]
["42131602","Medical staff beard covers"]
["42131603","Medical staff blouses or smocks"]
["42131604","Medical staff bouffant caps"]
["42131600","Medical staff clothing and related articles"]
["42131613","Medical staff eye shields or visors"]
["42131612","Medical staff isolation or cover gowns"]
["42131607","Medical staff jackets or coats"]
["42131608","Medical staff scrubs"]
["42131609","Medical staff shoe covers"]
["42131610","Medical staff sleeve protection"]
["42312010","Medical staplers for external use"]
["42296600","Medical stereotactic systems"]
["42192104","Medical stools or chairs"]
["42132102","Medical stretcher sheets"]
["42281604","Medical surface disinfectants"]
["85160000","Medical Surgical Equipment Maintenance Refurbishment and Repair Services"]
["42191805","Medical suspended columns"]
["42142609","Medical syringes with needle"]
["42142608","Medical syringes without needle"]
["42182702","Medical tape measures"]
["60106208","Medical teaching aids or materials"]
["42182203","Medical thermometer carrying cases or covers"]
["42182204","Medical thermometer racks"]
["42182205","Medical thermometer tip or probe covers"]
["42182200","Medical thermometers and accessories"]
["42312000","Medical tissue closure and related products"]
["42203704","Medical toners or developers"]
["42300000","Medical training and education supplies"]
["42181905","Medical transducer monitor cables"]
["42191905","Medical treatment cabinets"]
["42201700","Medical ultrasound and doppler and echo imaging products"]
["42201704","Medical ultrasound bone densitometers"]
["42201718","Medical ultrasound ophthalmic scanners"]
["42201707","Medical ultrasound or doppler or echocardiograph gel warmers"]
["42201708","Medical ultrasound or doppler or echocardiograph gels or transmission pads or lotions"]
["42201709","Medical ultrasound or doppler or echocardiograph monitors"]
["42201710","Medical ultrasound or doppler or echocardiograph printers"]
["42201705","Medical ultrasound or doppler or echocardiograph probe covers"]
["42201706","Medical ultrasound or doppler or echocardiograph probes"]
["42201713","Medical ultrasound or doppler or echocardiograph three dimensional components"]
["42201711","Medical ultrasound or doppler or echocardiograph transducers or accessories"]
["42201712","Medical ultrasound or doppler or pulse echocardiograph or echocardiograph units for general diagnostic use"]
["95141901","Medical unit"]
["42191707","Medical vacuum systems"]
["86101605","Medical vocational training services"]
["76121901","Medical waste disposal"]
["42182800","Medical weight scales"]
["42201855","Medical x ray apertures and cone sets"]
["42201858","Medical x ray apparatus cables and cable assemblies"]
["42201836","Medical x ray apparatus compression band assemblies"]
["42201828","Medical x ray apparatus filters"]
["42201826","Medical x ray apparatus repair kits"]
["42201825","Medical x ray apparatus tube inserts"]
["42201835","Medical x ray apparatus tube unit assemblies"]
["42201808","Medical x ray buckys"]
["42203707","Medical x ray darkroom accessories"]
["42201827","Medical x ray darkroom tent repair kits"]
["42201861","Medical x ray equipment case or cover accessories"]
["42201822","Medical x ray equipment cases or covers  in a medical setting"]
["42203605","Medical x ray film archiving system software"]
["42203701","Medical x ray film daylight stampers or identification printers"]
["42203711","Medical x ray film dryers"]
["42201819","Medical x ray film hangers"]
["42201901","Medical x ray film hot spot lights"]
["42201906","Medical x ray film illuminator clips"]
["42201904","Medical x ray film illuminator windows or screens"]
["42201900","Medical x ray film illuminators and viewing equipment"]
["42201902","Medical x ray film large rack viewing systems"]
["42203710","Medical x ray film markers"]
["42203706","Medical x ray film processing chemical kits"]
["42203708","Medical x ray film processing fixers"]
["42201907","Medical x ray film stereoscopes"]
["42201905","Medical x ray film transfer cases"]
["42201903","Medical x ray film view boxes"]
["42201810","Medical x ray films or cassettes"]
["42201831","Medical x ray films or cassettes masks"]
["42201830","Medical x ray intensifying screens"]
["42203703","Medical x ray passthrough boxes"]
["42201811","Medical x ray quality assurance or calibration devices"]
["42201843","Medical x ray skin markers"]
["42201863","Medical x ray table or stand or chair or cabinet accessories"]
["42201812","Medical x ray tables or stands or chairs or cabinets or accessories"]
["42203712","Medical x ray temperature controllers"]
["42201813","Medical x ray tomography units"]
["42201823","Medical x ray tube and transfomer units"]
["42201814","Medical x ray tubes"]
["42201815","Medical x ray units for general diagnostic use"]
["42201837","Medical x ray water coolers"]
["42201816","Medical xeroradiography units"]
["E","Medical, Laboratory & Test Equipment & Supplies & Pharmaceuticals"]
["42141504","Medicated applicators or absorbents"]
["42192600","Medication dispensing and measuring devices and supplies"]
["42212200","Medication handling aids for the physically challenged"]
["42192602","Medication or pill dispensers"]
["42192603","Medicine feeding cups or bottles"]
["42191502","Medicine trays or covers"]
["11122003","Medium density fiberboard"]
["51351509","Medroxyprogesterone"]
["51351612","Medroxyprogesterone acetate"]
["90111600","Meeting facilities"]
["90111603","Meeting or banquet rooms"]
["44112004","Meeting planners"]
["80161502","Meeting planning services"]
["80141902","Meetings events"]
["51381504","Mefenamic acid"]
["51101902","Mefloquine"]
["51351510","Megestrol"]
["51351511","Megestrol acetate"]
["51101604","Meglumine antimonate"]
["41113628","Megohmmeters"]
["30171527","Melamine door"]
["51101616","Melarsoprol"]
["10151514","Melon seeds or seedlings"]
["51385804","Meloxicam"]
["51112513","Melphalan"]
["41112233","Melting point measuring instrument"]
["41112203","Melting point recorders"]
["43202108","Memory card case"]
["43233418","Memory drivers"]
["43201402","Memory module cards"]
["51201610","Meningococcal vaccine"]
["53111501","Mens boots"]
["53103101","Mens waistcoats"]
["92101704","Mentally impaired criminal facilities"]
["14111825","Menu"]
["51473203","Merbromin or mercurochrome"]
["51203403","Mercaptopurine"]
["56130000","Merchandising furniture and accessories"]
["41113328","Mercury analyzer"]
["42181603","Mercury blood pressure units"]
["42182206","Mercury medical thermometers"]
["26111716","Mercury oxide battery"]
["80121608","Mergers or acquisitions law"]
["51284605","Meropenem"]
["51284613","Meropenem trihydrate"]
["51381505","Mesalamine or mesalazine"]
["11162111","Mesh"]
["51172324","Mesna"]
["44121508","Message droppers"]
["44111501","Message holders or dispensers"]
["41116210","Metabolic disorder breathalyzer monitor or meter"]
["43232310","Metadata management software"]
["73120000","Metal and mineral industries"]
["23251500","Metal bending machines"]
["23241900","Metal boring machines"]
["72152901","Metal building front installation service"]
["23251900","Metal container manufacturing machinery and equipment"]
["41122203","Metal crucibles"]
["23242100","Metal cutting machine attachments"]
["23240000","Metal cutting machinery and accessories"]
["23241500","Metal cutting machines"]
["23241600","Metal cutting tools"]
["23241700","Metal deburring machines"]
["41111903","Metal detectors"]
["30171505","Metal doors"]
["23241800","Metal drilling machines"]
["23242612","Metal engraving machine"]
["23251800","Metal forming dies and tooling"]
["23250000","Metal forming machinery and accessories"]
["23241400","Metal grinding machines"]
["72152906","Metal lath and furring service"]
["23242500","Metal milling machines"]
["31163400","Metal nets and screening structures"]
["11180000","Metal oxide"]
["82121603","Metal plate engraving"]
["23251600","Metal rolling machines"]
["30151514","Metal roof tile"]
["72152909","Metal storage tank erection service"]
["72153202","Metal structure coating service"]
["72152404","Metal stud installation service"]
["41114614","Metal testing instruments"]
["23280000","Metal treatment machinery"]
["11190000","Metal waste scrap and by products"]
["13111207","Metalized films"]
["24112005","Metallic baskets"]
["24112004","Metallic bins"]
["30103800","Metallic fibers and filaments"]
["55121701","Metallic nameplates"]
["24112204","Metallic pails"]
["41111718","Metallurgical microscopes"]
["41114600","Metals and metallurgy and structural materials testing instruments"]
["51384627","Metamizole sodium"]
["41114428","Meteorological Balloon "]
["41114417","Meteorological buoy robot"]
["43232617","Meteorological control software"]
["41114400","Meteorological instruments"]
["41114418","Meteorological satellite data receiving and analyzing system"]
["41114414","Meteorological satellite receiving equipment"]
["81151502","Meteorological services"]
["95121907","Meteorological station"]
["81151500","Meteorology"]
["41114411","Meteorology instrument accessories"]
["41116501","Meter dials or dial kits"]
["42271807","Metered dose inhaler spacers or holding chambers"]
["41105105","Metering pumps"]
["51183505","Metformin"]
["51183510","Metformin hydrochloride"]
["51182710","Metformin/linagliptin"]
["51182709","Metformin/sitagliptin"]
["51371910","Methadone hydrochloride"]
["15111502","Methane"]
["51285907","Methenamine mandelate"]
["51181605","Methimazole"]
["51151904","Methocarbamol"]
["81131500","Methodology and analysis"]
["51111610","Methotrexate"]
["51202203","Methotrexate sodium"]
["51131526","Methoxy polyethylene glycol-epoetin beta"]
["51385608","Methyl salicylate"]
["15111509","Methylacetylene propadiene MAPP gas"]
["51431803","Methyldopa"]
["51172308","Methylene blue or methylthioninium chloride"]
["51182202","Methylergometrine or methylergonovine"]
["51452201","Methylparaben"]
["51144014","Methylphenidate"]
["51144015","Methylphenidate hydrochloride"]
["51422354","Methylprednisolone acetate"]
["51422356","Methylprednisolone sodium succinate"]
["51171806","Metoclopramide"]
["51263139","Metoprolol"]
["51263169","Metoprolol tartrate"]
["51151527","Metrifonate or trichlorfon"]
["51282808","Metronidazole"]
["60131501","Metronomes"]
["51282407","Mezlocillin"]
["11101501","Mica"]
["51302320","Miconazole"]
["51302337","Miconazole nitrate"]
["81121502","Micro economic analysis"]
["41104309","Microaerophilic environmental cutlure system"]
["41123204","Microbial quality control QC reference organism"]
["41123005","Microbial susceptibility disc desiccant storage container"]
["47101609","Microbiocides"]
["41103403","Microbiological aircontrol equipment"]
["41115822","Microbiology analyzer accessories or supplies"]
["41116011","Microbiology analyzer reagents"]
["41115821","Microbiology analyzers"]
["41171600","Microbiology devices"]
["41104307","Microbiology fermentation equipment"]
["41104924","Microbiology filters"]
["41122108","Microbiology inoculation loops or needles"]
["41116131","Microbiology or bacteriology identification or sensitivity disks or panels"]
["41116132","Microbiology or bacteriology quality controls or calibrators or standards"]
["41116130","Microbiology or bacteriology reagents or solutions or stains"]
["41116129","Microbiology or bacteriology test kits or supplies"]
["41105203","Microbiology slide stainers"]
["41121702","Microcentrifuge tubes"]
["41103901","Microcentrifuges"]
["45112003","Microfiche or microfilm viewer components or accessories"]
["45112001","Microfiche or microfilm viewers"]
["45112004","Microfiche reader printer components or accessories"]
["45112002","Microfiche reader printers"]
["82131503","Microfiche services"]
["45121805","Microfilm camera components or accessories"]
["45121801","Microfilm cameras"]
["45121806","Microfilm duplicator components or accessories"]
["45121802","Microfilm duplicators"]
["45112000","Microfilm equipment and supplies"]
["45121809","Microfilm film supplies"]
["45121807","Microfilm jacket filler components or accessories"]
["45121803","Microfilm jacket fillers"]
["45121808","Microfilm processor components or accessories"]
["45121804","Microfilm processors"]
["45121800","Microfilm production equipment and supplies"]
["45121810","Microfilm sundry components or accessories"]
["41111745","Micromanipulator"]
["41111622","Micrometer calipers"]
["41111601","Micrometers"]
["50501709","Micronutrition Powder (WFP food convention)"]
["41106200","Microorganism propagation and transformation media and kits and equipment"]
["43223210","Micropayment messaging systems"]
["52161520","Microphones"]
["41113037","Microplate readers"]
["41103818","Microplate shaker"]
["41103207","Microplate washers"]
["41113036","Microplates"]
["41111750","Microscope anti vibration mat or table"]
["41111756","Microscope base unit"]
["41111758","Microscope body"]
["41111763","Microscope cleaning kit"]
["41111731","Microscope collectors"]
["41111730","Microscope condensers"]
["41111736","Microscope covers"]
["41111741","Microscope differential interference contrast equipment"]
["41111729","Microscope eyepieces"]
["41111752","Microscope filter cube or box"]
["41111764","Microscope fitting"]
["41111751","Microscope fluorescence filter"]
["41111757","Microscope head"]
["41122605","Microscope immersion oil"]
["41111755","Microscope knob"]
["41122607","Microscope lens cleaner solution"]
["41122603","Microscope lens paper"]
["41111705","Microscope objectives"]
["41111770","Microscope pointer"]
["41111760","Microscope sample manipulation system and accessories"]
["41123314","Microscope slide and tissue cabinet marker and accessories"]
["41123302","Microscope slide boxes or folders"]
["41123303","Microscope slide cabinets"]
["41122606","Microscope slide dispensers"]
["41122802","Microscope slide racks"]
["41122601","Microscope slides"]
["41111765","Microscope stage slide clip"]
["41111767","Microscope stage warming system or incubator and accessories"]
["41111734","Microscope stages"]
["41111733","Microscope tubes"]
["41122602","Microscopes slide coverslips"]
["41111744","Microscopic micrometer"]
["41103314","Microscopic structure estimation apparatus"]
["41105205","Microslide making equipment"]
["41102917","Microtome blades"]
["41102916","Microtomes"]
["43221708","Microwave access equipment"]
["43221709","Microwave antennas"]
["43221707","Microwave core equipment"]
["41113629","Microwave leakage meters"]
["41105325","Microwells plates for deoxyribonucleic acid DNA or deoxyribonucleic acid DNA hybridization"]
["51401569","Midazolam hydrochloride"]
["51401570","Midazolam maleate"]
["51112037","Midostaurin"]
["57030101","Midwifery kit"]
["51201812","Mifamurtide"]
["51351613","Mifepristone"]
["92112300","Military bases"]
["46181612","Military boot"]
["86131800","Military education"]
["25131700","Military fixed wing aircraft"]
["92111800","Military personnel and discipline"]
["86131803","Military police training"]
["92111900","Military policy"]
["25131900","Military rotary wing aircraft"]
["92111700","Military science and research"]
["92110000","Military services and national defense"]
["92112200","Military tactics"]
["25131709","Military transport aircraft"]
["25131902","Military transport helicopters"]
["53102701","Military uniforms"]
["25111700","Military watercraft"]
["46220000","Military weapon and ammunition disarmament and disposal equipment and related products"]
["92112000","Military zones"]
["41113042","Milk analyzer"]
["50131700","Milk and butter products"]
["48101703","Milk dispensers"]
["21101916","Milking machine parts and accessories"]
["21101901","Milking machines"]
["48101706","Milkshake machines"]
["10151604","Millet seeds"]
["23181502","Milling machinery"]
["23101513","Milling machines"]
["51391616","Milrinone lactate"]
["44101511","Mimeograph and accessories"]
["14111505","Mimeograph paper"]
["92111615","Mine Action and ERW : Risk Education "]
["92111616","Mine Action and ERW: Advocacy"]
["92111609","Mine action center MAC or mine action coordination center MACC service"]
["46221501","Mine anti-tampering device"]
["46221508","Mine detecting dog MDD"]
["46221513","Mine Detector"]
["46221504","Mine dispenser"]
["81102809","Mine landmine impact survey LIS"]
["72121502","Mine loading and discharging station construction service"]
["81102501","Mine permitting service"]
["25101715","Mine Protected Vehicles - Ambulance "]
["46221512","Mine Protected Vehicles - Interrogation Arm"]
["25101716","Mine Protected Vehicles – Recovery Vehicle"]
["46221511","Mine rollers"]
["46221509","Mine self destruction mechanism"]
["46221510","Mine self neutralization equipment"]
["92111613","Mine victim or survivor assistance service"]
["81102800","Minefield and demining services"]
["46211603","Minefield or mine hazard area marker"]
["46211604","Minefield or mine hazard area marking signage"]
["11000000","Mineral and Textile and Inedible Plant and Animal Materials"]
["41113313","Mineral oil testing instruments"]
["50501901","Mineral salt lick"]
["11101500","Minerals"]
["11100000","Minerals and ores and metals"]
["25101501","Minibuses"]
["43211516","Minicomputer"]
["42294300","Minimally invasive breast biopsy instruments and supplies and equipment"]
["50111500","Minimally processed meat and poultry products"]
["71000000","Mining and oil and gas services"]
["20100000","Mining and quarrying machinery and equipment"]
["20000000","Mining and Well Drilling Machinery and Accessories"]
["81102000","Mining engineering"]
["46181552","Mining headlamp"]
["71100000","Mining services"]
["25101505","Minivans or vans"]
["51284012","Minocycline"]
["51284035","Minocycline hydrochloride"]
["93141706","Minorities protection services"]
["84141503","Minority owned business programs"]
["44101709","Mirror assemblies"]
["51292908","Mirtazapine"]
["10122100","Miscellaneous animal food"]
["31162400","Miscellaneous fasteners"]
["31211700","Miscellaneous finishes"]
["31162800","Miscellaneous hardware"]
["41106402","Miscellaneous primers"]
["53141600","Miscellaneous sewing supplies"]
["51182214","Misoprostol"]
["46120000","Missiles"]
["51111704","Mitomycin"]
["51281823","Mitoxantrone hydrochloride"]
["50421856","Mixed Beans"]
["41103816","Mixer or shaker accessories or attachments"]
["23190000","Mixers and their parts and accessories"]
["47101512","Mixers or agitators"]
["12352400","Mixtures"]
["25191551","Mobile ATA Control Tower"]
["46171646","Mobile Backscatter X-Ray System"]
["83111600","Mobile communications services"]
["22101524","Mobile excavators"]
["56101708","Mobile files"]
["85101508","Mobile healthcare centers or services"]
["95141602","Mobile home"]
["72153902","Mobile home site set up and tie down"]
["43233510","Mobile internet services software"]
["25101941","Mobile laboratory"]
["43233511","Mobile location based services software"]
["25101928","Mobile media truck"]
["42171603","Mobile medical service anti shock garments"]
["42172105","Mobile medical service automated external defibrillator AED accessories"]
["42172003","Mobile medical service intravenous IV kits"]
["42171601","Mobile medical services air evacuation stretchers"]
["42171606","Mobile medical services air splints"]
["42171800","Mobile medical services airway management equipment"]
["42171602","Mobile medical services ambulance cots"]
["42171801","Mobile medical services anesthesiology oropharyngeal airways"]
["42172101","Mobile medical services automated external defibrillators AED or hard paddles"]
["42171604","Mobile medical services basket stretchers"]
["42171700","Mobile medical services blankets"]
["42172104","Mobile medical services cardio pulmonary resuscitation CPR boards"]
["42171607","Mobile medical services cervical or extrication collars"]
["42171605","Mobile medical services cinch rescue loops"]
["42172015","Mobile medical services dental treatment kits"]
["42171501","Mobile medical services disaster body pouches"]
["42171500","Mobile medical services disaster management products and mobile medical services supplies"]
["42171600","Mobile medical services extricating and immobilizing and transporting products"]
["42172017","Mobile medical services field medical or laboratory medical equipment kits or related products"]
["42171702","Mobile medical services first aid blankets"]
["42172001","Mobile medical services first aid kits"]
["42172002","Mobile medical services first response kits"]
["42172016","Mobile medical services fracture kits"]
["42171608","Mobile medical services head immobilizers"]
["42171703","Mobile medical services heat shielding wraps or blankets"]
["42171704","Mobile medical services infant swaddlers or buntings"]
["42172000","Mobile medical services kits"]
["42172004","Mobile medical services life support kits"]
["42172005","Mobile medical services long distance response LDR trauma kits"]
["42172106","Mobile medical services manual resuscitators or ventilators"]
["42172006","Mobile medical services obstetrics kits"]
["42171810","Mobile medical services oxygen generators"]
["42172014","Mobile medical services patient transport kits or supplies"]
["42170000","Mobile medical services products"]
["42172008","Mobile medical services rappel kits"]
["42171609","Mobile medical services restraint or spine board straps"]
["42172100","Mobile medical services resuscitation products"]
["42171612","Mobile medical services scoop stretchers"]
["42172009","Mobile medical services search and rescue kits"]
["42171613","Mobile medical services spine boards"]
["42171610","Mobile medical services torso immobilizers"]
["42295313","Mobile medical services tourniquets or clamps"]
["42172010","Mobile medical services trauma kits"]
["42171502","Mobile medical services triage tags"]
["42171614","Mobile medical services water rescue tubes or cans"]
["42172011","Mobile medical technician EMT kits"]
["43223200","Mobile messaging platforms"]
["43233509","Mobile messaging service software"]
["25101929","Mobile office van"]
["43233508","Mobile operator specific application software"]
["43233507","Mobile operator specific standard software"]
["43223208","Mobile or messaging game platform"]
["42171701","Mobile or rescue blankets"]
["43191601","Mobile phone face plates"]
["43191630","Mobile phone starter kits"]
["43191501","Mobile phones"]
["42171611","Mobile response litters"]
["42172103","Mobile resuscitator or aspirator kits"]
["95141713","Mobile Storage Unit (MSU)"]
["81161703","Mobile Telephone Administration Service"]
["95121806","Mobile telephone base station"]
["81161704","Mobile Telephone Support Service"]
["42201847","Mobile x ray systems"]
["46171645","Mobile X-Ray Systems "]
["43222629","Modem banks"]
["43201403","Modem cards"]
["43232914","Modem software"]
["43222628","Modems"]
["56111511","Modular clerical office packages"]
["56111514","Modular counter office packages"]
["56101711","Modular furniture connectors"]
["56111501","Modular reception office packages"]
["56111507","Modular staff office packages"]
["56111509","Modular technical office packages"]
["41113709","Modulation meters"]
["42142121","Moist steam cabinets"]
["44121622","Moisteners"]
["41111513","Moisture balances"]
["41112304","Moisture meters"]
["24113109","Molded box"]
["31401500","Molded gaskets"]
["30161900","Molding and millwork"]
["31140000","Moldings"]
["41116155","Molecular biology and cell culture growth media"]
["41116135","Molecular biology quality controls or calibrators or standards"]
["41116134","Molecular biology reagents or solutions or stains"]
["41116133","Molecular biology test kits or supplies"]
["41115843","Molecular diagnostics analyzer"]
["41115844","Molecular diagnostics analyzer accessories"]
["41104907","Molecular filtration equipment"]
["41104930","Molecular sieve"]
["51422122","Mometasone furoate monohydrate"]
["81121603","Monetary analysis"]
["81121604","Monetary liquidity"]
["81121601","Monetary policy"]
["81121602","Monetary systems"]
["81121600","Monetary systems and issues"]
["44111611","Money clips"]
["44102501","Money counting machines"]
["64101703","Money transfer application"]
["92121802","Money transport service"]
["43212002","Monitor arms or stands"]
["43212003","Monitor components"]
["41116203","Monitor or meter accessories"]
["41116212","Monitor or meter quality controls calibrators or standards"]
["41113025","Monochromators"]
["45121721","Monocomparator and accessories"]
["41111702","Monocular microscopes"]
["45102004","Monotype composing machines"]
["51161569","Montelukast sodium"]
["47121806","Mop wringer"]
["25101803","Mopeds"]
["42261804","Morgue cabinet refrigerators"]
["42261806","Morgue freezers"]
["42261805","Morgue walk in refrigerators"]
["51131823","Moroctocog alfa"]
["51343702","Moroxydine"]
["51372015","Morphine"]
["51372031","Morphine hydrochloride"]
["51372036","Morphine sulfate"]
["41114645","Mortar length tester"]
["41114649","Mortar permeability tester"]
["72151910","Mortar tuckpointing or restoration service"]
["30111504","Mortars"]
["84121900","Mortgage banking"]
["42262100","Mortuary equipment and supplies"]
["72152202","Mosaic creation and repair service"]
["85111704","Mosquito management or control services"]
["49121508","Mosquito nets"]
["43201513","Motherboards"]
["46171608","Motion detectors"]
["45131601","Motion picture camera film"]
["82131602","Motion picture cinematography"]
["45111826","Motion picture experts group MPEG encoder"]
["82131502","Motion picture film processing or reproduction"]
["47121707","Motion sickness bags"]
["72154300","Motive and electrical power generation equipment maintenance and repair services"]
["43233601","Motor Drive Software"]
["25101902","Motor homes"]
["72154302","Motor installation and maintenance service"]
["26101400","Motor or generator components"]
["26101412","Motor repair kit"]
["25175101","Motor vehicle repair part kit"]
["25100000","Motor vehicles"]
["46181705","Motorcycle helmets"]
["25175102","Motorcycle repair part kit"]
["25101804","Motorcycle sidecar"]
["25172512","Motorcycle tire"]
["25172514","Motorcycle tire inner tube"]
["25101801","Motorcycles"]
["25101800","Motorized cycles"]
["41111754","Motorized microscope nosepiece"]
["95121645","Motorway service area"]
["25161505","Mountain bicycles"]
["95121707","Mountain rescue building"]
["42222102","Mounted tracks or racks for intravenous infusion gravity systems"]
["31162300","Mounting hardware"]
["43211802","Mouse pads"]
["43211807","Mouse wrist rest"]
["53131509","Mouth fresheners"]
["60131509","Mouthpieces"]
["53131501","Mouthwash"]
["95121809","Movable weir"]
["94131800","Movements"]
["55121903","Moving message signs"]
["45131600","Moving picture media"]
["21101708","Mower parts or accessories"]
["21101701","Mowers"]
["70111710","Mowing services"]
["51282931","Moxifloxacin"]
["52161543","MP3 players or recorders"]
["42271931","Mucus extractors and specimen traps"]
["70111708","Mulching services"]
["11111806","Mullite"]
["41103804","Multi bank or flocculation equipment"]
["44101722","Multi bin mailbox power upgrades"]
["44101723","Multi bin mailboxes"]
["43212110","Multi function printers"]
["44101724","Multi function upgrades"]
["41113118","Multi gas monitors"]
["83112404","Multi point analog telecommunications circuit"]
["43211518","Multi screen computer"]
["42222003","Multichannel intravenous infusion pumps"]
["41105209","Multidepartment manual slide stainer set"]
["44101503","Multifunction machines"]
["44121720","Multifunction pen"]
["42211508","Multifunctional mobility devices"]
["93121601","Multilateral cooperation services"]
["25202911","Multilateration Surveillance (MLAT)"]
["43232505","Multi-media educational software"]
["43201823","Multimedia hard disc drive HDD player"]
["41111748","Multimedia image microscope"]
["43201417","Multimedia integrated board"]
["43211606","Multimedia kits"]
["45111609","Multimedia projectors"]
["43223203","Multimedia service center"]
["43233419","Multimedia stacks"]
["43202103","Multimedia storage holders"]
["41113630","Multimeters"]
["80151505","Multinational marketing enterprises"]
["93151513","Multinational public corporations services"]
["42181918","Multiparameter vital sign unit accessories"]
["42181904","Multiparameter vital sign units"]
["41116225","Multiparametric monitor "]
["41111910","Multipen recorders"]
["41103703","Multiple baths"]
["43202105","Multiple media cabinets"]
["51201900","Multiple sclerosis MS agents"]
["72111100","Multiple unit dwelling construction services"]
["41115864","Multiplex analyzer"]
["41115865","Multiplex analyzer accessories"]
["44111816","Multiplex drafting machine"]
["43222827","Multiplexer or MUX"]
["43232906","Multiplexer software"]
["14111807","Multipurpose business book"]
["57060400","Multipurpose emergency kits"]
["57666400","Multipurpose emergency kits"]
["41121701","Multipurpose or general test tubes"]
["14111525","Multipurpose paper"]
["43222620","Multiservice switch"]
["43222630","Multistation access units"]
["81131502","Multivariate analysis"]
["41104923","Multiwell plate filters"]
["41122102","Multiwell plates"]
["83101807","Municipal electric power distribution"]
["93161502","Municipal income tax"]
["92101601","Municipal or national firefighting services"]
["51286501","Mupirocin"]
["42141809","Muscle stimulator lead sets"]
["60131800","Music and dance accessories"]
["86131600","Music and drama"]
["60131508","Music boxes or mechanisms"]
["43221524","Music on hold adapter"]
["43221523","Music or message on hold player"]
["43232005","Music or sound editing software"]
["86131601","Music schools"]
["14111534","Music score or manuscript papers"]
["60131203","Musical flutes"]
["43201533","Musical instrument digital interface MIDI interfaces"]
["60131500","Musical instrument parts and accessories"]
["60131600","Musical instrument sets"]
["60131505","Musical instrument stands or sheet holders"]
["60000000","Musical Instruments and Games and Toys and Arts and Crafts and Educational Equipment and Materials and Accessories and Supplies"]
["60130000","Musical Instruments and parts and accessories"]
["60131003","Musical organs"]
["82151704","Musicians services"]
["92111606","Mutual or balanced force reductions"]
["51203201","Mycophenolate mofetil"]
["51203202","Mycophenolate mofetil hydrochloride"]
["51203203","Mycophenolate or mycophenolic acid"]
["42201853","Myelographic procedure sets"]
["51131641","Nadroparin"]
["53131621","Nail clippers"]
["31162000","Nails"]
["51372040","Nalbuphine hydrochloride"]
["51282951","Nalidixic acid"]
["51142302","Naloxone"]
["51142315","Naloxone hydrochloride"]
["51373341","Naloxone hydrochloride dihydrate/Oxycodone hydrochloride"]
["51162728","Naphazoline"]
["15101503","Naphtha"]
["51384514","Naproxen"]
["51142300","Narcotic antagonists"]
["46151606","Narcotic test kits"]
["42182500","Nasal function meters"]
["42312402","Nasal splints or stents"]
["42231700","Nasoenteric tubes"]
["42271919","Nasopharyngeal airway kits"]
["51202411","Natalizumab"]
["51302403","Natamycin"]
["93101701","National council services"]
["92000000","National Defense and Public Order and Security and Safety Services"]
["85151704","National food intervention policy or programs"]
["83121504","National government or military post libraries"]
["93161501","National income tax"]
["93151515","National planning services"]
["78102201","National postal delivery services"]
["51111900","Natural antineoplastic products"]
["50131801","Natural cheese"]
["30121711","Natural curbstone"]
["72141112","Natural gas compressor station construction service"]
["77101604","Natural resources management or conservation strategy planning services"]
["86101509","Natural resources vocational training services"]
["77111508","Natural risks or hazards protection services"]
["30131506","Natural rock slab"]
["13101500","Natural rubber"]
["50161509","Natural sugars or sweetening products"]
["25191548","Navaids Training Systems"]
["81101506","Naval architecture"]
["25173115","Navigation Sensor"]
["41112900","Navigational equipment and instruments"]
["78141700","Navigational services"]
["41106315","Near patient PCR machine"]
["81112302","Nearline or backup system maintenance"]
["51261703","Nebivolol"]
["51261706","Nebivolol hydrochloride"]
["42271802","Nebulizers"]
["42142511","Needle caps or protection devices"]
["42142527","Needle cleaning wires"]
["42142533","Needle for intravenous or arterial administration ports"]
["42142519","Needle guides"]
["42142531","Needle or blade or sharps disposal containers or carts"]
["42221617","Needle resheathers"]
["42281519","Needle sterilizers"]
["42142529","Needle trays or holders"]
["42221619","Needleless injection manifold kits"]
["42222200","Needleless intravenous injection and withdrawal systems"]
["42222201","Needleless intravenous injection syringe sets or injection cannulae"]
["42222202","Needleless vial or bag withdrawal cannulas or adapters or decanters"]
["45131508","Negative film"]
["42272100","Negative mechanical pressure ventilators"]
["42312600","Negative pressure and oxygen therapy wound care products"]
["42312603","Negative pressure dressings"]
["25101918","Neighborhood electric vehicle NEV"]
["51281618","Neomycin"]
["51281659","Neomycin sulfate"]
["51102863","Neomycin/polymyxin b"]
["51102864","Neomycin/polymyxin b/prednisolone"]
["55121708","Neon signs"]
["41104129","Neonatal metabolic disorder screen collection card"]
["51151512","Neostigmine"]
["41113026","Nephelometers"]
["42142717","Nephrostomy catheters or drains"]
["42142709","Nephrostomy sets"]
["51281614","Netilmicin"]
["11162110","Netting"]
["10151541","Nettle seed or seedlings"]
["51171858","Netupitant/Palonosetron"]
["81161502","Network Account Administration Service"]
["41113711","Network analyzers"]
["43222636","Network application engine"]
["81112218","Network application software maintenance"]
["43232700","Network applications software"]
["43201835","Network attached storage NAS device"]
["26121609","Network cable"]
["43223305","Network cable management panel assembly"]
["43222611","Network channel or data service units"]
["43233503","Network conferencing software"]
["43232911","Network connectivity terminal emulation software"]
["43201602","Network equipment chassis"]
["43222635","Network equipment upgrade kit"]
["81161503","Network folder administration service"]
["43222605","Network gateway"]
["43201404","Network interface cards"]
["43222634","Network management or monitoring device"]
["43232800","Network management software"]
["43232801","Network monitoring software"]
["43232802","Network operating system enhancement software"]
["43233002","Network operation system software"]
["43201550","Network packet data synchronization device"]
["81111706","Network planning services"]
["43223343","Network punchdown tool"]
["43222608","Network repeaters"]
["43222609","Network routers"]
["43233204","Network security and virtual private network VPN equipment software"]
["43222500","Network security equipment"]
["43233203","Network security or virtual private network VPN management software"]
["43222610","Network service concentrators or hubs"]
["43222600","Network service equipment"]
["43222612","Network switches"]
["43223306","Network system cabinet or enclosure"]
["43223307","Network system cabling box"]
["43223308","Network system equipment rack"]
["43222644","Network traffic controller"]
["81161712","Network voice service"]
["43232900","Networking software"]
["42182311","Neurologic sensors"]
["42182313","Neurological diagnostic sets"]
["42182306","Neurological discriminators"]
["85111607","Neurological disorder prevention or control services"]
["42182300","Neurological exam products"]
["85121806","Neurological laboratory services"]
["42182307","Neurological pins"]
["51152000","Neuromuscular blocking agents"]
["42141805","Neuromuscular stimulators or kits"]
["42295465","Neurophysiological monitoring systems"]
["42182303","Neuropsychiatry exam cards"]
["42296100","Neurosurgical implants"]
["41101808","Neutron diffraction apparatus"]
["51343002","Nevirapine"]
["72111101","New apartment building construction service"]
["72153506","New building post construction cleanup service"]
["80101501","New business start up consultation services"]
["72111103","New condominium construction service"]
["72111102","New cooperative construction service"]
["72111104","New dormitory construction service"]
["72111105","New hotel or motel construction service"]
["72121000","New industrial building and warehouse construction services"]
["51201705","Newcastle virus vaccine"]
["82111903","News agency wire services"]
["82111900","News and publicity services"]
["82111904","Newspaper or advertising material delivery services"]
["56101718","Newspaper rack"]
["55101504","Newspapers"]
["14121900","Newsprint and offset papers"]
["11171800","Nickel based super alloys"]
["26111709","Nickel cadmium batteries"]
["26111712","Nickel hydrogen batteries"]
["26111708","Nickel iron batteries"]
["26111721","Nickel metal hydride batteries"]
["26111725","Nickel sodium chloride batteries"]
["51451907","Niclosamide"]
["51143202","Nicotine"]
["51433903","Nifedipine"]
["46151602","Night sticks"]
["46171626","Night vision equipment"]
["53102600","Nightwear"]
["51111862","Nilotinib"]
["51182035","Nilutamide"]
["51413504","Nimodipine"]
["51112028","Nintedanib"]
["51453502","Nitazoxanide"]
["77121609","Nitrates pollution assessment"]
["51473104","Nitrofural or nitrofurazone"]
["51285307","Nitrofurantoin"]
["41104805","Nitrogen blowdown evaporators"]
["46191624","Nitrogen Cylinder "]
["25191529","Nitrogen Filling Cart "]
["41113107","Nitrogen gas analyzers"]
["41113322","Nitrogen or nitrate or nitrite analyzer"]
["41113108","Nitrogen oxide analyzers"]
["10171605","Nitrogen Phosphorous Potassium Mixtures NPK"]
["12131508","Nitroglycerin powder explosives"]
["51412601","Nitroprusside"]
["51201573","Nivolumab"]
["12142000","Noble gases"]
["77131601","Noise control services"]
["77131600","Noise pollution"]
["77131604","Noise pollution advisory services"]
["77131603","Noise pollution monitoring services"]
["77131602","Noise pollution protection services"]
["30121707","Noise protection board"]
["50407000","Nominant vegetables"]
["50202300","Non alcoholic beverages"]
["93121609","Non aligned countries cooperation"]
["48101702","Non carbonated beverage dispenser"]
["86111504","Non certificated distance learning services"]
["57030110","Non communicable diseases kit"]
["41111916","Non contact sensors"]
["85111600","Non contagious disease prevention and control"]
["50201714","Non dairy creamers"]
["41111800","Non destructive examination equipment"]
["41111818","Non destructive examination reagent"]
["11130000","Non edible animal products"]
["11120000","Non edible plant and forestry products"]
["31152200","Non electric iron and steel wire"]
["26101300","Non electric motors"]
["31152300","Non electric nonferrous metal wire"]
["39112600","Non electrical lighting devices"]
["42143604","Non EMS head restraints"]
["12164400","Non emulsifiers"]
["84101603","Non governmental aid"]
["93121608","Non governmental liaison services"]
["94131500","Non governmental organizations"]
["46221506","Non intrusive demining machine"]
["42182210","Non mercury glass medical thermometers"]
["24112006","Non metallic baskets"]
["24112003","Non metallic bins"]
["55121702","Non metallic nameplates"]
["11141600","Non metallic waste and scrap"]
["12141900","Non metals and pure and elemental gases"]
["25174700","Non motorized cycle components and accessories"]
["25175106","Non motorized cycle repair part kit"]
["25160000","Non motorized cycles"]
["30181600","Non sanitary residential fixtures"]
["86101700","Non scientific vocational training services"]
["86121804","Non technical professional schools"]
["82111600","Non technical writing"]
["14122104","Non treated crepe paper"]
["14122103","Non treated uncoated paper"]
["41104108","Non vacuum blood collection tubes or containers"]
["10191520","Non-chemical biological pest control solution"]
["25173127","Non-Directional Beacon (NDB) And Associated Equipment "]
["25173128","Non-Directional Beacon (Non-Directional Beacon) "]
["11131610","Non-edible bird and poultry eggs"]
["76121600","Nonhazardous waste disposal"]
["42132302","Non-insecticide treated bed net"]
["72120000","Nonresidential building construction services"]
["51381700","Nonsteroidal anti inflammatory acetanilides"]
["51381500","Nonsteroidal anti inflammatory benzoates"]
["51380000","Nonsteroidal anti inflammatory drugs NSAIDs"]
["51382700","Nonsteroidal anti inflammatory indenes"]
["51383400","Nonsteroidal anti inflammatory indoleacetic acids"]
["51383500","Nonsteroidal anti inflammatory indoles"]
["51383900","Nonsteroidal anti inflammatory nicotinic acids"]
["51383300","Nonsteroidal anti inflammatory phenylacetates"]
["51384500","Nonsteroidal anti inflammatory propionates"]
["51384600","Nonsteroidal anti inflammatory pyrazoles"]
["51384800","Nonsteroidal anti inflammatory pyridines"]
["51385600","Nonsteroidal anti inflammatory salicylates"]
["51385800","Nonsteroidal anti inflammatory thiazines"]
["42144400","Nonsurgical suction products"]
["70151601","Nonwood production services"]
["11162200","Nonwoven fabrics"]
["51143000","Nootropics"]
["51352008","Norethindrone or norethisterone"]
["51282932","Norfloxacin"]
["93121605","North south cooperation services"]
["80171908","Not for profit organization relations consultation and engagement"]
["43211619","Notebook computer carrying case"]
["43211615","Notebook computer expansion dock"]
["43211503","Notebook computers"]
["14111516","Notebook filler paper"]
["43191629","Notebook or palmtop skins or face plates"]
["14111600","Novelty paper"]
["41103318","Nuclear densitometer"]
["41113400","Nuclear evaluation instruments"]
["92111603","Nuclear freezes or disarmament"]
["15131500","Nuclear fuel"]
["26142200","Nuclear fuel equipment"]
["15131601","Nuclear fuel rod"]
["41115409","Nuclear magnetic resonance NMR spectrometers"]
["41121705","Nuclear magnetic resonance NMR tubes"]
["42204100","Nuclear medicine hot lab equipment and related products"]
["72154035","Nuclear power refueling service"]
["95121803","Nuclear power station"]
["26142100","Nuclear reactor equipment"]
["42201850","Nuclear tomography systems"]
["92112100","Nuclear warfare"]
["76131500","Nuclear waste treatment"]
["41106104","Nuclease protection assays"]
["41105500","Nucleic acid DNA and RNA extraction and purification and quantitation kits and components"]
["41115863","Nucleic acid extraction isolation and purification analyzer accessories"]
["41116027","Nucleic acid extraction isolation and purification analyzer reagent and kit"]
["41115862","Nucleic acid extraction, isolation and purification analyzer"]
["41105321","Nucleic acid gels stain"]
["41106000","Nucleic acid labeling and detection systems"]
["41106004","Nucleic acid non radioactive labeling kits"]
["41106005","Nucleic acid radioactive labeling kits"]
["41105508","Nucleic acids coprecipitants"]
["41105509","Nucleic acids quantitation kits"]
["42191611","Nurse communication modules or systems"]
["53102708","Nurses uniforms"]
["95122002","Nursing home"]
["42301505","Nursing or medical clipboards"]
["53131637","Nursing pads"]
["70141508","Nut production"]
["10152003","Nut tree seeds or cuttings"]
["85151606","Nutrient deficiency control programs"]
["50501724","Nutrimix (WFP food convention) "]
["85151600","Nutrition issues"]
["85151601","Nutrition programming services"]
["85151604","Nutrition project evaluation"]
["85111608","Nutritional disease prevention or control services"]
["57050103","Nutritional kit - inpatient module, medical supplies"]
["57050104","Nutritional kit - inpatient, module-equipment"]
["57050105","Nutritional kit - inpatient, module-registration"]
["57050102","Nutritional kit - outpatient, module registration"]
["57050101","Nutritional kit - outpatient, module-equipment"]
["50501600","Nutritional mineral supplements"]
["50500000","Nutritional supplements"]
["51191900","Nutritional therapy products"]
["31161700","Nuts"]
["50100000","Nuts and seeds"]
["50101700","Nuts and seeds"]
["13111208","Nylon films"]
["51302404","Nystatin"]
["31401503","O ring molded gasket"]
["10151605","Oat seeds"]
["49211808","Obesity measurement tool"]
["51111782","Obinutuzumab"]
["43232405","Object or component oriented development software"]
["43232311","Object oriented data base management software"]
["60131202","Oboes"]
["39111629","Obstacle Lighting"]
["42143136","Obstetric Surgical Kit"]
["57030103","Obstetric, surgical kit"]
["42143100","Obstetrical and gynecological equipment and supplies"]
["42143124","Obstetrical extraction unit accessories"]
["42143105","Obstetrical extraction units"]
["42192701","Obstetrical or gynecological exam table accessories"]
["42192702","Obstetrical or gynecological exam tables"]
["42143126","Obstetrical vacuum delivery system accessories"]
["42143112","Obstetrical vacuum delivery systems"]
["42143113","Obstetric-gynecologic tubal occlusion valves"]
["42143114","Obstetrics-gynecology abdominal decompression chambers"]
["41111961","Occupant sensor"]
["93141808","Occupational health or safety services"]
["85122102","Occupational therapy services"]
["81102100","Ocean engineering"]
["78101902","Ocean to rail transportation"]
["78101903","Ocean to truck transportation"]
["81151801","Oceanographic survey"]
["81151800","Oceanography and hydrology"]
["51201575","Ocrelizumab"]
["51111863","Octreotide"]
["83112304","Ocx optical carrier service"]
["47101530","Odor control equipment"]
["80161501","Office administration or secretarial services"]
["44110000","Office and desk accessories"]
["57060300","Office emergency kits"]
["57666300","Office emergency kits"]
["44000000","Office Equipment and Accessories and Supplies"]
["80161800","Office equipment rental or leasing services"]
["56101700","Office furniture"]
["72153606","Office furniture installation service"]
["72153613","Office furniture lease and maintenance service"]
["95141708","Office kitchen"]
["57060301","Office kits for UN staff"]
["44102900","Office machine accessories"]
["44101705","Office machine trays or feeders"]
["44100000","Office machines and their supplies and accessories"]
["43231513","Office suite software"]
["44120000","Office supplies"]
["44103200","Office time recording machines and accessories"]
["80141412","Offline media buying"]
["45121513","Offset cameras"]
["45101602","Offset darkroom equipment"]
["45101606","Offset film processors"]
["14121904","Offset paper"]
["45101616","Offset printing cleaning accessories"]
["45101603","Offset printing consumables"]
["45101615","Offset printing machine parts"]
["45101604","Offset printing plate processors"]
["45101502","Offset printing presses"]
["45101517","Offset proof press"]
["72141216","Offshore construction vessel service"]
["72121512","Offshore oil and gas production facility equipment installation and integration service"]
["72121511","Offshore oil and gas production facility hookup and commissioning service"]
["80131504","Offshore temporary housing service"]
["72101513","Offsite construction service"]
["51282956","Ofloxacin"]
["41113631","Ohmmeters"]
["72141110","Oil and gas branch line construction service"]
["71150000","Oil and gas data management and processing services"]
["20120000","Oil and gas drilling and exploration equipment"]
["20130000","Oil and gas drilling and operation materials"]
["81101900","Oil and gas engineering"]
["71110000","Oil and gas exploration services"]
["71130000","Oil and gas extraction and production enhancement services"]
["78111705","Oil and gas offshore platform personnel transportation service"]
["78141806","Oil and gas offshore support shore base service"]
["20140000","Oil and gas operating and production equipment"]
["72141113","Oil and gas pipeline construction service"]
["72121513","Oil and gas plant modular fabrication service"]
["72121514","Oil and gas production platform and topside fabrication service"]
["71140000","Oil and gas restoration and reclamation services"]
["83101600","Oil and gas utilities"]
["71160000","Oil and gas well project management services"]
["41103707","Oil baths"]
["41112231","Oil cloud and pour point tester"]
["77101906","Oil depot or terminal site investigation"]
["41113045","Oil film tester"]
["41114525","Oil filter tester"]
["40161504","Oil filters"]
["41113047","Oil foaming characteristics tester"]
["41112514","Oil gauges"]
["25111511","Oil or gas crew boat"]
["95121808","Oil or gas platform"]
["25111512","Oil or gas workboat"]
["10152056","Oil palm seed"]
["83101603","Oil pipeline services"]
["77131500","Oil pollution"]
["41111957","Oil pressure sensor"]
["72121503","Oil refinery construction service"]
["76131700","Oil spill cleanup"]
["77131502","Oil spillage control services"]
["77131501","Oil spillage monitoring services"]
["77131503","Oil spillage rehabilitation services"]
["25101915","Oil tank truck"]
["71161605","Oilfield consultancy services"]
["71151100","Oilfield data management services"]
["71161000","Oilfield modeling services"]
["12181600","Oils"]
["10151533","Okra seeds or seedlings"]
["51401705","Olanzapine"]
["51111781","Olaparib"]
["41111941","Olfactory sensors"]
["51432315","Olmesartan medoxomil"]
["51202412","Omalizumab"]
["93151514","Ombudsman services"]
["90101701","On site cafeteria management"]
["72111003","On site mobile home repair service"]
["72154031","On site welding service"]
["90101504","On street food vendors"]
["51171816","Ondansetron"]
["10151515","Onion seeds or seedlings"]
["14111501","Onion skin paper"]
["80171602","Online and social media publicity service"]
["81112001","Online data processing service"]
["81111902","Online database information retrieval service"]
["83121604","Online database information retrieval systems"]
["41111942","Opacity or dust or visibility sensors"]
["22101530","Open bowl scrapers"]
["41103323","Open channel acoustic flowmeter"]
["42294700","Open heart perfusion equipment and monitors and accessories and related products"]
["42295300","Open heart surgical supplies and accessories and related products"]
["41114301","Open stream current meters"]
["41114303","Open stream water level recorders"]
["24112802","Open top freight container"]
["95111600","Open traffic thoroughfares"]
["43233000","Operating environment software"]
["84121607","Operating lease finance service"]
["42191602","Operating room lighting"]
["95122003","Operating room or theater"]
["81111505","Operating system programming services"]
["43233004","Operating system software"]
["81112204","Operating system software maintenance"]
["55101516","Operation or instruction manuals"]
["42301508","Operational or instructional videos for medical equipment"]
["51241100","Ophthalmic agents"]
["42183000","Ophthalmic diagnostic exam products"]
["42292801","Ophthalmic marking instruments"]
["42294500","Ophthalmic specialty instruments and related products"]
["42182005","Ophthalmoscopes or otoscopes or scope sets"]
["93111507","Opposition movements"]
["41115326","Optic collimator"]
["43221803","Optical adapters"]
["43221801","Optical amplifiers"]
["41115310","Optical calibration sets"]
["43232111","Optical character reader OCR or scanning software"]
["43211717","Optical character recognition systems"]
["43222624","Optical cross connects equipment"]
["41101809","Optical diffraction apparatus"]
["43201902","Optical disk changers"]
["41112517","Optical flowmeter and accessories"]
["23151700","Optical industry machinery and equipment and supplies"]
["41111746","Optical lever"]
["39112100","Optical lighting"]
["43211729","Optical mark reader"]
["14111541","Optical mark reader paper"]
["43221810","Optical multiplexer"]
["43221800","Optical network devices"]
["43232803","Optical network management software"]
["43221802","Optical network or communication filters"]
["43201405","Optical network receive cards"]
["43201406","Optical network transmit cards"]
["43221804","Optical networking lasers"]
["43201832","Optical or compact disc juke box"]
["43221811","Optical switch"]
["43221809","Optical transmitter"]
["42142610","Oral liquid medication syringes"]
["85122004","Oral surgeon services"]
["57030104","Oral-rehydration-points consumable kit"]
["41103811","Orbital shakers"]
["41103710","Orbital shaking water baths"]
["70111701","Orchard management or maintenance services"]
["70141801","Orchard tree or vine planting services"]
["51391726","Orciprenaline or metaproterenol"]
["14111821","Order forms or order books"]
["11101600","Ores"]
["41103705","Organ baths"]
["42295464","Organ preservation solutions"]
["50311501","Organic akane apples"]
["50311502","Organic ambrosia apples"]
["50311503","Organic api apples"]
["50311500","Organic apples"]
["50411500","Organic artichokes"]
["50311504","Organic baldwin apples"]
["50311505","Organic braeburn apples"]
["50311506","Organic bramley apples"]
["50311507","Organic bramley seedling apples"]
["50411501","Organic brittany artichokes"]
["50311508","Organic calville blanche d'hiver apples"]
["50311509","Organic cameo apples"]
["50311510","Organic charles ross apples"]
["50311511","Organic codlin apples"]
["50311512","Organic cortland apples"]
["50311513","Organic costard apples"]
["50311514","Organic court pendu plat apples"]
["50311515","Organic cox's orange pippin apples"]
["50311516","Organic crab apples"]
["50311517","Organic crispin apples"]
["12352100","Organic derivatives and substituted compounds"]
["77121607","Organic fertilizer pollution assessment"]
["10171500","Organic fertilizers and plant nutrients"]
["50310000","Organic fresh fruits"]
["50410000","Organic fresh vegetables"]
["43211905","Organic light emitting displays"]
["56111603","Organization for panel systems"]
["80101506","Organizational structure consultation"]
["94000000","Organizations and Clubs"]
["44111500","Organizers and accessories"]
["49211803","Orienteering equipment"]
["41112513","Orifice plate"]
["72141130","Ornamental fountain construction and or remodelling service"]
["72154024","Ornamental metal and iron work service"]
["11162121","Ornamental trimmings"]
["51152064","Orphenadrine citrate"]
["41113109","ORSAT equipment"]
["42152700","Orthodontic and prosthodontic equipment and supplies"]
["85122005","Orthodontic services"]
["42240000","Orthopedic and prosthetic and sports medicine products"]
["42241506","Orthopedic casting material for splints"]
["42241505","Orthopedic casting rolls or tapes"]
["42241700","Orthopedic softgoods for lower extremity"]
["42241800","Orthopedic softgoods for upper extremity and torso"]
["42241507","Orthopedic splint systems"]
["42320000","Orthopedic surgical implants"]
["42242100","Orthopedic traction supplies and accessories"]
["42241706","Orthotics or foot care products"]
["41113660","Oscillator tester"]
["41111911","Oscillographic recorders"]
["41113632","Oscillographs"]
["41113638","Oscilloscopes"]
["51341802","Oseltamivir"]
["51341805","Oseltamivir phosphate"]
["51112034","Osimertinib"]
["41113039","Osmometer accessories"]
["41113027","Osmometers"]
["43223111","OSS mobile core network equipment and components"]
["43223112","OSS wireless access network equipment and components"]
["42312101","Ostomy appliance adhesives"]
["42312102","Ostomy appliances"]
["42312111","Ostomy bag covers"]
["42312113","Ostomy bag plugs"]
["42312109","Ostomy bag rings"]
["42312112","Ostomy belts"]
["42312103","Ostomy cleaners or deodorants"]
["42312104","Ostomy collection supplies"]
["42312106","Ostomy inserts"]
["42312115","Ostomy irrigation sleeves"]
["42312105","Ostomy skin barriers or protective care kits"]
["42312110","Ostomy starter kits"]
["42312100","Ostomy supplies and non surgical wound drainage products"]
["42312107","Ostomy wafers"]
["70101902","Ostreiculture"]
["11131600","Other animal products"]
["52141800","Other domestic household appliances"]
["71161600","Other oilfield support services"]
["49210000","Other sports"]
["42182015","Otoscope speculums"]
["56101600","Outdoor furniture"]
["39111616","Outdoor lighting accessories"]
["80111507","Outplacement services"]
["44101729","Output stackers"]
["42241900","Outrigger and dynamic splinting supplies"]
["25101931","Outside broadcasting van"]
["53102100","Overalls and coveralls"]
["42191801","Overbed tables"]
["72151607","Overground engineering for communication equipment"]
["45111617","Overhead projector or video trolleys"]
["45111607","Overhead projectors"]
["41103810","Overhead stirrers"]
["78111702","Overnight ship cruises"]
["95121631","Overpass"]
["53112100","Overshoes"]
["51204205","Ovine rinderpest or peste des petit ruminants vaccines"]
["55101521","Owner or user manuals"]
["51112705","Oxaliplatin"]
["51453201","Oxamniquine"]
["51283300","Oxazolidinones"]
["51141522","Oxcarbazepine"]
["51283423","Oxetacillin"]
["51451604","Oxfendazole"]
["42271730","Oxgyen plant, pressure swing absorption (PSA)"]
["41113051","Oxidation reduction tester"]
["51151657","Oxybutynin"]
["51372108","Oxycodone"]
["51372127","Oxycodone hydrochloride"]
["42271703","Oxygen air blenders"]
["42271721","Oxygen concentrator filters"]
["42271702","Oxygen concentrators"]
["42271705","Oxygen delivery connectors or adapters"]
["25191532","Oxygen Filling Cart "]
["41113110","Oxygen gas analyzers"]
["47101513","Oxygen generators"]
["42271719","Oxygen insufflators"]
["41111924","Oxygen sensors"]
["42271718","Oxygen therapy delivery system products"]
["42271700","Oxygen therapy delivery systems and devices"]
["42271704","Oxygen timers"]
["42271722","Oxygen uptake computers"]
["51162732","Oxymetazoline"]
["51473013","Oxyquinoline"]
["51284014","Oxytetracycline"]
["51102862","Oxytetracycline/polymyxin b"]
["51182203","Oxytocin"]
["41103420","Ozone environmental chamber"]
["44101708","Ozone filters"]
["77111502","Ozone protection services"]
["82141506","Package design services"]
["50192700","Packaged combination meals"]
["47101522","Packaged water treatment systems"]
["24121500","Packaging boxes and bags and pouches"]
["24121800","Packaging cans"]
["24121511","Packaging carton"]
["24121513","Packaging case"]
["24102108","Packaging compactors"]
["73152104","Packaging equipment maintenance and repair service"]
["55121609","Packaging labels"]
["23152900","Packaging machinery"]
["24120000","Packaging materials"]
["14121504","Packaging paper"]
["24121502","Packaging pouches or bags"]
["73151600","Packaging services"]
["24141700","Packaging tubes and cores and labels and accessories"]
["78121500","Packing"]
["78141601","Packing inspection services"]
["44102300","Packing machines"]
["42312403","Packing strips for wound care"]
["24140000","Packing supplies"]
["24102200","Packing tools"]
["31180000","Packings glands boots and covers"]
["51111904","Paclitaxel"]
["45101514","Pad printer"]
["45101516","Pad printing cliché"]
["25111904","Paddles"]
["43221717","Pager access equipment"]
["81161705","Pager Administration Service"]
["43221716","Pager core equipment"]
["43191622","Pager modules or accessories"]
["81161706","Pager Support Service"]
["43191502","Pagers"]
["43223211","Paging controllers"]
["83111604","Paging services"]
["43223212","Paging terminals"]
["31211600","Paint additives"]
["31211900","Paint applicators and painting accessories"]
["31211800","Paint solvents and thinners"]
["22101632","Paint Stripping Machine"]
["23153500","Paint systems"]
["82151501","Painters services"]
["86131502","Painting"]
["72151300","Painting and paper hanging services"]
["31211500","Paints and primers"]
["31210000","Paints and primers and finishes"]
["51112021","Palbociclib"]
["51332003","Paliperidone"]
["51332006","Paliperidone palmitate"]
["51201574","Palivizumab"]
["24101505","Pallet trucks"]
["78131601","Palletized cargo storage"]
["24102105","Palletizers"]
["24112700","Pallets"]
["50151518","Palmolein Oil (WFP food convention)"]
["51171822","Palonosetron"]
["45121616","Pan heads"]
["51171910","Pancreatin"]
["78181600","Panel and paint services"]
["41113673","Panel and switchboard meter"]
["56111600","Panel systems"]
["51111758","Panitumumab"]
["51171915","Pantoprazole"]
["44102504","Paper and plastic counter"]
["41114700","Paper and wood and textile testing instruments"]
["24111502","Paper bags"]
["44122026","Paper claws"]
["44122104","Paper clips"]
["44121612","Paper cutters or refills"]
["44101601","Paper cutting machines or accessories"]
["45101903","Paper drilling machines"]
["72151308","Paper hanging service"]
["44101605","Paper jogging machines"]
["23151900","Paper making and paper processing machinery and equipment and supplies"]
["14100000","Paper materials"]
["14000000","Paper Materials and Products"]
["14111705","Paper napkins or serviettes"]
["44121611","Paper or eyelet punches"]
["44111506","Paper or pad holder or dispensers"]
["72121004","Paper or pulp mill construction and remodeling service"]
["14111514","Paper pads or notebooks"]
["44101607","Paper press machine"]
["44101600","Paper processing machines and accessories"]
["14110000","Paper products"]
["14101501","Paper pulp"]
["44101602","Paper punching or binding machines"]
["44101608","Paper shredder bag"]
["44101603","Paper shredding machines or accessories"]
["44101606","Paper sorting machines"]
["14111706","Paper table cloth"]
["47131701","Paper towel dispensers"]
["14111703","Paper towels"]
["44121625","Paper weights"]
["11162118","Paper yarn fabric"]
["14121500","Paperboard and packaging papers"]
["14121701","Papers bonded with film"]
["53131616","Para pharmaceutical creams or lotions"]
["51281520","Para-aminosalicylate sodium"]
["42142538","Paracentesis sets or trays"]
["11162128","Parachute cloth"]
["72154016","Parade float construction service"]
["42251705","Parallel bars for rehabilitation or therapy"]
["43201522","Parallel port cards"]
["42192427","Paramedic or emergency medical technician EMT cases or bags"]
["53102712","Paramedic uniforms"]
["85111502","Parasitic disease prevention or control services"]
["41116142","Parasitology or mycology media"]
["41116143","Parasitology or mycology quality controls or calibrators or standards"]
["41116141","Parasitology or mycology reagents or solutions or stains"]
["41116140","Parasitology or mycology test kits or supplies"]
["44102302","Parcel wrapping machines"]
["14111503","Parchment paper"]
["86111603","Parent education"]
["60105903","Parenting skills instructional materials"]
["51192459","Paricalcitol"]
["72141129","Park and garden construction and or remodelling service"]
["72153700","Parking facility construction and equipment installation and maintenance and repair services"]
["72153701","Parking facility equipment installation"]
["78111807","Parking fees"]
["95121644","Parking lot"]
["72152708","Parking lot construction service"]
["72153702","Parking lot maintenance"]
["72103301","Parking lot or road maintenance or repairs or services"]
["72103304","Parking lot or road sweeping services"]
["70111700","Parks and gardens and orchards"]
["70111713","Parks management or maintenance services"]
["70111712","Parks or gardens spraying services"]
["93101608","Parliament members services"]
["93101707","Parliamentary practice services"]
["51294513","Paroxetine hydrochloride"]
["10151524","Parsley seeds or seedlings"]
["23153600","Part marking machines"]
["86111602","Part time adult education services"]
["41101812","Particle accelerator"]
["41111973","Particle counter"]
["41115837","Particle counter and sizer"]
["41115838","Particle counter and sizer accessories and supplies"]
["41116154","Particle counter and sizer quality controls and calibrators and standards"]
["41113903","Particle size measuring apparatus"]
["41116018","Particle sizer and counter analyzer reagent"]
["11122002","Particleboard"]
["30162400","Partition walls"]
["56101510","Partitions"]
["80121603","Partnership law"]
["56111606","Parts or accessories panel systems"]
["90101602","Party tent services"]
["11121621","Pashaco wood"]
["78111500","Passenger air transportation"]
["78111505","Passenger aircraft rental or leasing service"]
["78111700","Passenger marine transportation"]
["25101500","Passenger motor vehicles"]
["25111508","Passenger or automobile ferries"]
["78111600","Passenger railway transportation"]
["78111800","Passenger road transportation"]
["90121603","Passenger ticket verification service"]
["78110000","Passenger transport"]
["25131601","Passenger transport helicopters"]
["32120000","Passive discrete components"]
["46191507","Passive firestop system"]
["46171632","Passive infrared sensor"]
["90121601","Passport services"]
["55121803","Passports"]
["42311523","Paste bandages"]
["41123309","Pasteur or transfer pipette dispenser"]
["41121509","Pasteur or transfer pipettes"]
["70121900","Pasture and range services"]
["70121901","Pasture improvement"]
["43223309","Patch panel"]
["80121604","Patent or trademark or copyright law"]
["85121804","Pathological laboratory services"]
["42261500","Pathology dissection instruments and supplies"]
["95122007","Pathology room or laboratory"]
["42132103","Patient barrier drapes"]
["42182803","Patient bed or table scales for general use"]
["42191800","Patient beds and accessories"]
["42131501","Patient bibs"]
["42131502","Patient caps"]
["42272009","Patient carbon dioxide detectors"]
["42141601","Patient care admission kits"]
["42140000","Patient care and treatment products and supplies"]
["42191807","Patient care beds for general use"]
["42191808","Patient care beds for specialty care"]
["42191813","Patient care cot covers"]
["42191810","Patient care mattresses"]
["42192304","Patient ceiling hoists"]
["42182804","Patient chair scales"]
["42131500","Patient clothing"]
["42222004","Patient controlled analgesia infusion pumps"]
["42191607","Patient cubicle curtains or screens or curtain track hardware"]
["42180000","Patient exam and monitoring products"]
["42131503","Patient exam capes"]
["42182805","Patient floor scales"]
["42131504","Patient gowns"]
["42182703","Patient height rulers"]
["42171503","Patient holding or evacuation system heater units"]
["42142303","Patient identification and information products"]
["42131512","Patient infant caps or hats or material for infant caps"]
["42131505","Patient infant shirts or vests"]
["42131506","Patient jackets"]
["42192301","Patient lifts"]
["42192300","Patient lifts"]
["42143607","Patient motion sensors or alarms"]
["42131508","Patient pajamas"]
["41116200","Patient point of care testing supplies and equipment"]
["42143609","Patient restraint boards"]
["42191601","Patient room lighting"]
["42192205","Patient scooter accessories"]
["42192206","Patient scooters"]
["42192211","Patient shifting boards"]
["42182806","Patient sling scales"]
["42131507","Patient slippers or socks"]
["42143608","Patient stabilization or fall prevention devices"]
["42192207","Patient stretchers"]
["42192303","Patient suspended seats or slings"]
["42182207","Patient temperature continuous or trend monitors"]
["42182208","Patient temperature strips"]
["42192212","Patient transfer mats or sheets"]
["42192220","Patient transport incubator accessories"]
["42192204","Patient transport incubators"]
["42192215","Patient transport isolation chambers"]
["42192200","Patient transport products"]
["42192217","Patient transport trolley accessories"]
["42192201","Patient transport trolleys"]
["42131510","Patient trousers"]
["42141607","Patient urinals"]
["72111004","Patio and deck construction and repair service"]
["43232101","Pattern design software"]
["22101633","Pavement Crack Sealing Equipment"]
["72151306","Pavement marking service"]
["30171701","Paving blocks"]
["22101600","Paving equipment"]
["30121705","Paving slab"]
["30121710","Paving stone"]
["43191627","Pay phone coin box vault doors"]
["43191625","Pay phone coin boxes"]
["43191624","Pay phone coin chutes"]
["43191623","Pay phone coin mechanisms"]
["43191626","Pay phone hoppers"]
["43191628","Pay phone microphone windscreens"]
["83111503","Pay phone provider services"]
["43191503","Pay phones"]
["84121608","Payment gateway services"]
["84111505","Payroll accounting services"]
["93161604","Payroll tax"]
["51112006","Pazopanib"]
["81112307","PC or workstation or notebook maintenance"]
["43201555","PC radio tuners"]
["43201412","PCMCIA or PC card"]
["41103506","PCR enclosures"]
["41104933","PCR System"]
["10151506","Pea seeds or seedlings"]
["50501720","Pea Wheat Blended (WFP food convention) "]
["92111502","Peace keeping operations"]
["93111502","Peace movements"]
["93121612","Peace treaties cooperation"]
["10151535","Peanut seeds or seedlings"]
["93111506","Peasant movements"]
["25161500","Pedal powered vehicles"]
["56101712","Pedestals"]
["95121636","Pedestrian tunnel"]
["42192706","Pediatric examination table accessories"]
["42192707","Pediatric examination tables"]
["57030111","Pediatric kit"]
["42181547","Pediatric kit"]
["85121613","Pediatric services"]
["42231802","Pediatric supplemental formulas or bars or puddings for general use"]
["53131618","Pedicure implements"]
["41111602","Pedometers"]
["51201803","Pegfilgrastim"]
["51342715","Peginterferon alfa-2a"]
["51111785","Pembrolizumab"]
["51111650","Pemetrexed"]
["44121713","Pen nibs"]
["43202010","Pen or flash drive"]
["44111509","Pen or pencil holders"]
["44121702","Pen or pencil sets"]
["51342307","Penciclovir"]
["44121714","Pencil or pen grips"]
["41113904","Penetrometers"]
["51283401","Penicillin o"]
["51283406","Penicillin V or phenoxymethylpenicillin"]
["51283500","Penicillinase-resistant penicillins"]
["51283400","Penicillins"]
["42142718","Penile support and lengthening devices"]
["84131700","Pension funds"]
["51101613","Pentamidine"]
["51172201","Pentosan polysulfate sodium"]
["51132001","Pentoxifylline"]
["60131507","Percussion instrument accessory"]
["60131400","Percussion instruments"]
["45101508","Perforating machines"]
["90130000","Performing arts"]
["82151700","Performing arts professionals"]
["11121900","Perfumery products"]
["42203429","Pericardiocentesis catheters"]
["42142532","Pericardiocentesis needles or kits"]
["51432503","Perindopril"]
["42143110","Perineal heaters"]
["42143107","Perinometers"]
["55101519","Periodicals"]
["42152800","Periodontal equipment and supplies"]
["43201411","Peripheral component interconnect PCI card"]
["43201815","Peripheral component microchannel interconnect architecture reader and writer drives"]
["43201407","Peripheral controller cards"]
["42295911","Peripheral stents"]
["43211604","Peripheral switch boxes"]
["42221504","Peripherally inserted central catheters PICC"]
["41111742","Periscope or protectorscope"]
["41105102","Peristaltic pumps"]
["42161500","Peritoneal and equilibrium dialysis equipment and supplies"]
["42161502","Peritoneal dialysate warmers"]
["42161503","Peritoneal dialysis administration sets"]
["42161504","Peritoneal dialysis catheter adapters or clamps or connectors"]
["42161506","Peritoneal dialysis catheters or indwelling access devices"]
["42161505","Peritoneal dialysis drainage bags or containers"]
["42161507","Peritoneal dialysis solutions"]
["42161508","Peritoneal dialysis unit straps or harnesses"]
["42161509","Peritoneal dialysis units or cyclers "]
["42161510","Peritoneal lavage kits"]
["48102006","Permanent bars"]
["95120000","Permanent buildings and structures"]
["80111706","Permanent clerical or administrative assistance"]
["80111714","Permanent drivers"]
["80111708","Permanent financial staffing needs"]
["80111712","Permanent information technology networking specialists"]
["80111711","Permanent information technology software developers"]
["80111716","Permanent information technology staffing needs"]
["80111713","Permanent information technology systems or database administrators"]
["80111710","Permanent legal staffing needs"]
["80111705","Permanent machinist personnel"]
["80111704","Permanent marketing staff needs"]
["80111709","Permanent medical staff needs"]
["80111715","Permanent professional staff"]
["80111707","Permanent technical staffing needs"]
["41113906","Permeability or porosity estimation apparatus"]
["41113905","Permeability testing apparatus"]
["51453401","Permethrin topical antiparasitic"]
["81102500","Permitting services"]
["51332822","Perphenazine"]
["91000000","Personal and Domestic Services"]
["91100000","Personal appearance"]
["53130000","Personal care products"]
["91111900","Personal care services"]
["43191500","Personal communication devices"]
["43191610","Personal communication holders or mounts, stands"]
["43191600","Personal communications device accessories or parts"]
["81111502","Personal computer PC application design"]
["43201554","Personal computer television PC TV tuners"]
["43211508","Personal computers"]
["84141600","Personal credit agencies"]
["43211616","Personal digital assistant PDA holder"]
["43211504","Personal digital assistant PDAs or organizers"]
["53131651","Personal hygiene kit"]
["53131652","Personal Hygiene kit for Newborn Infants"]
["91111800","Personal item care and storage"]
["25111805","Personal motorized watercraft"]
["44111516","Personal organizers"]
["14111700","Personal paper products"]
["57070105","Personal protection equipment, power and water supply"]
["57030400","Personal protective equipment"]
["57333400","Personal protective equipment (PPE)"]
["46161712","Personal safety alert"]
["46180000","Personal safety and protection"]
["46182500","Personal safety devices or weapons"]
["57010101","Personal travel kits for UN staff"]
["I","Personal, Domestic & Consumer Equipment & Supplies"]
["20102301","Personnel carriers"]
["14111810","Personnel forms or personnel books"]
["55121806","Personnel identification band kits or accessories"]
["80111700","Personnel recruitment"]
["80111506","Personnel relocation"]
["86101810","Personnel skills training"]
["51111786","Pertuzumab"]
["42142716","Pessary devices"]
["72102100","Pest control"]
["10191700","Pest control devices"]
["78141603","Pest control inspections"]
["10190000","Pest control products"]
["10191500","Pesticides or pest repellents"]
["77121608","Pesticides pollution assessment"]
["70121801","Pet breeding services"]
["70121802","Pet grooming services"]
["41122809","Petri dish racks"]
["41122110","Petri pad dispenser"]
["41122109","Petri pads"]
["41122101","Petri plates or dishes"]
["26111614","Petrol generator"]
["26131506","Petrol power plants"]
["42311524","Petrolatum dressings"]
["15101500","Petroleum and distillates"]
["53131641","Petroleum jelly"]
["23110000","Petroleum processing machinery"]
["78102101","Petroleum products transport"]
["72154025","Petroleum storage tank pumping and draining service"]
["70121800","Pets industry"]
["41116166","Ph meter and conductivity meter calibrant and standard"]
["41115603","pH meters"]
["41113034","pH test strips or papers"]
["41105510","Phage deoxyribonucleic acid DNA purification kits"]
["41106616","Phage or viral deoxyribonucleic acids DNA"]
["23151800","Pharmaceutical industry machinery and equipment and supplies"]
["72121005","Pharmaceutical manufacturing plant construction and remodeling service"]
["85121901","Pharmaceutical preparation services"]
["24131515","Pharmaceutical refrigerator and freezer"]
["85121900","Pharmacists"]
["14111824","Pharmacy prescription pad"]
["41111749","Phase contrast microscope"]
["41113664","Phase sequence indicator"]
["41113602","Phasemeters"]
["44103113","Phasers or inkjet kits"]
["51384803","Phenazopyridine"]
["51283407","Pheneticillin or phenethicillin"]
["51283418","Pheneticillin potassium"]
["51361918","Phenobarbital"]
["51473307","Phenol or phenolate sodium"]
["51283419","Phenoxymethylpenicillin calcium"]
["51283420","Phenoxymethylpenicillin potassium"]
["51391734","Phenylephrine"]
["51241544","Phenylephrine/zinc sulfate"]
["51141507","Phenytoin"]
["51141596","Phenytoin sodium"]
["41123311","Phlebotomy area organization rack and dispenser"]
["41104106","Phlebotomy trays or accessories"]
["45111900","Phone and video conference equipment and hardware and controllers"]
["43191632","Phone antenna"]
["95141710","Phone box or phone booth"]
["43191602","Phone dialers"]
["43191603","Phone extension cords"]
["43191604","Phone face plates"]
["43191605","Phone handset cords"]
["43191606","Phone handsets"]
["43191607","Phone headset ear or speaker cushions"]
["43191608","Phone headset voice tubes"]
["43191609","Phone headsets"]
["43191611","Phone line protectors"]
["43191631","Phone or modem jack adapters or country kits or travel kits"]
["43191612","Phone rests"]
["43191614","Phone voice converters"]
["43232508","Phonebook software"]
["77121610","Phosphates pollution assessment"]
["10171603","Phosphatic fertilizer"]
["41111706","Photo attachments for microscopes"]
["45121706","Photo cutters or trimmers"]
["45141503","Photo development processing kit"]
["45141504","Photo enhancing and correcting solution"]
["45121707","Photo print dryer"]
["45121708","Photo print washer"]
["82141503","Photocomposition"]
["45102003","Photocomposition materials"]
["44101706","Photoconductor or imaging units"]
["45121514","Photocopier cameras"]
["80161801","Photocopier rental or leasing service"]
["44103127","Photocopier toner"]
["44101501","Photocopiers"]
["82121700","Photocopying"]
["41114615","Photoelastic testing instruments"]
["41115327","Photoelectric measuring equipment"]
["81151701","Photogeology"]
["81151603","Photogrammetry"]
["45141605","Photograph purifier"]
["82131600","Photographers and cinematographers"]
["45130000","Photographic and recording media"]
["45131510","Photographic dye"]
["45121705","Photographic enlargers"]
["45140000","Photographic filmmaking supplies"]
["45121632","Photographic flashlight apparatus"]
["45120000","Photographic or filming or video equipment"]
["82141601","Photographic or picture mounting or framing services"]
["45141604","Photographic print processor"]
["45141500","Photographic processing chemicals"]
["45121700","Photographic processing equipment"]
["45141611","Photographic processing temperature regulator"]
["82130000","Photographic services"]
["45141610","Photographic timer"]
["45121624","Photography light reflector"]
["14121812","Photography paper"]
["45101505","Photogravure printing machines"]
["41115340","Photometer accessories"]
["41115311","Photometers"]
["42143701","Phototherapy air circulators"]
["42143702","Phototherapy blankets"]
["42143703","Phototherapy bulbs"]
["42143704","Phototherapy light mats"]
["42143705","Phototherapy patient protection devices"]
["42143706","Phototherapy power units"]
["42143700","Phototherapy systems and accessories"]
["42143708","Phototherapy vests"]
["42143707","Phototherapy warmer beds"]
["45102005","Phototypesetting machines"]
["42250000","Physical and occupational therapy and rehabilitation products"]
["49211807","Physical education assessment tools"]
["49211800","Physical education classroom equipment"]
["49211806","Physical education equipment storage"]
["81151803","Physical oceanography"]
["92111614","Physical security and stockpile management PSSM service"]
["42192003","Physical therapy massage tables"]
["85122101","Physical therapy services"]
["41111912","Physiological recorders"]
["51131834","Phytomenadione or phylloquinone"]
["60131001","Pianos"]
["60131204","Piccoloes"]
["45121621","Picture card adapters"]
["45121619","Picture card wallets"]
["55101507","Picture or drawing or coloring books for children"]
["72141211","Pier construction service"]
["41112101","Piezo electric crystals"]
["50425407","Pigeon Peas"]
["12171600","Pigments"]
["22101504","Pile drivers"]
["72141507","Pile driving service"]
["22101535","Pile extractor"]
["30102800","Piling"]
["52121505","Pillows"]
["51151544","Pilocarpine hydrochloride"]
["51202801","Pimecrolimus"]
["41111644","Pin gauge"]
["51151674","Pinaverium bromide"]
["11121616","Pine wood"]
["41114642","Pinhole detector"]
["44122106","Pins or tacks"]
["41104131","Pinworm collection paddle or device"]
["51183706","Pioglitazone hydrochloride"]
["72141124","Pipe laying service"]
["40170000","Pipe piping and pipe fittings"]
["40174700","Pipe threaded flanges"]
["72154400","Pipefitting fabrication and maintenance services"]
["72154401","Pipefitting fabrication service"]
["72154402","Pipefitting maintenance or repair service"]
["95121640","Pipeline"]
["95121639","Pipeline carrying bridge"]
["78102103","Pipeline inline inspection service"]
["78102100","Pipeline services"]
["72141114","Pipeline wrapping service"]
["70171705","Pipelines maintenance or management services"]
["51282409","Piperacillin"]
["51285003","Piperacillin/tazobactam"]
["51453001","Piperazine"]
["51452302","Piperonyl"]
["41121515","Pipette bulbs"]
["41121514","Pipette pumps"]
["41122801","Pipette racks or stands"]
["41123308","Pipette storage canister or box"]
["41121600","Pipette tips"]
["41103203","Pipette washers"]
["41121517","Pipetter inserts or accessories"]
["41121500","Pipettes and liquid handling equipment and supplies"]
["41115850","Pipettor delivery calibration and verification analyzer"]
["41115851","Pipettor delivery calibration and verification analyzer accessories"]
["41116022","Pipettor delivery calibration and verification analyzer reagent"]
["41116163","Pipettor delivery manual calibration and verification test kit"]
["41121522","Pipettor reagent reservoir"]
["51113501","Pipobroman"]
["51113502","Piposulfan"]
["51204001","Pirfenidone"]
["51385805","Piroxicam"]
["51283411","Piroxicillin"]
["26101736","Pistons"]
["30121602","Pitch"]
["41114504","Pitch measuring instruments"]
["41112519","Pitot gauge"]
["72152004","Plain or ornamental plastering service"]
["50192900","Plain pasta and noodles"]
["41114528","Planer motion mechanism measuring instrument"]
["44111901","Planning boards or accessories"]
["82121501","Planning or layout of graphic production"]
["44112000","Planning systems"]
["15101800","Plant based liquid fuels or biofuels"]
["11121800","Plant fibers"]
["10171502","Plant hormones"]
["81101515","Plant or facility infrastructure engineering"]
["41104015","Plant samples analysis equipment"]
["21101601","Planters"]
["70111501","Planting services or ornamental plant or bush or tree"]
["70111500","Plants and ornamental trees"]
["70111508","Plants or ornamental tree spraying services"]
["43211904","Plasma display panels PDP"]
["52161542","Plasma screens"]
["41103019","Plasma storage freezers"]
["41106617","Plasmid mutagenesis vectors or kits"]
["41105512","Plasmids or cosmids or bacterial artificial chromosomes BAC purification kit"]
["72152000","Plastering and drywall services"]
["30111700","Plasters"]
["57060204","Plastic / Tarpaulin sheeting"]
["73100000","Plastic and chemical industries"]
["24111503","Plastic bags"]
["30265800","Plastic bars and sheets"]
["24122002","Plastic bottles"]
["72153201","Plastic coating of concrete structures service"]
["12131505","Plastic explosives"]
["21102601","Plastic film for agriculture"]
["13111200","Plastic films"]
["24112702","Plastic pallet"]
["53131666","Plastic potty for infant"]
["30265802","Plastic sheet"]
["24113003","Plastic slip sheet"]
["31151904","Plastic straps"]
["72153607","Plastic wall tile installation service"]
["41114628","Plasticity tester"]
["12162000","Plasticizers"]
["30102200","Plate"]
["41113818","Plate bearing tester"]
["24131606","Plate freezers"]
["41104406","Plate incubators"]
["42295470","Platelet concentration systems"]
["41104427","Platelet incubator"]
["41103808","Platelet mixers"]
["45101902","Platemakers"]
["44101715","Platen covers"]
["24112803","Platform freight container"]
["43232915","Platform interconnectivity software"]
["24101514","Platform truck"]
["43202211","Platters or disks"]
["72153103","Playground construction and equipment installation service"]
["49241500","Playground equipment"]
["49241503","Playground merry go rounds"]
["49241501","Playground swings"]
["51131520","Plerixafor"]
["42144100","Pleural cavity drain products"]
["42144101","Pleural cavity drainage units or containers"]
["14111510","Plotter paper"]
["44103123","Plotter pens"]
["43212107","Plotter printers"]
["21101501","Ploughs"]
["70131603","Plowing services"]
["47131903","Plugging compound"]
["72151100","Plumbing construction services"]
["30180000","Plumbing fixtures"]
["81141807","Plumbing or sewer inspection service"]
["72101510","Plumbing system maintenance or repair"]
["42231814","Plumpy Doz (WFP standard)"]
["42231817","Plumpy Nut (WFP standard)"]
["20121449","Plunger lift equipment"]
["11122001","Plywood"]
["31250000","Pneumatic and hydraulic and electric control systems"]
["26101502","Pneumatic engines"]
["27131501","Pneumatic impact wrenches"]
["27130000","Pneumatic machinery and equipment"]
["49121507","Pneumatic mattresses"]
["27131500","Pneumatic tools"]
["41103306","Pneumatic vacuum equipment"]
["51201615","Pneumococcal vaccine"]
["44101807","Pocket calculator"]
["30171508","Pocket doors"]
["27111504","Pocket knives"]
["51241215","Podophyllum resin"]
["82111703","Poetry authors services"]
["81112309","Point of sale hardware installation or implementation service"]
["81112308","Point of sale hardware maintenance and support service"]
["43211720","Point of sale payment terminal"]
["43212112","Point of sale POS receipt printers"]
["43232611","Point of sale POS software"]
["43211505","Point of sale POS terminal"]
["81112221","Point of sale software maintenance service"]
["41111913","Point plotting recorders"]
["83112405","Point to point analog telecommunications circuit"]
["83112403","Point to point digital telecommunications circuit"]
["45111601","Pointers"]
["41115314","Polarimeters"]
["41115315","Polariscopes"]
["41111725","Polarizing microscopes"]
["41113029","Polarographs"]
["92101500","Police services"]
["95121702","Police station"]
["53102703","Police uniforms"]
["25101702","Police vehicles"]
["92101501","Policing services"]
["51321604","Polidocanol"]
["51131901","Poligeline or polygeline"]
["51201616","Poliovirus vaccine"]
["93101500","Political bodies"]
["93101504","Political legislature services"]
["93111500","Political movements"]
["93101600","Political officials"]
["93111602","Political participation"]
["93111601","Political representation"]
["93111600","Political representation and participation"]
["93100000","Political systems and institutions"]
["93000000","Politics and Civic Affairs Services"]
["21101807","Pollination equipment or supplies"]
["80171501","Polling and survey and public opinion monitoring and analysis"]
["77130000","Pollutants tracking and monitoring and rehabilitation services"]
["77121602","Polluted soil removal services"]
["77121603","Polluted soil treatment or rehabilitation"]
["41103419","Pollution environmental chamber"]
["77101900","Pollution investigation services"]
["77120000","Pollution tracking and monitoring and rehabilitation"]
["43211909","Poly light emitting diode LED display"]
["41105319","Polyacrylamide gel making reagents"]
["41105322","Polyacrylamide gels stain"]
["41105320","Polyacrylamide premade gels"]
["13111209","Polycarbonate films"]
["14121803","Polyester coated papers"]
["13111210","Polyester films"]
["14121802","Polyethylene coated papers"]
["13111201","Polyethylene films"]
["51171641","Polyethylene glycol"]
["41114636","Polymer molding condition measuring instrument"]
["41106300","Polymerase chain reaction PCR and reverse transcriptase polymerase chain reaction RT PCR products"]
["41106306","Polymerase chain reaction PCR buffers"]
["41106615","Polymerase chain reaction PCR cloning vectors or kits"]
["41106307","Polymerase chain reaction PCR optimizing products"]
["41106308","Polymerase chain reaction PCR or reverse transcriptase polymerase chain reaction RT PCR primers"]
["41103037","Polymerase chain reaction PCR tube strip and plate cooler"]
["13111213","Polymide films"]
["51283106","Polymyxin b"]
["51102871","Polymyxin b/trimethoprim"]
["51101612","Polynoxylin"]
["13111211","Polypropylene films"]
["13111214","Polystyrene films"]
["95121901","Polytechnic school"]
["13111202","Polyurethane films"]
["51241565","Polyvinyl alcohol"]
["13111219","Polyvinyl alcohol films"]
["13111218","Polyvinylidene chloride"]
["51203303","Pomalidomide"]
["53101806","Poncho"]
["72141212","Pond construction service"]
["46161603","Pool alarms"]
["47121815","Pool cleaner"]
["93141600","Population"]
["93141601","Population census services"]
["93141609","Population composition analysis services"]
["93141604","Population control services"]
["93141608","Population distribution or analysis services"]
["93141602","Population sample surveys services"]
["93141605","Population trends or projections services"]
["51161709","Poractant alfa"]
["41113907","Porosimeters"]
["43222819","Port connection panels"]
["43211603","Port replicators"]
["39112000","Portable and Temporary Lighting and accessories"]
["43221729","Portable antenna"]
["42182708","Portable baby/child measuring set"]
["48102007","Portable bars"]
["95131601","Portable box office"]
["95130000","Portable buildings and structures"]
["95131600","Portable commercial and industrial buildings and structures"]
["45141612","Portable darkroom"]
["43211715","Portable data input terminals"]
["72101517","Portable generator maintenance and or repair service"]
["72101518","Portable generator rental service"]
["43201827","Portable hard disk storage device"]
["95131604","Portable kitchen unit"]
["72154064","Portable lighting equipment rental service"]
["43202106","Portable media case or wallet"]
["80131505","Portable or modular office rental service"]
["42192428","Portable oxygen or resuscitation cases"]
["95131606","Portable sales booth"]
["41114105","Portable seismic apparatus"]
["30240000","Portable Structure Building Components"]
["30241702","Portable structure canvas section"]
["30241500","Portable Structure Consolidating Components"]
["95131602","Portable toilet"]
["80131506","Portable toilet rental service"]
["43232312","Portal server software"]
["42211503","Positioning devices"]
["41121519","Positive displacment repeating pipettor"]
["42272200","Positive mechanical pressure ventilators and accessories"]
["30102900","Post"]
["30121712","Post cover"]
["72154052","Post disaster renovation and repair service"]
["76121507","Post event refuse collection and clean up service"]
["70142000","Post harvesting crop processing"]
["81102806","Post mine clearance assessment service"]
["92111610","Post mine clearance inspection service"]
["95121701","Post office"]
["78102202","Post office box services"]
["72121404","Post office construction service"]
["42241709","Post operative shoes"]
["44121513","Postage stamp"]
["44122021","Postage stamp albums"]
["44121633","Postage stamp dispensers"]
["78102200","Postal and small parcel and courier services"]
["41111510","Postal scales"]
["14111607","Poster boards"]
["14111615","Poster papers"]
["51182100","Posterior pituitary hormones"]
["86121702","Postgraduate programs"]
["72154027","Posthole digging service"]
["42260000","Postmortem and mortuary equipment and supplies"]
["42261612","Postmortem finger straighteners"]
["42261609","Postmortem identification tags or bracelets"]
["42261510","Postmortem incision clips"]
["42261508","Postmortem needles"]
["42261611","Postmortem rectal thermometers"]
["42261507","Postmortem threads"]
["10171602","Potassic fertilizer"]
["51191806","Potassium bicarbonate/Potassium bitartrate"]
["51191802","Potassium chloride"]
["51192318","Potassium chloride/Sodium chloride/Dextrose/Sodium citrate"]
["51171628","Potassium phosphate"]
["51191800","Potassium salts"]
["50425610","Potato Flakes/Granules (WFP food convention)"]
["50221304","Potato flour"]
["10152401","Potato seeds or seedlings"]
["41113633","Potentiometers"]
["21101900","Poultry and livestock equipment"]
["70121606","Poultry production services"]
["51201700","Poultry vaccines"]
["51471502","Povidone"]
["51471505","Povidone iodine"]
["42192606","Powder blowers"]
["50131704","Powdered milk"]
["39121006","Power adapters or inverters"]
["24101512","Power buggies"]
["39121000","Power conditioning equipment"]
["39121017","Power distribution units PDUs"]
["41113680","Power factor meter"]
["26130000","Power generation"]
["26000000","Power Generation and Distribution Machinery and Accessories"]
["26131800","Power generation control equipment"]
["26131700","Power generation monitoring or detecting equipment"]
["73171501","Power generation or transmission or distribution equipment manufacture services"]
["26111600","Power generators"]
["81141806","Power line inspection service"]
["41113708","Power meters"]
["43233602","Power Monitor Software"]
["72121506","Power plant construction service"]
["26131500","Power plants"]
["83101808","Power quality monitoring"]
["26100000","Power sources"]
["57070103","Power supply"]
["39121004","Power supply units"]
["43202223","Power Supply, Computer "]
["27112700","Power tools"]
["27112712","Power trimmers"]
["46182007","Powered air purifying respirator system PAPRs or accessories"]
["25131500","Powered fixed wing aircraft"]
["24101516","Powered platform truck"]
["51142565","Pramipexole dihydrochloride monohydrate"]
["51131649","Prasugrel"]
["51452701","Praziquantel"]
["51283408","Prazocillin"]
["51263002","Prazosin"]
["51263009","Prazosin hydrochloride"]
["41111923","Pre ignition knock sensor"]
["83111504","Pre paid phone card services"]
["30103619","Precast concrete element"]
["72152907","Precast concrete structural framing panel placing service"]
["11101800","Precious metals"]
["84121805","Precious metals market services"]
["81121605","Precious metals reserves"]
["41114403","Precipitation or evaporation recorders"]
["41114406","Precipitation or evaporation surface observing apparatus"]
["39111627","Precision Approach Path Indicator System (PAPI) "]
["39111626","Precision Approach Path Indicator System (Papi) "]
["23153700","Precision fastening or torque equipment"]
["27113300","Precision hand tools"]
["25191550","Preconditioned Air Unit (PCA)"]
["25191550","Preconditioned Air Unit (PCA)"]
["51422315","Prednisolone"]
["51422364","Prednisolone sodium phosphate"]
["51102872","Prednisolone/sulfacetamide"]
["51422101","Prednisone"]
["95140000","Prefabricated buildings and structures"]
["95141700","Prefabricated commercial and industrial buildings and structures"]
["95141800","Prefabricated emergency relief buildings and structures"]
["95141500","Prefabricated farm buildings and structures"]
["72153610","Prefabricated fireplace installation service"]
["72121006","Prefabricated industrial building erection and remodeling service"]
["95141900","Prefabricated medical buildings and structures"]
["95141600","Prefabricated residential buildings and structures"]
["72152402","Prefabricated window and door installation service"]
["42142619","Prefilled flush syringes"]
["51362604","Pregabalin"]
["60105907","Pregnancy from conception through birth instructional materials"]
["95121713","Prehistoric monument"]
["41106309","Premade complementary deoxyribonucleic acid cDNA"]
["41105328","Premade northern or southern or western blots"]
["43221504","Premise branch exchange PBX systems"]
["41106213","Premixed media dry"]
["60105902","Prenatal nutrition resources or fetal abuse instructional materials"]
["80141504","Preparation of commodity market surveys"]
["72121508","Preparation plant construction service"]
["50190000","Prepared and preserved foods"]
["50193200","Prepared salads"]
["50192600","Prepared side dishes"]
["50191500","Prepared soups and stews"]
["14111829","Pre-printed notepad"]
["45111618","Presentation light boxes"]
["43232106","Presentation software"]
["41123202","Preserved animals and organisms"]
["41123201","Preserved prepared slides"]
["41123200","Preserved specimens and supplies"]
["93101604","Presidential services"]
["82111901","Press release services"]
["41112423","Pressure altimeter"]
["41112414","Pressure calibrator"]
["41112411","Pressure controllers"]
["48101529","Pressure cookers or pressure fryers"]
["30171525","Pressure door"]
["41112420","Pressure drop gauge"]
["41112412","Pressure gauge"]
["93111606","Pressure groups representation or participation services"]
["41112403","Pressure indicators"]
["41112408","Pressure intensifiers"]
["41112400","Pressure measuring and control instruments"]
["47121903","Pressure or steam cleaner accessories"]
["47121805","Pressure or steam cleaners"]
["41112405","Pressure or vacuum recorders"]
["26112001","Pressure plate"]
["41112404","Pressure regulator"]
["41112409","Pressure scanners"]
["41111927","Pressure sensors"]
["43211709","Pressure stylus"]
["41112110","Pressure transducer"]
["41112410","Pressure transmitters"]
["51281521","Pretomanid"]
["41111524","Price indicating scale"]
["51101903","Primaquine"]
["41116161","Primary and secondary antibodies for multiple methodology immunostaining detection application"]
["85121502","Primary care physician consultation services"]
["85121503","Primary care physician control services"]
["85121504","Primary care physician emergency medical services"]
["85121501","Primary care physician home visits services"]
["85121500","Primary care practitioner services"]
["57030107","Primary healthcare kit"]
["93101605","Prime ministers services"]
["41106400","Primers and linkers and adaptors"]
["51141526","Primidone"]
["82101500","Print advertising"]
["44103122","Print bands"]
["44103110","Print heads"]
["82101905","Print placement"]
["43201537","Print servers"]
["32100000","Printed circuits and integrated circuits and microassemblies"]
["55100000","Printed media"]
["55101500","Printed publications"]
["44103100","Printer and facsimile and photocopier supplies"]
["44101700","Printer and photocopier and facsimile accessories"]
["44101725","Printer cabinets"]
["44101810","Printer calculator"]
["43202216","Printer connection cable"]
["43212117","Printer controller"]
["43233410","Printer driver software"]
["44101726","Printer emulation upgrades"]
["44103125","Printer maintenance kit"]
["14111507","Printer or copier paper"]
["44103101","Printer or facsimile or photocopier belts"]
["44103107","Printer or facsimile or photocopier cleaning supplies"]
["44103109","Printer or facsimile or photocopier drums"]
["44103121","Printer or facsimile or photocopier roller guides"]
["44103103","Printer or facsimile toner"]
["44103112","Printer ribbon"]
["44101727","Printer stands"]
["81112306","Printer, scanner and multifunctional equipment maintenance"]
["82121500","Printing"]
["45101700","Printing accessories"]
["45000000","Printing and Photographic and Audio and Visual Equipment and Supplies"]
["45100000","Printing and publishing equipment"]
["14111500","Printing and writing paper"]
["45101701","Printing assemblers"]
["45101708","Printing awls"]
["45101703","Printing collators or decollators"]
["45101704","Printing cutters"]
["81101707","Printing equipment maintenance "]
["45101709","Printing film"]
["45101702","Printing guillotines"]
["45101900","Printing laboratory equipment and accessories"]
["45101600","Printing machinery accessories"]
["45101500","Printing machinery and equipment"]
["45101518","Printing plate press"]
["45101707","Printing plates"]
["45101507","Printing presses"]
["45101706","Printing punches"]
["45101705","Printing trimmers"]
["44102603","Printwheels"]
["95121704","Prison building"]
["53102715","Prison officer uniform"]
["53102716","Prisoner uniform"]
["43221533","Private Automatic Branch Exchange (PABX)"]
["43222805","Private branch exchange PBX equipment"]
["92121604","Private investigation services"]
["25131508","Private or business jet aircraft"]
["25131507","Private or business propeller aircraft"]
["85101502","Private specialized clinic services"]
["84121804","Privately issued bonds"]
["84121501","Privately owned banks"]
["83121503","Privately owned libraries"]
["93151503","Privatization programs"]
["51283409","Procaine benzylpenicillin or procaine penicillin g"]
["43231517","Procedure management software"]
["80101513","Process and procedures management consultation service"]
["45111829","Process camera"]
["80121904","Process server service"]
["13101600","Processed and synthetic rubber"]
["50131802","Processed cheese"]
["45131507","Processed microfilm"]
["24111809","Processing tanks"]
["86101704","Procurement or supply chain training"]
["43231503","Procurement software"]
["25181700","Product and material trailers"]
["25101600","Product and material transport vehicles"]
["80141706","Product brokerage service"]
["81141901","Product research and development service"]
["26111710","Product specific battery packs"]
["81141506","Product testing"]
["81141702","Production control"]
["81101902","Production engineering for oil or gas"]
["81141701","Production planning"]
["81141700","Production planning and control"]
["81141703","Production scheduling"]
["81141505","Production standards development"]
["81141704","Production statistics collection or analysis services"]
["80101702","Productivity or efficiency studies or implementation"]
["82150000","Professional artists and performers"]
["80172000","Professional communication services"]
["81100000","Professional engineering services"]
["84131516","Professional indemnity insurance"]
["80101706","Professional procurement services"]
["86121800","Professional schools"]
["90101801","Professionally prepared carryout meals"]
["41111707","Profile projectors"]
["30102300","Profiles"]
["51351514","Progesterone"]
["93151601","Program budgeting services"]
["43232406","Program testing software"]
["41104602","Programmable box furnaces"]
["43233603","Programmable Logic Control Software"]
["41104604","Programmable tube furnaces"]
["81111604","Programming for ALGOL"]
["81111605","Programming for Assembler"]
["81111606","Programming for Basic"]
["81111607","Programming for C or C++"]
["81111608","Programming for COBOL"]
["81111609","Programming for FORTRAN"]
["81111603","Programming for HTML"]
["81111602","Programming for Java"]
["81111610","Programming for Pascal"]
["81111613","Programming for Perl"]
["81111611","Programming for PL/1"]
["81111601","Programming for Visual Basic"]
["81111612","Programming or Proprietary Languages"]
["51101906","Proguanil"]
["80101604","Project administration or planning"]
["80172002","Project based communications service"]
["80101607","Project impact assessment"]
["80101600","Project management"]
["43231507","Project management software"]
["80101606","Project monitoring and evaluation"]
["45111602","Projection lamps"]
["45111615","Projection lenses"]
["41111727","Projection microscopes"]
["45111603","Projection screens or displays"]
["56101710","Projector stands or carts"]
["45111600","Projectors and supplies"]
["51313301","Promethazine"]
["51313305","Promethazine hydrochloride"]
["93131502","Promotion of human rights services"]
["55101515","Promotional material or annual reports"]
["80141605","Promotional merchandise"]
["82121505","Promotional or advertising printing"]
["80141626","Promotional program management service"]
["93141811","Promotional services"]
["45111828","Prompter"]
["44122118","Prong fasteners"]
["82111803","Proofreading services"]
["41114616","Proofstress indicators"]
["51123906","Propafenone"]
["51121583","Propafenone hydrochloride"]
["51101630","Propamidine"]
["15111501","Propane"]
["12131503","Propellant explosives"]
["12131800","Propellants"]
["64121500","Property insurance contracts"]
["80121703","Property law services"]
["80131801","Property management"]
["80161601","Property management services"]
["93161601","Property tax"]
["93151518","Property title fee"]
["51272901","Propofol"]
["93111603","Proportional representation"]
["51262907","Propranolol"]
["51262914","Propranolol hydrochloride"]
["81111805","Proprietary or licensed systems maintenance or support"]
["15111503","Propylene"]
["51181606","Propylthiouracil"]
["42242000","Prosthetic devices or accessories and supplies"]
["51172305","Protamine sulfate"]
["93131501","Protection of human rights services"]
["93141712","Protection of intellectual or cultural property services"]
["46181501","Protective aprons"]
["42295460","Protective caps for orthopedic implants"]
["46181555","Protective cloth mask"]
["46181503","Protective coveralls"]
["46182006","Protective films"]
["46181504","Protective gloves"]
["46181506","Protective ponchos"]
["44101904","Protectograph"]
["41115824","Protein analyzer accessories or supplies"]
["41116012","Protein analyzer reagents"]
["41115823","Protein analyzers"]
["41105331","Protein chemifluorescent detection reagents or kits or substrates"]
["41105332","Protein chemiluminescent detection reagents or kits or substrates"]
["41105333","Protein chromogenic detection reagents or kits or substrates"]
["41105337","Protein electrophoresis markers"]
["41106500","Protein expression products"]
["41105345","Protein gel stain"]
["41105906","Protein or peptide display libraries"]
["51143112","Proteolytic peptide derived from porcine brain"]
["93111503","Protest movements"]
["41115405","Proton spectrometers"]
["44111806","Protractors"]
["41114627","Proving ring"]
["41111926","Proximity sensors"]
["70111502","Pruning services or ornamental plant or bush"]
["27112500","Prying and bending tools"]
["41113649","Psophometer"]
["85101504","Psychiatric hospital services"]
["42182304","Psychological examination medical equipment sets"]
["85121608","Psychologist services"]
["41112302","Psychrometers"]
["51461607","Psyllium hydrophilic mucilloid (Plantago ovata)/Senna glycosides or sennosides"]
["51171607","Psyllium hydrophilic muciloid"]
["45111705","Public address systems"]
["93151500","Public administration"]
["93150000","Public administration and finance services"]
["80172003","Public affairs service"]
["95121700","Public buildings and structures"]
["95121714","Public changing room and shower facility"]
["93151502","Public enterprises information or control systems services"]
["93151501","Public enterprises management or financial services"]
["93151600","Public finance"]
["85101705","Public health administration"]
["93151512","Public institutions services"]
["72121409","Public library construction"]
["82151509","Public or outdoor artwork or decorative fixture installation and maintenance"]
["92100000","Public order and safety"]
["80170000","Public relations and professional communications services"]
["80171503","Public relations situation and issues and risk analysis"]
["46160000","Public safety and control"]
["46201000","Public safety training equipment"]
["72141128","Public square construction and or remodelling service"]
["44111618","Public telephone card or phone card"]
["95121715","Public toilet facility"]
["83000000","Public Utilities and Public Sector Related Services"]
["82121506","Publication printing"]
["80171600","Publicity and marketing support services"]
["84121502","Publicly owned banks"]
["55000000","Published Products"]
["82121800","Publishing"]
["41111504","Pull spring balances"]
["22101521","Pulled scrapers"]
["27113100","Pulling tools"]
["42221514","Pulmonary artery catheters"]
["42271600","Pulmonary function testing and treatment products"]
["50221002","Pulse flour"]
["41113686","Pulse meter"]
["42181802","Pulse oximeter cables"]
["42181804","Pulse oximeter probe or sensor accessories"]
["42181803","Pulse oximeter probes or sensors"]
["42181805","Pulse oximeter unit accessories"]
["42181801","Pulse oximeter units"]
["42181800","Pulse oximeters"]
["42312303","Pulsed lavage systems for wound treatment"]
["50221000","Pulses"]
["11111610","Pumice stone"]
["41112518","Pump efficiency testing equipment"]
["40151700","Pump parts and accessories"]
["95121641","Pumping station"]
["72141125","Pumping station construction service"]
["70171704","Pumping station maintenance or management services"]
["10151529","Pumpkin seeds or seedlings"]
["40151500","Pumps"]
["43211721","Punch card readers"]
["43222806","Punch down block"]
["10121501","Pure wheat bran"]
["40161600","Purification"]
["41106311","Purified ribonucleic acids RNA"]
["53121600","Purses and handbags and bags"]
["39122216","Push button switch"]
["24101506","Pushcarts"]
["41103316","Pycnometers"]
["11172101","Pygmalion or 846 alloy"]
["51452301","Pyrantel"]
["51452307","Pyrantel pamoate"]
["51281504","Pyrazinamide"]
["51151514","Pyridostigmine"]
["51151548","Pyridostigmine bromide"]
["51101907","Pyrimethamine"]
["51102904","Pyrimethamine/sulfadoxine"]
["41112230","Pyrometer calibrator"]
["41112204","Pyrometers"]
["12131600","Pyrotechnics"]
["41113634","Q Meters"]
["25101908","Quads"]
["78204013","Quality & Environmental Management System For Airport & ATS"]
["81111819","Quality assurance services"]
["81141500","Quality control"]
["81101526","Quantity surveying service"]
["25111528","Quarantine boat"]
["85111511","Quarantine services"]
["84111602","Quarterly reviews"]
["51334204","Quetiapine"]
["51334207","Quetiapine fumarate"]
["46151507","Queuing control system"]
["11162126","Quilted cloth"]
["52121501","Quilts"]
["51101680","Quinfamide"]
["51101904","Quinine"]
["10151613","Quinoa seeds or seedlings"]
["51286800","Quinoline antibacterials"]
["51282900","Quinolone antibacterials"]
["10101512","Rabbits"]
["51171916","Rabeprazole sodium"]
["51201617","Rabies vaccine"]
["51171714","Racecadotril"]
["51391746","Racepinefrine or racepinephrine"]
["25161506","Racing bicycles"]
["49161600","Racquet and court sports equipment"]
["49161601","Racquetball rackets"]
["41115200","Radar and sonar systems and components"]
["43221718","Radar antennas"]
["46171616","Radar detectors"]
["43232618","Radar image treatment software"]
["95121801","Radar station"]
["46171638","Radiation detector and alarm"]
["41111929","Radiation detectors"]
["77111506","Radiation protection services"]
["26142300","Radiation shielding equipment"]
["85111609","Radiation sickness prevention or control services"]
["42203804","Radiation therapy positioning aids"]
["40101801","Radiators"]
["94131701","Radical green associations"]
["43221705","Radio access equipment"]
["41114412","Radio acoustic sounding system"]
["43221706","Radio antennas"]
["83111901","Radio broadcasting station management"]
["46171625","Radio communication monitoring system"]
["43221704","Radio core equipment"]
["43221721","Radio frequency data communication equipment"]
["43211710","Radio frequency identification devices"]
["43212116","Radio frequency identification RFID tag printer"]
["39121036","Radio frequency RF transformer"]
["52161523","Radio frequency transmitters or receivers"]
["43222504","Radio jamming transmitter"]
["41116167","Radio labeled chemical for radiometric detection"]
["43221532","Radio Link Systems "]
["83111606","Radio Manual"]
["41112902","Radio navigation instruments"]
["82101901","Radio placement"]
["41115414","Radio ray spectroscopy system"]
["52161524","Radio receivers"]
["83121702","Radio related services"]
["83111900","Radio services"]
["83111904","Radio studio or equipment services"]
["76101601","Radioactive decontamination services"]
["26142407","Radioactive waste disposal systems"]
["26142400","Radioactive waste equipment"]
["41113030","Radiochromatographic scanner"]
["42201846","Radiographic and fluoroscopic x ray collimators"]
["42201821","Radiographic film cassette holders"]
["42201833","Radiographic film or cassette changers"]
["42201832","Radiographic film or cassette covers"]
["42201829","Radiographic locators"]
["42202600","Radioimmunotherapy and radioisotope administration products"]
["12142207","Radioisotope sources"]
["41115826","Radioisotopic analyzer accessories or supplies"]
["41116013","Radioisotopic analyzer reagents"]
["41115825","Radioisotopic analyzers"]
["42201845","Radiology film jacket or inserts or mailers"]
["42142513","Radiology procedural needles"]
["41113006","Radiometry analyzers"]
["51440000","Radiopharmaceuticals and contrast media"]
["52161511","Radios"]
["41114404","Radiosonde apparatus"]
["42203200","Radiotherapy simulators"]
["42202700","Radiotherapy teletherapy products"]
["10152405","Radish seeds or seedlings"]
["51441619","Radium-223 dichloride"]
["51441619","Radium-223 dichloride"]
["41111631","Radius gauge"]
["43221728","Radome or radar dome"]
["41113115","Radon detectors"]
["25111806","Rafts"]
["47131501","Rags"]
["78181509","Rail car inspection and maintenance service"]
["78101600","Rail cargo transport"]
["41111642","Rail joint gap gauge"]
["78101905","Rail truck transportation"]
["72141603","Railroad and railway roadbed construction service"]
["30103100","Rails"]
["25120000","Railway and tramway machinery and equipment"]
["95121626","Railway bridge"]
["95121607","Railway depot"]
["81101511","Railway engineering"]
["46161502","Railway signaling systems"]
["95121606","Railway station"]
["72141605","Railway track laying service"]
["78101610","Railway transport by refrigerator car"]
["78101609","Railway transport by tanker car"]
["78101608","Railway transport services of letters and parcels"]
["95121635","Railway tunnel"]
["95121629","Railway viaduct"]
["41114422","Rain gauge calibrator"]
["30151700","Rain gutters and accessories"]
["41114405","Rainfall recorders"]
["51112804","Raloxifene"]
["51343201","Raltegravir"]
["51432705","Ramipril"]
["41113007","Random access analyzers"]
["32101601","Random access memory RAM"]
["70121902","Range management"]
["70121903","Range research"]
["41111603","Rangefinders"]
["51111761","Ranibizumab"]
["51171917","Ranitidine"]
["50151519","Rapeseed Oil (WFP food convention)"]
["23260000","Rapid prototyping machinery and accessories"]
["23261500","Rapid prototyping machines"]
["57111100","Rapid response kits"]
["57010100","Rapid response kits"]
["41116205","Rapid test kits"]
["12141600","Rare earth metals"]
["51142568","Rasagiline mesilate or mesylate"]
["11121605","Rattan"]
["14101500","Raw materials"]
["23100000","Raw materials processing machinery"]
["A","Raw Materials, Chemicals, Paper, Fuel"]
["53131603","Razors"]
["84121902","Re financing services"]
["86101802","Re training or refreshing training services"]
["42212300","Reaching and gripping aids for the physically challenged"]
["43201821","Read only blu-ray disc BD"]
["43201808","Read only compact disc CD"]
["43201810","Read only digital versatile disc DVD"]
["43201819","Read only high definition digital versatile disc HD DVD"]
["43201822","Read write blu-ray disc BD"]
["43201809","Read write compact disc CD"]
["43201811","Read write digital versatile disc DVD"]
["43202212","Read write head assemblies"]
["43201820","Read write high definition digital versatile disc HD DVD"]
["30111505","Ready mix concrete"]
["42231818","Ready to Use Supplementary Food (WFP convention)"]
["42231816","Ready to Use Therapeutic Food (WFP standard)"]
["42231815","Ready-to-use Food for Children (UNICEF/WFP standard)"]
["41104010","Reagent kits for use with air samplers"]
["41105514","Reagents for nucleic acid extraction or precipitation or resuspension"]
["41106214","Reagents for preparing competent bacteria"]
["41106215","Reagents for preparing competent yeast"]
["80131802","Real estate appraisal and valuation service"]
["80131602","Real estate auction"]
["80131601","Real estate brokers or agents"]
["80121606","Real estate law"]
["80131803","Real estate listing services"]
["80131800","Real estate management services"]
["80130000","Real estate services"]
["41102502","Rearing facilities for entomology"]
["14111802","Receipts or receipt books"]
["80161602","Receiving or inventorying services"]
["26111701","Rechargeable batteries"]
["41103812","Reciprocal shakers"]
["40101710","Reciprocating chiller"]
["72154106","Reciprocating compressor rental and maintenance service"]
["72154108","Reciprocating pump maintenance or repair service"]
["41103711","Reciprocating shaking water baths"]
["80141624","Recognition program management service"]
["25131707","Reconnaissance or surveillance aircraft"]
["49240000","Recreation and playground and swimming and spa equipment and supplies"]
["57040201","Recreation kit"]
["57040200","Recreational kits"]
["57444200","Recreational kits"]
["25111802","Recreational motorboats"]
["25111803","Recreational rowboats"]
["25111801","Recreational sailboats"]
["90111703","Recreational vehicle campsite facilities"]
["25111800","Recreational watercraft"]
["93141802","Recruitment services"]
["32121701","Rectifiers"]
["77101909","Recycling plant site investigation"]
["76122300","Recycling services"]
["50421855","Red Beans (WFP food convention) "]
["25191545","Reduced Mobility Passenger Loader"]
["43201557","Redundant array of independent disks RAID controllers"]
["45111721","Reel to reel tape recorder"]
["55101524","Reference books"]
["80111702","Reference or background check services"]
["41121604","Reference pipette tips"]
["41115316","Reflectometers"]
["43221726","Reflector for antenna"]
["42182302","Reflex hammers or mallets"]
["41104813","Reflux components"]
["31370000","Refractories"]
["72151908","Refractory or acid brick masonry service"]
["24131513","Refrigerant"]
["40151607","Refrigerant compressors"]
["41104134","Refrigerant pack for diagnostic specimen shippers"]
["41103410","Refrigerated and heated reach in environmental or growth chambers"]
["41103413","Refrigerated and heated walk in environmental or growth chambers"]
["41103709","Refrigerated baths"]
["41103904","Refrigerated benchtop centrifuges"]
["24131504","Refrigerated containers"]
["41103008","Refrigerated cooling modules"]
["41103001","Refrigerated cooling plate probes"]
["48102103","Refrigerated display cases"]
["41103906","Refrigerated floor centrifuges"]
["41104423","Refrigerated incubators"]
["41103902","Refrigerated microcentrifuges"]
["41103408","Refrigerated reach in environmental or growth chambers"]
["41103036","Refrigerated specimen storage rack or tray"]
["78131801","Refrigerated storage"]
["24131506","Refrigerated tanks"]
["25181719","Refrigerated trailer"]
["24131505","Refrigerated vessels"]
["41103411","Refrigerated walk in environmental or growth chambers"]
["25101913","Refrigerator truck"]
["93131505","Refugee camps services"]
["93131504","Refugee emergency assistance services"]
["93131500","Refugee programs"]
["57060302","Refugee Registration Package"]
["93131506","Refugee resettlements or repatriation services"]
["72101514","Refuse area construction service"]
["76121500","Refuse collection and disposal"]
["76120000","Refuse disposal and treatment"]
["76122400","Refuse disposal and treatment fees"]
["76122407","Refuse transportation fee"]
["76121800","Refuse treatment"]
["93142100","Regional development"]
["93142101","Regional development planning services"]
["80101602","Regional or location studies for projects"]
["78101802","Regional or national trucking services"]
["51112027","Regorafenib"]
["81131503","Regression analysis"]
["85122100","Rehabilitation services"]
["85122109","Rehabilitation services for people with chronic disabilities"]
["85122103","Rehabilitation services for substance abuse"]
["30131514","Reinforced concrete built up culvert block"]
["41111815","Reinforcement metal detector"]
["84131506","Reinsurance services"]
["41114617","Relaxation testers"]
["41113672","Relay tester"]
["55101528","Religious books"]
["72121405","Religious building construction service"]
["95122600","Religious buildings and structures"]
["94110000","Religious organizations"]
["78101804","Relocation services"]
["51273009","Remifentanil"]
["84121606","Remittance processing services"]
["45111709","Remote amplifier"]
["43221733","Remote automatic meter reading system"]
["83121605","Remote database information retrieval services"]
["43222633","Remote management adapters"]
["41111980","Remote monitoring system for clinical temperature controlled equipment"]
["41112210","Remote reading thermometers"]
["43201608","Removable drive frames"]
["43202000","Removable storage media"]
["43202100","Removable storage media accessories"]
["42203406","Removal devices of diagnostic or interventional vascular catheters"]
["70111507","Removal services or ornamental plant or bush or tree"]
["39111617","Renewable energy street lighting"]
["78142001","Rental of freight aircraft with operator"]
["78142003","Rental of freight vessel for coastal and transoceanic water transport with operator"]
["78142002","Rental of freight vessel for inland water transport with operator"]
["41121610","Repeating pipettor reservoir pipette tip"]
["44122013","Report covers"]
["41106513","Reporter gene assay"]
["84101705","Repossession services"]
["82120000","Reproduction services"]
["57030108","Reproductive health kit"]
["43232407","Requirements analysis and system architecture software"]
["46161702","Rescue air bag"]
["25131401","Rescue And Firefighting Aircraft, 150 Gallons"]
["25131402","Rescue And Firefighting Aircraft, 3000 Gallons (12,000 Litres)"]
["25131403","Rescue And Firefighting Aircraft,1500 Gallons (6,000 Litres)"]
["46161707","Rescue door opener"]
["46161700","Rescue equipment and accessories"]
["46161710","Rescue light"]
["46161704","Rescue line launcher"]
["46201001","Rescue mannequin"]
["46161708","Rescue net"]
["95121710","Rescue service station"]
["92101900","Rescue services"]
["25111603","Rescue ships or boats"]
["25101708","Rescue truck"]
["41102614","Research animal bedding material"]
["41102611","Research animal food and diet"]
["41102612","Research animal induction chamber"]
["41102613","Research animal physiological test kit"]
["95121908","Research or testing facility"]
["93131703","Research programs"]
["42296335","Resectoscopes"]
["24111801","Reservoirs"]
["70171703","Reservoirs maintenance or management services"]
["72110000","Residential building construction services"]
["95122101","Residential home"]
["95101500","Residential land parcel"]
["72151301","Residential painting service"]
["80131501","Residential rental"]
["39111608","Residential street lights"]
["72151402","Residential wall covering construction service"]
["10152100","Residues other than animal feed"]
["72152506","Resilient floor laying service"]
["13000000","Resin and Rosin and Rubber and Foam and Film and Elastomeric Materials"]
["11162107","Resin impregnated fabric or cloth"]
["13111000","Resins"]
["13110000","Resins and rosins and other resin derived materials"]
["41112225","Resistance temperature detector RTD"]
["41112211","Resistance thermometers"]
["41113670","Resister test equipment"]
["41113807","Resistivity geophysical instruments"]
["94131604","Resource mobilization services"]
["60103704","Resources for learning to speak English"]
["60103702","Resources for learning to speak French"]
["60103701","Resources for learning to speak Spanish"]
["46182004","Respiration air supplying self contained breathing apparatus or accessories"]
["46182002","Respirators"]
["42270000","Respiratory and anesthesia and resuscitation products"]
["85111612","Respiratory disease prevention or control services"]
["85101505","Respiratory hospital services"]
["42271801","Respiratory humidifiers or vaporizers"]
["42271800","Respiratory humidity and aerosol therapy products"]
["46182010","Respiratory mask FFP2/N95"]
["42271505","Respiratory monitoring kits"]
["42271500","Respiratory monitoring products"]
["46182000","Respiratory protection"]
["42271706","Respiratory therapy compressors"]
["41113124","Respirometer"]
["48102001","Restaurant chairs"]
["72121104","Restaurant construction service"]
["48102000","Restaurant furniture"]
["90101501","Restaurants"]
["90100000","Restaurants and catering"]
["42143605","Restraint straps or buckles or supplies"]
["42143601","Restraint vests and jackets"]
["42143600","Restraints and accessories"]
["30181508","Restroom partitions"]
["47131700","Restroom supplies"]
["80111703","Resume or curriculum vitae screening services"]
["60105306","Resume skills instructional materials"]
["82111602","Resume writing services"]
["42272300","Resuscitation supplies"]
["80141703","Retail distribution services"]
["31163200","Retaining hardware"]
["72152707","Retaining wall construction service"]
["84131800","Retirement funds"]
["95122105","Retirement home"]
["25191521","Retractable hook cable support system"]
["45121614","Retrofit kits"]
["45111717","Reverberator"]
["41104204","Reverse osmosis equipment"]
["41104214","Reverse osmosis equipment parts and accessories"]
["41106313","Reverse transcriptase polymerase chain reaction RT PCR kits"]
["30171509","Revolving doors"]
["41112502","Rheometers"]
["51201805","Rho D immunoglobulins"]
["60131601","Rhythm band sets"]
["60131802","Rhythm sticks or lummi sticks"]
["60131803","Rhythm wands or hoops"]
["51342503","Ribavirin"]
["51112030","Ribociclib"]
["41105515","Ribonucleic acid RNA cleanup or stabilization materials"]
["41105516","Ribonucleic acid RNA gel extraction kits"]
["41105338","Ribonucleic acid RNA markers or standards"]
["42241808","Ribs or abdomen orthopedic softgoods"]
["50221108","Rice grain"]
["10151614","Rice seeds or seedlings"]
["50501721","Rice Soya Blend (WFP food convention) "]
["41111817","Rice taste measuring system"]
["41106216","Rich media for yeast"]
["51281902","Rifabutin"]
["51283601","Rifampicin or rifampin"]
["51283602","Rifamycin"]
["51283600","Rifamycin antibacterials"]
["51283603","Rifapentine"]
["51283604","Rifaximin"]
["72153400","Rigging and scaffolding services"]
["72153401","Rigging services"]
["72141602","Right of way cutting service"]
["83112503","Rights of way for transit for half circuit systems, DDPs and admin lease"]
["13111216","Rigid polyvinyl chloride film"]
["51341604","Rimantadine hydrochloride"]
["44122037","Ring binder"]
["41113651","Ring out board"]
["95111610","Ring road"]
["43233512","Ring tone software"]
["24111813","Rinse tanks"]
["51433708","Riociguat"]
["46151506","Riot batons"]
["46151502","Riot helmets"]
["46151503","Riot shields"]
["51182417","Risedronate sodium or risedronic acid"]
["80101510","Risk management consultation service"]
["77101501","Risk or hazard assessment"]
["51333601","Risperidone"]
["51343203","Ritonavir"]
["51111716","Rituximab"]
["51131650","Rivaroxaban"]
["51151529","Rivastigmine"]
["51151549","Rivastigmine hydrogen tartrate"]
["70171505","River basin development"]
["31162200","Rivets"]
["51142411","Rizatriptan"]
["51142433","Rizatriptan benzoate"]
["30121700","Road and railroad construction materials"]
["95121625","Road bridge"]
["78101800","Road cargo transport"]
["95111615","Road junction"]
["86101715","Road or rail transportation vocational training services"]
["41114640","Road plane measuring equipment"]
["25101922","Road repair truck"]
["25101919","Road sweeper"]
["78101808","Road transport of dry bulk"]
["78101809","Road transport of letters and parcels"]
["78101810","Road transport of livestock or live animals"]
["78111814","Road transport of passengers by man-or animal-drawn vehicle"]
["95121634","Road tunnel"]
["95121628","Road viaduct"]
["30120000","Roads and landscape"]
["30181606","Robe hook"]
["41121501","Robotic or automated liquid handling systems"]
["41121608","Robotic pipette tips"]
["23153200","Robotics"]
["41114000","Rock and strata measuring equipment"]
["20102100","Rock drills"]
["72141503","Rock removal service"]
["46130000","Rockets and subsystems"]
["51152070","Rocuronium bromide"]
["30102400","Rod"]
["72102106","Rodent control"]
["10191506","Rodenticides"]
["44101728","Roll feeds"]
["30151501","Roll roofing"]
["41122105","Roller bottles"]
["41103802","Roller mixers"]
["44121701","Rollerball pens"]
["22101505","Rollers"]
["21101508","Rollers for lawn or sports grounds"]
["30171503","Rolling doors"]
["31162700","Rolling hardware"]
["51131812","Romiplostim"]
["72101520","Roof framing service"]
["25174100","Roof systems"]
["30151502","Roof valleys"]
["30151600","Roofing accessories"]
["72152600","Roofing and siding and sheet metal services"]
["30151503","Roofing fabrics"]
["30151500","Roofing materials"]
["30151505","Roofing membranes"]
["72152601","Roofing service"]
["50408000","Roots and Tubers"]
["70141515","Roots or tubers production"]
["31150000","Rope and chain and cable and wire and strap"]
["24111510","Rope bags and rope packs"]
["46161601","Rope float lines"]
["31151500","Ropes"]
["51271636","Ropivacaine hydrochloride monohydrate"]
["11121502","Rosin"]
["13111100","Rosins"]
["51322205","Rosuvastatin calcium"]
["51201618","Rota virus vaccine"]
["41112503","Rotameters"]
["51283413","Rotamicillin"]
["44122009","Rotary or business card files"]
["41111937","Rotary position sensors"]
["72154103","Rotary pump maintenance or repair service"]
["21101517","Rotary tiller or power tiller"]
["41105109","Rotary vane pumps"]
["41103813","Rotating shakers"]
["51142538","Rotigotine"]
["27111900","Rough and finishing tools"]
["72152301","Rough carpentry service"]
["30181808","Rough in valve"]
["41114618","Roughness measuring instruments"]
["44122112","Round head fasteners"]
["41114505","Roundness testing instruments"]
["43232504","Route navigation software"]
["43222642","Routing switcher"]
["25111527","Row boat"]
["49201504","Rowing machines"]
["51282308","Roxithromycin"]
["13100000","Rubber and elastomers"]
["23151500","Rubber and plastic processing machinery and equipment and supplies"]
["40183000","Rubber and plastic tubing"]
["44122101","Rubber bands"]
["30131513","Rubber block"]
["11162117","Rubber fabrics"]
["30151509","Rubber support block"]
["40183001","Rubber tubing"]
["51201648","Rubella and mumps virus vaccine"]
["52101500","Rugs and mats"]
["41111604","Rulers"]
["95121614","Runway"]
["39111622","Runway and Taxiway Lighting System "]
["25101944","Runway Rubber Removal Machine"]
["25101942","Runway Sweeper, Self-Propelled "]
["25101943","Runway Sweeper, Towed "]
["41114430","Runway Visual Range System "]
["93141900","Rural development"]
["83101806","Rural electrical power distribution"]
["93141902","Rural investment services"]
["86101505","Rural youth or farmers vocational training services"]
["41113053","Rust prevention tester"]
["51112023","Ruxolitinib"]
["10151610","Rye seeds"]
["41113031","Saccharometers"]
["24102109","Sack holders"]
["10141500","Saddlery"]
["10140000","Saddlery and harness goods"]
["10141501","Saddles"]
["72154037","Safe or vault installation service"]
["46161703","Safety air mat"]
["25131400","Safety and Rescue Aircraft"]
["25101700","Safety and rescue vehicles"]
["25111600","Safety and rescue water craft"]
["72151700","Safety and security system installation services"]
["46181500","Safety apparel"]
["46181604","Safety boots"]
["30121718","Safety fence and net for rock drop"]
["46181600","Safety footwear"]
["30171707","Safety glass"]
["46182306","Safety harnesses or belts"]
["46181704","Safety helmets"]
["46171602","Safety horns"]
["72151704","Safety instrumented system installation and maintenance service"]
["46171620","Safety light curtains"]
["78204005","Safety Management Systems (Sms) Related Services (Aviation)"]
["60106108","Safety or hazardous teaching aids or materials"]
["81141801","Safety or risk analysis"]
["46182309","Safety rope ladders and wire rope ladders"]
["30121719","Safety separator for road"]
["46181605","Safety shoes"]
["55121704","Safety signs"]
["46182314","Safety sling"]
["41122703","Safety tapes"]
["86101709","Safety training services"]
["46181507","Safety vests"]
["46182402","Safety wash units"]
["25111903","Sails"]
["48102003","Salad bars"]
["80131605","Sale of commercial building"]
["80131604","Sale of commercial or industrial land"]
["80131600","Sale of property and building"]
["80131603","Sale of residential land"]
["80141600","Sales and business promotion activities"]
["43231514","Sales and marketing software"]
["14111811","Sales forms or sales books"]
["80141618","Sales marketing agencies including print"]
["80141612","Sales or marketing programs"]
["80141601","Sales promotion services"]
["93161605","Sales tax"]
["51143100","Salicylates"]
["51391739","Salmeterol"]
["30131608","Salt glazed brick"]
["25101927","Salt spreader truck"]
["25111510","Salvage ships"]
["41104014","Sample applicators"]
["41104001","Sample changers"]
["41104017","Sample holders"]
["41104002","Sample oxidizer"]
["41104004","Sample preparation bombs"]
["41104003","Sample preparation line"]
["41104022","Sample shaper"]
["41104000","Sampling equipment"]
["81102600","Sampling services"]
["81131504","Sampling surveys"]
["41122004","Sampling syringes"]
["11111700","Sand"]
["41103708","Sand baths"]
["41113828","Sand density cone apparatus"]
["41121713","Sand size analyzer"]
["41113908","Sand testing apparatus"]
["53111800","Sandals"]
["30131605","Sandlime brick"]
["11111607","Sandstone"]
["50192500","Sandwiches and filled rolls"]
["47131702","Sanitary goods dispensers"]
["76121602","Sanitary landfill operations"]
["30181500","Sanitary ware"]
["47131703","Sanitary waste receptacles"]
["93131702","Sanitation programs"]
["11121500","Sap"]
["51342402","Saquinavir"]
["51283410","Sarpicillin"]
["43221711","Satellite access equipment"]
["43221712","Satellite antennas"]
["43221740","Satellite Communications Equipment"]
["43221734","Satellite Communications Equipment "]
["43221710","Satellite core equipment"]
["43232619","Satellite image treatment software"]
["25173111","Satellite Navigation Equipment "]
["83111602","Satellite or earth communication systems services"]
["43191514","Satellite phone"]
["52161526","Satellite receivers"]
["72151609","Satellite system hub support service"]
["72151608","Satellite system maintenance or repair service"]
["25151700","Satellites"]
["11162133","Satin fabric"]
["14121813","Satin paper"]
["84101502","Savings mobilization programs"]
["50192800","Savory pies and quiches and pasties"]
["23230000","Sawmilling and lumber processing machinery and equipment"]
["60131104","Saxophones"]
["72153402","Scaffolding services"]
["44111807","Scales"]
["41122416","Scalpel blade and knife blade remover"]
["45111803","Scan converters"]
["44102200","Scanner accessories"]
["44102202","Scanner document feeders"]
["44102203","Scanner transparency adapters"]
["43211711","Scanners"]
["41111720","Scanning electron microscopes"]
["41111723","Scanning light or spinning disk or laser scanning microscopes"]
["41111724","Scanning probe microscopes"]
["78111802","Scheduled bus services"]
["72121406","School building construction service"]
["57040105","School kit for students"]
["53102705","School uniforms"]
["86131900","Schools for people with disabilities"]
["57040104","Science teaching kit"]
["44101808","Scientific calculator"]
["86101600","Scientific vocational training services"]
["41102702","Scintillation crystal assemblies"]
["44121632","Scissor sharpener"]
["44121618","Scissors"]
["25101802","Scooters"]
["42182000","Scopes and specula and accessories for medical exam diagnostic use"]
["47131602","Scouring pads"]
["11140000","Scrap and waste materials"]
["47121813","Scraper replacement blades"]
["30171502","Screen doors"]
["45121605","Screen frames"]
["43233411","Screen saver software"]
["20101600","Screens and feeding equipment"]
["56111601","Screens for panel systems"]
["40101712","Screw chiller"]
["41111639","Screw plug gauge and cross recess"]
["44122114","Screw posts"]
["27111701","Screwdrivers"]
["31161500","Screws"]
["42312503","Scrotal supports"]
["25101945","Scrubber, Runway "]
["49141500","Scuba and snorkeling gear"]
["49141503","Scuba regulators"]
["49141502","Scuba tanks"]
["82151504","Sculptors services"]
["86131503","Sculpture"]
["50120000","Seafood"]
["72141127","Seal coating of roads, highways and parking lots"]
["44102303","Seal presses"]
["42294938","Sealing caps for endoscopes"]
["44102304","Sealing machines"]
["27112600","Sealing tools"]
["31410000","Seals"]
["92101901","Search and rescue teams"]
["25175203","Search And Rescue Vehicle Accessories"]
["80141633","Search Engine Marketing "]
["50171552","Seasoning mix"]
["50170000","Seasonings and preservatives"]
["41111964","Seat belt tension sensor"]
["56112100","Seating"]
["95121621","Seawall"]
["51282804","Secnidazole"]
["51283700","Second generation cephalosporins"]
["42221615","Secondary or piggyback medication intravenous tubing"]
["95111612","Secondary road"]
["20101900","Secondary rock breaking systems"]
["93121704","Secretariat services"]
["77101803","Sectoral environmental auditing services"]
["93142104","Sectoral planning services"]
["51202413","Secukinumab"]
["44121718","Secured pen sets"]
["24141500","Securing and protecting supplies"]
["64110000","Securities"]
["84121800","Securities and commodities markets services"]
["84121806","Securities Custodial Services"]
["46151600","Security and control equipment"]
["92120000","Security and personal safety"]
["43233200","Security and protection software"]
["81112208","Security and protection software maintenance"]
["46171610","Security cameras"]
["46171636","Security facsimile transmission equipment"]
["92121504","Security guard services"]
["46151607","Security lanyards"]
["39111613","Security lighting"]
["46171633","Security metal detector"]
["46171619","Security or access control systems"]
["82121509","Security or financial instruments printing"]
["14111544","Security paper"]
["46170000","Security surveillance and detection"]
["92121700","Security systems services"]
["55121502","Security tags"]
["53102706","Security uniforms"]
["31152000","Security wire"]
["81101525","Sediment control engineering"]
["41104120","Sedimentation rate tubes"]
["41122803","Sedimentation tube racks or stands"]
["70131604","Seed bed preparation services"]
["41112702","Seed counters"]
["14122201","Seed germinating papers"]
["70141904","Seed harvesting services"]
["23181522","Seed or nut sheller"]
["70141501","Seed production services"]
["70111709","Seeding services"]
["10150000","Seeds and bulbs and seedlings and cuttings"]
["46171631","Seismic alarm"]
["41114103","Seismic alarm modules"]
["41114104","Seismic amplifiers"]
["41114106","Seismic recorders or seismographs"]
["71112300","Seismic services"]
["25111513","Seismic vessel"]
["41114100","Seismological instruments"]
["41114107","Seismometers"]
["25202909","Selective Calling Equipment (Selcal) "]
["44122119","Self adhesive fasteners"]
["55121606","Self adhesive labels"]
["14111530","Self adhesive note paper"]
["55121705","Self adhesive signs"]
["84131801","Self directed or employer sponsored retirement funds"]
["84131802","Self directed or self initiated retirement plans"]
["42211915","Self feeders for the physically challenged"]
["42212006","Self opening scissors for the physically challenged"]
["25102003","Self propelled artillery"]
["78131806","Self storage or mini storage service"]
["44102414","Self-inking stamp"]
["26111610","Selsyn generator"]
["11131602","Semen"]
["42143201","Semen preparation kits"]
["44102409","Semi automatic labeling systems"]
["14121602","Semi bleached crepe papers"]
["41113706","Semiconductor testers"]
["51171610","Senna glycosides or sennosides"]
["14121811","Sensitized copying papers"]
["23152100","Separation machinery and equipment"]
["41121707","Separator test tubes"]
["40161700","Separators"]
["72151101","Septic system construction service"]
["47101531","Septic tanks"]
["41106403","Sequencing primers"]
["41106619","Sequencing vectors"]
["43201535","Serial infrared ports"]
["43201559","Serial port cards"]
["70121603","Sericulture"]
["41121511","Serological pipettes"]
["51292027","Sertraline hydrochloride"]
["41104115","Serum Filter collection containers"]
["41104931","Serum separator tube filter"]
["43222622","Server load balancer"]
["81112220","Server software maintenance"]
["48000000","Service Industry Machinery and Equipment and Supplies"]
["43211805","Service kits for storage devices"]
["80111508","Service recognition programs"]
["72153300","Service station equipment installation and maintenance services"]
["72153303","Service station equipment maintenance and or repair service"]
["83101509","Service water"]
["J","Services"]
["57020000","Services related to humanitarian relief actions"]
["25191541","Servicing Platform"]
["41111914","Servo recorders"]
["41113656","Servo system tester"]
["10151606","Sesame seeds"]
["47101532","Settling tanks"]
["51171926","Sevelamer"]
["51272408","Sevoflurane"]
["47101534","Sewage distributors"]
["95121643","Sewage outfall"]
["95121642","Sewage pumping station"]
["76121701","Sewage treatment services"]
["72141120","Sewer line construction service"]
["53141602","Sewing kits"]
["23121614","Sewing machines"]
["53140000","Sewing supplies and accessories"]
["60105901","Sex education or sexually transmitted disease instructional materials"]
["41112903","Sextants"]
["42181506","Sexual assault determination kits"]
["85111507","Sexually transmitted disease prevention or control services"]
["30103900","Shafts"]
["30151507","Shakes"]
["41104405","Shaking incubators"]
["53131628","Shampoos"]
["53131635","Shaving brushes"]
["53131611","Shaving creams"]
["30181612","Shaving razor hook"]
["41114619","Shear strength testers"]
["10101507","Sheep"]
["45121710","Sheet film drum"]
["44122014","Sheet lifters"]
["55101514","Sheet music"]
["72141214","Sheet pile driving service"]
["44122002","Sheet protectors"]
["50121538","Shelf stable fish"]
["50191507","Shelf stable prepared soups or stews"]
["24101511","Shelf trolleys"]
["10101800","Shellfish and aquatic invertebrates"]
["70101903","Shellfish culture"]
["95141801","Shelter"]
["57060000","Shelter and relief items"]
["57666200","Shelter emergency kits"]
["57060200","Shelter emergency kits"]
["24102000","Shelving and storage"]
["30171524","Shielding door"]
["30151508","Shingles"]
["72151307","Ship painting service"]
["95131605","Shipping container house"]
["86101716","Shipping vocational training services"]
["53101600","Shirts and blouses"]
["41114620","Shock testing apparatus"]
["53112000","Shoe accessories"]
["56101531","Shoe racks"]
["53111600","Shoes"]
["72154050","Shopping cart maintenance or repair service"]
["72121105","Shopping center and mall construction service"]
["72153901","Shoring and underpinning work"]
["43223202","Short message service center"]
["43221714","Shortwave access equipment"]
["43221715","Shortwave antennas"]
["43221713","Shortwave core equipment"]
["42241809","Shoulder orthopedic softgoods"]
["27112004","Shovels"]
["56101705","Showcases"]
["30181609","Shower caddy"]
["53131601","Shower caps"]
["30181607","Shower curtain or assembly"]
["30181801","Shower head"]
["30181608","Shower rod"]
["30181503","Showers"]
["70101904","Shrimp farming"]
["45121625","Shutter release"]
["30241510","Side pole"]
["44122031","Side rails for hanging folder frame"]
["56101719","Side table"]
["72141105","Sidewalk construction and repair service"]
["72152705","Sidewalk or ramp construction service"]
["30151800","Siding and exterior wall materials"]
["72152606","Siding installation and repair service"]
["41112510","Sight flow indicators"]
["41112511","Sight flow windows"]
["78111504","Sightseeing service by air"]
["78111813","Sightseeing service by land, except rail"]
["55121908","Sign holders or stands"]
["72154028","Sign installation and maintenance service"]
["25101925","Sign truck"]
["55121700","Signage"]
["55120000","Signage and accessories"]
["55121900","Signage equipment"]
["43221725","Signal divider"]
["41115320","Signal generators"]
["46171629","Signal mirror"]
["43211605","Signal processor upgrades"]
["41106620","Signal transduction reporter vector maps or sequences"]
["51413204","Sildenafil"]
["51413207","Sildenafil citrate"]
["11111701","Silica sand"]
["13111220","Silicone coated films"]
["14121804","Silicone coated papers"]
["11161500","Silk fabrics"]
["45101607","Silk screen arc lamps"]
["45101506","Silk screen printing machines"]
["45101609","Silk screen printing racks"]
["45101608","Silk screen screens"]
["45101611","Silk screen squeegees"]
["45101610","Silk screen vacuum printing frames"]
["82141507","Silkscreen design services"]
["10101904","Silkworms"]
["95141501","Silo"]
["72121203","Silo and agricultural service building construction service"]
["78131501","Silo services"]
["70142001","Silos related services"]
["51283904","Silvadene or silver sulfadiazine"]
["51473502","Silver nitrate"]
["26111718","Silver oxide batteries"]
["51322704","Simvastatin"]
["41111645","Sine bar"]
["72111000","Single family dwelling construction services"]
["72111005","Single family home fire damage repair service"]
["72111002","Single family home general remodeling service"]
["72111006","Single family home new construction service"]
["72111001","Single family home remodeling addition and repair service"]
["72111008","Single family new town home or garden home construction service"]
["72111007","Single family prefabricated home erection service"]
["41113117","Single gas monitors"]
["30171902","Single hung window frames"]
["90111801","Single room"]
["23191101","Single screw mixers"]
["30181504","Sinks"]
["41104904","Sintered cell filters"]
["31420000","Sintered parts"]
["46171606","Sirens"]
["51202803","Sirolimus"]
["51183303","Sitagliptin"]
["51183306","Sitagliptin phosphate"]
["95131603","Site office"]
["80171500","Situation and stakeholder analysis and communications planning services"]
["49151501","Ski boots"]
["22101529","Skid steer loaders"]
["25111809","Skiff"]
["49151500","Skiing and snowboarding equipment"]
["41115833","Skin analyzer"]
["42295452","Skin preparation cups"]
["42141503","Skin preparation wipes"]
["42292907","Skin stretching systems"]
["42182704","Skinfold calipers"]
["83121606","Skip tracing"]
["49151502","Skis"]
["72152603","Skylight installation service"]
["30171800","Skylights"]
["82101702","Skywriting advertising services"]
["53101500","Slacks and trousers and shorts"]
["11111606","Slate"]
["30151510","Slate roofing"]
["23181523","Slaughterhouse or abattoir equipment"]
["49121504","Sleeping bags"]
["57060205","Sleeping mats"]
["49121502","Sleeping pads"]
["41102425","Slide dryers"]
["45131506","Slide film"]
["45111620","Slide film copier"]
["41122701","Slide or specimen labels"]
["41104101","Slide or specimen mailers or shippers"]
["45111604","Slide projectors"]
["45131701","Slide trays or organizers"]
["41102424","Slide warmers"]
["24101611","Slings"]
["24113000","Slip sheets"]
["53111700","Slippers"]
["24112501","Slotted corrugated cartons"]
["47101614","Sludge bulking agent"]
["47101536","Sludge collectors"]
["47101537","Sludge conditioning equipment"]
["41113057","Sludge densitometer"]
["76121603","Sludge disposal"]
["47101535","Sludge disposal equipment"]
["47101524","Sludge or sewage composting equipment"]
["47101538","Sludge or sewage digesters"]
["25101609","Sludge or sewage handling trucks"]
["93142004","Slum redevelopment services"]
["41114647","Slump tester"]
["22101909","Slurry Machine"]
["48101708","Slush machines"]
["70121607","Small animal breeding services"]
["46201100","Small arms weapons training equipment"]
["84141502","Small business loan agencies"]
["43201556","Small computer system interconnect SCSI adapters"]
["44102905","Small paper bags of wet absorbing salts"]
["83111903","Small scale radio systems"]
["24111825","Small seed storage silos"]
["43211728","Smart card dummy terminal"]
["46191501","Smoke detectors"]
["46191620","Smoke exhaust fan"]
["25101709","Smoke exhaust truck"]
["25101710","Smoke exhaust truck with lighting"]
["46161713","Smoke signal device"]
["72152908","Smoke stack installation service"]
["47121703","Smoking urns or accessories"]
["50192100","Snack foods"]
["22101531","Snow blowers"]
["46161506","Snow or ice melter"]
["22101538","Snow plow"]
["25101926","Snow plow truck"]
["72102903","Snow removal services"]
["25101903","Snowmobiles or snow scooter"]
["30181601","Soap dish"]
["30181614","Soap dispenser"]
["53131608","Soaps"]
["49161505","Soccer balls"]
["93141500","Social development and services"]
["93141511","Social groups studies or related services"]
["93141513","Social justice or legislation services"]
["93141503","Social planning services"]
["93141501","Social policy services"]
["93141509","Social problems analysis or management services"]
["93141502","Social security legislation services"]
["93161606","Social security tax"]
["93141510","Social structure studies or related services"]
["93141506","Social welfare services"]
["93141507","Social work administration services"]
["93110000","Socio political conditions"]
["27111704","Sockets"]
["53102402","Socks"]
["51191609","Sodium bicarbonate or sodium hydrogen carbonate"]
["51191602","Sodium chloride electrolytes"]
["51473704","Sodium hypochlorite"]
["51172327","Sodium lactate"]
["51472302","Sodium perborate"]
["51171630","Sodium phosphate/sodium citrate"]
["56101502","Sofas"]
["51341806","Sofosbuvir"]
["51343813","Sofosbuvir/Velpatasvir"]
["51343826","Sofosbuvir/Velpatasvir"]
["50202306","Soft drinks"]
["48101707","Soft serve machines"]
["11121604","Soft timber"]
["50221114","Soft Wheat (WFP food convention)"]
["49161509","Softballs"]
["41104211","Softeners"]
["41114511","Softness tester"]
["43230000","Software"]
["81161501","Software application administration service"]
["81111810","Software coding service"]
["81112200","Software maintenance and support"]
["81111500","Software or hardware engineering"]
["81112202","Software patches or upgrades"]
["11111501","Soil"]
["41113825","Soil aggregate analyzer"]
["41113819","Soil analyzer"]
["70131605","Soil chemical treatment services"]
["70131705","Soil classification"]
["10171800","Soil conditioners"]
["70131502","Soil conservation or protection services"]
["41113909","Soil core sampling apparatus"]
["30111507","Soil cured concrete"]
["41113824","Soil head permeability tester"]
["70131506","Soil improvement"]
["41113817","Soil liquid limit tester"]
["41113900","Soil measuring equipment"]
["41113821","Soil penetration tester"]
["41113814","Soil plastic limit tester"]
["77121600","Soil pollution"]
["77121604","Soil pollution advisory services"]
["77121605","Soil pollution mapping"]
["77121606","Soil pollution measurement or monitoring"]
["77121601","Soil pollution protection services"]
["41113815","Soil shrinkage limit tester"]
["41113910","Soil testing kits"]
["41113826","Soil texture analyzer"]
["41113827","Soil unconfined compression apparatus"]
["60104701","Solar collecting devices"]
["26111607","Solar generators"]
["40101807","Solar heating units"]
["60104702","Solar kits"]
["39101603","Solar lamps"]
["26131507","Solar power plants"]
["41114407","Solar radiation surface observing apparatus"]
["72152104","Solar reflecting insulation film service"]
["41111955","Solar sensor"]
["23271603","Soldering iron"]
["23271600","Soldering machines"]
["15101600","Solid and gel fuels"]
["41113811","Solid bearing tester"]
["41104018","Solid phase extraction preparations"]
["43201830","Solid state drive SSD"]
["25191543","Solid Waste Disposal Equipment for Aircraft"]
["41103315","Solution strength estimation apparatus"]
["41102919","Solvent recyclers"]
["12190000","Solvents"]
["41102923","Somatic cell counter"]
["55101527","Song Books"]
["51112008","Sorafenib"]
["51112016","Sorafenib tosylate"]
["50221305","Sorghum Flour (WFP food convention)"]
["10151611","Sorghum seeds"]
["44102502","Sorters"]
["44102500","Sorting machines"]
["21102002","Sorting machines for seed or grain or dried leguminous vegetables"]
["41115500","Sound generating and measuring equipment"]
["30131509","Sound proof block"]
["30171517","Sound proof door"]
["49101602","Souvenirs"]
["51461606","Soy flour/Polyvidone"]
["50151520","Soya bean Oil (WFP food convention)"]
["10152302","Soya seeds or seedlings"]
["50501708","Soya-fortified Maize Meal (WFP food convention)"]
["91101500","Spa and workout and rejuvenation facilities"]
["72153104","Spa or hot tub construction and installation service"]
["81102302","Space engineering service"]
["78111900","Space transportation"]
["25191600","Space transportation support systems and equipment"]
["25150000","Spacecraft"]
["78102000","Spacecraft cargo transport"]
["83111605","Spacesegment leasing"]
["21101810","Spare parts and accessories for dispersing and spraying appliances for agriculture"]
["51282944","Sparfloxacin"]
["26101732","Spark plugs"]
["45111711","Speaker baffle"]
["43221732","Speaker control unit"]
["43191515","Speaker phone"]
["39112200","Special effects devices"]
["39111900","Special environment fixtures and accessories"]
["82111902","Special interest newsletter services"]
["43191507","Special purpose telephones"]
["92101502","Special weapons and tactics SWAT or riot teams"]
["25175200","Specialised, Safety and Rescue Vehicle Accessories"]
["90111900","Specialized accommodation services"]
["25101900","Specialized and recreational vehicles"]
["72151600","Specialized communication system services"]
["86130000","Specialized educational services"]
["23242600","Specialized or miscellaneous metal cutting machines"]
["72121400","Specialized public building construction services"]
["72151603","Specialized sound equipment installation service"]
["72150000","Specialized trade construction and maintenance services"]
["25174800","Specialized vehicle systems and components"]
["78131800","Specialized warehousing and storage"]
["25131800","Specialty aircraft"]
["72154000","Specialty building and trades services"]
["44121505","Specialty envelopes"]
["42192700","Specialty exam tables and related products"]
["11162100","Specialty fabrics or cloth"]
["14122200","Specialty industrial use papers"]
["41106217","Specialty plates for bacteria"]
["41106218","Specialty premixed media dry"]
["30263900","Specialty steel bars"]
["41112235","Specific heat measuring instrument"]
["80101703","Specification standardization services"]
["41104100","Specimen collection and transport containers and supplies"]
["41104118","Specimen collection container"]
["41104105","Specimen collection or transport bags"]
["41104136","Specimen drop box"]
["41113823","Specimen expansion tester"]
["41104117","Specimen holders"]
["41121715","Specimen transport tube or aliquot tube"]
["41115412","Spectrobolometer"]
["41115401","Spectrofluorimeters or fluorimeters"]
["41115402","Spectrographs"]
["41115403","Spectrometers"]
["41115418","Spectrophotometer accessories"]
["41115406","Spectrophotometers"]
["41115400","Spectroscopic equipment"]
["82111705","Speech writing"]
["41111921","Speed sensors"]
["41112801","Speedometers"]
["43232503","Spell checkers"]
["41114506","Spherometers"]
["42181721","Sphygmographs"]
["10151800","Spice crop seeds and seedlings"]
["50171550","Spices or extracts"]
["30181701","Spigot"]
["10151517","Spinach seeds or seedlings"]
["42142514","Spinal anesthesia kits or trays"]
["82121902","Spiral binding"]
["44102803","Spiral binding machine"]
["41102402","Spirit burners"]
["51191507","Spironolactone"]
["50424007","Split Green Peas (WFP food convention)"]
["50425409","Split Peas (WFP food convention)"]
["50425410","Split Yellow Peas (WFP food convention)"]
["47131603","Sponges"]
["80141609","Sponsorship of event or celebrity"]
["49221500","Sport accessories"]
["49221502","Sport goals"]
["49221505","Sport nets or netting"]
["49221501","Sport scoreboards"]
["53102717","Sport uniform"]
["95122300","Sports and health buildings and structures"]
["49000000","Sports and Recreational Equipment and Supplies and Accessories"]
["25101508","Sports car"]
["49220000","Sports equipment and accessories"]
["49221511","Sports equipment bags"]
["43232003","Sports games"]
["84121604","Spot exchange transaction services"]
["30181807","Spout"]
["95141702","Spray booth"]
["23201201","Spray dryers"]
["23153145","Spray gun"]
["31211507","Spray paints"]
["25101935","Spray truck"]
["21101801","Sprayers"]
["43232110","Spreadsheet software"]
["70111711","Sprigging services"]
["41114507","Spring testing machines"]
["31161900","Springs"]
["31171900","Sprockets"]
["70141802","Sprout or twig services"]
["41104123","Sputum collection apparatus or containers"]
["10151532","Squash seeds or seedlings"]
["47121902","Squeege or washer accessories"]
["47121901","Squeege or washer holsters"]
["47121803","Squeegees or washers"]
["41106514","Stable mammalian cell lines"]
["41115831","Stacker or magazine for microplate handling"]
["24101606","Stackers"]
["72121408","Stadium construction service"]
["80111701","Staff recruiting services"]
["39112300","Stage and studio lighting and accessories"]
["39112400","Stage and studio lighting dimming and control devices"]
["39112500","Stage and studio luminaires"]
["11171601","Stainless steel alloy 304"]
["11171602","Stainless steel alloy 304l"]
["11171603","Stainless steel alloy 316"]
["11171600","Stainless steel alloys"]
["30241604","Stair riser"]
["30241602","Stair step"]
["30162100","Stairs and stairways"]
["30241511","Stake or peg"]
["80171504","Stakeholder analysis"]
["80171900","Stakeholder management and relations services"]
["44102107","Stamp affixers"]
["44102104","Stamp canceling machines"]
["14111540","Stamp paper"]
["44111514","Stamp racks or organizers"]
["31280000","Stampings and sheet components"]
["44121604","Stamps"]
["43221505","Standalone telephone caller identification"]
["41113813","Standard aggregate"]
["26111728","Standard cell"]
["44121506","Standard envelopes"]
["41104301","Standard fermentation units"]
["14121901","Standard newsprint"]
["72151505","Standby or emergency power installation service"]
["72151514","Standby or emergency power maintenance service"]
["42211504","Standers or standing cages or standing aids "]
["44121613","Staple removers"]
["44121630","Stapler kit"]
["44101707","Stapler units"]
["44121615","Staplers"]
["44122107","Staples"]
["93121505","State immunities services"]
["93121507","State visits organization services"]
["93101607","Statesmen services"]
["32121704","Static converters"]
["42141812","Static electricity generators for electric stimulation"]
["41113685","Static electricity measuring equipment"]
["42141814","Static electricity stimulators"]
["41103512","Static eliminators"]
["24112806","Static fuel container "]
["24112113","Static fuel drum"]
["41104821","Static sample concentrator"]
["25101504","Station wagons"]
["49201503","Stationary bicycles"]
["24102402","Stationary waste compactor"]
["14111509","Stationery"]
["57070104","Stationery and PPE"]
["82121507","Stationery or business form printing"]
["81130000","Statistics"]
["51343005","Stavudine and lamivudine and nevirapine"]
["51343004","Stavudine or stavidine"]
["42281530","Steam autoclave or sterilizer accessories"]
["42281508","Steam autoclaves or sterilizers"]
["24111815","Steam condensate tank"]
["40101722","Steam condenser"]
["26101505","Steam engines"]
["26111608","Steam generators"]
["26131508","Steam power plants"]
["72154303","Steam turbine maintenance service"]
["30241513","Steel A-frame"]
["95121601","Steel bridge"]
["72154029","Steeple jack installation and repair service"]
["25174213","Steering cylinder assemblies"]
["25174200","Steering system"]
["44111801","Stencils or lettering aids"]
["44102604","Stenotype machines"]
["42295900","Stents"]
["41111703","Stereo or dissecting light microscopes"]
["41121523","Sterile Diluents for PPR Vaccine"]
["51191605","Sterile water for injection"]
["51473504","Sterile water for irrigation"]
["42281916","Sterilization bags"]
["42281803","Sterilization biological kits"]
["42281811","Sterilization container locks"]
["42281509","Sterilization containers or trays"]
["42281804","Sterilization controls"]
["42281914","Sterilization disposable containers"]
["42281903","Sterilization dust covers"]
["42281905","Sterilization heat sealers"]
["42281805","Sterilization indicator records"]
["42281806","Sterilization indicator strips"]
["42281807","Sterilization indicator tapes"]
["42281800","Sterilization indicators and controls"]
["42281906","Sterilization instrument bands"]
["42281907","Sterilization instrument protectors"]
["42281908","Sterilization instrument tray liners"]
["42281909","Sterilization labeling guns"]
["42281802","Sterilization labels"]
["42281808","Sterilization papers or sheets"]
["42281904","Sterilization pouches"]
["42281809","Sterilization record storage envelopes"]
["42281915","Sterilization reels"]
["42281521","Sterilization sets"]
["42281810","Sterilization test packs"]
["42281912","Sterilization towels"]
["42281913","Sterilization tubing"]
["42281900","Sterilization wraps and packaging supplies"]
["42281902","Sterilization wraps or overwraps"]
["42142528","Sternum puncture needles or sets"]
["42182107","Stethoscope headsets"]
["42182100","Stethoscopes and related products"]
["78141801","Stevedoring services"]
["45121501","Still cameras"]
["82131501","Still film processing or reproduction"]
["45131500","Still picture film"]
["51144600","Stimulant or anorexiant alkaloids"]
["51144000","Stimulant or anorexiant amines"]
["41102423","Stirring hotplates"]
["41103803","Stirring tables"]
["84121801","Stock market trading services"]
["41101502","Stomachers"]
["11111600","Stone"]
["30131503","Stone blocks"]
["30131604","Stone bricks"]
["72151909","Stone masonry service"]
["42142712","Stone remover sets"]
["41104121","Stool collection containers with media"]
["41104122","Stool collection containers without media"]
["72154063","Stopple or line stopping service"]
["78130000","Storage"]
["44102902","Storage accessories for office machines"]
["48102100","Storage and handling equipment and supplies"]
["24112807","Storage and transit units"]
["43222615","Storage area network SAN switch"]
["56101530","Storage cabinets"]
["24112400","Storage chests and cabinets and trunks"]
["43201834","Storage device controller"]
["43201609","Storage device trays or assemblies"]
["43202206","Storage drive or input device components"]
["56111602","Storage for panel systems"]
["43233414","Storage media loading software"]
["43232907","Storage networking software"]
["95141703","Storage shed"]
["72154057","Storage tank rental service"]
["24111803","Storage tanks"]
["43212201","Storage virtualization system"]
["72152405","Store fixture installation service"]
["30171506","Storm doors"]
["70171802","Storm water drainage"]
["81101528","Stormwater engineering"]
["24101515","Straddle carrier truck"]
["41111605","Strain gauges"]
["44102305","Strapping tensioners or sealers"]
["31151900","Straps"]
["80101504","Strategic planning consultation services"]
["81151702","Stratigraphic geology"]
["24111512","Straw bag"]
["48101920","Straw dispensers"]
["42211916","Straws or straw holders for the physically challenged"]
["76121503","Street cleaning services"]
["51283800","Streptogramins"]
["51131703","Streptokinase"]
["51281624","Streptomycin"]
["51281675","Streptomycin sulfate"]
["41114631","Stress tester"]
["24141501","Stretch wrap films"]
["60131300","String instruments"]
["30241603","Stringer"]
["43212118","Strip Printer "]
["41115317","Stroboscopes"]
["30241515","Structural alignment tool"]
["30241514","Structural brace"]
["30130000","Structural building products"]
["30100000","Structural components and basic shapes"]
["81101505","Structural engineering"]
["72153500","Structural exterior cleaning services"]
["72152905","Structural iron work service"]
["30260000","Structural materials"]
["72102104","Structural pest control"]
["30103600","Structural products"]
["72152900","Structural steel erection services"]
["41104818","Structured packing"]
["30000000","Structures and Building and Construction and Manufacturing Components and Supplies"]
["72152005","Stucco installation and repair service"]
["56121508","Student computer desks"]
["56121509","Student computer tables"]
["56121506","Student desks"]
["93111505","Student movements"]
["90111902","Student residential room or unit accommodation service"]
["86141600","Students organizations"]
["60121600","Studio aids"]
["82131604","Studio photography services or still photographs"]
["31163300","Studs"]
["56121507","Study carrels"]
["44111517","Study stands"]
["43202200","Sub assemblies for electronic devices"]
["26141600","Subcritical assembly equipment"]
["81101519","Subdivison planning service"]
["83112501","Submarine cable capacities and submarine cable PoP to PoP capacities"]
["23271401","Submerged arc welding machine"]
["43201415","Subscriber identity module SIM card"]
["72101515","Subsidence service work"]
["93151611","Subsidies"]
["85101506","Substance abuse hospital services"]
["95121802","Substation"]
["95121632","Subway"]
["72141604","Subway construction service"]
["78111602","Subway transport"]
["51152046","Succinylcholine or suxamethonium or suxamethonium chloride"]
["51171911","Sucralfate"]
["42212007","Suction brushes for the physically challenged"]
["42144406","Suction catheters"]
["42293528","Suction pump, electrical"]
["42293529","Suction pump, manual"]
["57030304","Sudden-onset wash and dignity kit"]
["51172328","Sugammadex"]
["51172333","Sugammadex sodium"]
["41113323","Sugar analyzers"]
["70141507","Sugarbeet or sugarcane production"]
["44112007","Suggestion box"]
["90111803","Suite"]
["53101900","Suits"]
["51283901","Sulfacetamide"]
["51283941","Sulfacetamide sodium"]
["51283908","Sulfadiazine"]
["51284911","Sulfamethoxazole/trimethoprim"]
["51202204","Sulfasalazine"]
["51283900","Sulfonamide antibacterials"]
["51382702","Sulindac"]
["41104013","Sulphur dioxide or smoke samplers"]
["10171604","Sulphuric fertilizer"]
["51142435","Sumatriptan succinate"]
["53131609","Sun protection products"]
["72154049","Sun screen service"]
["50151521","Sunflower Oil (WFP food convention)"]
["10151904","Sunflower seeds"]
["51112017","Sunitinib malate"]
["14122101","Super calendared kraft paper"]
["50501713","Super Cereal (WFP food convention) "]
["50501713","Super Cereal (WFP food convention) "]
["50501714","Super Cereal Plus (WFP food convention) "]
["10171612","Superphosphate fertilizer"]
["43221528","Supervisory signal unit"]
["41111953","Supplemental inflator restraint arming sensor"]
["41111972","Supplemental inflator restraint SIR or airbag coil assembly sensor"]
["57050201","Supplementary feeding/nursing kit"]
["50501727","Supplementary Nursing/Feeding Kit (WFP food convention)"]
["42231813","Supplementary Plumpy (WFP standard)"]
["78141504","Supplier or vendor managed freight and rebilling"]
["80101704","Supply chain analysis or re engineering services"]
["81141600","Supply chain management"]
["83101606","Supply of fuel"]
["83101602","Supply of fuel oil"]
["83101601","Supply of natural gas"]
["83101801","Supply of single phase electricity"]
["83101803","Supply of three phase electricity"]
["83101802","Supply of two phase electricity"]
["83101501","Supply of water"]
["44111513","Supports for diaries or calendars"]
["42192601","Suppository molds"]
["42142701","Suprapubic urinary catheters or kits"]
["30152100","Surface"]
["44111520","Surface protectors or pads"]
["41103317","Surface tension measuring instruments"]
["41114508","Surface testers"]
["41112212","Surface thermometers"]
["70171507","Surface water development"]
["77121705","Surface water pollution drainage services"]
["77121701","Surface water pollution monitoring or control services"]
["77121703","Surface water pollution protection services"]
["77121702","Surface water pollution rehabilitation services"]
["77121704","Surface water treatment services"]
["12161900","Surfactants"]
["42131611","Surgeon caps or hoods"]
["42295409","Surgical applicators"]
["42291801","Surgical band ligator appliers or bands or related products"]
["42295410","Surgical basin sets or packs"]
["42292300","Surgical bending irons and crimpers and pliers and tensioners and wrenches and related products"]
["42295411","Surgical blade holders or breakers"]
["42291500","Surgical bone biopsy instruments and related products"]
["42296703","Surgical bone cement injectors "]
["42296704","Surgical bone cement kits"]
["42296702","Surgical bone cement mixers"]
["42296705","Surgical bone cements"]
["42296700","Surgical bone cements and related products"]
["42293600","Surgical bougies and sounds and related products"]
["42293001","Surgical calipers or rulers or protractors"]
["42295413","Surgical canal brushes"]
["42292901","Surgical cerclage instruments"]
["42291800","Surgical clamps and forceps and surgical ligators and related instruments"]
["42131708","Surgical cleanup or room turnover packs or kits"]
["42191713","Surgical compressed air tank accessories"]
["42191711","Surgical compressed air tanks"]
["42293700","Surgical crushers and excavators and morselizers and related products"]
["42295480","Surgical customizable packs"]
["42291600","Surgical cutting instruments and snares and related products"]
["42312307","Surgical debridement products"]
["42295201","Surgical dermatomes or dermabraders or dermameshers"]
["42292600","Surgical dilators and probes and grooves and related products"]
["42292700","Surgical dissectors and elevators and picks and related products"]
["42293300","Surgical distraction and compression and combination instruments and related product"]
["42295453","Surgical drains or drain sets"]
["42131701","Surgical drapes"]
["42295100","Surgical equipment and accessories and related products"]
["42295415","Surgical equipment covers"]
["42295456","Surgical felt or fabric or patch or pledget"]
["42132205","Surgical gloves"]
["42131702","Surgical gowns"]
["42293003","Surgical graft measuring instruments"]
["42292500","Surgical hammers and mallets and impactors and presses and related products"]
["42291700","Surgical hand drills and reamers and puncturing instruments and accessories and related products"]
["42295454","Surgical hand protectors"]
["42131711","Surgical headcovers"]
["42311607","Surgical hemostatic agents"]
["42295500","Surgical implants and expanders and extenders and surgical wires and related products"]
["42292100","Surgical inserters and extractors and related products"]
["42291900","Surgical instrument and tube holders and positioners"]
["42295427","Surgical instrument brushes or instrument stylets or instrument wipes"]
["42131721","Surgical instrument pouches"]
["42294200","Surgical instrument sets and systems and trays"]
["42296800","Surgical instruments and accessories"]
["42293518","Surgical irrigation pump equipment or pulsed lavage with or without suction"]
["42131713","Surgical isolation or surgical masks"]
["42131707","Surgical isolation suits or helmets or shields or accessories"]
["42131706","Surgical jumpsuits and coveralls"]
["42293901","Surgical laparotomy rings"]
["42295417","Surgical light handle covers"]
["42295418","Surgical magnetic mats"]
["42293400","Surgical manipulators and implant positioners and related products"]
["42292800","Surgical marking instruments"]
["42292802","Surgical marking instruments for general use"]
["42295402","Surgical marking pens"]
["42293000","Surgical measuring devices and related products"]
["42293002","Surgical measuring gauges or rods"]
["42293006","Surgical measuring tapes"]
["42295513","Surgical mesh or tissue barriers"]
["42292000","Surgical mirrors"]
["42292001","Surgical mirrors"]
["42295148","Surgical navigation systems"]
["42292903","Surgical needle holders"]
["42295419","Surgical nerve stimulators"]
["42295016","Surgical or endoscopic video cable"]
["42293800","Surgical passers and searchers and tunnelers and strippers and related products"]
["42295202","Surgical pneumatic or battery or electric saws or drills or pin drivers"]
["42295200","Surgical power equipment and accessories and related products"]
["42295203","Surgical power equipment sets"]
["42295204","Surgical power reamers "]
["42295421","Surgical prep scrub or paint solutions"]
["42295451","Surgical preparation mitts"]
["42290000","Surgical products"]
["42292908","Surgical purstring devices"]
["42292403","Surgical ratchet handles"]
["42293100","Surgical retractors and related products"]
["42296818","Surgical retriever sets"]
["42296201","Surgical robotic clip application instruments"]
["42296202","Surgical robotic dissection instruments"]
["42296203","Surgical robotic electrocautery instruments"]
["42296200","Surgical robotic equipment and accessories and related products"]
["42296204","Surgical robotic graspers or forceps"]
["42296205","Surgical robotic hook instruments"]
["42296206","Surgical robotic knot pusher or delivery instruments"]
["42296207","Surgical robotic needle drivers"]
["42296208","Surgical robotic retractor instruments"]
["42296209","Surgical robotic scalpels and blades"]
["42296210","Surgical robotic scissors"]
["42296212","Surgical robotic trocars or sheathes or obturators or cannulas"]
["42296211","Surgical robotic ultrasonic energy instruments"]
["42291632","Surgical scalpel or knife or blade or trephine accessories"]
["42291614","Surgical scissors"]
["42295408","Surgical scrub brushes"]
["42295422","Surgical scrub or prep kits for patient"]
["42295423","Surgical sharps or sponge counters"]
["42295424","Surgical shave kits or prep razors or clippers"]
["42131716","Surgical shoe covers"]
["42293004","Surgical sizing instruments or templates"]
["42294100","Surgical skeletal traction devices and related products"]
["42131709","Surgical sleeves"]
["42293605","Surgical sound sets"]
["42294000","Surgical spatulas and spoons and scoops and related products"]
["42295414","Surgical specialty procedure packs"]
["42295426","Surgical specimen collection traps or containers"]
["42295448","Surgical splash guards"]
["42293500","Surgical suction and irrigation products"]
["42295167","Surgical suction machine or vacuum extractor or ultrasonic Surgical aspirator or regulator accessories"]
["42295123","Surgical suction machines or vacuum extractors or ultrasonic surgical aspirators or regulators"]
["42295400","Surgical support supplies"]
["42292904","Surgical suture or wire passers or related products"]
["42292400","Surgical taps and drivers and related products"]
["42131700","Surgical textiles"]
["42295800","Surgical thermo ablation systems and accessories"]
["42131704","Surgical towels"]
["95141904","Surgical units"]
["42293005","Surgical valve sizing instruments"]
["42293902","Surgical wound packing instruments"]
["42293900","Surgical wound packing instruments and related products"]
["46171600","Surveillance and detection equipment"]
["92121701","Surveillance or alarm maintenance or monitoring"]
["46171621","Surveillance video or audio recorders"]
["57010000","Survival supplies"]
["25172000","Suspension system components"]
["42292900","Suture and surgical tissue closure instruments and related products"]
["42312204","Suture boots and capturing devices"]
["42312203","Suture buttons or bridges"]
["42192413","Suture carts or racks"]
["42312206","Suture needles"]
["42312207","Suture removal kits or trays or packs or sets"]
["42312208","Suture removers"]
["42312201","Sutures"]
["42312200","Sutures and related products"]
["42312202","Suturing kits or trays or packs or sets"]
["41104116","Swab collection or transport containers"]
["25181614","Swap body/Platform lifting system module"]
["25101615","Swap truck chassis/Platform lifting system truck"]
["25101615","Swap truck chassis/Platform lifting system truck"]
["41115847","Sweat chloride iontophoresis analyzer"]
["41115848","Sweat chloride iontophoresis analyzer accessories"]
["53101700","Sweaters"]
["10151521","Sweet pepper seeds or seedlings"]
["10152403","Sweet potato seeds or seedlings"]
["49241700","Swimming pool and spa equipment and supplies"]
["72153105","Swimming pool construction service"]
["53102800","Swimwear"]
["10101511","Swine"]
["30171511","Swing door"]
["43221530","Switch board signal device"]
["41113658","Switch durability tester"]
["43232908","Switch or router software"]
["43201410","Switch ports or cards"]
["83112400","Switched dial up and leased dedicated line circuit telecommunications services"]
["72151506","Switchgear and related devices installation service"]
["56111806","Swiveling barber chair"]
["51391600","Sympathomimetic or adrenergic amines"]
["51391700","Sympathomimetic or adrenergic amino alcohols"]
["51392400","Sympathomimetic or adrenergic catecholamines"]
["51393600","Sympathomimetic or adrenergic dibenzoxepins and dioxolanes and glycosides and guanidines"]
["51390000","Sympathomimetic or adrenergic drugs"]
["51393400","Sympathomimetic or adrenergic xanthines"]
["45111824","Synchronizing or sync converter"]
["45111821","Synchronizing or sync generator"]
["43221808","Synchronous digital hierarchy SDH telecom equipment"]
["43221806","Synchronous optical network SONET network equipment"]
["80141508","Syndicated or proprietary forecast studies"]
["60131006","Synthesizer"]
["41106219","Synthetic complete supplement mixtures for yeast"]
["11161800","Synthetic fabrics"]
["52101517","Synthetic mat /carpet"]
["41106220","Synthetic media for yeast"]
["42142615","Syringe accessories"]
["42222009","Syringe actuators for an injector"]
["41122003","Syringe adapters or accessories"]
["42142629","Syringe feeding ENFit"]
["41104922","Syringe filters"]
["42142628","Syringe Luer slip"]
["41105104","Syringe pumps"]
["42142630","Syringe, AUTO-DISABLE with needle"]
["42142600","Syringes and accessories"]
["48101704","Syrup pumps"]
["81111808","System analysis service"]
["81111800","System and system component administration services "]
["43201500","System boards processors interfaces or modules"]
["43201400","System Cards"]
["81111809","System installation service"]
["43233700","System management software"]
["81112210","System management software maintenance"]
["93121701","System of organizations services"]
["81111511","System or application programming management service"]
["81111820","System usability services"]
["81111705","Systems architecture"]
["81111503","Systems integration design"]
["78204016","Systems Integrators (Aviation)"]
["81111707","Systems planning services"]
["44111808","T squares"]
["11171901","TA6V super alloy"]
["44122008","Tab indexes"]
["52121600","Table and kitchen linen and accessories"]
["56101704","Table base"]
["49181500","Table games and equipment"]
["27113401","Table saw"]
["45111502","Table top lecterns"]
["56101519","Tables"]
["43211509","Tablet computers"]
["42232000","Tablet crushers and cutters and related products"]
["48101900","Tabletop and serving equipment"]
["48102004","Tabletops"]
["48101818","Tableware disinfector"]
["42211917","Tableware for the physically challenged"]
["51241246","Tacalcitol"]
["25174414","Tachograph"]
["41112803","Tachometer disks"]
["41112802","Tachometers"]
["51202804","Tacrolimus"]
["51202805","Tacrolimus anhydrous"]
["44122113","Tag fasteners"]
["55121500","Tags"]
["51172481","Taliglucerase alfa"]
["42211918","Talking food scales for the physically challenged"]
["60131403","Tambourines"]
["51111873","Tamoxifen"]
["51111874","Tamoxifen citrate"]
["24141504","Tamper proof or security seals"]
["41122704","Tamper proof tapes"]
["22101507","Tampers"]
["51263406","Tamsulosin hydrochloride"]
["72154058","Tank and line testing service"]
["72154055","Tank cleaning service"]
["72121507","Tank construction and servicing"]
["72154056","Tank maintenance or repair service"]
["25101920","Tank trucks"]
["25111505","Tankers"]
["25102001","Tanks"]
["24111800","Tanks and cylinders and their accessories"]
["31201500","Tape"]
["43201806","Tape arrays"]
["44102903","Tape cleaners"]
["44121605","Tape dispensers"]
["43201903","Tape drive libraries"]
["43201807","Tape drives"]
["45111712","Tape duplicator"]
["44102407","Tape embosser"]
["11162123","Tape fabrics"]
["27111801","Tape measures"]
["41113712","Tape testers"]
["43201905","Tape unit cleaning kit"]
["51373204","Tapentadol hydrochloride"]
["41111648","Taper gauge"]
["41113713","Tapespeed testers"]
["23241615","Taps"]
["49180000","Target and table games and equipment"]
["25131705","Target or reconnaissance drones"]
["72154041","Target systems installation service"]
["93161609","Tariff or duty"]
["24141506","Tarpaulins"]
["51101618","Taurolidine"]
["84111503","Tax accounting service"]
["93161700","Tax administration"]
["84111802","Tax advisory services"]
["93161701","Tax collation"]
["93151610","Tax collection services"]
["93161805","Tax deductions"]
["14111814","Tax forms or tax books"]
["93161702","Tax incentives"]
["43231603","Tax preparation software"]
["84111801","Tax preparers"]
["93161801","Tax reform"]
["93161808","Tax returns"]
["93161704","Tax revenue administration"]
["93161703","Tax systems"]
["93160000","Taxation"]
["93161800","Taxation issues"]
["84111800","Taxation issues and preparation"]
["80121607","Taxation law"]
["93161802","Taxation policy"]
["93161600","Taxes other than income tax"]
["78111804","Taxicab services"]
["82151508","Taxidermy services"]
["46161537","Taxiing Guidance Sign "]
["14122202","Tea bag paper"]
["50201713","Tea bags"]
["56121510","Teacher desk"]
["60101700","Teacher resource materials"]
["86101710","Teacher training services"]
["11121614","Teak wood"]
["60105308","Team building skills instructional materials"]
["49211804","Team identification materials or markers"]
["93142103","Technical cooperation services"]
["55101518","Technical diagrams or drawings"]
["81101502","Technical drawing"]
["86121602","Technical institutes"]
["82121511","Technical manual or instruction sheet printing"]
["86121803","Technical professional schools"]
["82151511","Technical service for art gallery and museum exhibitions and collections"]
["81111811","Technical support or help desk services"]
["82111500","Technical writing"]
["60106200","Technology teaching aids and materials"]
["10151616","Teff seed"]
["51282701","Teicoplanin"]
["43221503","Telecom announcers"]
["72103302","Telecom equipment maintenance or support"]
["42211707","Telecommunication devices TDD or teletypewriters TTY for the physically challenged"]
["43222814","Telecommunication equipment installation or modification kits"]
["43222817","Telecommunication repeaters"]
["81161700","Telecommunication Services"]
["83111601","Telecommunication signal enhancement network services"]
["95101707","Telecommunication site"]
["43222815","Telecommunication terminal units"]
["43222903","Telecommunication tower or support"]
["72141118","Telecommunication transmission tower construction service"]
["43221807","Telecommunications dense wavelength division multiplexing DWDM filters"]
["83110000","Telecommunications media services"]
["43201831","Telecommunications memory unit"]
["81111708","Telecommunications planning services"]
["43221521","Telecommunications remote access unit"]
["86101607","Telecommunications vocational training services"]
["43221522","Teleconference equipment"]
["43221506","Teleconferencing console"]
["43222702","Telegraph electromagnets"]
["43222700","Telegraph equipment"]
["43222701","Telegraph keys"]
["14111535","Telegraph papers"]
["43222703","Telegraph sounders"]
["43222704","Telegraph switch board"]
["83111702","Telegraph transmission services"]
["80141603","Telemarketing"]
["81161707","Telephone Administration Service"]
["42211708","Telephone aids for the physically challenged"]
["72141117","Telephone and communication cable laying service"]
["72151604","Telephone and telephone equipment installation service"]
["43221508","Telephone busy lamp fields"]
["43221509","Telephone call accounting systems"]
["43221510","Telephone call diverter or forwarder"]
["43221513","Telephone call sequencers"]
["43221514","Telephone dial backup units"]
["43222818","Telephone distributing terminal frame"]
["43221526","Telephone entry systems"]
["43221515","Telephone line sharing devices"]
["43221516","Telephone line status monitors"]
["14111526","Telephone message pads or books"]
["43222825","Telephone modification kits"]
["43202201","Telephone piece parts"]
["43202202","Telephone ring generators"]
["43191619","Telephone signaling devices"]
["81161708","Telephone Support Service"]
["43222813","Telephone switchboard part kits"]
["43222902","Telephony cable air dryers"]
["43222800","Telephony equipment"]
["43222900","Telephony equipment accessories"]
["43222811","Telephony equipment alarm units"]
["43221517","Telephony equipment service observing units"]
["43221518","Telephony equipment toll restrictors"]
["43222816","Telephony keyers"]
["42203606","Teleradiography systems"]
["41111715","Telescopes"]
["41111646","Telescoping gauge"]
["43223000","Teletype equipment"]
["43223001","Teletype input devices"]
["43221702","Television access equipment"]
["83111803","Television antenna construction or rental services"]
["43221703","Television antennas"]
["45111822","Television aspect ratio converter"]
["83111804","Television broadcasting station management"]
["72141116","Television cable laying service"]
["43221701","Television core equipment"]
["45111809","Television mount accessories"]
["45111802","Television mounts"]
["82101902","Television placement"]
["83121701","Television related services"]
["83111800","Television services"]
["52161505","Televisions"]
["14111529","Telex rolls"]
["83111703","Telex transmission services"]
["10191519","Telfubenzuron"]
["41111606","Tellurometers"]
["51431902","Telmisartan"]
["51112902","Temozolomide"]
["70151706","Temperate forest harvesting"]
["41112200","Temperature and heat measuring instruments"]
["41103418","Temperature and humidity walk in environmental chamber"]
["41113646","Temperature calibrator or simulator"]
["42272507","Temperature control for anesthesia apparatus"]
["24112805","Temperature controlled freight container"]
["41103416","Temperature cycle chamber"]
["41102421","Temperature cycling chambers or thermal cyclers"]
["41112222","Temperature gauge"]
["41112303","Temperature humidity testers"]
["41114408","Temperature or humidity surface observing apparatus"]
["41112205","Temperature regulators"]
["41111970","Temperature sensor"]
["41112105","Temperature transmitters"]
["30171706","Tempered glass"]
["41104135","Template bleeding time incision device and blotting paper"]
["44111809","Templates"]
["80111617","Temporary architectural services"]
["80111601","Temporary clerical or administrative assistance"]
["30191800","Temporary construction and maintenance support equipment and materials"]
["80111618","Temporary construction services"]
["80111619","Temporary creative services"]
["80111616","Temporary customer service personnel"]
["80101605","Temporary drafting service"]
["80111612","Temporary drivers"]
["80111614","Temporary engineering services"]
["80111605","Temporary financial staffing needs"]
["80111620","Temporary human resources services"]
["80111610","Temporary information technology networking specialists"]
["80111608","Temporary information technology software developers"]
["80111609","Temporary information technology systems or database administrators"]
["80111607","Temporary legal staffing needs"]
["80111615","Temporary machinist personnel"]
["80111613","Temporary manual labor"]
["80111625","Temporary manual labor underground"]
["80111602","Temporary marketing staff needs"]
["80111606","Temporary medical staffing needs"]
["80111600","Temporary personnel services"]
["80111603","Temporary production staffing needs"]
["80111621","Temporary research and development services"]
["80111622","Temporary safety health environmental services"]
["80111623","Temporary sourcing and logistics services"]
["80111604","Temporary technician staffing needs"]
["72154067","Temporary theatrical stage and platform rental and installation"]
["80111624","Temporary Travel Staffing"]
["80111611","Temporary warehouse staff"]
["51131711","Tenecteplase"]
["49161604","Tennis balls"]
["72153108","Tennis court construction service"]
["49161607","Tennis racquets"]
["49181507","Tennis tables"]
["51343509","Tenofovir alafenamide fumarate"]
["51343511","Tenofovir disoproxil"]
["41114632","Tensile strength tester"]
["41114509","Tensiometers"]
["41114621","Tension testers"]
["30241700","Tent and membrane structure framing and covering components"]
["24111508","Tent bag"]
["14111815","Tent cards"]
["49121506","Tent repair kits"]
["57060401","Tent, for multipurpose use"]
["57060303","Tent, for office use"]
["49121503","Tents"]
["95131700","Tents and membrane structures"]
["51302503","Terbinafine hydrochloride"]
["51262414","Terbutaline sulfate"]
["51303407","Terconazole"]
["51203605","Teriflunomide"]
["51182435","Teriparatide"]
["51281509","Terizidone"]
["51182106","Terlipressin"]
["78141800","Terminal services"]
["72102102","Termite control services"]
["10191508","Termite shields"]
["11111801","Terra cotta"]
["10131701","Terrariums"]
["72152203","Terrazzo installation and repair service"]
["72152200","Terrazzo tile and marble and mosaic services"]
["83112502","Terrestrial backbone capacities"]
["70161703","Terrestrial ecosystem management services"]
["55101522","Terrestrial or celestial globes"]
["43221534","Terrestrial Trunked Radio (TETRA)"]
["93121615","Territorial claims or negotiations third party services"]
["41122811","Test and culture tube dispenser"]
["41114523","Test bar"]
["73152105","Test equipment refurbishment"]
["41116164","Test kit or probe for laboratory proficiency assessment or laboratory performance improvement tracking"]
["14121510","Test liner paperboard"]
["41105003","Test sieves"]
["41121710","Test tube closures or caps"]
["41122804","Test tube racks"]
["41121700","Test Tubes"]
["51182002","Testosterone"]
["51182071","Testosterone enanthate"]
["51452501","Tetrachloroethylene"]
["51284017","Tetracycline"]
["51284043","Tetracycline hydrochloride"]
["51284000","Tetracyclines"]
["43233420","Text to speech conversion software"]
["82121801","Textbook or research publishing"]
["23120000","Textile and fabric machinery and accessories"]
["82121510","Textile printing"]
["23121500","Textile processing machinery and accessories"]
["82151507","Textile spinners or loomers or weavers services"]
["23121600","Textile working machinery and equipment and accessories"]
["51442007","TFT or trifluorothymidine or trifluridine"]
["51201811","Thalidomide"]
["86131501","Theater studies"]
["72154033","Theatrical prop or set or scenery construction erection and repair service"]
["86121802","Theological seminaries"]
["51393405","Theophylline"]
["42161900","Therapeutic apheresis equipment and supplies"]
["42142120","Therapeutic cryo compression therapy cuffs"]
["42142107","Therapeutic cryo compression therapy systems"]
["42251506","Therapeutic decorating boxes"]
["57050301","Therapeutic feeding kit"]
["42251503","Therapeutic games"]
["42142106","Therapeutic heating or cooling blankets or drapes"]
["42142108","Therapeutic heating or cooling pads or compresses or packs"]
["42142105","Therapeutic heating or cooling units or systems"]
["42142109","Therapeutic hot or cold therapy mitts"]
["42142114","Therapeutic hot or cold therapy pants"]
["42142110","Therapeutic hot or cold water bottles"]
["42142111","Therapeutic ice packs or pillows"]
["53131700","Therapeutic massage equipment"]
["42231812","Therapeutic Milk (WFP standard)"]
["42142112","Therapeutic paraffin baths"]
["42251504","Therapeutic pegboards or activity boards"]
["42251505","Therapeutic puzzles"]
["42142113","Therapeutic sinus masks"]
["26111713","Thermal batteries"]
["44102802","Thermal binding machine"]
["45101808","Thermal book binding machines"]
["41113009","Thermal differential analyzers"]
["26101508","Thermal engines"]
["42192433","Thermal evacuation bag"]
["42192434","Thermal evacuation bag"]
["41114633","Thermal expansion tester"]
["44101509","Thermal fax machine"]
["26111605","Thermal generators"]
["41115325","Thermal imager"]
["46191510","Thermal observation device TOD"]
["14111818","Thermal paper"]
["26131510","Thermal power plants"]
["44103124","Thermal ribbon"]
["41114630","Thermal shock tester"]
["43212108","Thermal tape printers"]
["45101512","Thermal transfer printer for commercial printing applications"]
["41113010","Thermo gravimetry analyzers"]
["41112114","Thermo hygro transmitter"]
["41113605","Thermoanalysis derivatographs"]
["41112219","Thermocouple probes"]
["41112206","Thermocouples"]
["40101723","Thermoelectric cooler"]
["41112207","Thermographs"]
["41111521","Thermogravimeter"]
["41112217","Thermoheads"]
["42182209","Thermometer probes"]
["42241509","Thermoplastic orthoses components"]
["13102000","Thermoplastic plastics"]
["42241510","Thermoplastic splint kits or materials"]
["13101900","Thermoset plastics"]
["41106314","Thermostable deoxyribonucleic acid DNA polymerases or kits"]
["41103702","Thermostatic baths"]
["41112209","Thermostats"]
["41112216","Thermowells"]
["42182327","Thesiometers"]
["51453501","Thiabendazole or tiabendazole"]
["51284303","Thiamphenicol"]
["41111623","Thickness measuring devices"]
["41104905","Thin channel filtration equipment"]
["43211506","Thin client computers"]
["51272006","Thiopental sodium"]
["51284100","Third generation cephalosporins"]
["81111818","Third party warranty service"]
["42142536","Thoracentesis or paracentesis needles and catheters"]
["42142537","Thoracentesis sets or trays"]
["95110000","Thoroughfares"]
["73141600","Thread and yarn processing"]
["41111607","Thread counters or gauges"]
["41111641","Thread pitch gauge"]
["82121901","Thread stitch bookbinding"]
["27113205","Threading Pipe Tool Kit"]
["40174712","Threading Pipe Tool Kit"]
["11151600","Threads"]
["94131903","Threatened animals protection associations"]
["21101705","Threshing machines"]
["42203425","Thrombectomy or embolectomy catheters"]
["51131700","Thrombolytic drugs and platelet aggregation inhibitors"]
["51303104","Thymol iodide"]
["51181600","Thyroid and antithyroid drugs"]
["51181604","Thyroid-stimulating hormone or thyrotropin or thyrotropin alfa"]
["51182047","Tibolone"]
["51131740","Ticagrelor"]
["51282411","Ticarcillin"]
["14111801","Tickets or ticket rolls"]
["85111701","Ticks management or control services"]
["26111613","Tidal wave generator"]
["51282003","Tigecycline"]
["30131700","Tiles and flagstones"]
["30171905","Tilt or transom window frames"]
["41111935","Tilt sensors"]
["24101510","Tilt trucks"]
["24101609","Tilts"]
["70151603","Timber production services"]
["72141504","Timber removal service"]
["43231605","Time accounting software"]
["44103203","Time card machine replacement ribbon"]
["44103201","Time card machines"]
["44103207","Time card or time clock machine accessories"]
["44103204","Time card racks"]
["44103205","Time cards or sheets"]
["43222822","Time division multiplexer TDM"]
["60105304","Time management skills instructional materials"]
["81131505","Time series analysis"]
["44103202","Time stamping machines"]
["43221724","Time synchronized generator"]
["54110000","Timepieces"]
["54000000","Timepieces and Jewelry and Gemstone Products"]
["51263175","Timolol maleate"]
["51282801","Tinidazole"]
["51302325","Tioconazole"]
["51161524","Tiotropium"]
["51161574","Tiotropium bromide"]
["76121504","Tire collection and disposal"]
["41111649","Tire depth gauge"]
["25172511","Tire repair kit"]
["41114529","Tire running tester"]
["22101536","Tire washer"]
["25172500","Tires and tire tubes"]
["51431507","Tirofiban hydrochloride"]
["41122100","Tissue culture and high throughput screening supplies"]
["41102910","Tissue culture apparatus"]
["41103717","Tissue culture bath"]
["41122111","Tissue culture chambered slide"]
["41122107","Tissue culture coated plates or dishes or inserts"]
["41103513","Tissue culture enclosures"]
["41122104","Tissue culture flasks"]
["41104403","Tissue culture incubators"]
["41103819","Tissue culture roller drum"]
["41102901","Tissue embedding stations"]
["41103714","Tissue flotation baths"]
["42295461","Tissue glues or systems or applicators"]
["41101703","Tissue grinders"]
["14121600","Tissue papers"]
["41102909","Tissue processors"]
["11171900","Titanium based super alloys"]
["55121907","Title boards"]
["80131701","Title reconveyance services"]
["80131702","Title search services"]
["41115602","Titration equipment"]
["50210000","Tobacco and smoking products and substitutes"]
["51283415","Tobicillin"]
["51281626","Tobramycin"]
["51201576","Tofacitinib"]
["30181511","Toilet bowls"]
["47131608","Toilet brushes"]
["47131829","Toilet cleaners"]
["30181603","Toilet seat"]
["14111702","Toilet seat covers"]
["30181604","Toilet seat lid"]
["30181514","Toilet tank covers"]
["30181515","Toilet tanks"]
["14111704","Toilet tissue"]
["30181610","Toilet tissue holder"]
["30181505","Toilets"]
["83111508","Toll free inbound telephone service"]
["95141711","Tollbooth"]
["51302004","Tolnaftate"]
["51151666","Tolterodine"]
["51101693","Toltrazuril"]
["10151518","Tomato seeds or seedlings"]
["44103120","Toner collectors"]
["42181501","Tongue depressors or blades or sticks"]
["27112800","Tool attachments and accessories"]
["24111507","Tool bags"]
["24113106","Tool box"]
["24112401","Tool chest or cabinet"]
["23231001","Tool holder"]
["27113200","Tool kits"]
["26111724","Tool kits for batteries"]
["27000000","Tools and General Machinery"]
["30181611","Toothbrush or tumbler holder"]
["53131503","Toothbrushes"]
["53131502","Toothpaste"]
["53131507","Toothpicks"]
["42311606","Topical hemostatic agents"]
["51241227","Topical turpentine oil preparations"]
["51141528","Topiramate"]
["51111659","Topotecan"]
["41114510","Torque limiter"]
["41114622","Torsion testers"]
["42143602","Torso and belt restraints"]
["41105518","Total ribonucleic acid RNA purification kits"]
["41114207","Total station"]
["43211713","Touch pads"]
["43211903","Touch screen monitors"]
["43211912","Touchscreen film"]
["43211911","Touchscreen glass"]
["83121602","Tourism board services"]
["86101702","Tourism related training"]
["41104104","Tourniquets"]
["25101602","Tow trucks"]
["30181602","Towel bar or ring or stand or hook"]
["52121700","Towels"]
["72154030","Tower bell installation and repair service"]
["78141505","Towing service for commercial and private vehicles"]
["83101508","Town water"]
["76130000","Toxic and hazardous waste cleanup"]
["76131600","Toxic spill cleanup"]
["77131700","Toxic substances pollution"]
["77111505","Toxic substances protection services"]
["46191509","Toxic vapor detector"]
["41116007","Toxicology analyzer reagents"]
["41115813","Toxicology analyzers"]
["41115814","Toxicology analyzers accessories or supplies"]
["41116147","Toxicology quality controls or calibrators or standards"]
["41116146","Toxicology test kits or supplies"]
["60141000","Toys"]
["60140000","Toys and games"]
["51111765","Trabectedin"]
["42144401","Tracheostomy and nasal suctioning kits"]
["42271904","Tracheostomy tubes"]
["11162119","Tracing cloth"]
["14111523","Tracing paper"]
["22101522","Track bulldozers"]
["22101526","Track excavators"]
["22101532","Track loaders"]
["49161700","Track sports equipment"]
["42241511","Traction splint sets"]
["14111504","Tractor feed paper"]
["25102106","Tractor head"]
["24101656","Tractor towed crane"]
["93171501","Trade agreements"]
["93171800","Trade analysis"]
["80151502","Trade expansion"]
["80151500","Trade facilitation"]
["80151503","Trade information services"]
["93171502","Trade negotiations"]
["93171500","Trade policy"]
["93170000","Trade policy and regulation"]
["80150000","Trade policy and services"]
["93171801","Trade projections"]
["80151504","Trade promotion services"]
["80141900","Trade shows and exhibits"]
["93171803","Trade statistics"]
["55101513","Trading cards"]
["93141711","Traditional handcrafts promotion services"]
["46161500","Traffic control"]
["81102201","Traffic engineering"]
["46161504","Traffic signals"]
["55121710","Traffic signs"]
["46171639","Traffic video compensator"]
["25181720","Trailer and semi-trailer parts"]
["25181606","Trailer body"]
["25181708","Trailer hitches"]
["25191544","Trailer, Baggage/Cargo (Towable & Self-Propelled) "]
["25101939","Trailer, mobile classroom"]
["25101907","Trailer, travel or caravan"]
["86101402","Training  - Aviation Security"]
["86101401","Training  - Avionics "]
["86101414","Training  - Design and Construction Procedures For Flight Instruments"]
["86101415","Training - Aircraft Maintenance "]
["86101416","Training - Aircraft Structural Repair "]
["86101404","Training - Airfield Lighting"]
["86101404","Training - Airfield Lighting"]
["86101411","Training - Airport Pavement Evaluation And Maintenance "]
["86101420","Training - Baggage And Cargo Handling Equipment (On-Site) "]
["86101407","Training - Communications Systems "]
["86101719","Training - Finance "]
["86101413","Training - Flight Inspection "]
["86101412","Training - Flight Inspection Equipment "]
["86101405","Training - Ground Navigational Aids "]
["86101419","Training - Ground Support Equipment Operation (On-Site)"]
["86101419","Training - Ground Support Equipment Operation (On-Site)"]
["86101408","Training - Meteorological Systems "]
["86101406","Training - Satellite Navigation Equipment "]
["86101403","Training - Search and Rescue "]
["86101417","Training Course - Airline Operations "]
["86101409","Training Course - Flight "]
["86101410","Training Course - Flight (Helicopter) "]
["86101718","Training Course - Humanities And Language "]
["86132101","Training facilitation service"]
["86132102","Training planning and development consultancy service"]
["86132100","Training planning, facilitation and delivery services"]
["42251702","Training ramps for rehabilitation or therapy"]
["70190100","Training services for users of agricultural machinery and equipment "]
["25111533","Training ship"]
["42251703","Training stairs for rehabilitation or therapy"]
["42301507","Training videos for medical staff education"]
["86132201","Training workshop service"]
["86101418","Training, Technical: Crew Resource Management, Emergency Procedures, Dangerous Goods"]
["51371601","Tramadol"]
["51371604","Tramadol hydrochloride"]
["51401700","Tranquilizers and antimanic and antianxiety amines and anthracenes and barbiturates and benzazepines and dipeptides"]
["51401500","Tranquilizers and antimanic and antianxiety benzodiazepines"]
["51400000","Tranquilizers and antimanic and antianxiety drugs"]
["51402200","Tranquilizers and antimanic and antianxiety naphthyridines and oxazines and quinolines and spiro compounds and sulfur compounds"]
["43233205","Transaction security and virus protection software"]
["43232313","Transaction server software"]
["77121706","Transboundary water pollution management or control services"]
["43201553","Transceivers and media converters"]
["42143118","Transcervical intrauterine kits"]
["82111604","Transcribing services"]
["41105803","Transcription or translation systems or kits"]
["42141807","Transcutaneous electric nerve stimulation units"]
["41112100","Transducers"]
["44102003","Transfer foils"]
["14122203","Transfer paper"]
["44103104","Transfer rolls"]
["42271803","Transfer sets for respiratory therapy"]
["41113663","Transformer tester"]
["41105304","Transilluminators"]
["81141602","Transit analysis"]
["12141700","Transition metals"]
["41105804","Translation labeling accessories"]
["41111721","Transmission electron microscopes"]
["41111761","Transmission electron microscopy TEM grid or support film"]
["41111762","Transmission electron microscopy TEM grid storage box"]
["15121508","Transmission oil"]
["41114431","Transmissometer "]
["30241512","Transom"]
["45111605","Transparency equipment or supplies"]
["44103118","Transparency film"]
["42311555","Transparent adhesive plasters wash proof"]
["42311527","Transparent film dressings"]
["41116024","Transplant analyzer reagent or kit"]
["41115855","Transplant diagnostics analyzer"]
["41115856","Transplant diagnostics analyzer accessories"]
["41116160","Transplant diagnostics reagent or solution"]
["41116159","Transplant diagnostics test kit"]
["78141500","Transport arranging services "]
["95121600","Transport buildings and structures"]
["78141900","Transport container rental services"]
["78142000","Transport conveyance rental or lease services"]
["81141604","Transport facilitation"]
["81141603","Transport finance or economics"]
["78181700","Transport fueling and vehicle storage and support services"]
["81141605","Transport infrastructure"]
["81141606","Transport planning"]
["78140000","Transport services"]
["76111800","Transport vehicle cleaning"]
["42272204","Transport ventilators"]
["78000000","Transportation and Storage and Mail Services"]
["25170000","Transportation components and systems"]
["81102200","Transportation engineering"]
["78141503","Transportation industry tariff comparison or freight audit services"]
["41112800","Transportation related equipment and instruments"]
["78180000","Transportation repair or maintenance services"]
["25175100","Transportation repair parts kits"]
["25190000","Transportation services equipment"]
["78181702","Transportation storage service"]
["60106209","Transportation teaching aids or materials"]
["40142500","Traps and strainers"]
["47121701","Trash bags"]
["47131611","Trash picker"]
["51111717","Trastuzumab"]
["57030109","Trauma and emergency surgery kit"]
["90121502","Travel agencies"]
["90121500","Travel agents"]
["90000000","Travel and Food and Lodging and Entertainment Services"]
["53121802","Travel carts"]
["90121600","Travel document assistance"]
["43211734","Travel Document Reading Equipment"]
["90120000","Travel facilitation"]
["84131517","Travel insurance"]
["53121801","Travel kits"]
["53121800","Travel kits and accessories"]
["44102901","Travel kits for office machines"]
["11111602","Travertine"]
["51241143","Travoprost ophthalmic solution"]
["25111501","Trawlers"]
["70101507","Trawling"]
["41104703","Tray dryers"]
["40151585","Treadle pumps"]
["49201501","Treadmills"]
["84111701","Treasury services"]
["11122006","Treated timber"]
["93121613","Treaty signature or accessions or rectification services"]
["10152000","Tree and shrub seeds and cuttings"]
["70142008","Tree nut crops market preparation services"]
["70111505","Tree surgery services"]
["70111503","Tree trimming services"]
["22101533","Treedozers"]
["10161500","Trees and shrubs"]
["21101509","Trencher drainage machine"]
["22101508","Trenching machines"]
["72141509","Trenching service"]
["51191923","Tretinoin"]
["44111810","Triangles"]
["51401550","Triazolam"]
["51332831","Trifluoperazine"]
["51332880","Trifluoperazine hydrochloride"]
["51151604","Trihexyphenidyl"]
["51101629","Trimetrexate"]
["41111759","Trinocular light compound microscope"]
["41111512","Triple beam balances"]
["51111815","Triptorelin"]
["51283210","Troleandomycin"]
["24101706","Trolleys or accessories"]
["60131102","Trombones"]
["49101702","Trophies"]
["85111613","Tropical disease prevention or control services"]
["51151606","Tropicamide"]
["72121007","Truck and automobile assembly plant constructionand remodeling service"]
["25172614","Truck cover sheet"]
["41111511","Truck or rail scales"]
["25102100","Truck tractors"]
["60131101","Trumpets"]
["95111611","Trunk road"]
["85111702","Tsetse flies management or control services"]
["53103000","Tshirts"]
["30241501","Tube frame connector"]
["41104603","Tube furnaces"]
["41115319","Tube or plate readers"]
["41103815","Tube rotators"]
["10152400","Tuber seeds and seedlings"]
["42142611","Tuberculin syringes"]
["85111504","Tuberculosis prevention or control services"]
["40180000","Tubes tubing and tube fittings"]
["41114519","Tug and trolley system"]
["25111506","Tug boats"]
["78141701","Tugboat services"]
["24101513","Tugger"]
["60131512","Tuning bars"]
["60131504","Tuning pins"]
["72141108","Tunnel construction and repair service"]
["26101506","Turbine engines"]
["72154301","Turbine equipment maintenance or repair service"]
["26101720","Turbocharger"]
["26101507","Turbofan engines"]
["10152402","Turnip seeds or seedlings"]
["22101520","Twin engine elevating scrapers"]
["22101519","Twin engine open bowl scrapers"]
["41114514","Twist vibration measuring instrument"]
["41105907","Two hybrid libraries or systems"]
["43191510","Two way radios"]
["44102306","Tying machines"]
["14121905","Tympan papers"]
["82121502","Typesetting"]
["44102608","Typewriter printing elements"]
["44102606","Typewriter ribbon"]
["44102610","Typewriter starter kits"]
["44102602","Typewriters"]
["51201623","Typhoid vaccine"]
["42211709","Typing aids for the physically challenged"]
["44102600","Typing machines and accessories"]
["51112000","Tyrosine kinase inhibitors"]
["51282005","Tyrothricin"]
["43221743","UHF Transmitters and  Associated Equipment "]
["51351912","Ulipristal acetate"]
["41103020","Ultra cold or ultralow chest freezers"]
["41103005","Ultra cold or ultralow upright cabinets or freezers"]
["43202008","Ultra density optical UDO blank disks"]
["43201816","Ultra density optical UDO drives or autoloaders or libraries"]
["41104903","Ultra filtration equipment"]
["43211513","Ultra mobile personal computer"]
["41104206","Ultra pure water systems"]
["41104205","Ultra violet water purification units"]
["41103907","Ultracentrifuges"]
["47101521","Ultrafiltration equipment"]
["41121605","Ultramicro pipette tips"]
["42221903","Ultrasonic blood flow detectors"]
["42282017","Ultrasonic cleaning equipment"]
["41102914","Ultrasonic disintegrators"]
["10191707","Ultrasonic pest repeller"]
["41111960","Ultrasonic sensor"]
["85121807","Ultrasound laboratory services"]
["41105316","Ultraviolet crosslinkers"]
["47101517","Ultraviolet disinfection equipment"]
["41115324","Ultraviolet sensor"]
["39101616","Ultraviolet UV lamps"]
["45101509","Ultraviolet UV rotary printer"]
["42221506","Umbilical catheters"]
["41104133","Umbilical cord blood collector"]
["42312209","Umbilical tapes"]
["53102505","Umbrellas"]
["14121601","Unbleached crepe papers"]
["14121502","Unbleached paperboard"]
["14122100","Uncoated base papers"]
["53102300","Undergarments"]
["86121701","Undergraduate programs"]
["72103104","Underground conveyor service"]
["72121509","Underground Electrical Services"]
["72151606","Underground engineering for communication equipment"]
["20102307","Underground mining service vehicle spare parts or accessories"]
["20102300","Underground mining service vehicles"]
["30250000","Underground mining structures and materials"]
["93111504","Underground movements"]
["72154034","Underground petroleum storage tank installation service"]
["72154040","Underground protective lining installation service"]
["95121608","Underground railway station"]
["72141126","Underground utilities construction service"]
["95121630","Underpass"]
["60105905","Understanding date rape or dating skills or harassment instructional materials"]
["60105908","Understanding the risks of birth defects instructional materials"]
["45121512","Underwater cameras"]
["43221731","Underwater communication system"]
["72141215","Underwater construction service"]
["81151806","Underwater exploration"]
["41113829","Underwater soil picking equipment"]
["84131606","Unemployment insurance"]
["93141805","Unemployment services"]
["46111506","Unexploded ordnance UXO"]
["30121709","Ungraded crushed rock"]
["43223204","Unified messaging platform"]
["53102700","Uniforms"]
["50501725","Unilito (WFP food convention) "]
["50501715","Unimix (WFP food convention)"]
["50501715","Unimix (WFP food convention)"]
["39121011","Uninterruptible power supply UPS"]
["84131702","Union or guild administered pension funds"]
["53101606","Unisex Sweatshirt"]
["53103005","Unisex tshirts"]
["46181566","Unisex visibility vest"]
["40101720","Unit cooler"]
["72151911","Unit paver installation service"]
["41121607","Universal pipette tips"]
["43211618","Universal serial bus general packet radio service USB GPRS modem"]
["43211609","Universal serial bus hubs or connectors"]
["43211617","Universal serial bus USB extension cable"]
["95121913","University"]
["86121700","University and colleges"]
["81112304","UNIX server maintenance"]
["25132100","Unmanned aerial vehicle"]
["30111607","Unslaked lime"]
["24111515","Unwoven fabric bag"]
["11162113","Upholstery fabrics"]
["24131602","Upright cabinet freezer"]
["41113318","Uranium analyzers"]
["20111505","Uranium exploration equipment"]
["93142007","Urban building standards or regulations services"]
["93142008","Urban community services"]
["81101523","Urban design and engineering service"]
["93142000","Urban development"]
["93142006","Urban development control or regulations services"]
["93142001","Urban development planning services"]
["77101601","Urban environmental development planning"]
["93142003","Urban investment programming services"]
["93142002","Urban land administration services"]
["93142005","Urban lighting services"]
["93142009","Urban project or program administration or management services"]
["81102202","Urban transport network"]
["10171507","Urea fertilizer"]
["42142733","Ureteral catheter or catheter set"]
["42142702","Urethral urinary catheters"]
["42142719","Urethrotomes"]
["42192406","Urinal carrying carts"]
["30181506","Urinals"]
["41115828","Urinalysis analyzer accessories or supplies"]
["41116014","Urinalysis analyzer reagents"]
["41115827","Urinalysis analyzers"]
["85121805","Urinalysis laboratory services"]
["41116139","Urinalysis quality controls or calibrators or standards"]
["41116137","Urinalysis reagents or solutions or stains"]
["41116136","Urinalysis test kits or supplies"]
["41116138","Urinalysis test strips"]
["41121711","Urinalysis testing tubes or accessories"]
["42142703","Urinary catheter plugs or clamps"]
["42142715","Urinary catheterization kits"]
["42142705","Urinary drainage bag straps or fasteners"]
["42142704","Urinary drainage bags or meters"]
["42142710","Urinary drainage tubes"]
["53131639","Urinary incontinence pad"]
["42142707","Urinary irrigation tubings"]
["41104112","Urine collection containers"]
["41104132","Urine strainer for renal calculi"]
["47121705","Urn sand bags"]
["42143803","Urodynamic catheters"]
["42295462","Urodynamic catheters or accessories"]
["42142734","Urological evacuators"]
["42142721","Urological guidewires or glidewires"]
["42142708","Urological instrument adapters"]
["42142714","Urological percolators"]
["42143800","Urological pressure measurement instruments and supplies and equipment"]
["42142706","Urological procedure trays or packs or kits"]
["42142713","Urological sheaths or sets"]
["42142700","Urological supplies"]
["42142736","Urological surgical catheters"]
["42294212","Urological surgical instrument sets"]
["51171962","Ursodeoxycholic acid or ursodiol"]
["51202414","Ustekinumab"]
["42143117","Uterine device accessories"]
["42143102","Uterine devices"]
["42143115","Uterine manipulators or injectors"]
["83100000","Utilities"]
["43233400","Utility and device driver software"]
["95121800","Utility buildings and structures"]
["20102305","Utility service vehicles"]
["25101940","Utility task vehicle UTV or recreational off highway vehicle ROV"]
["26111801","V belts"]
["85111510","Vaccination services"]
["51201600","Vaccines and antigens and toxoids"]
["41103328","Vacuum based pipette aspirator system"]
["41104107","Vacuum blood collection tubes or containers"]
["41103908","Vacuum centrifuges"]
["47121602","Vacuum cleaners"]
["41123004","Vacuum desiccators"]
["43211908","Vacuum fluorescent display"]
["41112406","Vacuum gauges"]
["41104816","Vacuum or centrifugal concentrators"]
["41103307","Vacuum or mercury vapour equipment"]
["41104804","Vacuum or rotary evaporators"]
["41104509","Vacuum ovens"]
["25101936","Vacuum truck"]
["42182013","Vaginal exam speculas"]
["51342301","Valaciclovir or valacyclovir"]
["51342310","Valacyclovir hydrochloride"]
["51342308","Valganciclovir"]
["51342316","Valganciclovir hydrochloride"]
["51141531","Valproic acid"]
["51434502","Valsartan"]
["51434963","Valsartan/Sacubitrilo"]
["84141702","Value added network VAN services"]
["93161603","Value added tax VAT"]
["73152112","Valve or valve part testing maintenance or repair service"]
["40141600","Valves"]
["25101921","Van trucks"]
["51282702","Vancomycin"]
["51282703","Vancomycin hydrochloride"]
["51112010","Vandetanib"]
["53131605","Vanity kits"]
["41112417","Vapor pressure measuring instrument"]
["40101901","Vaporizers"]
["41113659","Var meter"]
["51413212","Vardenafil hydrochloride hydrate"]
["51143203","Varenicline"]
["51143222","Varenicline tartrate"]
["41121609","Variable volume pipette tips"]
["51201624","Varicella virus vaccine"]
["42294400","Vascular and cardiac systems"]
["42142800","Vascular and compression therapy equipment and supplies"]
["42203413","Vascular coils"]
["42203414","Vascular filters"]
["42203400","Vascular imaging and interventional cardiology and cardiac catheterization lab products"]
["42203404","Vascular imaging guidewires"]
["42203420","Vascular imaging snares"]
["42142802","Vascular or compression apparel or support"]
["42201840","Vascular sealing devices"]
["42142801","Vascular sequential compression devices or tubing"]
["51411600","Vasodilator alcohols"]
["51412000","Vasodilator azoles"]
["51412600","Vasodilator ferricyanides and hydrazines and isoquinolines and morpholines and phenols"]
["51412700","Vasodilator furans"]
["51413200","Vasodilator piperazines"]
["51413300","Vasodilator prostaglandins"]
["51413500","Vasodilator pyridines"]
["51410000","Vasodilators"]
["41106600","Vectors"]
["41115335","Vectorscope"]
["51152004","Vecuronium"]
["51152075","Vecuronium bromide"]
["41111627","Vee block"]
["70142006","Vegetable crops market preparation services"]
["50221301","Vegetable flour"]
["70141520","Vegetable production"]
["10151500","Vegetable seeds and seedlings"]
["46171700","Vehicle access control"]
["25172709","Vehicle air conditioner"]
["25172711","Vehicle air purifier"]
["26111703","Vehicle batteries"]
["25180000","Vehicle bodies and trailers"]
["78181501","Vehicle body repair or painting service"]
["78101803","Vehicle carrier services"]
["25172200","Vehicle doors"]
["86131701","Vehicle driving schools services"]
["78181701","Vehicle fueling service"]
["78181506","Vehicle glass replacement service"]
["43191615","Vehicle handsfree phone set"]
["25172710","Vehicle heater"]
["78181505","Vehicle inspection service"]
["25174400","Vehicle interior systems"]
["78111811","Vehicle leasing of light trucks and sport utility vehicles"]
["78111812","Vehicle leasing of passenger vans or minivans"]
["78111809","Vehicle leasing of sedans or coupes or station wagons"]
["24101661","Vehicle lift"]
["78181500","Vehicle maintenance and repair services"]
["24101659","Vehicle movable jack or dolly"]
["25173108","Vehicle navigation systems"]
["46161534","Vehicle parking concave plate"]
["24101655","Vehicle parking lift system"]
["46171701","Vehicle parking permit"]
["78181703","Vehicle parking service"]
["46171630","Vehicle rain and water level sensor"]
["25172908","Vehicle rear light"]
["78111808","Vehicle rental"]
["25172100","Vehicle safety and security systems and components"]
["25174600","Vehicle seating systems"]
["25191700","Vehicle servicing equipment"]
["25172607","Vehicle side panels"]
["25191800","Vehicle testing and measuring equipment"]
["78101604","Vehicle transport services"]
["25172600","Vehicle trim and exterior covering"]
["25174900","Vehicle vibration dampeners and isolators"]
["25172300","Vehicle windows and windshields"]
["25173107","Vehicular global positioning system GPS"]
["42294401","Vein harvest kits or systems"]
["51171980","Velaglucerase alfa"]
["14111502","Vellum paper"]
["82121907","Velo binding services"]
["72151803","Vending machine installation and maintenance service"]
["48110000","Vending machines"]
["51113503","Venetoclax"]
["51291712","Venlafaxine hydrochloride"]
["42142516","Vented needles"]
["40101500","Ventilation"]
["40101512","Ventilation tube fittings"]
["42272220","Ventilator accessories"]
["42272230","Ventilator circuit accessories"]
["42272224","Ventilator circuit kits"]
["42272218","Ventilator gas sampling ports or lines"]
["42272219","Ventilator heat or moisture exchangers or filters"]
["42272215","Ventilator testing supplies"]
["42272216","Ventilator thermometers"]
["42272217","Ventilator water traps"]
["42272222","Ventilator weaning products"]
["40101503","Vents"]
["41112506","Venturis"]
["51431609","Verapamil"]
["51431614","Verapamil hydrochloride"]
["11111812","Vermiculite"]
["43202104","Vertical helix scan VHS videotape storage or accessories"]
["24102401","Vertical waste compactor"]
["25173114","Very High Frequency (VHF) Digital Global Navigation Satellite System (GGNSS) Data Link "]
["25173133","Very High Frequency (VHF) Marker Beacon And Associated Equipment "]
["43191519","Very High Frequency Radio Set, Desktop"]
["43191521","Very High Frequency Radio Set, Handheld"]
["43191520","Very High Frequency Radio Set, Mobile"]
["43221735","Very Small Aperture Terminal (VSAT) System"]
["78141802","Vessel docking services"]
["78141803","Vessel stores services"]
["70122007","Veterinary administration"]
["51204202","Veterinary anthrax vaccines"]
["42121800","Veterinary artificial insemination equipment and supplies"]
["42121501","Veterinary blood pressure testers"]
["51204203","Veterinary brucella vaccines"]
["42121700","Veterinary clinical furniture"]
["42121500","Veterinary equipment"]
["42120000","Veterinary equipment and supplies"]
["51204201","Veterinary foot and mouth disease (FMD) vaccines"]
["42121507","Veterinary injection or suction units or accessories"]
["70122008","Veterinary laboratory technology"]
["42121518","Veterinary medical equipment sets"]
["50501902","Veterinary multinutrient block"]
["50501900","Veterinary nutritional supplements"]
["42121600","Veterinary products"]
["42121506","Veterinary surgical instrument and supply sets"]
["51204200","Veterinary vaccines and virology products"]
["50501903","Veterinary vitamin"]
["50501904","Veterinary vitamin and mineral mixture"]
["43221744","VHF Receivers and Associated Equipment "]
["43221748","VHF Transceiver , UHF Single And Multi Channel"]
["43221746","VHF Transceiver, AM"]
["43221747","VHF Transceiver, FM"]
["43221741","VHF Transmitters and Associated Equipment "]
["43221742","VHF/VDL Transmitter, AM "]
["72141109","Viaduct construction and repair service"]
["41121821","Vial closure cap or seal or stopper"]
["41114624","Vibration testers"]
["41114108","Vibrometers"]
["41114646","Vicat needle tester"]
["51342904","Vidarabine"]
["45111800","Video and combination video and audio presentation equipment and hardware and controllers"]
["41111708","Video attachments for microscopes"]
["43201531","Video capture boards"]
["45121506","Video conference cameras"]
["43233502","Video conferencing software"]
["81112207","Video conferencing software maintenance"]
["43232103","Video creation and editing software"]
["43233421","Video drivers"]
["45111805","Video editors"]
["46171611","Video identification systems"]
["45111819","Video mixer"]
["46171612","Video monitors"]
["43222619","Video networking equipment"]
["45111818","Video noise reducer"]
["43191513","Video phone"]
["45111811","Video precision monitor"]
["45111820","Video processing amplifier"]
["82131603","Video production services"]
["45111616","Video projectors"]
["45111823","Video standards converter"]
["43223207","Video streaming system"]
["45111827","Video tape checker"]
["90111602","Videoconferencing facilities"]
["81161711","Videoconferencing service"]
["45111902","Videoconferencing systems"]
["42272020","Videolaryngoscope"]
["41111737","Videoscopes"]
["41111700","Viewing and observing instruments and accessories"]
["51141509","Vigabatrin"]
["51162039","Vilanterol/Fluticasone furoate"]
["51111766","Vinblastine"]
["51111767","Vincristine"]
["70111702","Vineyard management or maintenance services"]
["51111772","Vinorelbine"]
["72152507","Vinyl floor tile and sheet installation service"]
["60131304","Violins"]
["60131308","Violoncellos"]
["41105519","Viral deoxyribonucleic acid DNA purification kits"]
["85111508","Viral disease prevention or control services"]
["41105908","Viral packaging kits"]
["41105520","Viral ribonucleic acid RNA purification kits"]
["41116020","Virology analyzer reagent"]
["41116157","Virology cell and tissue culture media"]
["41116145","Virology quality controls or calibrators or standards"]
["41116156","Virology reagents or solutions or stains"]
["41123203","Virology stock control culture"]
["41116144","Virology test kits or supplies"]
["43233006","Virtual machine software"]
["41106621","Virus mediated expression vectors or kits"]
["90121602","Visa or auxiliary document services"]
["41121712","Viscometer tube"]
["41103312","Viscosimeters"]
["41103713","Viscosity baths"]
["42143709","Visible light radiators"]
["42142900","Vision correction or cosmetic eyewear and related products"]
["46181800","Vision protection and accessories"]
["14111831","Visitor or guest book"]
["82151500","Visual art services"]
["46161535","Visual Docking Guidance System"]
["41103325","Visual fluid flow apparatus"]
["45111812","Visual information display device"]
["45111810","Visual presenters"]
["50501716","Vitacereal (WFP food convention) "]
["50501501","Vitamin A supplement"]
["50501509","Vitamin B12 supplement"]
["50501506","Vitamin B6 supplement"]
["50501513","Vitamin K supplement"]
["50501500","Vitamin supplements"]
["82151705","Vocalists services"]
["95121902","Vocational college"]
["86101803","Vocational rehabilitation services"]
["60106100","Vocational teaching aids and materials"]
["86100000","Vocational training"]
["72151605","Voice and data and video wiring service"]
["43201547","Voice boards"]
["43221531","Voice Communications System"]
["43222820","Voice echo cancellers"]
["81161709","Voice Mail Administration Service"]
["81161710","Voice Mail Support Service"]
["43221519","Voice mail systems"]
["43223201","Voice messaging portal"]
["43211719","Voice microphones for computers"]
["43233413","Voice recognition software"]
["43232509","Voice synthesizer and recognition software"]
["42211711","Voice synthesizers for the physically challenged"]
["14121507","Volatile corrosion inhibitor or VCI paper"]
["49161608","Volleyballs"]
["25202908","Volmet Equipment "]
["51283804","Volpristin"]
["41113684","Voltage and current meter calibrator"]
["41111969","Voltage control sensor"]
["41113637","Voltage or current meters"]
["39121635","Voltage regulator"]
["41113661","Voltage regulator tester"]
["41113033","Volumeters"]
["41121510","Volumetric pipettes"]
["93141508","Voluntary service management"]
["92101602","Volunteer fire department services"]
["51303002","Voriconazole"]
["41103814","Vortex mixers"]
["93111604","Vote catcher services"]
["93111605","Voter registration or counting or analysis or scrutiny services"]
["14111803","Vouchers"]
["43222502","VPN network security equipment"]
["83112203","VPN virtual private network managed network services"]
["43222503","Vulnerability Assessment Security Equipment"]
["81101710","Wafer reclaiming service"]
["24101509","Wagons"]
["53103100","Waistcoats"]
["24131605","Walk in freezers"]
["24131503","Walk in refrigerators"]
["42211505","Walker or rollator accessories"]
["42211506","Walkers or rollators"]
["42241707","Walking braces"]
["54111601","Wall clocks"]
["72151400","Wall covering construction services"]
["30161500","Wall finishing materials"]
["44122121","Wall or board clips"]
["44112008","Wall planners or refills"]
["56101518","Wall racks"]
["43232909","WAN switching software and firmware"]
["92111505","War prevention strategies"]
["25102000","War vehicles"]
["41112415","Warburg apparatus"]
["95141706","Warehouse"]
["24102102","Warehouse carousels"]
["24102103","Warehouse casers"]
["72121008","Warehouse construction and remodeling service"]
["24102100","Warehousing equipment and supplies"]
["51131604","Warfarin"]
["41102407","Warming cabinets"]
["41113325","Washability tester"]
["31161800","Washers"]
["47111500","Washing and drying equipment"]
["41103205","Washing machine racks or accessories"]
["25101914","Waste collection vehicle or garbage truck"]
["47121704","Waste container lids"]
["47121700","Waste containers and accessories"]
["47121702","Waste containers or rigid liners"]
["72121504","Waste disposal plant construction service"]
["77102004","Waste generation or disposal reporting service"]
["76122200","Waste incineration services"]
["24102400","Waste material handling and recycling systems"]
["76122100","Waste to fuel blending services"]
["72121505","Waste water and sewage treatment plant construction service"]
["81101527","Wastewater engineering"]
["54111701","Watch or clock dials"]
["54111710","Watch or clock movement"]
["54111700","Watch or clock parts or accessories"]
["54111709","Watch or clock repair kits"]
["54111500","Watches"]
["50202301","Water"]
["41104207","Water analysis systems"]
["41113319","Water analyzers"]
["83101500","Water and sewer utilities"]
["47100000","Water and wastewater treatment supply and disposal"]
["24111509","Water bags"]
["41103706","Water baths"]
["70171604","Water conservation advisory services"]
["40101721","Water cooled condensor"]
["24112603","Water distribution kit"]
["57030303","Water distribution kit"]
["83101504","Water distribution management"]
["60104204","Water ecology supplies"]
["41104212","Water filtration cartridges"]
["15111507","Water gas or producer gas"]
["72154044","Water hewning or use service"]
["41104416","Water jacketed dual chamber three gas incubators"]
["41104418","Water jacketed dual chamber three gas incubators with humidity control"]
["41104415","Water jacketed single chamber three gas incubators"]
["41104417","Water jacketed single chamber three gas incubators with humidity control"]
["72141121","Water main construction service"]
["41111976","Water meter check system"]
["41112505","Water meter spares"]
["41112522","Water meter tester"]
["41112504","Water meters"]
["60104203","Water models"]
["30111508","Water permeable concrete"]
["83101505","Water policy advisory services"]
["77121700","Water pollution"]
["70171607","Water pricing services"]
["40151510","Water pumps"]
["47101514","Water purification equipment"]
["41104201","Water purification reagents"]
["40161609","Water purification system"]
["48101716","Water purifier"]
["70171501","Water quality assessment services"]
["83101503","Water quality control management"]
["70171601","Water quality management"]
["70171600","Water quality management services"]
["70171500","Water resource development service"]
["83101502","Water resource management"]
["70171606","Water resource recovery services"]
["70170000","Water resources development and oversight"]
["70171504","Water resources mapping services"]
["70171502","Water resources planning services"]
["70171605","Water rights advisory services"]
["46161600","Water safety"]
["41104023","Water sampler accessories"]
["41104007","Water samplers"]
["41111965","Water sensor"]
["25191538","Water Servicing Unit "]
["21101803","Water sprinklers"]
["25101910","Water sprinkling truck"]
["48101619","Water sterilization system"]
["24111810","Water storage tanks"]
["25101946","Water Tanker "]
["78111701","Water taxis"]
["49241704","Water test kit or solutions"]
["60104200","Water testing and conservation and ecology"]
["60104202","Water testing and sampling kits"]
["60104201","Water testing chemicals"]
["70171602","Water testing services"]
["30171521","Water tight door"]
["95121804","Water tower"]
["78102102","Water transport"]
["47101500","Water treatment and supply equipment"]
["47101600","Water treatment consumables"]
["47101528","Water treatment dryers"]
["83101506","Water treatment services"]
["25101610","Water trucks"]
["20111504","Water well drilling equipment"]
["72152800","Water well drilling services"]
["70171707","Water well maintenance or management services"]
["57030305","Water, sanitation and hygiene kit"]
["57030300","Water, sanitation and hygiene kits"]
["57333300","Water, sanitation and hygiene kits"]
["46181543","Waterproof jacket or raincoat"]
["12164900","Waterproofing agents"]
["72153209","Waterproofing service"]
["70131706","Watershed management"]
["49140000","Watersports equipment"]
["72141213","Waterway construction service"]
["41113667","Watt hour meter test equipment"]
["41113640","Wattmeters"]
["43222823","Wave division mulitplexer WDM"]
["83112303","Wave division multiplexing WDM"]
["43223342","Waveguide and connection kit"]
["14121806","Waxed paper"]
["12181500","Waxes"]
["12180000","Waxes and oils"]
["46151605","Weapon or explosives detectors and supplies"]
["92111604","Weapons destruction"]
["41114625","Wear testers"]
["43211511","Wearable computing devices"]
["41114416","Weather chart recorder or scanner"]
["44101510","Weather facsimile or radiofax"]
["25111529","Weather ship"]
["41114410","Weather stations"]
["45121520","Web cameras"]
["23152000","Web handling and control machinery and equipment and supplies"]
["43232107","Web page creation and editing software"]
["43232408","Web platform development software"]
["81112104","Web search engine providers"]
["11162125","Webbing fabrics"]
["21101504","Weeders"]
["49201600","Weight and resistance training equipment"]
["41111516","Weight measuring instrument accessories"]
["41111500","Weight measuring instruments"]
["41111523","Weight prototype"]
["40181800","Welded steel tubes"]
["46181540","Welder gloves"]
["23271700","Welding and soldering and brazing accessories"]
["23270000","Welding and soldering and brazing machinery and accessories and supplies"]
["23271800","Welding and soldering and brazing supplies"]
["41111640","Welding gauge"]
["23271400","Welding machinery"]
["23271712","Welding or soldering kit"]
["23271812","Welding rod"]
["41114626","Welding testing apparatus"]
["95121805","Well"]
["71141103","Well abandonment platform removal services"]
["71120000","Well drilling and construction services"]
["20110000","Well drilling and operation equipment"]
["81101501","Well engineering"]
["71141100","Well plugging and abandonment services"]
["11162131","Welting fabrics"]
["42311528","Wet dressing systems"]
["47131618","Wet mops"]
["14121603","Wet strength tissue papers"]
["70161710","Wetland ecology and conservation service"]
["49141506","Wetsuits"]
["78204007","Wgs84 Survey And Pans/Ops Procedure Services"]
["50221306","Wheat Flour (WFP food convention)"]
["10151601","Wheat seeds"]
["50501722","Wheat Soya Blend (WFP food convention) "]
["50501726","Wheat Soya Milk (WFP food convention) "]
["22101523","Wheel bulldozers"]
["22101525","Wheel excavators"]
["22101528","Wheel loaders"]
["24101507","Wheelbarrows"]
["42192208","Wheelchair accessories"]
["42192214","Wheelchair lifts"]
["42182807","Wheelchair platform scales"]
["42192209","Wheelchair ramps"]
["42192210","Wheelchairs"]
["25171900","Wheels and wheel trims"]
["30181806","Whirlpool jet"]
["60131105","Whistle"]
["50421857","White Beans (WFP food convention)"]
["30265403","White iron hot rolled sheet"]
["44111912","Whiteboard eraser"]
["50424006","Whole Green Peas (WFP food convention)"]
["50404509","Whole Red Lentils (WFP food convention)"]
["50425408","Whole Yellow Peas (WFP food convention)"]
["80141702","Wholesale distribution services"]
["81111701","Wide area network communications design"]
["81111804","Wide area network WAN maintenance or support"]
["41111728","Wide field microscopes"]
["14111545","Wide format printer paper"]
["10102000","Wild animals"]
["70160000","Wildlife and flora"]
["46171648","Wildlife Control Equipment"]
["24101608","Winches"]
["26111603","Wind generators"]
["26131509","Wind power plants"]
["41114409","Wind surface observing apparatus"]
["41103326","Wind tunnel"]
["41114427","Wind vane"]
["72154032","Window and door and screening installation and repair service"]
["72152400","Window and door installation and erection services"]
["30171908","Window arch"]
["44121504","Window envelopes"]
["30171900","Window frames"]
["76111504","Window or window blind cleaning services"]
["30171907","Window sill"]
["52131700","Window treatment accessories and hardware"]
["72153608","Window treatment installation service"]
["52130000","Window treatments"]
["30171600","Windows"]
["25171500","Windshield wipers"]
["57060102","Winter clothing kit for adults"]
["57060101","Winter clothing kit for children and infants"]
["49150000","Winter sports equipment"]
["57060206","Winterization kit for tent"]
["30241705","Winterization kit for tent "]
["25171507","Wiper blades"]
["41113652","Wire assembly board"]
["44102806","Wire binding machine"]
["41111643","Wire gauge"]
["23300000","Wire machinery and equipment"]
["39131500","Wire Markers and Wire Marking Devices"]
["11162108","Wire mesh fabric or cloth"]
["41111628","Wire meter"]
["39131600","Wire protection devices"]
["39131700","Wire Raceways Conduit and Busways"]
["41111819","Wire rope tester"]
["43221527","Wire tapping protector"]
["23301500","Wire working machinery and equipment and accessories"]
["30171709","Wired glass"]
["43221730","Wired telecommunications transmitter"]
["43222640","Wireless access point"]
["43222631","Wireless fidelity base stations Wifi"]
["43223206","Wireless internet gateway"]
["43201409","Wireless network interface cards"]
["46171627","Wireless signaler system for hearing impaired"]
["43232910","Wireless software"]
["46171637","Wiretap device"]
["26121700","Wiring harness"]
["41113677","Withstand voltage tester"]
["80121902","Witness service"]
["43223107","WLAN mobile core network equipment and components"]
["43223108","WLAN wireless access network equipment and components"]
["11111613","Wollastonite"]
["94131803","Women liberation movements"]
["53111502","Womens boots"]
["93141907","Womens services in agricultural production or rural development"]
["11121600","Wood"]
["73110000","Wood and paper industries"]
["30131515","Wood block"]
["30131611","Wood brick"]
["72152508","Wood floor installation and refinishing service"]
["30161702","Wood flooring"]
["24112701","Wood pallet"]
["73111500","Wood processing"]
["11121607","Wood pulp"]
["70151606","Wood testing services"]
["77101905","Wood treatment plant site investigation"]
["11122004","Wood veneers"]
["30171504","Wooden doors"]
["44121706","Wooden pencils"]
["30151515","Wooden roof tile"]
["27113402","Woodturning set"]
["60131200","Woodwind instruments"]
["11161600","Wool fabrics"]
["43232104","Word processing software"]
["44102607","Word processors"]
["46211601","Work area barricade tape and flags"]
["46211600","Work area marking and visual indicators"]
["46211602","Work area warning posts and chains"]
["93141813","Work council services"]
["60105307","Work ethics or attitude training instructional materials"]
["94100000","Work related organizations"]
["44111814","Work surface protection covers"]
["56111604","Work surfaces for panel systems"]
["93141807","Work time arrangements"]
["53102719","Work uniforms"]
["90111901","Worker worksite room or unit accommodation service"]
["84131605","Workmens insurance"]
["46210000","Workplace safety equipment and supplies and training materials"]
["46211504","Workplace safety internet based training"]
["46211500","Workplace safety training aids and materials"]
["46211501","Workplace safety training kit"]
["46211503","Workplace safety training manual or handbook"]
["46211502","Workplace safety training video"]
["24101630","Workshop cranes"]
["25101948","Workshop truck"]
["56111500","Workstations and office packages"]
["93131603","World food program services"]
["81112103","World wide web WWW site design services"]
["81112105","World wide web WWW site operation host services"]
["42312312","Wound care or cleansing trays"]
["42310000","Wound care products"]
["42312300","Wound cleaning and debridement products"]
["42312313","Wound cleaning solutions"]
["42312310","Wound cleansing bottles"]
["42312311","Wound disinfectant kits"]
["42312108","Wound drainage pouches"]
["42312309","Wound irrigation systems"]
["42182706","Wound measuring grids or devices"]
["42312400","Wound packing products"]
["42312500","Wound supports and supplies and accessories"]
["82121508","Wrap or tag or label or seal or bag printing"]
["14122108","Wrapping Crepe"]
["23152901","Wrapping machinery"]
["73181103","Wrapping services"]
["27111700","Wrenches and drivers"]
["54111501","Wrist watches"]
["42211710","Writing aids for the physically challenged"]
["82110000","Writing and translations"]
["44121710","Writing chalk or accessories"]
["44121700","Writing instruments"]
["14111511","Writing paper"]
["82111804","Written translation services"]
["42203201","X ray and fluoroscopy RF radiotherapy planning simulators"]
["46171624","X ray baggage inspection system"]
["42201817","X ray bone densitometers"]
["41102704","X ray diffraction equipment"]
["45131505","X ray film"]
["41101802","X ray generators"]
["85121808","X ray laboratory services"]
["41111808","X ray radiography examination equipment"]
["83112205","X25 managed network services"]
["83112204","X75 managed network services"]
["81112305","X86 server maintenance"]
["51162747","Xylometazoline"]
["60131406","Xylophones"]
["25111808","Yachts"]
["11151700","Yarns"]
["84111601","Year end audits"]
["41106221","Yeast competent cells"]
["41106515","Yeast expression kits"]
["41106622","Yeast expression vectors"]
["41106223","Yeast nitrogen bases YNB or yeast nitrogen base YNB variants"]
["41106222","Yeast transformation kits"]
["51201625","Yellow fever vaccine"]
["92101702","Youth camps or facilities services"]
["11171701","Z90WDCV6542 or M2 high speed steel"]
["11171702","Z90WDKCV65542 or M35 high speed steel"]
["51161563","Zafirlukast"]
["51343115","Zalcitabine"]
["51341901","Zanamivir"]
["41113333","Zeta potential analyzer"]
["26111714","Zinc air"]
["26111715","Zinc coal battery"]
["51241263","Zinc oxide"]
["24111514","Zipper bag"]
["41114518","Zipper endurance tester"]
["51333410","Ziprasidone"]
["51333413","Ziprasidone hydrochloride"]
["51182415","Zoledronic acid"]
["51142413","Zolmitriptan"]
["85111509","Zoonotic disease prevention or control services"]
["51334306","Zuclopenthixol"]